{"text_format":"2","workbook":"xlsx","n_sheets":13,"sheets":["Resumo Postos","Resumo Valor","Resumo Qtd","Recepcionista","Aux. Adm.","Ass. Op. Adm. II","Ass. Op. Adm. I","Ass. Adm. III","Ass. Com","Assist. Condução","Assist. Condução - Hora Extra","Despesas com Viagens - Diárias","Uniformes"],"not_rendered":{"charts":0,"images":2,"macros":0,"external_links":0,"defined_names":42,"comments":0,"pivot_tables":0},"unopened":[],"bounds":{"document_bytes":16777216,"sheet_cells":100000,"run_cost":"one","rows_first":2000,"rows_last":500,"rows_between":2000,"halvings":0,"cell_chars":16384,"cell_head_chars":4096},"cells_cut":0,"cells_raw":0,"read":"whole","date_system":"1900"}

{"sheet":"Resumo Postos","index":0,"n_rows":31,"n_cols":11,"rows_kept":31,"cut":false,"hidden":false,"merged":[[30,2,30,8],[19,0,19,7],[22,0,22,7],[23,0,23,9],[25,0,25,7],[28,2,28,7],[5,0,5,9],[10,0,10,7],[13,0,13,7],[16,0,16,7],[7,0,9,0]]}
[]
[]
[]
[]
[]
[" RESUMO - PLANILHA DE CUSTOS E FORMAÇÃO DE PREÇOS "]
["Categoria","Subitem","Tipo de serviço (A)","Jornada de trabalho","Valor Estimado por empregado (B)","Qtde de empregados por posto(C )","Valor Estimado por posto (D) = (B x C)*","Qtde de postos\n(E)","Valor total  do serviço mensal (F) = (D x E)","Valor total  do serviço p/12 meses: (G) = (Fx12)","Salário "]
["ASSISTENTE ADMINISTRATIVO","Auxiliar Administrativo","Assistente Administrativo \n(CBO Vinculado 4110-10).","8hs/dia",{"$f":"'Aux. Adm.'!G137","v":4650.47},1,{"$f":"E8*F8","v":4650.47},4,{"$f":"G8*H8","v":18601.88},{"$f":"I8*12","v":223222.56},{"$f":"'Aux. Adm.'!G30","v":1457.93}]
[null,"Assistente Operacional Administrativo-Nível II","Assistente Administrativo (CBO Vinculado 4110-10).","8hs/dia",{"$f":"'Ass. Op. Adm. II'!G137","v":5997.57},1,{"$f":"E9*F9","v":5997.57},2,{"$f":"G9*H9","v":11995.14},{"$f":"I9*12","v":143941.68},{"$f":"'Ass. Op. Adm. II'!G39","v":2068.4499999999998}]
[null,"Assistente Operacional Administrativo-Nível I","Assistente Administrativo (CBO Vinculado 4110-10).","8hs/dia",{"$f":"'Ass. Op. Adm. I'!G137","v":8786.39},1,{"$f":"E10*F10","v":8786.39},2,{"$f":"G10*H10","v":17572.78},{"$f":"I10*12","v":210873.36},{"$f":"'Ass. Op. Adm. I'!G30","v":3219.12}]
["Total Assistente Administrativo",{"$nulls":7},{"$f":"SUM(I8:I10)","v":48169.8},{"$f":"SUM(J8:J10)","v":578037.6}]
[]
["GABINETE","Assistente Administrativo Nível III - Escolaridade superior","Assistente Administrativo (CBO Vinculado 4110-10).","8hs/dia",{"$f":"'Ass. Adm. III'!G137","v":13448.77},1,{"$f":"'Ass. Adm. III'!G137","v":13448.77},1,{"$f":"G13*H13","v":13448.77},{"$f":"I13*12","v":161385.24}]
["Total Assistente de Gabinete",{"$nulls":7},{"$f":"SUM(I13:I13)","v":13448.77},{"$f":"SUM(J13:J13)","v":161385.24}]
[]
["SUPERINTENDÊNCIA","Assistente Administrativo nível III - Escolaridade superior","Assistente Administrativo (CBO Vinculado 4110-10).","8hs/dia",{"$f":"'Ass. Adm. III'!G137","v":13448.77},1,{"$f":"E16*F16","v":13448.77},1,{"$f":"G16*H16","v":13448.77},{"$f":"I16*12","v":161385.24},{"$f":"'Ass. Adm. III'!G30","v":5085.79}]
["Total Assistente Superintendência",{"$nulls":7},{"$f":"SUM(I16:I16)","v":13448.77},{"$f":"SUM(J16:J16)","v":161385.24}]
[]
["ASSISTENTE DE CONDUÇÃO","Assistente de Condução","Assistente de Condução (CBO Vinculado 3421-25).","8hs/dia",{"$f":"'Assist. Condução'!G137","v":7091.76},1,{"$f":"E19*F19","v":7091.76},3,{"$f":"G19*H19","v":21275.279999999999},{"$f":"I19*12","v":255303.36},{"$f":"'Assist. Condução'!G38","v":2465.1799999999998}]
["Total Assistente de Condução",{"$nulls":7},{"$f":"SUM(I19:I19)","v":21275.279999999999},{"$f":"SUM(J19:J19)","v":255303.36}]
[]
["DIÁRIAS - ASSISTENTE DE CONDUÇÃO","Assistente de Condução","Despesas com Viagens","15diárias/mês",{"$f":"'Despesas com Viagens - Diárias'!E14","v":2480.8000000000002},1,{"$f":"E22*F22","v":2480.8000000000002},3,{"$f":"G22*H22","v":7442.4},{"$f":"I22*12","v":89308.800000000003},{"$f":"'Assist. Condução'!G30","v":2465.1799999999998}]
["Total Diárias - Assistente de Condução",{"$nulls":7},{"$f":"SUM(I22:I22)","v":7442.4},{"$f":"SUM(J22:J22)","v":89308.800000000003}]
[]
["H. EXTRA - ASSISTENTE DE CONDUÇÃO","Assistente de Condução","Hora extra a 50%","30h/mês",{"$f":"'Assist. Condução - Hora Extra'!G136*30","v":1131},1,{"$f":"E25*F25","v":1131},3,{"$f":"G25*H25","v":3393},{"$f":"I25*12","v":40716}]
["Total Horas Extras a 50% - Assistente de Condução",{"$nulls":7},{"$f":"SUM(I25:I25)","v":3393},{"$f":"SUM(J25:J25)","v":40716}]
[]
[]
[null,null,"Valor Total Mensal dos Serviços ",{"$nulls":5},{"$f":"I17+I14+I11+I20+I23+I26","v":107178.02}]
[]
[null,null,"Valor Global para 12 meses",{"$nulls":6},{"$f":"J17+J14+J11+J20+J23+J26","v":1286136.24}]

{"sheet":"Resumo Valor","index":1,"n_rows":22,"n_cols":9,"rows_kept":22,"cut":false,"hidden":false,"merged":[[1,1,1,8],[2,1,2,8],[4,3,4,8],[21,1,21,7],[5,1,6,1],[5,2,6,2],[5,3,6,3],[5,4,6,4],[5,5,6,5],[5,6,6,6],[5,7,6,7],[5,8,6,8]]}
[]
[null,"Processo nº 59512.000251/2023-61-"]
[null,"Objeto: CONTRATAÇÃO DE EMPRESA NA PRESTAÇÃO, DE FORMA CONTÍNUA, DOS SERVIÇOS DE APOIO ADMINISTRATIVO, EM REGIME DE DEDICAÇÃO EXCLUSIVA DE MÃO DE OBRA, A SER EXECUTADO NAS DEPENDÊNCIAS DA 13ª SUPERINTENDÊNCIA REGIONAL DA CODEVASF, NO ESTADO DA PARAÍBA"]
[]
[null,null,null,"\n"]
[null,"ITEM","DISCRIMINAÇÃO","UNIDADE","Nº DE MESES","Nº DE POSTOS/MÊS","QUANT.","PREÇO UNITÁRIO","TOTAL"]
[]
[]
[null,"I.A","EQUIPE"]
[null,"1.0","ASSISTENTE ADMINISTRATIVO"]
[null,"1.1",{"$f":"'Resumo Postos'!B8","v":"Auxiliar Administrativo"},"mês",12,{"$f":"'Resumo Postos'!H8","v":4},{"$f":"E11*F11","v":48},{"$f":"'Resumo Postos'!E8","v":4650.47},{"$f":"ROUND(G11*H11,2)","v":223222.56}]
[null,"1.2",{"$f":"'Resumo Postos'!B9","v":"Assistente Operacional Administrativo-Nível II"},"mês",12,{"$f":"'Resumo Postos'!H9","v":2},{"$f":"E12*F12","v":24},{"$f":"'Resumo Postos'!E9","v":5997.57},{"$f":"ROUND(G12*H12,2)","v":143941.68}]
[null,"1.3",{"$f":"'Resumo Postos'!B10","v":"Assistente Operacional Administrativo-Nível I"},"mês",12,{"$f":"'Resumo Postos'!H10","v":2},{"$f":"E13*F13","v":24},{"$f":"'Resumo Postos'!G10","v":8786.39},{"$f":"ROUND(G13*H13,2)","v":210873.36}]
[null,"2.0","ASSISTENTE DE GABINETE"]
[null,"2.1",{"$f":"'Resumo Postos'!B13","v":"Assistente Administrativo Nível III - Escolaridade superior"},"mês",12,{"$f":"'Resumo Postos'!H13","v":1},{"$f":"E15*F15","v":12},{"$f":"'Resumo Postos'!E13","v":13448.77},{"$f":"ROUND(G15*H15,2)","v":161385.24}]
[null,"3.0","ASSISTENTE SUPERINTENDÊNCIA"]
[null,"3.1",{"$f":"'Resumo Postos'!B16","v":"Assistente Administrativo nível III - Escolaridade superior"},"mês",12,{"$f":"'Resumo Postos'!H16","v":1},{"$f":"E17*F17","v":12},{"$f":"'Resumo Postos'!E16","v":13448.77},{"$f":"ROUND(G17*H17,2)","v":161385.24}]
[null,"4.0","ASSISTENTE DE CONDUÇÃO"]
[null,"4.1",{"$f":"'Resumo Postos'!B19","v":"Assistente de Condução"},"mês",12,{"$f":"'Resumo Postos'!H19","v":3},{"$f":"E19*F19","v":36},{"$f":"'Resumo Postos'!E19","v":7091.76},{"$f":"ROUND(G19*H19,2)","v":255303.36}]
[null,"4.2","Diárias","mês",12,{"$f":"'Resumo Postos'!H22","v":3},{"$f":"E20*F20","v":36},{"$f":"'Resumo Postos'!E22","v":2480.8000000000002},89308.800000000003]
[null,"4.3","Horas Extras","mês",12,{"$f":"'Resumo Postos'!H25","v":3},36,{"$f":"'Resumo Postos'!E25","v":1131},40716]
[null,"TOTAL GERAL:",{"$nulls":6},{"$f":"SUM(I11:I21)","v":1286136.24}]

{"sheet":"Resumo Qtd","index":2,"n_rows":15,"n_cols":6,"rows_kept":15,"cut":false,"hidden":false,"merged":[[0,1,1,1],[0,2,1,2],[0,3,1,3],[0,4,1,4],[0,5,1,5]]}
[null,"ITEM","DISCRIMINAÇÃO","UNIDADE","Nº DE MESES","Nº DE POSTOS/MÊS"]
[]
[]
[null,"1.0","ASSISTENTE ADMINISTRATIVO"]
[null,"1.1",{"$f":"'Resumo Postos'!B8","v":"Auxiliar Administrativo"},"mês",12,{"$f":"'Resumo Postos'!H8","v":4}]
[null,"1.2",{"$f":"'Resumo Postos'!B9","v":"Assistente Operacional Administrativo-Nível II"},"mês",12,{"$f":"'Resumo Postos'!H9","v":2}]
[null,"1.2",{"$f":"'Resumo Postos'!B10","v":"Assistente Operacional Administrativo-Nível I"},"mês",12,{"$f":"'Resumo Postos'!H10","v":2}]
[null,"2.0","ASSISTENTE DE GABINETE"]
[null,"2.1",{"$f":"'Resumo Postos'!B13","v":"Assistente Administrativo Nível III - Escolaridade superior"},"mês",12,{"$f":"'Resumo Postos'!H13","v":1}]
[null,"3.0","ASSISTENTE SUPERINTENDÊNCIA"]
[null,"3.1",{"$f":"'Resumo Postos'!B16","v":"Assistente Administrativo nível III - Escolaridade superior"},"mês",12,{"$f":"'Resumo Postos'!H16","v":1}]
[null,"4.0","ASSISTENTE DE CONDUÇÃO"]
[null,"4.1",{"$f":"'Resumo Postos'!B19","v":"Assistente de Condução"},"mês",12,{"$f":"'Resumo Postos'!H19","v":3}]
[null,"4.2","Diárias","mês",12,{"$f":"'Resumo Postos'!H22","v":3}]
[null,"4.3","Horas Extras","mês",12,{"$f":"'Resumo Postos'!H25","v":3}]

{"sheet":"Recepcionista","index":3,"n_rows":143,"n_cols":9,"rows_kept":143,"cut":false,"hidden":true,"merged":[[13,1,13,4],[13,5,13,6],[4,0,4,6],[5,0,5,6],[7,1,7,3],[7,4,7,6],[8,1,8,3],[8,4,8,6],[9,0,9,6],[11,1,11,4],[11,5,11,6],[12,1,12,4],[12,5,12,6],[24,0,24,6],[14,1,14,4],[14,5,14,6],[16,0,16,6],[18,0,18,1],[18,2,18,3],[18,4,18,6],[19,0,19,1],[19,2,19,3],[19,4,19,6],[21,0,21,6],[23,0,23,6],[125,0,125,6],[26,0,26,6],[34,0,34,6],[40,0,40,6],[65,1,65,3],[67,1,67,4],[70,0,70,6],[78,0,78,6],[89,0,89,6],[102,0,102,6],[108,0,108,6],[114,0,114,6],[141,0,141,2],[142,0,142,2],[128,10,129,11],[135,0,135,5],[137,0,137,2],[138,0,138,2],[139,0,139,2],[140,0,140,2]]}
[]
[]
[]
[]
[]
[" PLANILHA DE CUSTOS E FORMAÇÃO DE PREÇOS "]
[]
[null,"Nº Processo",null,null,"59512.000251/2023-61"]
[null,"Licitação nº"]
["DISCRIMINAÇÃO DOS SERVIÇOS (dados referentes à contratação)"]
[]
["A","Ano do Acordo, Convenção ou  Dissídio Coletivo",null,null,null,"2023 - PE000108/2023"]
["B","Município/UF",null,null,null,"Recife/PE"]
["C","Data de Registro no MTE",null,null,null,"15/02/2023"]
["D","Nº de meses de execução contratual",null,null,null,"12 (doze) meses"]
[]
["IDENTIFICAÇÃO DO SERVIÇO"]
[]
["Tipo de Serviço",null,"Unidade de Medida",null,"Quantidade total a contratar (em função da unidade de medida)"]
["Recepcionista",null,"Posto de serviço",null,1]
[]
["1. MÓDULOS"]
[]
["MÃO DE OBRA"]
["Mão de obra vinculada à execução contratual"]
[]
["Dados para composição dos custos referente à mão de obra"]
[1,"Tipo de serviço ",{"$nulls":4},"Recepcionista"]
[2,"Classificação Brasileira de Ocupações (CBO)",{"$nulls":4},"4221-05","CCT 2020"]
[3,"Salário Normativo da Categoria Profissional",{"$nulls":4},1424.79,3.9300000000000002E-2,"Reajuste"]
[4,"Categoria profissional  (vinculada à execução contratual)",{"$nulls":4},"Apoio Administrativo"]
[5,"Data-Base da categoria (dia/mês/ano)",{"$nulls":4},"1º/01/2023"]
[]
[]
["MÓDULO  1: COMPOSIÇÃO DA REMUNERAÇÃO"]
[]
[1,"Composição da Remuneração",{"$nulls":4},"Valor (R$)"]
["A","Salário Base",{"$nulls":4},{"$f":"G30","v":1424.79}]
[null,"Total ",{"$nulls":4},{"$f":"G38","v":1424.79}]
[]
["MÓDULO 2: ENCARGOS E BENEFÍCIOS ANUAIS, MENSAIS E DIÁRIOS"]
[]
["Submódulo 2.1 - 13º (décimo terceiro) Salário, Férias e Adicional de Férias"]
[]
["2.1"," 13º (décimo terceiro) Salário, Férias e Adicional de Férias",null,null,null,"%","Valor (R$)"]
["A","13º (décimo terceiro) Salário",null,null,null,9.3100000000000002E-2,{"$f":"G39*F46","v":132.65}]
["B","Férias e Adicional de Férias",null,null,null,{"$f":"(2.68%+8.05%)","v":0.10730000000000001},{"$f":"G39*F47","v":152.88}]
["TOTAL",{"$nulls":4},{"$f":"SUM(F46:F47)","v":0.20039999999999999},{"$f":"SUM(G46:G47)","v":285.52999999999997}]
[]
["Submódulo 2.2 - Encargos previdenciários (GPS), Fundo de Garantia por tempo de Serviço (FGTS) e outras contribuições:"]
[]
["2.2","GPS, FGTS e outras contribuiçoes",null,null,null,"%","Valor (R$)"]
["A","INSS",null,null,null,0.2,{"$f":"($G$39+$G$48)*F53","v":342.06}]
["B","SESI ou SESC",null,null,null,1.4999999999999999E-2,{"$f":"($G$39+$G$48)*F54","v":25.65}]
["C","SENAI ou SENAC",null,null,null,0.01,17.100000000000001]
["D","INCRA",null,null,null,2E-3,3.42]
["E","Salário educação",null,null,null,2.5000000000000001E-2,42.76]
["F","FGTS",null,null,null,0.08,136.83000000000001]
["G","SAT",null,null,null,0.03,51.31]
["H","SEBRAE",null,null,null,6.0000000000000001E-3,10.26]
["TOTAL",{"$nulls":4},{"$f":"SUM(F53:F60)","v":0.36799999999999999},{"$f":"SUM(G53:G60)","v":629.39}]
[]
["Submódulo 2.3 - Benefícios Mensais e Diários"]
[]
["2.3","Benefícios Mensais e Diários",{"$nulls":4},"Valor (R$)"]
["A","Transporte ",{"$nulls":4},{"$f":"IF((4.1*2*21)-(6%*G38)>0,(4.1*2*21)-(6%*G38),0)","v":86.71}]
["B","Auxílio alimentação (Cláusula 11ª CCT 2023)",{"$nulls":4},{"$f":"(8.91*21)","v":187.11}]
["C","Outros(COBERTURA SOCIAL) - Cláusula 15ªCCT 2023 + Cesta Básica 13º CCT 2023",{"$nulls":4},{"$f":"123.5+69.98","v":193.48}]
[null,"Total de Benefícios mensais e diários",{"$nulls":4},{"$f":"SUM(G66:G68)","v":467.3}]
[]
["QUADRO RESUMO DO MÓDULO 2 - Encargos e Benefícios anuais, mensais e diários"]
[]
[2,"Encargos e Benefícios anuais, mensais e diários",{"$nulls":4},"Valor (R$)"]
["2.1","13º (décimo terceiro) Salário, Férias e Adicional de Férias",{"$nulls":4},{"$f":"G48","v":285.52999999999997}]
["2.2","GPS, FGTS e outras contribuiçoes",{"$nulls":4},{"$f":"G61","v":629.39}]
["2.3","Benefícios Mensais e Diários",{"$nulls":4},{"$f":"G69","v":467.3}]
["TOTAL",{"$nulls":5},{"$f":"SUM(G74:G76)","v":1382.22}]
[]
["MÓDULO 3 - PROVISÃO PARA RESCISÃO"]
[]
[3,"Provisão para Rescisão",null,null,null,"%","Valor (R$)"]
["A","Aviso prévio indenizado",null,null,null,2.4199999999999999E-2,{"$f":"(G39)*F82","v":34.479999999999997}]
["B","Incidência do FGTS sobre Aviso Prévio Indenizado",null,null,null,{"$f":"F82*F58","v":1.9E-3},{"$f":"(G39)*F83","v":2.71}]
["C","Multa do FGTS e contribuição social sobre o Aviso Prévio Indenizado",null,null,null,4.02E-2,{"$f":"(G39)*F84","v":57.28}]
["D","Aviso Prévio Trabalhado",null,null,null,1.4E-3,{"$f":"(G39)*F85","v":1.99}]
["E","Incidência dos encargos do submódulo 2.2 sobre Aviso Prévio Trabalhado",null,null,null,{"$f":"F85*F61","v":5.0000000000000001E-4},{"$f":"(G39)*F86","v":0.71}]
["F","Multa do FGTS e contribuição social sobre o Aviso Prévio Trabalhado",null,null,null,6.6E-3,{"$f":"(G39)*F87","v":9.4}]
["TOTAL",{"$nulls":4},{"$f":"SUM(F82:F87)","v":7.4800000000000005E-2},{"$f":"SUM(G82:G87)","v":106.57}]
[]
["MÓDULO 4 - CUSTO DE REPOSIÇÃO DO PROFISSIONAL AUSENTE"]
[]
["Submódulo 4.1 - Ausências Legais"]
["4.1","Ausências legais",null,null,null,"%","Valor (R$)"]
["A","Férias ",null,null,null,9.0800000000000006E-2,{"$f":"G39*F94","v":129.37}]
["B","Ausências legais",null,null,null,5.7999999999999996E-3,{"$f":"G39*F95","v":8.26}]
["C","Licença paternidade",null,null,null,2.0000000000000001E-4,{"$f":"G39*F96","v":0.28000000000000003}]
["D","Ausência por Acidente de trabalho",null,null,null,1E-4,{"$f":"G39*F97","v":0.14000000000000001}]
["E","Afastamento Maternidade",null,null,null,5.9999999999999995E-4,{"$f":"G39*F98","v":0.85}]
["F","Outros (auxílio doença)",null,null,null,2.6800000000000001E-2,{"$f":"G39*F99","v":38.18}]
["TOTAL",{"$nulls":4},{"$f":"SUM(F94:F99)","v":0.12429999999999999},{"$f":"SUM(G94:G99)","v":177.08}]
[]
[]
["QUADRO RESUMO DO MÓDULO 4 - Custo de Reposição do Profissional Ausente"]
[]
[4,"Custo de Reposição do Profissional Ausente",{"$nulls":4},"Valor (R$)"]
["4.1","Ausências legais",{"$nulls":4},{"$f":"G100","v":177.08}]
["TOTAL",{"$nulls":5},{"$f":"G106","v":177.08}]
[]
["MÓDULO 5 - INSUMOS DIVERSOS"]
[]
[5,"Insumos Diversos",{"$nulls":4},"Valor (R$)"]
["A","Uniformes",{"$nulls":4},30]
[null,"Total ",{"$nulls":4},{"$f":"SUM(G112)","v":30}]
[]
["MÓDULO 6 - CUSTOS INDIRETOS, TRIBUTOS E LUCRO"]
[]
[6,"Custos Indiretos, Tributos e Lucro",null,null,null,"%","Valor (R$)"]
["A","Custos Indiretos",null,null,null,0.03,{"$f":"G134*F118","v":93.62}]
["B","Lucro",null,null,null,6.7900000000000002E-2,{"$f":"(G134+G118)*F119","v":218.25}]
["C","Tributos"]
["c.1","COFINS",null,null,null,7.5999999999999998E-2,{"$f":"E141","v":304.22000000000003}]
["c.2","PIS",null,null,null,1.6500000000000001E-2,{"$f":"E142","v":66.05}]
["c.3","ISSQN",null,null,null,0.05,{"$f":"E143","v":200.15}]
[null,"Total",null,null,null,{"$f":"SUM(F118:F123)","v":0.2404},{"$f":"SUM(G118:G123)","v":882.29}]
[]
["2.  QUADRO -  RESUMO DO CUSTO POR EMPREGADO"]
[]
[null,"Mão de obra vinculada à execução contratual (valor por empregado)",{"$nulls":4},"Valor (R$)"]
["A","Módulo 1 - Composição da Remuneração",{"$nulls":4},{"$f":"G39","v":1424.79}]
["B","Módulo 2 - Encargos e Benefícios Anuais, Mensais e Diários",{"$nulls":4},{"$f":"G77","v":1382.22}]
["C","Módulo 3 - Provisão para recisão",{"$nulls":4},{"$f":"G88","v":106.57}]
["D","Módulo 4 - Custo de Reposição do Profissional Ausente",{"$nulls":4},{"$f":"G107","v":177.08}]
["E","Módulo 5 - Insumos diversos",{"$nulls":4},{"$f":"G113","v":30}]
["Subtotal ( A + B +C + D + E)",{"$nulls":5},{"$f":"SUM(G129:G133)","v":3120.66}]
["E","Módulo 6  - Custos indiretos, Tributos e lucro",{"$nulls":4},{"$f":"G124","v":882.29}]
["Valor total por empregado",{"$nulls":5},{"$f":"G134+G135","v":4002.95}]
[]
["P0 = (MÓD 1+MÓD 2+MÓD 3+MÓD 4) + (CI) + (L)",null,null,null,{"$f":"G39+G77+G88+G107+G113+G118+G119","v":3432.53}]
["P1 = P0/(1 - (pis+confins+iss))",null,null,null,{"$f":"E138/(1-(F121+F122+F123))","v":4002.95}]
["T = P1 - P0",null,null,null,{"$f":"E139-E138","v":570.41999999999996}]
["COFINS = ((cofins)/(pis+cofins+iss) x T",null,null,null,{"$f":"((F121)/(F121+F122+F123))*E140","v":304.22000000000003}]
["PIS = ((pis)/(pis+cofins+iss) x T",null,null,null,{"$f":"((F122)/(F121+F122+F123))*E140","v":66.05}]
["ISS = (iss/(pis+cofins+iss)) x T",null,null,null,{"$f":"((F123/(F121+F122+F123))*E140)","v":200.15}]

{"sheet":"Aux. Adm.","index":4,"n_rows":144,"n_cols":9,"rows_kept":144,"cut":false,"hidden":false,"merged":[[142,0,142,2],[143,0,143,2],[129,10,130,11],[136,0,136,5],[138,0,138,2],[139,0,139,2],[140,0,140,2],[141,0,141,2],[90,0,90,6],[103,0,103,6],[109,0,109,6],[115,0,115,6],[126,0,126,6],[40,0,40,6],[66,1,66,3],[71,0,71,6],[79,0,79,6],[68,1,68,5],[21,0,21,6],[23,0,23,6],[24,0,24,6],[26,0,26,6],[34,0,34,6],[18,0,18,1],[18,2,18,3],[18,4,18,6],[19,0,19,1],[19,2,19,3],[19,4,19,6],[13,1,13,4],[13,5,13,6],[14,1,14,4],[14,5,14,6],[16,0,16,6],[9,0,9,6],[11,1,11,4],[11,5,11,6],[12,1,12,4],[12,5,12,6],[4,0,4,6],[5,0,5,6],[7,1,7,3],[7,4,7,6],[8,1,8,3],[8,4,8,6]]}
[]
[]
[]
[]
[]
[" PLANILHA DE CUSTOS E FORMAÇÃO DE PREÇOS "]
[]
[null,"Nº Processo",null,null,{"$f":"Recepcionista!E8","v":"59512.000251/2023-61"}]
[null,"Licitação nº"]
["DISCRIMINAÇÃO DOS SERVIÇOS (dados referentes à contratação)"]
[]
["A","Ano do Acordo, Convenção ou  Dissídio Coletivo",null,null,null,"2023 - PB000071/2023"]
["B","Município/UF",null,null,null,"João Pessoa/PB"]
["C","Data de Registro no MTE",null,null,null,"15/03/2023"]
["D","Nº de meses de execução contratual",null,null,null,"12 (doze) meses"]
[]
["IDENTIFICAÇÃO DO SERVIÇO"]
[]
["Tipo de Serviço",null,"Unidade de Medida",null,"Quantidade total a contratar (em função da unidade de medida)"]
["Auxiliar Administrativo",null,"Posto de serviço",null,1]
[]
["1. MÓDULOS"]
[]
["MÃO DE OBRA"]
["Mão de obra vinculada à execução contratual"]
[]
["Dados para composição dos custos referente à mão de obra"]
[1,"Tipo de serviço ",{"$nulls":4},"Auxiliar Administrativo (A4)"]
[2,"Classificação Brasileira de Ocupações (CBO)",{"$nulls":4},"4110-10 ","CCT 2022"]
[3,"Salário Normativo da Categoria Profissional",{"$nulls":4},{"$f":"1357.1*(1+H30)","v":1457.93},7.4300000000000005E-2,"Reajuste"]
[4,"Categoria profissional  (vinculada à execução contratual)",{"$nulls":4},"Apoio Administrativo"]
[5,"Data-Base da categoria (dia/mês/ano)",{"$nulls":4},{"$f":"Recepcionista!G32","v":"1º/01/2023"}]
[]
[]
["MÓDULO  1: COMPOSIÇÃO DA REMUNERAÇÃO"]
[]
[1,"Composição da Remuneração",{"$nulls":4},"Valor (R$)"]
["A","Salário Base",{"$nulls":4},{"$f":"G30","v":1457.93}]
[null,"Total ",{"$nulls":4},{"$f":"G38","v":1457.93}]
[]
["MÓDULO 2: ENCARGOS E BENEFÍCIOS ANUAIS, MENSAIS E DIÁRIOS"]
[]
["Submódulo 2.1 - 13º (décimo terceiro) Salário, Férias e Adicional de Férias"]
[]
["2.1"," 13º (décimo terceiro) Salário, Férias e Adicional de Férias",null,null,null,"%","Valor (R$)"]
["A","13º (décimo terceiro) Salário",null,null,null,8.3299999999999999E-2,{"$f":"G39*F46","v":121.45}]
["B","Férias e Adicional de Férias",null,null,null,0.121,{"$f":"G39*F47","v":176.41}]
[null,"Incidência do módulo 2.2 sobre o módulo 2.1",null,null,null,7.5200000000000003E-2,{"$f":"G39*F48","v":109.64}]
["TOTAL",{"$nulls":4},{"$f":"SUM(F46:F48)","v":0.27950000000000003},{"$f":"SUM(G46:G48)","v":407.5}]
[]
["Submódulo 2.2 - Encargos previdenciários (GPS), Fundo de Garantia por tempo de Serviço (FGTS) e outras contribuições:"]
[]
["2.2","GPS, FGTS e outras contribuiçoes",null,null,null,"%","Valor (R$)"]
["A","INSS",null,null,null,{"$f":"Recepcionista!F53","v":0.2},{"$f":"($G$39+$G$49)*F54","v":373.09}]
["B","SESI ou SESC",null,null,null,{"$f":"Recepcionista!F54","v":1.4999999999999999E-2},{"$f":"($G$39+$G$49)*F55","v":27.98}]
["C","SENAI ou SENAC",null,null,null,{"$f":"Recepcionista!F55","v":0.01},18.649999999999999]
["D","INCRA",null,null,null,{"$f":"Recepcionista!F56","v":2E-3},3.73]
["E","Salário educação",null,null,null,{"$f":"Recepcionista!F57","v":2.5000000000000001E-2},46.64]
["F","FGTS",null,null,null,{"$f":"Recepcionista!F58","v":0.08},149.22999999999999]
["G","SAT",null,null,null,{"$f":"Recepcionista!F59","v":0.03},55.96]
["H","SEBRAE",null,null,null,{"$f":"Recepcionista!F60","v":6.0000000000000001E-3},11.19]
["TOTAL",{"$nulls":4},{"$f":"SUM(F54:F61)","v":0.36799999999999999},{"$f":"SUM(G54:G61)","v":686.47}]
[]
["Submódulo 2.3 - Benefícios Mensais e Diários"]
[]
["2.3","Benefícios Mensais e Diários",{"$nulls":4},"Valor (R$)"]
["A","Transporte ",{"$nulls":4},{"$f":"IF((4.7*2*21)-(6%*G38)>0,(4.7*2*21)-(6%*G38),0)","v":109.92}]
["B","Auxílio alimentação (Cláusula 12ª CCT 2023)",{"$nulls":4},500]
["C","Auxílio Saúde - Cláusula 14ª; Auxílio Morte/Funeral - Cláusula 16ª; Seguro de Vida - Cláusula 18ª; Assistência e Cuidado Pessoal - Cláusula 20ª",{"$nulls":4},{"$f":"20+5+5+40","v":70}]
[null,"Total de Benefícios mensais e diários",{"$nulls":4},{"$f":"SUM(G67:G69)","v":679.92}]
[]
["QUADRO RESUMO DO MÓDULO 2 - Encargos e Benefícios anuais, mensais e diários"]
[]
[2,"Encargos e Benefícios anuais, mensais e diários",{"$nulls":4},"Valor (R$)"]
["2.1","13º (décimo terceiro) Salário, Férias e Adicional de Férias",{"$nulls":4},{"$f":"G49","v":407.5}]
["2.2","GPS, FGTS e outras contribuiçoes",{"$nulls":4},{"$f":"G62","v":686.47}]
["2.3","Benefícios Mensais e Diários",{"$nulls":4},{"$f":"G70","v":679.92}]
["TOTAL",{"$nulls":5},{"$f":"SUM(G75:G77)","v":1773.89}]
[]
["MÓDULO 3 - PROVISÃO PARA RESCISÃO"]
[]
[3,"Provisão para Rescisão",null,null,null,"%","Valor (R$)"]
["A","Aviso prévio indenizado",null,null,null,{"$f":"Recepcionista!F82","v":2.4199999999999999E-2},{"$f":"(G39)*F83","v":35.28}]
["B","Incidência do FGTS sobre Aviso Prévio Indenizado",null,null,null,{"$f":"Recepcionista!F83","v":1.9E-3},{"$f":"(G39)*F84","v":2.77}]
["C","Multa do FGTS e contribuição social sobre o Aviso Prévio Indenizado",null,null,null,{"$f":"Recepcionista!F84","v":4.02E-2},{"$f":"(G39)*F85","v":58.61}]
["D","Aviso Prévio Trabalhado",null,null,null,{"$f":"Recepcionista!F85","v":1.4E-3},{"$f":"(G39)*F86","v":2.04}]
["E","Incidência dos encargos do submódulo 2.2 sobre Aviso Prévio Trabalhado",null,null,null,{"$f":"Recepcionista!F86","v":5.0000000000000001E-4},{"$f":"(G39)*F87","v":0.73}]
["F","Multa do FGTS e contribuição social sobre o Aviso Prévio Trabalhado",null,null,null,{"$f":"Recepcionista!F87","v":6.6E-3},{"$f":"(G39)*F88","v":9.6199999999999992}]
["TOTAL",{"$nulls":4},{"$f":"SUM(F83:F88)","v":7.4800000000000005E-2},{"$f":"SUM(G83:G88)","v":109.05}]
[]
["MÓDULO 4 - CUSTO DE REPOSIÇÃO DO PROFISSIONAL AUSENTE"]
[]
["Submódulo 4.1 - Ausências Legais"]
["4.1","Ausências legais",null,null,null,"%","Valor (R$)"]
["A","Férias ",null,null,null,{"$f":"Recepcionista!F94","v":9.0800000000000006E-2},{"$f":"G39*F95","v":132.38}]
["B","Ausências legais",null,null,null,{"$f":"Recepcionista!F95","v":5.7999999999999996E-3},{"$f":"G39*F96","v":8.4600000000000009}]
["C","Licença paternidade",null,null,null,{"$f":"Recepcionista!F96","v":2.0000000000000001E-4},{"$f":"G39*F97","v":0.28999999999999998}]
["D","Ausência por Acidente de trabalho",null,null,null,{"$f":"Recepcionista!F97","v":1E-4},{"$f":"G39*F98","v":0.15}]
["E","Afastamento Maternidade",null,null,null,{"$f":"Recepcionista!F98","v":5.9999999999999995E-4},{"$f":"G39*F99","v":0.87}]
["F","Outros (auxílio doença)",null,null,null,{"$f":"Recepcionista!F99","v":2.6800000000000001E-2},{"$f":"G39*F100","v":39.07}]
["TOTAL",{"$nulls":4},{"$f":"SUM(F95:F100)","v":0.12429999999999999},{"$f":"SUM(G95:G100)","v":181.22}]
[]
[]
["QUADRO RESUMO DO MÓDULO 4 - Custo de Reposição do Profissional Ausente"]
[]
[4,"Custo de Reposição do Profissional Ausente",{"$nulls":4},"Valor (R$)"]
["4.1","Ausências legais",{"$nulls":4},{"$f":"G101","v":181.22}]
["TOTAL",{"$nulls":5},{"$f":"G107","v":181.22}]
[]
["MÓDULO 5 - INSUMOS DIVERSOS"]
[]
[5,"Insumos Diversos",{"$nulls":4},"Valor (R$)"]
["A","Uniformes",{"$nulls":4},{"$f":"Uniformes!F14","v":103.39}]
[null,"Total ",{"$nulls":4},{"$f":"SUM(G113)","v":103.39}]
[]
["MÓDULO 6 - CUSTOS INDIRETOS, TRIBUTOS E LUCRO"]
[]
[6,"Custos Indiretos, Tributos e Lucro",null,null,null,"%","Valor (R$)"]
["A","Custos Indiretos",null,null,null,{"$f":"Recepcionista!F118","v":0.03},{"$f":"G135*F119","v":108.76}]
["B","Lucro",null,null,null,{"$f":"Recepcionista!F119","v":6.7900000000000002E-2},{"$f":"(G135+G119)*F120","v":253.55}]
["C","Tributos"]
["c.1","COFINS",null,null,null,{"$f":"Recepcionista!F121","v":7.5999999999999998E-2},{"$f":"E142","v":353.43}]
["c.2","PIS",null,null,null,{"$f":"Recepcionista!F122","v":1.6500000000000001E-2},{"$f":"E143","v":76.73}]
["c.3","ISSQN",null,null,null,{"$f":"Recepcionista!F123","v":0.05},{"$f":"E144","v":232.52}]
[null,"Total",null,null,null,{"$f":"SUM(F119:F124)","v":0.2404},{"$f":"SUM(G119:G124)","v":1024.99}]
[]
["2.  QUADRO -  RESUMO DO CUSTO POR EMPREGADO"]
[]
[null,"Mão de obra vinculada à execução contratual (valor por empregado)",{"$nulls":4},"Valor (R$)"]
["A","Módulo 1 - Composição da Remuneração",{"$nulls":4},{"$f":"G39","v":1457.93}]
["B","Módulo 2 - Encargos e Benefícios Anuais, Mensais e Diários",{"$nulls":4},{"$f":"G78","v":1773.89}]
["C","Módulo 3 - Provisão para recisão",{"$nulls":4},{"$f":"G89","v":109.05}]
["D","Módulo 4 - Custo de Reposição do Profissional Ausente",{"$nulls":4},{"$f":"G108","v":181.22}]
["E","Módulo 5 - Insumos diversos",{"$nulls":4},{"$f":"G114","v":103.39}]
["Subtotal ( A + B +C + D + E)",{"$nulls":5},{"$f":"SUM(G130:G134)","v":3625.48}]
["E","Módulo 6  - Custos indiretos, Tributos e lucro",{"$nulls":4},{"$f":"G125","v":1024.99}]
["Valor total por empregado",{"$nulls":5},{"$f":"G135+G136","v":4650.47}]
[]
["P0 = (MÓD 1+MÓD 2+MÓD 3+MÓD 4) + (CI) + (L)",null,null,null,{"$f":"G39+G78+G89+G108+G114+G119+G120","v":3987.79}]
["P1 = P0/(1 - (pis+confins+iss))",null,null,null,{"$f":"E139/(1-(F122+F123+F124))","v":4650.4799999999996}]
["T = P1 - P0",null,null,null,{"$f":"E140-E139","v":662.69}]
["COFINS = ((cofins)/(pis+cofins+iss) x T",null,null,null,{"$f":"((F122)/(F122+F123+F124))*E141","v":353.43}]
["PIS = ((pis)/(pis+cofins+iss) x T",null,null,null,{"$f":"((F123)/(F122+F123+F124))*E141","v":76.73}]
["ISS = (iss/(pis+cofins+iss)) x T",null,null,null,{"$f":"((F124/(F122+F123+F124))*E141)","v":232.52}]

{"sheet":"Ass. Op. Adm. II","index":5,"n_rows":144,"n_cols":9,"rows_kept":144,"cut":false,"hidden":false,"merged":[[142,0,142,2],[143,0,143,2],[129,10,130,11],[136,0,136,5],[138,0,138,2],[139,0,139,2],[140,0,140,2],[141,0,141,2],[90,0,90,6],[103,0,103,6],[109,0,109,6],[115,0,115,6],[126,0,126,6],[40,0,40,6],[66,1,66,3],[71,0,71,6],[79,0,79,6],[68,1,68,5],[21,0,21,6],[23,0,23,6],[24,0,24,6],[26,0,26,6],[34,0,34,6],[18,0,18,1],[18,2,18,3],[18,4,18,6],[19,0,19,1],[19,2,19,3],[19,4,19,6],[13,1,13,4],[13,5,13,6],[14,1,14,4],[14,5,14,6],[16,0,16,6],[9,0,9,6],[11,1,11,4],[11,5,11,6],[12,1,12,4],[12,5,12,6],[5,0,5,6],[7,1,7,3],[7,4,7,6],[8,1,8,3],[8,4,8,6]]}
[]
[]
[]
[]
[]
[" PLANILHA DE CUSTOS E FORMAÇÃO DE PREÇOS "]
[]
[null,{"$f":"'Aux. Adm.'!B8","v":"Nº Processo"},null,null,{"$f":"'Aux. Adm.'!E8","v":"59512.000251/2023-61"}]
[null,{"$f":"'Aux. Adm.'!B9","v":"Licitação nº"}]
["DISCRIMINAÇÃO DOS SERVIÇOS (dados referentes à contratação)"]
[]
["A","Ano do Acordo, Convenção ou  Dissídio Coletivo",null,null,null,{"$f":"'Aux. Adm.'!F12","v":"2023 - PB000071/2023"}]
["B","Município/UF",null,null,null,{"$f":"'Aux. Adm.'!F13","v":"João Pessoa/PB"}]
["C","Data de Registro no MTE",null,null,null,{"$f":"'Aux. Adm.'!F14","v":"15/03/2023"}]
["D","Nº de meses de execução contratual",null,null,null,{"$f":"'Aux. Adm.'!F15","v":"12 (doze) meses"}]
[]
["IDENTIFICAÇÃO DO SERVIÇO"]
[]
["Tipo de Serviço",null,"Unidade de Medida",null,"Quantidade total a contratar (em função da unidade de medida)"]
["Assistente Operacional Administrativo-Nivel II",null,"Posto de serviço",null,1]
[]
["1. MÓDULOS"]
[]
["MÃO DE OBRA"]
["Mão de obra vinculada à execução contratual"]
[]
["Dados para composição dos custos referente à mão de obra"]
[1,"Tipo de serviço ",{"$nulls":4},"Administrativo - Nível II"]
[2,"Classificação Brasileira de Ocupações (CBO)",{"$nulls":4},"4110-10 ","CCT 2022"]
[3,"Salário Normativo da Categoria Profissional",{"$nulls":4},{"$f":"1951.37*(1+H30)","v":2068.4499999999998},0.06,"Reajuste"]
[4,"Categoria profissional  (vinculada à execução contratual)",{"$nulls":4},"Administrativo II"]
[5,"Data-Base da categoria (dia/mês/ano)",{"$nulls":4},{"$f":"Recepcionista!G32","v":"1º/01/2023"}]
[]
[]
["MÓDULO  1: COMPOSIÇÃO DA REMUNERAÇÃO"]
[]
[1,"Composição da Remuneração",{"$nulls":4},"Valor (R$)"]
["A","Salário Base",{"$nulls":4},{"$f":"G30","v":2068.4499999999998}]
[null,"Total ",{"$nulls":4},{"$f":"G38","v":2068.4499999999998}]
[]
["MÓDULO 2: ENCARGOS E BENEFÍCIOS ANUAIS, MENSAIS E DIÁRIOS"]
[]
["Submódulo 2.1 - 13º (décimo terceiro) Salário, Férias e Adicional de Férias"]
[]
["2.1"," 13º (décimo terceiro) Salário, Férias e Adicional de Férias",null,null,null,"%","Valor (R$)"]
["A","13º (décimo terceiro) Salário",null,null,null,{"$f":"'Aux. Adm.'!F46","v":8.3299999999999999E-2},{"$f":"G39*F46","v":172.3}]
["B","Férias e Adicional de Férias",null,null,null,{"$f":"'Aux. Adm.'!F47","v":0.121},{"$f":"G39*F47","v":250.28}]
[null,"Incidência do módulo 2.2 sobre o módulo 2.1",null,null,null,7.5200000000000003E-2,{"$f":"G39*F48","v":155.55000000000001}]
["TOTAL",{"$nulls":4},{"$f":"SUM(F46:F48)","v":0.27950000000000003},{"$f":"SUM(G46:G48)","v":578.13}]
[]
["Submódulo 2.2 - Encargos previdenciários (GPS), Fundo de Garantia por tempo de Serviço (FGTS) e outras contribuições:"]
[]
["2.2","GPS, FGTS e outras contribuiçoes",null,null,null,"%","Valor (R$)"]
["A","INSS",null,null,null,{"$f":"'Aux. Adm.'!F54","v":0.2},{"$f":"($G$39+$G$49)*F54","v":529.32000000000005}]
["B","SESI ou SESC",null,null,null,{"$f":"'Aux. Adm.'!F55","v":1.4999999999999999E-2},{"$f":"($G$39+$G$49)*F55","v":39.700000000000003}]
["C","SENAI ou SENAC",null,null,null,{"$f":"'Aux. Adm.'!F56","v":0.01},26.47]
["D","INCRA",null,null,null,{"$f":"'Aux. Adm.'!F57","v":2E-3},5.29]
["E","Salário educação",null,null,null,{"$f":"'Aux. Adm.'!F58","v":2.5000000000000001E-2},66.16]
["F","FGTS",null,null,null,{"$f":"'Aux. Adm.'!F59","v":0.08},211.73]
["G","SAT",null,null,null,{"$f":"'Aux. Adm.'!F60","v":0.03},79.400000000000006]
["H","SEBRAE",null,null,null,{"$f":"'Aux. Adm.'!F61","v":6.0000000000000001E-3},15.88]
["TOTAL",{"$nulls":4},{"$f":"SUM(F54:F61)","v":0.36799999999999999},{"$f":"SUM(G54:G61)","v":973.95}]
[]
["Submódulo 2.3 - Benefícios Mensais e Diários"]
[]
["2.3","Benefícios Mensais e Diários",{"$nulls":4},"Valor (R$)"]
["A","Transporte ",{"$nulls":4},{"$f":"IF((4.7*2*21)-(6%*G38)>0,(4.7*2*21)-(6%*G38),0)","v":73.290000000000006}]
["B","Auxílio alimentação (Cláusula 12ª CCT 2023)",{"$nulls":4},500]
["C","Auxílio Saúde - Cláusula 14ª; Auxílio Morte/Funeral - Cláusula 16ª; Seguro de Vida - Cláusula 18ª; Assistência e Cuidado Pessoal - Cláusula 20ª",{"$nulls":4},{"$f":"20+5+5+40","v":70}]
[null,"Total de Benefícios mensais e diários",{"$nulls":4},{"$f":"SUM(G67:G69)","v":643.29}]
[]
["QUADRO RESUMO DO MÓDULO 2 - Encargos e Benefícios anuais, mensais e diários"]
[]
[2,"Encargos e Benefícios anuais, mensais e diários",{"$nulls":4},"Valor (R$)"]
["2.1","13º (décimo terceiro) Salário, Férias e Adicional de Férias",{"$nulls":4},{"$f":"G49","v":578.13}]
["2.2","GPS, FGTS e outras contribuiçoes",{"$nulls":4},{"$f":"G62","v":973.95}]
["2.3","Benefícios Mensais e Diários",{"$nulls":4},{"$f":"G70","v":643.29}]
["TOTAL",{"$nulls":5},{"$f":"SUM(G75:G77)","v":2195.37}]
[]
["MÓDULO 3 - PROVISÃO PARA RESCISÃO"]
[]
[3,"Provisão para Rescisão",null,null,null,"%","Valor (R$)"]
["A","Aviso prévio indenizado",null,null,null,{"$f":"'Aux. Adm.'!F83","v":2.4199999999999999E-2},{"$f":"(G39)*F83","v":50.06}]
["B","Incidência do FGTS sobre Aviso Prévio Indenizado",null,null,null,{"$f":"'Aux. Adm.'!F84","v":1.9E-3},{"$f":"(G39)*F84","v":3.93}]
["C","Multa do FGTS e contribuição social sobre o Aviso Prévio Indenizado",null,null,null,{"$f":"'Aux. Adm.'!F85","v":4.02E-2},{"$f":"(G39)*F85","v":83.15}]
["D","Aviso Prévio Trabalhado",null,null,null,{"$f":"'Aux. Adm.'!F86","v":1.4E-3},{"$f":"(G39)*F86","v":2.9}]
["E","Incidência dos encargos do submódulo 2.2 sobre Aviso Prévio Trabalhado",null,null,null,{"$f":"'Aux. Adm.'!F87","v":5.0000000000000001E-4},{"$f":"(G39)*F87","v":1.03}]
["F","Multa do FGTS e contribuição social sobre o Aviso Prévio Trabalhado",null,null,null,{"$f":"'Aux. Adm.'!F88","v":6.6E-3},{"$f":"(G39)*F88","v":13.65}]
["TOTAL",{"$nulls":4},{"$f":"SUM(F83:F88)","v":7.4800000000000005E-2},{"$f":"SUM(G83:G88)","v":154.72}]
[]
["MÓDULO 4 - CUSTO DE REPOSIÇÃO DO PROFISSIONAL AUSENTE"]
[]
["Submódulo 4.1 - Ausências Legais"]
["4.1","Ausências legais",null,null,null,"%","Valor (R$)"]
["A","Férias ",null,null,null,{"$f":"'Aux. Adm.'!F95","v":9.0800000000000006E-2},{"$f":"G39*F95","v":187.82}]
["B","Ausências legais",null,null,null,{"$f":"'Aux. Adm.'!F96","v":5.7999999999999996E-3},{"$f":"G39*F96","v":12}]
["C","Licença paternidade",null,null,null,{"$f":"'Aux. Adm.'!F97","v":2.0000000000000001E-4},{"$f":"G39*F97","v":0.41}]
["D","Ausência por Acidente de trabalho",null,null,null,{"$f":"'Aux. Adm.'!F98","v":1E-4},{"$f":"G39*F98","v":0.21}]
["E","Afastamento Maternidade",null,null,null,{"$f":"'Aux. Adm.'!F99","v":5.9999999999999995E-4},{"$f":"G39*F99","v":1.24}]
["F","Outros (auxílio doença)",null,null,null,{"$f":"'Aux. Adm.'!F100","v":2.6800000000000001E-2},{"$f":"G39*F100","v":55.43}]
["TOTAL",{"$nulls":4},{"$f":"SUM(F95:F100)","v":0.12429999999999999},{"$f":"SUM(G95:G100)","v":257.11}]
[]
[]
["QUADRO RESUMO DO MÓDULO 4 - Custo de Reposição do Profissional Ausente"]
[]
[4,"Custo de Reposição do Profissional Ausente",{"$nulls":4},"Valor (R$)"]
["4.1","Ausências legais",{"$nulls":4},{"$f":"G101","v":257.11}]
["TOTAL",{"$nulls":5},{"$f":"G107","v":257.11}]
[]
["MÓDULO 5 - INSUMOS DIVERSOS"]
[]
[5,"Insumos Diversos",{"$nulls":4},"Valor (R$)"]
["A","Uniformes"]
[null,"Total ",{"$nulls":4},{"$f":"SUM(G113)","v":0}]
[]
["MÓDULO 6 - CUSTOS INDIRETOS, TRIBUTOS E LUCRO"]
[]
[6,"Custos Indiretos, Tributos e Lucro",null,null,null,"%","Valor (R$)"]
["A","Custos Indiretos",null,null,null,{"$f":"'Aux. Adm.'!F119","v":0.03},{"$f":"G135*F119","v":140.27000000000001}]
["B","Lucro",null,null,null,{"$f":"'Aux. Adm.'!F120","v":6.7900000000000002E-2},{"$f":"(G135+G119)*F120","v":327}]
["C","Tributos"]
["c.1","COFINS",null,null,null,{"$f":"'Aux. Adm.'!F122","v":7.5999999999999998E-2},{"$f":"E142","v":455.81}]
["c.2","PIS",null,null,null,{"$f":"'Aux. Adm.'!F123","v":1.6500000000000001E-2},{"$f":"E143","v":98.96}]
["c.3","ISSQN",null,null,null,{"$f":"'Aux. Adm.'!F124","v":0.05},{"$f":"E144","v":299.88}]
[null,"Total",null,null,null,{"$f":"SUM(F119:F124)","v":0.2404},{"$f":"SUM(G119:G124)","v":1321.92}]
[]
["2.  QUADRO -  RESUMO DO CUSTO POR EMPREGADO"]
[]
[null,"Mão de obra vinculada à execução contratual (valor por empregado)",{"$nulls":4},"Valor (R$)"]
["A","Módulo 1 - Composição da Remuneração",{"$nulls":4},{"$f":"G39","v":2068.4499999999998}]
["B","Módulo 2 - Encargos e Benefícios Anuais, Mensais e Diários",{"$nulls":4},{"$f":"G78","v":2195.37}]
["C","Módulo 3 - Provisão para recisão",{"$nulls":4},{"$f":"G89","v":154.72}]
["D","Módulo 4 - Custo de Reposição do Profissional Ausente",{"$nulls":4},{"$f":"G108","v":257.11}]
["E","Módulo 5 - Insumos diversos",{"$nulls":4},{"$f":"G114","v":0}]
["Subtotal ( A + B +C + D + E)",{"$nulls":5},{"$f":"SUM(G130:G134)","v":4675.6499999999996}]
["E","Módulo 6  - Custos indiretos, Tributos e lucro",{"$nulls":4},{"$f":"G125","v":1321.92}]
["Valor total por empregado",{"$nulls":5},{"$f":"G135+G136","v":5997.57}]
[]
["P0 = (MÓD 1+MÓD 2+MÓD 3+MÓD 4) + (CI) + (L)",null,null,null,{"$f":"G39+G78+G89+G108+G114+G119+G120","v":5142.92}]
["P1 = P0/(1 - (pis+confins+iss))",null,null,null,{"$f":"E139/(1-(F122+F123+F124))","v":5997.57}]
["T = P1 - P0",null,null,null,{"$f":"E140-E139","v":854.65}]
["COFINS = ((cofins)/(pis+cofins+iss) x T",null,null,null,{"$f":"((F122)/(F122+F123+F124))*E141","v":455.81}]
["PIS = ((pis)/(pis+cofins+iss) x T",null,null,null,{"$f":"((F123)/(F122+F123+F124))*E141","v":98.96}]
["ISS = (iss/(pis+cofins+iss)) x T",null,null,null,{"$f":"((F124/(F122+F123+F124))*E141)","v":299.88}]

{"sheet":"Ass. Op. Adm. I","index":6,"n_rows":144,"n_cols":9,"rows_kept":144,"cut":false,"hidden":false,"merged":[[9,0,9,6],[5,0,5,6],[7,1,7,3],[7,4,7,6],[8,1,8,3],[8,4,8,6],[11,1,11,4],[11,5,11,6],[12,1,12,4],[12,5,12,6],[13,1,13,4],[13,5,13,6],[24,0,24,6],[14,1,14,4],[14,5,14,6],[16,0,16,6],[18,0,18,1],[18,2,18,3],[18,4,18,6],[19,0,19,1],[19,2,19,3],[19,4,19,6],[21,0,21,6],[23,0,23,6],[126,0,126,6],[26,0,26,6],[34,0,34,6],[40,0,40,6],[66,1,66,3],[68,1,68,5],[71,0,71,6],[79,0,79,6],[90,0,90,6],[103,0,103,6],[109,0,109,6],[115,0,115,6],[142,0,142,2],[143,0,143,2],[129,10,130,11],[136,0,136,5],[138,0,138,2],[139,0,139,2],[140,0,140,2],[141,0,141,2]]}
[]
[]
[]
[]
[]
[" PLANILHA DE CUSTOS E FORMAÇÃO DE PREÇOS "]
[]
[null,{"$f":"'Aux. Adm.'!B8","v":"Nº Processo"},null,null,{"$f":"'Aux. Adm.'!E8","v":"59512.000251/2023-61"}]
[null,{"$f":"'Aux. Adm.'!B9","v":"Licitação nº"}]
["DISCRIMINAÇÃO DOS SERVIÇOS (dados referentes à contratação)"]
[]
["A","Ano do Acordo, Convenção ou  Dissídio Coletivo",null,null,null,{"$f":"'Aux. Adm.'!F12","v":"2023 - PB000071/2023"}]
["B","Município/UF",null,null,null,{"$f":"'Aux. Adm.'!F13","v":"João Pessoa/PB"}]
["C","Data de Registro no MTE",null,null,null,{"$f":"'Aux. Adm.'!F14","v":"15/03/2023"}]
["D","Nº de meses de execução contratual",null,null,null,{"$f":"'Aux. Adm.'!F15","v":"12 (doze) meses"}]
[]
["IDENTIFICAÇÃO DO SERVIÇO"]
[]
["Tipo de Serviço",null,"Unidade de Medida",null,"Quantidade total a contratar (em função da unidade de medida)"]
["Assistente Operacional Administrativo-Nivel I",null,"Posto de serviço",null,1]
[]
["1. MÓDULOS"]
[]
["MÃO DE OBRA"]
["Mão de obra vinculada à execução contratual"]
[]
["Dados para composição dos custos referente à mão de obra"]
[1,"Tipo de serviço ",{"$nulls":4},"Administrativo - Nível II"]
[2,"Classificação Brasileira de Ocupações (CBO)",{"$nulls":4},"4110-10 ","CCT 2022"]
[3,"Salário Normativo da Categoria Profissional",{"$nulls":4},{"$f":"3036.91*(1+H30)","v":3219.12},0.06,"Reajuste"]
[4,"Categoria profissional  (vinculada à execução contratual)",{"$nulls":4},"Administrativo I"]
[5,"Data-Base da categoria (dia/mês/ano)",{"$nulls":4},{"$f":"Recepcionista!G32","v":"1º/01/2023"}]
[]
[]
["MÓDULO  1: COMPOSIÇÃO DA REMUNERAÇÃO"]
[]
[1,"Composição da Remuneração",{"$nulls":4},"Valor (R$)"]
["A","Salário Base",{"$nulls":4},{"$f":"G30","v":3219.12}]
[null,"Total ",{"$nulls":4},{"$f":"G38","v":3219.12}]
[]
["MÓDULO 2: ENCARGOS E BENEFÍCIOS ANUAIS, MENSAIS E DIÁRIOS"]
[]
["Submódulo 2.1 - 13º (décimo terceiro) Salário, Férias e Adicional de Férias"]
[]
["2.1"," 13º (décimo terceiro) Salário, Férias e Adicional de Férias",null,null,null,"%","Valor (R$)"]
["A","13º (décimo terceiro) Salário",null,null,null,{"$f":"'Aux. Adm.'!F46","v":8.3299999999999999E-2},{"$f":"G39*F46","v":268.14999999999998}]
["B","Férias e Adicional de Férias",null,null,null,{"$f":"'Aux. Adm.'!F47","v":0.121},{"$f":"G39*F47","v":389.51}]
[null,"Incidência do módulo 2.2 sobre o módulo 2.1",null,null,null,7.5200000000000003E-2,{"$f":"G39*F48","v":242.08}]
["TOTAL",{"$nulls":4},{"$f":"SUM(F46:F48)","v":0.27950000000000003},{"$f":"SUM(G46:G48)","v":899.74}]
[]
["Submódulo 2.2 - Encargos previdenciários (GPS), Fundo de Garantia por tempo de Serviço (FGTS) e outras contribuições:"]
[]
["2.2","GPS, FGTS e outras contribuiçoes",null,null,null,"%","Valor (R$)"]
["A","INSS",null,null,null,{"$f":"'Aux. Adm.'!F54","v":0.2},{"$f":"($G$39+$G$49)*F54","v":823.77}]
["B","SESI ou SESC",null,null,null,{"$f":"'Aux. Adm.'!F55","v":1.4999999999999999E-2},{"$f":"($G$39+$G$49)*F55","v":61.78}]
["C","SENAI ou SENAC",null,null,null,{"$f":"'Aux. Adm.'!F56","v":0.01},41.19]
["D","INCRA",null,null,null,{"$f":"'Aux. Adm.'!F57","v":2E-3},8.24]
["E","Salário educação",null,null,null,{"$f":"'Aux. Adm.'!F58","v":2.5000000000000001E-2},102.97]
["F","FGTS",null,null,null,{"$f":"'Aux. Adm.'!F59","v":0.08},329.51]
["G","SAT",null,null,null,{"$f":"'Aux. Adm.'!F60","v":0.03},123.57]
["H","SEBRAE",null,null,null,{"$f":"'Aux. Adm.'!F61","v":6.0000000000000001E-3},24.71]
["TOTAL",{"$nulls":4},{"$f":"SUM(F54:F61)","v":0.36799999999999999},{"$f":"SUM(G54:G61)","v":1515.74}]
[]
["Submódulo 2.3 - Benefícios Mensais e Diários"]
[]
["2.3","Benefícios Mensais e Diários",{"$nulls":4},"Valor (R$)"]
["A","Transporte ",{"$nulls":4},{"$f":"IF((4.7*2*21)-(6%*G38)>0,(4.7*2*21)-(6%*G38),0)","v":4.25}]
["B","Auxílio alimentação (Cláusula 12ª CCT 2023)",{"$nulls":4},500]
["C","Auxílio Saúde - Cláusula 14ª; Auxílio Morte/Funeral - Cláusula 16ª; Seguro de Vida - Cláusula 18ª; Assistência e Cuidado Pessoal - Cláusula 20ª",{"$nulls":4},{"$f":"20+5+5+40","v":70}]
[null,"Total de Benefícios mensais e diários",{"$nulls":4},{"$f":"SUM(G67:G69)","v":574.25}]
[]
["QUADRO RESUMO DO MÓDULO 2 - Encargos e Benefícios anuais, mensais e diários"]
[]
[2,"Encargos e Benefícios anuais, mensais e diários",{"$nulls":4},"Valor (R$)"]
["2.1","13º (décimo terceiro) Salário, Férias e Adicional de Férias",{"$nulls":4},{"$f":"G49","v":899.74}]
["2.2","GPS, FGTS e outras contribuiçoes",{"$nulls":4},{"$f":"G62","v":1515.74}]
["2.3","Benefícios Mensais e Diários",{"$nulls":4},{"$f":"G70","v":574.25}]
["TOTAL",{"$nulls":5},{"$f":"SUM(G75:G77)","v":2989.73}]
[]
["MÓDULO 3 - PROVISÃO PARA RESCISÃO"]
[]
[3,"Provisão para Rescisão",null,null,null,"%","Valor (R$)"]
["A","Aviso prévio indenizado",null,null,null,{"$f":"'Aux. Adm.'!F83","v":2.4199999999999999E-2},{"$f":"(G39)*F83","v":77.900000000000006}]
["B","Incidência do FGTS sobre Aviso Prévio Indenizado",null,null,null,{"$f":"'Aux. Adm.'!F84","v":1.9E-3},{"$f":"(G39)*F84","v":6.12}]
["C","Multa do FGTS e contribuição social sobre o Aviso Prévio Indenizado",null,null,null,{"$f":"'Aux. Adm.'!F85","v":4.02E-2},{"$f":"(G39)*F85","v":129.41}]
["D","Aviso Prévio Trabalhado",null,null,null,{"$f":"'Aux. Adm.'!F86","v":1.4E-3},{"$f":"(G39)*F86","v":4.51}]
["E","Incidência dos encargos do submódulo 2.2 sobre Aviso Prévio Trabalhado",null,null,null,{"$f":"'Aux. Adm.'!F87","v":5.0000000000000001E-4},{"$f":"(G39)*F87","v":1.61}]
["F","Multa do FGTS e contribuição social sobre o Aviso Prévio Trabalhado",null,null,null,{"$f":"'Aux. Adm.'!F88","v":6.6E-3},{"$f":"(G39)*F88","v":21.25}]
["TOTAL",{"$nulls":4},{"$f":"SUM(F83:F88)","v":7.4800000000000005E-2},{"$f":"SUM(G83:G88)","v":240.8}]
[]
["MÓDULO 4 - CUSTO DE REPOSIÇÃO DO PROFISSIONAL AUSENTE"]
[]
["Submódulo 4.1 - Ausências Legais"]
["4.1","Ausências legais",null,null,null,"%","Valor (R$)"]
["A","Férias ",null,null,null,{"$f":"'Aux. Adm.'!F95","v":9.0800000000000006E-2},{"$f":"G39*F95","v":292.3}]
["B","Ausências legais",null,null,null,{"$f":"'Aux. Adm.'!F96","v":5.7999999999999996E-3},{"$f":"G39*F96","v":18.670000000000002}]
["C","Licença paternidade",null,null,null,{"$f":"'Aux. Adm.'!F97","v":2.0000000000000001E-4},{"$f":"G39*F97","v":0.64}]
["D","Ausência por Acidente de trabalho",null,null,null,{"$f":"'Aux. Adm.'!F98","v":1E-4},{"$f":"G39*F98","v":0.32}]
["E","Afastamento Maternidade",null,null,null,{"$f":"'Aux. Adm.'!F99","v":5.9999999999999995E-4},{"$f":"G39*F99","v":1.93}]
["F","Outros (auxílio doença)",null,null,null,{"$f":"'Aux. Adm.'!F100","v":2.6800000000000001E-2},{"$f":"G39*F100","v":86.27}]
["TOTAL",{"$nulls":4},{"$f":"SUM(F95:F100)","v":0.12429999999999999},{"$f":"SUM(G95:G100)","v":400.13}]
[]
[]
["QUADRO RESUMO DO MÓDULO 4 - Custo de Reposição do Profissional Ausente"]
[]
[4,"Custo de Reposição do Profissional Ausente",{"$nulls":4},"Valor (R$)"]
["4.1","Ausências legais",{"$nulls":4},{"$f":"G101","v":400.13}]
["TOTAL",{"$nulls":5},{"$f":"G107","v":400.13}]
[]
["MÓDULO 5 - INSUMOS DIVERSOS"]
[]
[5,"Insumos Diversos",{"$nulls":4},"Valor (R$)"]
["A","Uniformes"]
[null,"Total ",{"$nulls":4},{"$f":"SUM(G113)","v":0}]
[]
["MÓDULO 6 - CUSTOS INDIRETOS, TRIBUTOS E LUCRO"]
[]
[6,"Custos Indiretos, Tributos e Lucro",null,null,null,"%","Valor (R$)"]
["A","Custos Indiretos",null,null,null,{"$f":"'Aux. Adm.'!F119","v":0.03},{"$f":"G135*F119","v":205.49}]
["B","Lucro",null,null,null,{"$f":"'Aux. Adm.'!F120","v":6.7900000000000002E-2},{"$f":"(G135+G119)*F120","v":479.05}]
["C","Tributos"]
["c.1","COFINS",null,null,null,{"$f":"'Aux. Adm.'!F122","v":7.5999999999999998E-2},{"$f":"E142","v":667.77}]
["c.2","PIS",null,null,null,{"$f":"'Aux. Adm.'!F123","v":1.6500000000000001E-2},{"$f":"E143","v":144.97999999999999}]
["c.3","ISSQN",null,null,null,{"$f":"'Aux. Adm.'!F124","v":0.05},{"$f":"E144","v":439.32}]
[null,"Total",null,null,null,{"$f":"SUM(F119:F124)","v":0.2404},{"$f":"SUM(G119:G124)","v":1936.61}]
[]
["2.  QUADRO -  RESUMO DO CUSTO POR EMPREGADO"]
[]
[null,"Mão de obra vinculada à execução contratual (valor por empregado)",{"$nulls":4},"Valor (R$)"]
["A","Módulo 1 - Composição da Remuneração",{"$nulls":4},{"$f":"G39","v":3219.12}]
["B","Módulo 2 - Encargos e Benefícios Anuais, Mensais e Diários",{"$nulls":4},{"$f":"G78","v":2989.73}]
["C","Módulo 3 - Provisão para recisão",{"$nulls":4},{"$f":"G89","v":240.8}]
["D","Módulo 4 - Custo de Reposição do Profissional Ausente",{"$nulls":4},{"$f":"G108","v":400.13}]
["E","Módulo 5 - Insumos diversos",{"$nulls":4},{"$f":"G114","v":0}]
["Subtotal ( A + B +C + D + E)",{"$nulls":5},{"$f":"SUM(G130:G134)","v":6849.78}]
["E","Módulo 6  - Custos indiretos, Tributos e lucro",{"$nulls":4},{"$f":"G125","v":1936.61}]
["Valor total por empregado",{"$nulls":5},{"$f":"G135+G136","v":8786.39}]
[]
["P0 = (MÓD 1+MÓD 2+MÓD 3+MÓD 4) + (CI) + (L)",null,null,null,{"$f":"G39+G78+G89+G108+G114+G119+G120","v":7534.32}]
["P1 = P0/(1 - (pis+confins+iss))",null,null,null,{"$f":"E139/(1-(F122+F123+F124))","v":8786.3799999999992}]
["T = P1 - P0",null,null,null,{"$f":"E140-E139","v":1252.06}]
["COFINS = ((cofins)/(pis+cofins+iss) x T",null,null,null,{"$f":"((F122)/(F122+F123+F124))*E141","v":667.77}]
["PIS = ((pis)/(pis+cofins+iss) x T",null,null,null,{"$f":"((F123)/(F122+F123+F124))*E141","v":144.97999999999999}]
["ISS = (iss/(pis+cofins+iss)) x T",null,null,null,{"$f":"((F124/(F122+F123+F124))*E141)","v":439.32}]

{"sheet":"Ass. Adm. III","index":7,"n_rows":144,"n_cols":9,"rows_kept":144,"cut":false,"hidden":false,"merged":[[142,0,142,2],[143,0,143,2],[136,0,136,5],[138,0,138,2],[139,0,139,2],[140,0,140,2],[141,0,141,2],[90,0,90,6],[103,0,103,6],[109,0,109,6],[115,0,115,6],[126,0,126,6],[40,0,40,6],[66,1,66,3],[71,0,71,6],[79,0,79,6],[68,1,68,5],[21,0,21,6],[23,0,23,6],[24,0,24,6],[26,0,26,6],[34,0,34,6],[18,0,18,1],[18,2,18,3],[18,4,18,6],[19,0,19,1],[19,2,19,3],[19,4,19,6],[13,1,13,4],[13,5,13,6],[14,1,14,4],[14,5,14,6],[16,0,16,6],[9,0,9,6],[11,1,11,4],[11,5,11,6],[12,1,12,4],[12,5,12,6],[4,0,4,6],[5,0,5,6],[7,1,7,3],[7,4,7,6],[8,1,8,3],[8,4,8,6]]}
[]
[]
[]
[]
[]
[" PLANILHA DE CUSTOS E FORMAÇÃO DE PREÇOS "]
[]
[null,{"$f":"'Aux. Adm.'!B8","v":"Nº Processo"},null,null,{"$f":"'Aux. Adm.'!E8","v":"59512.000251/2023-61"}]
[null,{"$f":"'Aux. Adm.'!B9","v":"Licitação nº"}]
["DISCRIMINAÇÃO DOS SERVIÇOS (dados referentes à contratação)"]
[]
["A","Ano do Acordo, Convenção ou  Dissídio Coletivo",null,null,null,{"$f":"'Aux. Adm.'!F12","v":"2023 - PB000071/2023"}]
["B","Município/UF",null,null,null,{"$f":"'Aux. Adm.'!F13","v":"João Pessoa/PB"}]
["C","Data de Registro no MTE",null,null,null,{"$f":"'Aux. Adm.'!F14","v":"15/03/2023"}]
["D","Nº de meses de execução contratual",null,null,null,{"$f":"'Aux. Adm.'!F15","v":"12 (doze) meses"}]
[]
["IDENTIFICAÇÃO DO SERVIÇO"]
[]
["Tipo de Serviço",null,"Unidade de Medida",null,"Quantidade total a contratar (em função da unidade de medida)"]
["Assistente Administrativo nível III - Escolaridade superior",null,"Posto de serviço",null,1]
[]
["1. MÓDULOS"]
[]
["MÃO DE OBRA"]
["Mão de obra vinculada à execução contratual"]
[]
["Dados para composição dos custos referente à mão de obra"]
[1,"Tipo de serviço ",{"$nulls":4},"Assistente Administrativo nível III"]
[2,"Classificação Brasileira de Ocupações (CBO)",{"$nulls":4},"4110-10 ","CCT 2022"]
[3,"Salário Normativo da Categoria Profissional",{"$nulls":4},{"$f":"5084.73+(1+H30)","v":5085.79},0.06,"Reajuste"]
[4,"Categoria profissional  (vinculada à execução contratual)",{"$nulls":4},"Assistente Administrativo nível III"]
[5,"Data-Base da categoria (dia/mês/ano)",{"$nulls":4},{"$f":"Recepcionista!G32","v":"1º/01/2023"}]
[]
[]
["MÓDULO  1: COMPOSIÇÃO DA REMUNERAÇÃO"]
[]
[1,"Composição da Remuneração",{"$nulls":4},"Valor (R$)"]
["A","Salário Base",{"$nulls":4},{"$f":"G30","v":5085.79}]
[null,"Total ",{"$nulls":4},{"$f":"G38","v":5085.79}]
[]
["MÓDULO 2: ENCARGOS E BENEFÍCIOS ANUAIS, MENSAIS E DIÁRIOS"]
[]
["Submódulo 2.1 - 13º (décimo terceiro) Salário, Férias e Adicional de Férias"]
[]
["2.1"," 13º (décimo terceiro) Salário, Férias e Adicional de Férias",null,null,null,"%","Valor (R$)"]
["A","13º (décimo terceiro) Salário",null,null,null,{"$f":"'Ass. Op. Adm. II'!F46","v":8.3299999999999999E-2},{"$f":"G39*F46","v":423.65}]
["B","Férias e Adicional de Férias",null,null,null,{"$f":"'Ass. Op. Adm. II'!F47","v":0.121},{"$f":"G39*F47","v":615.38}]
[null,"Incidência do módulo 2.2 sobre o módulo 2.1",null,null,null,7.5200000000000003E-2,{"$f":"G39*F48","v":382.45}]
["TOTAL",{"$nulls":4},{"$f":"SUM(F46:F48)","v":0.27950000000000003},{"$f":"SUM(G46:G48)","v":1421.48}]
[]
["Submódulo 2.2 - Encargos previdenciários (GPS), Fundo de Garantia por tempo de Serviço (FGTS) e outras contribuições:"]
[]
["2.2","GPS, FGTS e outras contribuiçoes",null,null,null,"%","Valor (R$)"]
["A","INSS",null,null,null,{"$f":"'Ass. Op. Adm. II'!F54","v":0.2},{"$f":"($G$39+$G$49)*F54","v":1301.45}]
["B","SESI ou SESC",null,null,null,{"$f":"'Ass. Op. Adm. II'!F55","v":1.4999999999999999E-2},{"$f":"($G$39+$G$49)*F55","v":97.61}]
["C","SENAI ou SENAC",null,null,null,{"$f":"'Ass. Op. Adm. II'!F56","v":0.01},65.069999999999993]
["D","INCRA",null,null,null,{"$f":"'Ass. Op. Adm. II'!F57","v":2E-3},13.01]
["E","Salário educação",null,null,null,{"$f":"'Ass. Op. Adm. II'!F58","v":2.5000000000000001E-2},162.68]
["F","FGTS",null,null,null,{"$f":"'Ass. Op. Adm. II'!F59","v":0.08},520.58000000000004]
["G","SAT",null,null,null,{"$f":"'Ass. Op. Adm. II'!F60","v":0.03},195.22]
["H","SEBRAE",null,null,null,{"$f":"'Ass. Op. Adm. II'!F61","v":6.0000000000000001E-3},39.04]
["TOTAL",{"$nulls":4},{"$f":"SUM(F54:F61)","v":0.36799999999999999},{"$f":"SUM(G54:G61)","v":2394.66}]
[]
["Submódulo 2.3 - Benefícios Mensais e Diários"]
[]
["2.3","Benefícios Mensais e Diários",{"$nulls":4},"Valor (R$)"]
["A","Transporte ",{"$nulls":4},{"$f":"IF((4.7*2*21)-(6%*G38)>0,(4.7*2*21)-(6%*G38),0)","v":0}]
["B","Auxílio alimentação (Cláusula 12ª CCT 2023)",{"$nulls":4},500]
["C","Auxílio Saúde - Cláusula 14ª; Auxílio Morte/Funeral - Cláusula 16ª; Seguro de Vida - Cláusula 18ª; Assistência e Cuidado Pessoal - Cláusula 20ª",{"$nulls":4},{"$f":"20+5+5+40","v":70}]
[null,"Total de Benefícios mensais e diários",{"$nulls":4},{"$f":"SUM(G67:G69)","v":570}]
[]
["QUADRO RESUMO DO MÓDULO 2 - Encargos e Benefícios anuais, mensais e diários"]
[]
[2,"Encargos e Benefícios anuais, mensais e diários",{"$nulls":4},"Valor (R$)"]
["2.1","13º (décimo terceiro) Salário, Férias e Adicional de Férias",{"$nulls":4},{"$f":"G49","v":1421.48}]
["2.2","GPS, FGTS e outras contribuiçoes",{"$nulls":4},{"$f":"G62","v":2394.66}]
["2.3","Benefícios Mensais e Diários",{"$nulls":4},{"$f":"G70","v":570}]
["TOTAL",{"$nulls":5},{"$f":"SUM(G75:G77)","v":4386.1400000000003}]
[]
["MÓDULO 3 - PROVISÃO PARA RESCISÃO"]
[]
[3,"Provisão para Rescisão",null,null,null,"%","Valor (R$)"]
["A","Aviso prévio indenizado",null,null,null,{"$f":"'Ass. Op. Adm. II'!F83","v":2.4199999999999999E-2},{"$f":"(G39)*F83","v":123.08}]
["B","Incidência do FGTS sobre Aviso Prévio Indenizado",null,null,null,{"$f":"'Ass. Op. Adm. II'!F84","v":1.9E-3},{"$f":"(G39)*F84","v":9.66}]
["C","Multa do FGTS e contribuição social sobre o Aviso Prévio Indenizado",null,null,null,{"$f":"'Ass. Op. Adm. II'!F85","v":4.02E-2},{"$f":"(G39)*F85","v":204.45}]
["D","Aviso Prévio Trabalhado",null,null,null,{"$f":"'Ass. Op. Adm. II'!F86","v":1.4E-3},{"$f":"(G39)*F86","v":7.12}]
["E","Incidência dos encargos do submódulo 2.2 sobre Aviso Prévio Trabalhado",null,null,null,{"$f":"'Ass. Op. Adm. II'!F87","v":5.0000000000000001E-4},{"$f":"(G39)*F87","v":2.54}]
["F","Multa do FGTS e contribuição social sobre o Aviso Prévio Trabalhado",null,null,null,{"$f":"'Ass. Op. Adm. II'!F88","v":6.6E-3},{"$f":"(G39)*F88","v":33.57}]
["TOTAL",{"$nulls":4},{"$f":"SUM(F83:F88)","v":7.4800000000000005E-2},{"$f":"SUM(G83:G88)","v":380.42}]
[]
["MÓDULO 4 - CUSTO DE REPOSIÇÃO DO PROFISSIONAL AUSENTE"]
[]
["Submódulo 4.1 - Ausências Legais"]
["4.1","Ausências legais",null,null,null,"%","Valor (R$)"]
["A","Férias ",null,null,null,{"$f":"'Ass. Op. Adm. II'!F95","v":9.0800000000000006E-2},{"$f":"G39*F95","v":461.79}]
["B","Ausências legais",null,null,null,{"$f":"'Ass. Op. Adm. II'!F96","v":5.7999999999999996E-3},{"$f":"G39*F96","v":29.5}]
["C","Licença paternidade",null,null,null,{"$f":"'Ass. Op. Adm. II'!F97","v":2.0000000000000001E-4},{"$f":"G39*F97","v":1.02}]
["D","Ausência por Acidente de trabalho",null,null,null,{"$f":"'Ass. Op. Adm. II'!F98","v":1E-4},{"$f":"G39*F98","v":0.51}]
["E","Afastamento Maternidade",null,null,null,{"$f":"'Ass. Op. Adm. II'!F99","v":5.9999999999999995E-4},{"$f":"G39*F99","v":3.05}]
["F","Outros (auxílio doença)",null,null,null,{"$f":"'Ass. Op. Adm. II'!F100","v":2.6800000000000001E-2},{"$f":"G39*F100","v":136.30000000000001}]
["TOTAL",{"$nulls":4},{"$f":"SUM(F95:F100)","v":0.12429999999999999},{"$f":"SUM(G95:G100)","v":632.16999999999996}]
[]
[]
["QUADRO RESUMO DO MÓDULO 4 - Custo de Reposição do Profissional Ausente"]
[]
[4,"Custo de Reposição do Profissional Ausente",{"$nulls":4},"Valor (R$)"]
["4.1","Ausências legais",{"$nulls":4},{"$f":"G101","v":632.16999999999996}]
["TOTAL",{"$nulls":5},{"$f":"G107","v":632.16999999999996}]
[]
["MÓDULO 5 - INSUMOS DIVERSOS"]
[]
[5,"Insumos Diversos",{"$nulls":4},"Valor (R$)"]
["A","Uniformes"]
[null,"Total ",{"$nulls":4},{"$f":"SUM(G113)","v":0}]
[]
["MÓDULO 6 - CUSTOS INDIRETOS, TRIBUTOS E LUCRO"]
[]
[6,"Custos Indiretos, Tributos e Lucro",null,null,null,"%","Valor (R$)"]
["A","Custos Indiretos",null,null,null,{"$f":"'Ass. Op. Adm. II'!F119","v":0.03},{"$f":"G135*F119","v":314.54000000000002}]
["B","Lucro",null,null,null,{"$f":"'Ass. Op. Adm. II'!F120","v":6.7900000000000002E-2},{"$f":"(G135+G119)*F120","v":733.26}]
["C","Tributos"]
["c.1","COFINS",null,null,null,{"$f":"'Ass. Op. Adm. II'!F122","v":7.5999999999999998E-2},{"$f":"E142","v":1022.11}]
["c.2","PIS",null,null,null,{"$f":"'Ass. Op. Adm. II'!F123","v":1.6500000000000001E-2},{"$f":"E143","v":221.9}]
["c.3","ISSQN",null,null,null,{"$f":"'Ass. Op. Adm. II'!F124","v":0.05},{"$f":"E144","v":672.44}]
[null,"Total",null,null,null,{"$f":"SUM(F119:F124)","v":0.2404},{"$f":"SUM(G119:G124)","v":2964.25}]
[]
["2.  QUADRO -  RESUMO DO CUSTO POR EMPREGADO"]
[]
[null,"Mão de obra vinculada à execução contratual (valor por empregado)",{"$nulls":4},"Valor (R$)"]
["A","Módulo 1 - Composição da Remuneração",{"$nulls":4},{"$f":"G39","v":5085.79}]
["B","Módulo 2 - Encargos e Benefícios Anuais, Mensais e Diários",{"$nulls":4},{"$f":"G78","v":4386.1400000000003}]
["C","Módulo 3 - Provisão para recisão",{"$nulls":4},{"$f":"G89","v":380.42}]
["D","Módulo 4 - Custo de Reposição do Profissional Ausente",{"$nulls":4},{"$f":"G108","v":632.16999999999996}]
["E","Módulo 5 - Insumos diversos",{"$nulls":4},{"$f":"G114","v":0}]
["Subtotal ( A + B +C + D + E)",{"$nulls":5},{"$f":"SUM(G130:G134)","v":10484.52}]
["E","Módulo 6  - Custos indiretos, Tributos e lucro",{"$nulls":4},{"$f":"G125","v":2964.25}]
["Valor total por empregado",{"$nulls":5},{"$f":"G135+G136","v":13448.77}]
[]
["P0 = (MÓD 1+MÓD 2+MÓD 3+MÓD 4) + (CI) + (L)",null,null,null,{"$f":"G39+G78+G89+G108+G114+G119+G120","v":11532.32}]
["P1 = P0/(1 - (pis+confins+iss))",null,null,null,{"$f":"E139/(1-(F122+F123+F124))","v":13448.77}]
["T = P1 - P0",null,null,null,{"$f":"E140-E139","v":1916.45}]
["COFINS = ((cofins)/(pis+cofins+iss) x T",null,null,null,{"$f":"((F122)/(F122+F123+F124))*E141","v":1022.11}]
["PIS = ((pis)/(pis+cofins+iss) x T",null,null,null,{"$f":"((F123)/(F122+F123+F124))*E141","v":221.9}]
["ISS = (iss/(pis+cofins+iss)) x T",null,null,null,{"$f":"((F124/(F122+F123+F124))*E141)","v":672.44}]

{"sheet":"Ass. Com","index":8,"n_rows":143,"n_cols":9,"rows_kept":143,"cut":false,"hidden":true,"merged":[[141,0,141,2],[142,0,142,2],[135,0,135,5],[137,0,137,2],[138,0,138,2],[139,0,139,2],[140,0,140,2],[89,0,89,6],[102,0,102,6],[108,0,108,6],[114,0,114,6],[125,0,125,6],[40,0,40,6],[65,1,65,3],[67,1,67,4],[70,0,70,6],[78,0,78,6],[21,0,21,6],[23,0,23,6],[24,0,24,6],[26,0,26,6],[34,0,34,6],[18,0,18,1],[18,2,18,3],[18,4,18,6],[19,0,19,1],[19,2,19,3],[19,4,19,6],[13,1,13,4],[13,5,13,6],[14,1,14,4],[14,5,14,6],[16,0,16,6],[9,0,9,6],[11,1,11,4],[11,5,11,6],[12,1,12,4],[12,5,12,6],[4,0,4,6],[5,0,5,6],[7,1,7,3],[7,4,7,6],[8,1,8,3],[8,4,8,6]]}
[]
[]
[]
[]
[]
[" PLANILHA DE CUSTOS E FORMAÇÃO DE PREÇOS "]
[]
[null,{"$f":"'Aux. Adm.'!B8","v":"Nº Processo"},null,null,{"$f":"'Aux. Adm.'!E8","v":"59512.000251/2023-61"}]
[null,{"$f":"'Aux. Adm.'!B9","v":"Licitação nº"}]
["DISCRIMINAÇÃO DOS SERVIÇOS (dados referentes à contratação)"]
[]
["A","Ano do Acordo, Convenção ou  Dissídio Coletivo",null,null,null,{"$f":"'Aux. Adm.'!F12","v":"2023 - PB000071/2023"}]
["B","Município/UF",null,null,null,{"$f":"'Aux. Adm.'!F13","v":"João Pessoa/PB"}]
["C","Data de Registro no MTE",null,null,null,{"$f":"'Aux. Adm.'!F14","v":"15/03/2023"}]
["D","Nº de meses de execução contratual",null,null,null,{"$f":"'Aux. Adm.'!F15","v":"12 (doze) meses"}]
[]
["IDENTIFICAÇÃO DO SERVIÇO"]
[]
["Tipo de Serviço",null,"Unidade de Medida",null,"Quantidade total a contratar (em função da unidade de medida)"]
["Assistente de Comunicação",null,"Posto de serviço",null,1]
[]
["1. MÓDULOS"]
[]
["MÃO DE OBRA"]
["Mão de obra vinculada à execução contratual"]
[]
["Dados para composição dos custos referente à mão de obra"]
[1,"Tipo de serviço ",{"$nulls":4},"Assistente de Comunicação"]
[2,"Classificação Brasileira de Ocupações (CBO)",{"$nulls":4},2611,"CCT 2020"]
[3,"Salário Normativo da Categoria Profissional",{"$nulls":4},4050,3.9300000000000002E-2,"Reajuste"]
[4,"Categoria profissional  (vinculada à execução contratual)",{"$nulls":4},"Profissional Nivel II"]
[5,"Data-Base da categoria (dia/mês/ano)",{"$nulls":4},"01° de janeiro"]
[]
[]
["MÓDULO  1: COMPOSIÇÃO DA REMUNERAÇÃO"]
[]
[1,"Composição da Remuneração",{"$nulls":4},"Valor (R$)"]
["A","Salário Base",{"$nulls":4},{"$f":"G30","v":4050}]
[null,"Total ",{"$nulls":4},{"$f":"G38","v":4050}]
[]
["MÓDULO 2: ENCARGOS E BENEFÍCIOS ANUAIS, MENSAIS E DIÁRIOS"]
[]
["Submódulo 2.1 - 13º (décimo terceiro) Salário, Férias e Adicional de Férias"]
[]
["2.1"," 13º (décimo terceiro) Salário, Férias e Adicional de Férias",null,null,null,"%","Valor (R$)"]
["A","13º (décimo terceiro) Salário",null,null,null,{"$f":"'Ass. Op. Adm. II'!F46","v":8.3299999999999999E-2},{"$f":"G39*F46","v":337.37}]
["B","Férias e Adicional de Férias",null,null,null,{"$f":"'Ass. Op. Adm. II'!F47","v":0.121},{"$f":"G39*F47","v":490.05}]
["TOTAL",{"$nulls":4},{"$f":"SUM(F46:F47)","v":0.20430000000000001},{"$f":"SUM(G46:G47)","v":827.42}]
[]
["Submódulo 2.2 - Encargos previdenciários (GPS), Fundo de Garantia por tempo de Serviço (FGTS) e outras contribuições:"]
[]
["2.2","GPS, FGTS e outras contribuiçoes",null,null,null,"%","Valor (R$)"]
["A","INSS",null,null,null,{"$f":"'Ass. Op. Adm. II'!F54","v":0.2},{"$f":"($G$39+$G$48)*F53","v":975.48}]
["B","SESI ou SESC",null,null,null,{"$f":"'Ass. Op. Adm. II'!F55","v":1.4999999999999999E-2},{"$f":"($G$39+$G$48)*F54","v":73.16}]
["C","SENAI ou SENAC",null,null,null,{"$f":"'Ass. Op. Adm. II'!F56","v":0.01},48.77]
["D","INCRA",null,null,null,{"$f":"'Ass. Op. Adm. II'!F57","v":2E-3},9.75]
["E","Salário educação",null,null,null,{"$f":"'Ass. Op. Adm. II'!F58","v":2.5000000000000001E-2},121.94]
["F","FGTS",null,null,null,{"$f":"'Ass. Op. Adm. II'!F59","v":0.08},390.19]
["G","SAT",null,null,null,{"$f":"'Ass. Op. Adm. II'!F60","v":0.03},146.32]
["H","SEBRAE",null,null,null,{"$f":"'Ass. Op. Adm. II'!F61","v":6.0000000000000001E-3},29.26]
["TOTAL",{"$nulls":4},{"$f":"SUM(F53:F60)","v":0.36799999999999999},{"$f":"SUM(G53:G60)","v":1794.87}]
[]
["Submódulo 2.3 - Benefícios Mensais e Diários"]
[]
["2.3","Benefícios Mensais e Diários",{"$nulls":4},"Valor (R$)"]
["A","Transporte ",{"$nulls":4},{"$f":"IF((3.7*2*21)-(6%*G38)>0,(3.7*2*21)-(6%*G38),0)","v":0}]
["B","Auxílio alimentação (Cláusula 12ª CCT 2021)",{"$nulls":4},{"$f":"(7.65*21)","v":160.65}]
["C","Outros (COBERTURA SOCIAL) - Cláusula 13ª CCT 2021",{"$nulls":4},{"$f":"'Ass. Op. Adm. II'!G69","v":70}]
[null,"Total de Benefícios mensais e diários",{"$nulls":4},{"$f":"SUM(G66:G68)","v":230.65}]
[]
["QUADRO RESUMO DO MÓDULO 2 - Encargos e Benefícios anuais, mensais e diários"]
[]
[2,"Encargos e Benefícios anuais, mensais e diários",{"$nulls":4},"Valor (R$)"]
["2.1","13º (décimo terceiro) Salário, Férias e Adicional de Férias",{"$nulls":4},{"$f":"G48","v":827.42}]
["2.2","GPS, FGTS e outras contribuiçoes",{"$nulls":4},{"$f":"G61","v":1794.87}]
["2.3","Benefícios Mensais e Diários",{"$nulls":4},{"$f":"G69","v":230.65}]
["TOTAL",{"$nulls":5},{"$f":"SUM(G74:G76)","v":2852.94}]
[]
["MÓDULO 3 - PROVISÃO PARA RESCISÃO"]
[]
[3,"Provisão para Rescisão",null,null,null,"%","Valor (R$)"]
["A","Aviso prévio indenizado",null,null,null,{"$f":"'Ass. Op. Adm. II'!F83","v":2.4199999999999999E-2},{"$f":"(G39)*F82","v":98.01}]
["B","Incidência do FGTS sobre Aviso Prévio Indenizado",null,null,null,{"$f":"'Ass. Op. Adm. II'!F84","v":1.9E-3},{"$f":"(G39)*F83","v":7.7}]
["C","Multa do FGTS e contribuição social sobre o Aviso Prévio Indenizado",null,null,null,{"$f":"'Ass. Op. Adm. II'!F85","v":4.02E-2},{"$f":"(G39)*F84","v":162.81}]
["D","Aviso Prévio Trabalhado",null,null,null,{"$f":"'Ass. Op. Adm. II'!F86","v":1.4E-3},{"$f":"(G39)*F85","v":5.67}]
["E","Incidência dos encargos do submódulo 2.2 sobre Aviso Prévio Trabalhado",null,null,null,{"$f":"'Ass. Op. Adm. II'!F87","v":5.0000000000000001E-4},{"$f":"(G39)*F86","v":2.0299999999999998}]
["F","Multa do FGTS e contribuição social sobre o Aviso Prévio Trabalhado",null,null,null,{"$f":"'Ass. Op. Adm. II'!F88","v":6.6E-3},{"$f":"(G39)*F87","v":26.73}]
["TOTAL",{"$nulls":4},{"$f":"SUM(F82:F87)","v":7.4800000000000005E-2},{"$f":"SUM(G82:G87)","v":302.95}]
[]
["MÓDULO 4 - CUSTO DE REPOSIÇÃO DO PROFISSIONAL AUSENTE"]
[]
["Submódulo 4.1 - Ausências Legais"]
["4.1","Ausências legais",null,null,null,"%","Valor (R$)"]
["A","Férias ",null,null,null,{"$f":"'Ass. Op. Adm. II'!F95","v":9.0800000000000006E-2},{"$f":"G39*F94","v":367.74}]
["B","Ausências legais",null,null,null,{"$f":"'Ass. Op. Adm. II'!F96","v":5.7999999999999996E-3},{"$f":"G39*F95","v":23.49}]
["C","Licença paternidade",null,null,null,{"$f":"'Ass. Op. Adm. II'!F97","v":2.0000000000000001E-4},{"$f":"G39*F96","v":0.81}]
["D","Ausência por Acidente de trabalho",null,null,null,{"$f":"'Ass. Op. Adm. II'!F98","v":1E-4},{"$f":"G39*F97","v":0.41}]
["E","Afastamento Maternidade",null,null,null,{"$f":"'Ass. Op. Adm. II'!F99","v":5.9999999999999995E-4},{"$f":"G39*F98","v":2.4300000000000002}]
["F","Outros (auxílio doença)",null,null,null,{"$f":"'Ass. Op. Adm. II'!F100","v":2.6800000000000001E-2},{"$f":"G39*F99","v":108.54}]
["TOTAL",{"$nulls":4},{"$f":"SUM(F94:F99)","v":0.12429999999999999},{"$f":"SUM(G94:G99)","v":503.42}]
[]
[]
["QUADRO RESUMO DO MÓDULO 4 - Custo de Reposição do Profissional Ausente"]
[]
[4,"Custo de Reposição do Profissional Ausente",{"$nulls":4},"Valor (R$)"]
["4.1","Ausências legais",{"$nulls":4},{"$f":"G100","v":503.42}]
["TOTAL",{"$nulls":5},{"$f":"G106","v":503.42}]
[]
["MÓDULO 5 - INSUMOS DIVERSOS"]
[]
[5,"Insumos Diversos",{"$nulls":4},"Valor (R$)"]
["A","Uniformes",{"$nulls":4},0]
[null,"Total ",{"$nulls":4},{"$f":"SUM(G112)","v":0}]
[]
["MÓDULO 6 - CUSTOS INDIRETOS, TRIBUTOS E LUCRO"]
[]
[6,"Custos Indiretos, Tributos e Lucro",null,null,null,"%","Valor (R$)"]
["A","Custos Indiretos",null,null,null,{"$f":"'Ass. Op. Adm. II'!F119","v":0.03},{"$f":"G134*F118","v":231.28}]
["B","Lucro",null,null,null,{"$f":"'Ass. Op. Adm. II'!F120","v":6.7900000000000002E-2},{"$f":"(G134+G118)*F119","v":539.16999999999996}]
["C","Tributos"]
["c.1","COFINS",null,null,null,{"$f":"'Ass. Op. Adm. II'!F122","v":7.5999999999999998E-2},{"$f":"E141","v":751.56}]
["c.2","PIS",null,null,null,{"$f":"'Ass. Op. Adm. II'!F123","v":1.6500000000000001E-2},{"$f":"E142","v":163.16999999999999}]
["c.3","ISSQN",null,null,null,{"$f":"'Ass. Op. Adm. II'!F124","v":0.05},{"$f":"E143","v":494.45}]
[null,"Total",null,null,null,{"$f":"SUM(F118:F123)","v":0.2404},{"$f":"SUM(G118:G123)","v":2179.63}]
[]
["2.  QUADRO -  RESUMO DO CUSTO POR EMPREGADO"]
[]
[null,"Mão de obra vinculada à execução contratual (valor por empregado)",{"$nulls":4},"Valor (R$)"]
["A","Módulo 1 - Composição da Remuneração",{"$nulls":4},{"$f":"G39","v":4050}]
["B","Módulo 2 - Encargos e Benefícios Anuais, Mensais e Diários",{"$nulls":4},{"$f":"G77","v":2852.94}]
["C","Módulo 3 - Provisão para recisão",{"$nulls":4},{"$f":"G88","v":302.95}]
["D","Módulo 4 - Custo de Reposição do Profissional Ausente",{"$nulls":4},{"$f":"G107","v":503.42}]
["E","Módulo 5 - Insumos diversos",{"$nulls":4},{"$f":"G113","v":0}]
["Subtotal ( A + B +C + D + E)",{"$nulls":5},{"$f":"SUM(G129:G133)","v":7709.31}]
["E","Módulo 6  - Custos indiretos, Tributos e lucro",{"$nulls":4},{"$f":"G124","v":2179.63}]
["Valor total por empregado",{"$nulls":5},{"$f":"G134+G135","v":9888.94}]
[]
["P0 = (MÓD 1+MÓD 2+MÓD 3+MÓD 4) + (CI) + (L)",null,null,null,{"$f":"G39+G77+G88+G107+G113+G118+G119","v":8479.76}]
["P1 = P0/(1 - (pis+confins+iss))",null,null,null,{"$f":"E138/(1-(F121+F122+F123))","v":9888.93}]
["T = P1 - P0",null,null,null,{"$f":"E139-E138","v":1409.17}]
["COFINS = ((cofins)/(pis+cofins+iss) x T",null,null,null,{"$f":"((F121)/(F121+F122+F123))*E140","v":751.56}]
["PIS = ((pis)/(pis+cofins+iss) x T",null,null,null,{"$f":"((F122)/(F121+F122+F123))*E140","v":163.16999999999999}]
["ISS = (iss/(pis+cofins+iss)) x T",null,null,null,{"$f":"((F123/(F121+F122+F123))*E140)","v":494.45}]

{"sheet":"Assist. Condução","index":9,"n_rows":144,"n_cols":9,"rows_kept":144,"cut":false,"hidden":false,"merged":[[142,0,142,2],[143,0,143,2],[129,10,130,11],[136,0,136,5],[138,0,138,2],[139,0,139,2],[140,0,140,2],[141,0,141,2],[90,0,90,6],[103,0,103,6],[109,0,109,6],[115,0,115,6],[126,0,126,6],[40,0,40,6],[66,1,66,3],[71,0,71,6],[79,0,79,6],[68,1,68,5],[21,0,21,6],[23,0,23,6],[24,0,24,6],[26,0,26,6],[34,0,34,6],[18,0,18,1],[18,2,18,3],[18,4,18,6],[19,0,19,1],[19,2,19,3],[19,4,19,6],[13,1,13,4],[13,5,13,6],[14,1,14,4],[14,5,14,6],[16,0,16,6],[9,0,9,6],[11,1,11,4],[11,5,11,6],[12,1,12,4],[12,5,12,6],[4,0,4,6],[5,0,5,6],[7,1,7,3],[7,4,7,6],[8,1,8,3],[8,4,8,6]]}
[]
[]
[]
[]
[]
[" PLANILHA DE CUSTOS E FORMAÇÃO DE PREÇOS "]
[]
[null,{"$f":"'Aux. Adm.'!B8","v":"Nº Processo"},null,null,{"$f":"'Aux. Adm.'!E8","v":"59512.000251/2023-61"}]
[null,{"$f":"'Aux. Adm.'!B9","v":"Licitação nº"}]
["DISCRIMINAÇÃO DOS SERVIÇOS (dados referentes à contratação)"]
[]
["A","Ano do Acordo, Convenção ou  Dissídio Coletivo",null,null,null,{"$f":"'Aux. Adm.'!F12","v":"2023 - PB000071/2023"}]
["B","Município/UF",null,null,null,{"$f":"'Aux. Adm.'!F13","v":"João Pessoa/PB"}]
["C","Data de Registro no MTE",null,null,null,{"$f":"'Aux. Adm.'!F14","v":"15/03/2023"}]
["D","Nº de meses de execução contratual",null,null,null,{"$f":"'Aux. Adm.'!F15","v":"12 (doze) meses"}]
[]
["IDENTIFICAÇÃO DO SERVIÇO"]
[]
["Tipo de Serviço",null,"Unidade de Medida",null,"Quantidade total a contratar (em função da unidade de medida)"]
["Assistente de Condução",null,"Posto de serviço",null,1]
[]
["1. MÓDULOS"]
[]
["MÃO DE OBRA"]
["Mão de obra vinculada à execução contratual"]
[]
["Dados para composição dos custos referente à mão de obra"]
[1,"Tipo de serviço ",{"$nulls":4},"Assistente de Condução (A3)"]
[2,"Classificação Brasileira de Ocupações (CBO)",{"$nulls":4},"3421-25","CCT 2022"]
[3,"Salário Normativo da Categoria Profissional",{"$nulls":4},{"$f":"2325.64*(1+H30)","v":2465.1799999999998},0.06,"Reajuste"]
[4,"Categoria profissional  (vinculada à execução contratual)",{"$nulls":4},"Apoio Administrativo"]
[5,"Data-Base da categoria (dia/mês/ano)",{"$nulls":4},"01° de janeiro"]
[]
[]
["MÓDULO  1: COMPOSIÇÃO DA REMUNERAÇÃO"]
[]
[1,"Composição da Remuneração",{"$nulls":4},"Valor (R$)"]
["A","Salário Base",{"$nulls":4},{"$f":"G30","v":2465.1799999999998}]
[null,"Total ",{"$nulls":4},{"$f":"G38","v":2465.1799999999998}]
[]
["MÓDULO 2: ENCARGOS E BENEFÍCIOS ANUAIS, MENSAIS E DIÁRIOS"]
[]
["Submódulo 2.1 - 13º (décimo terceiro) Salário, Férias e Adicional de Férias"]
[]
["2.1"," 13º (décimo terceiro) Salário, Férias e Adicional de Férias",null,null,null,"%","Valor (R$)"]
["A","13º (décimo terceiro) Salário",null,null,null,{"$f":"'Ass. Op. Adm. II'!F46","v":8.3299999999999999E-2},{"$f":"G39*F46","v":205.35}]
["B","Férias e Adicional de Férias",null,null,null,{"$f":"'Ass. Op. Adm. II'!F47","v":0.121},{"$f":"G39*F47","v":298.29000000000002}]
[null,"Incidência do módulo 2.2 sobre o módulo 2.1",null,null,null,7.5200000000000003E-2,{"$f":"G39*F48","v":185.38}]
["TOTAL",{"$nulls":4},{"$f":"SUM(F46:F48)","v":0.27950000000000003},{"$f":"SUM(G46:G48)","v":689.02}]
[]
["Submódulo 2.2 - Encargos previdenciários (GPS), Fundo de Garantia por tempo de Serviço (FGTS) e outras contribuições:"]
[]
["2.2","GPS, FGTS e outras contribuiçoes",null,null,null,"%","Valor (R$)"]
["A","INSS",null,null,null,{"$f":"'Ass. Op. Adm. II'!F54","v":0.2},{"$f":"($G$39+$G$49)*F54","v":630.84}]
["B","SESI ou SESC",null,null,null,{"$f":"'Ass. Op. Adm. II'!F55","v":1.4999999999999999E-2},{"$f":"($G$39+$G$49)*F55","v":47.31}]
["C","SENAI ou SENAC",null,null,null,{"$f":"'Ass. Op. Adm. II'!F56","v":0.01},31.54]
["D","INCRA",null,null,null,{"$f":"'Ass. Op. Adm. II'!F57","v":2E-3},6.31]
["E","Salário educação",null,null,null,{"$f":"'Ass. Op. Adm. II'!F58","v":2.5000000000000001E-2},78.86]
["F","FGTS",null,null,null,{"$f":"'Ass. Op. Adm. II'!F59","v":0.08},252.34]
["G","SAT",null,null,null,{"$f":"'Ass. Op. Adm. II'!F60","v":0.03},94.63]
["H","SEBRAE",null,null,null,{"$f":"'Ass. Op. Adm. II'!F61","v":6.0000000000000001E-3},18.93]
["TOTAL",{"$nulls":4},{"$f":"SUM(F54:F61)","v":0.36799999999999999},{"$f":"SUM(G54:G61)","v":1160.76}]
[]
["Submódulo 2.3 - Benefícios Mensais e Diários"]
[]
["2.3","Benefícios Mensais e Diários",{"$nulls":4},"Valor (R$)"]
["A","Transporte ",{"$nulls":4},{"$f":"IF((4.7*2*21)-(6%*G38)>0,(4.7*2*21)-(6%*G38),0)","v":49.49}]
["B","Auxílio alimentação (Cláusula 12ª CCT 2023)",{"$nulls":4},500]
["C","Auxílio Saúde - Cláusula 14ª; Auxílio Morte/Funeral - Cláusula 16ª; Seguro de Vida - Cláusula 18ª; Assistência e Cuidado Pessoal - Cláusula 20ª",{"$nulls":4},{"$f":"20+5+5+40","v":70}]
[null,"Total de Benefícios mensais e diários",{"$nulls":4},{"$f":"SUM(G67:G69)","v":619.49}]
[]
["QUADRO RESUMO DO MÓDULO 2 - Encargos e Benefícios anuais, mensais e diários"]
[]
[2,"Encargos e Benefícios anuais, mensais e diários",{"$nulls":4},"Valor (R$)"]
["2.1","13º (décimo terceiro) Salário, Férias e Adicional de Férias",{"$nulls":4},{"$f":"G49","v":689.02}]
["2.2","GPS, FGTS e outras contribuiçoes",{"$nulls":4},{"$f":"G62","v":1160.76}]
["2.3","Benefícios Mensais e Diários",{"$nulls":4},{"$f":"G70","v":619.49}]
["TOTAL",{"$nulls":5},{"$f":"SUM(G75:G77)","v":2469.27}]
[]
["MÓDULO 3 - PROVISÃO PARA RESCISÃO"]
[]
[3,"Provisão para Rescisão",null,null,null,"%","Valor (R$)"]
["A","Aviso prévio indenizado",null,null,null,{"$f":"'Ass. Op. Adm. II'!F83","v":2.4199999999999999E-2},{"$f":"(G39)*F83","v":59.66}]
["B","Incidência do FGTS sobre Aviso Prévio Indenizado",null,null,null,{"$f":"'Ass. Op. Adm. II'!F84","v":1.9E-3},{"$f":"(G39)*F84","v":4.68}]
["C","Multa do FGTS e contribuição social sobre o Aviso Prévio Indenizado",null,null,null,{"$f":"'Ass. Op. Adm. II'!F85","v":4.02E-2},{"$f":"(G39)*F85","v":99.1}]
["D","Aviso Prévio Trabalhado",null,null,null,{"$f":"'Ass. Op. Adm. II'!F86","v":1.4E-3},{"$f":"(G39)*F86","v":3.45}]
["E","Incidência dos encargos do submódulo 2.2 sobre Aviso Prévio Trabalhado",null,null,null,{"$f":"'Ass. Op. Adm. II'!F87","v":5.0000000000000001E-4},{"$f":"(G39)*F87","v":1.23}]
["F","Multa do FGTS e contribuição social sobre o Aviso Prévio Trabalhado",null,null,null,{"$f":"'Ass. Op. Adm. II'!F88","v":6.6E-3},{"$f":"(G39)*F88","v":16.27}]
["TOTAL",{"$nulls":4},{"$f":"SUM(F83:F88)","v":7.4800000000000005E-2},{"$f":"SUM(G83:G88)","v":184.39}]
[]
["MÓDULO 4 - CUSTO DE REPOSIÇÃO DO PROFISSIONAL AUSENTE"]
[]
["Submódulo 4.1 - Ausências Legais"]
["4.1","Ausências legais",null,null,null,"%","Valor (R$)"]
["A","Férias ",null,null,null,{"$f":"'Ass. Op. Adm. II'!F95","v":9.0800000000000006E-2},{"$f":"G39*F95","v":223.84}]
["B","Ausências legais",null,null,null,{"$f":"'Ass. Op. Adm. II'!F96","v":5.7999999999999996E-3},{"$f":"G39*F96","v":14.3}]
["C","Licença paternidade",null,null,null,{"$f":"'Ass. Op. Adm. II'!F97","v":2.0000000000000001E-4},{"$f":"G39*F97","v":0.49}]
["D","Ausência por Acidente de trabalho",null,null,null,{"$f":"'Ass. Op. Adm. II'!F98","v":1E-4},{"$f":"G39*F98","v":0.25}]
["E","Afastamento Maternidade",null,null,null,{"$f":"'Ass. Op. Adm. II'!F99","v":5.9999999999999995E-4},{"$f":"G39*F99","v":1.48}]
["F","Outros (auxílio doença)",null,null,null,{"$f":"'Ass. Op. Adm. II'!F100","v":2.6800000000000001E-2},{"$f":"G39*F100","v":66.069999999999993}]
["TOTAL",{"$nulls":4},{"$f":"SUM(F95:F100)","v":0.12429999999999999},{"$f":"SUM(G95:G100)","v":306.43}]
[]
[]
["QUADRO RESUMO DO MÓDULO 4 - Custo de Reposição do Profissional Ausente"]
[]
[4,"Custo de Reposição do Profissional Ausente",{"$nulls":4},"Valor (R$)"]
["4.1","Ausências legais",{"$nulls":4},{"$f":"G101","v":306.43}]
["TOTAL",{"$nulls":5},{"$f":"G107","v":306.43}]
[]
["MÓDULO 5 - INSUMOS DIVERSOS"]
[]
[5,"Insumos Diversos",{"$nulls":4},"Valor (R$)"]
["A","Uniformes",{"$nulls":4},{"$f":"Uniformes!F14","v":103.39}]
[null,"Total ",{"$nulls":4},{"$f":"SUM(G113)","v":103.39}]
[]
["MÓDULO 6 - CUSTOS INDIRETOS, TRIBUTOS E LUCRO"]
[]
[6,"Custos Indiretos, Tributos e Lucro",null,null,null,"%","Valor (R$)"]
["A","Custos Indiretos",null,null,null,{"$f":"'Ass. Op. Adm. II'!F119","v":0.03},{"$f":"G135*F119","v":165.86}]
["B","Lucro",null,null,null,{"$f":"'Ass. Op. Adm. II'!F120","v":6.7900000000000002E-2},{"$f":"(G135+G119)*F120","v":386.66}]
["C","Tributos"]
["c.1","COFINS",null,null,null,{"$f":"'Ass. Op. Adm. II'!F122","v":7.5999999999999998E-2},{"$f":"E142","v":538.98}]
["c.2","PIS",null,null,null,{"$f":"'Ass. Op. Adm. II'!F123","v":1.6500000000000001E-2},{"$f":"E143","v":117.01}]
["c.3","ISSQN",null,null,null,{"$f":"'Ass. Op. Adm. II'!F124","v":0.05},{"$f":"E144","v":354.59}]
[null,"Total",null,null,null,{"$f":"SUM(F119:F124)","v":0.2404},{"$f":"SUM(G119:G124)","v":1563.1}]
[]
["2.  QUADRO -  RESUMO DO CUSTO POR EMPREGADO"]
[]
[null,"Mão de obra vinculada à execução contratual (valor por empregado)",{"$nulls":4},"Valor (R$)"]
["A","Módulo 1 - Composição da Remuneração",{"$nulls":4},{"$f":"G39","v":2465.1799999999998}]
["B","Módulo 2 - Encargos e Benefícios Anuais, Mensais e Diários",{"$nulls":4},{"$f":"G78","v":2469.27}]
["C","Módulo 3 - Provisão para recisão",{"$nulls":4},{"$f":"G89","v":184.39}]
["D","Módulo 4 - Custo de Reposição do Profissional Ausente",{"$nulls":4},{"$f":"G108","v":306.43}]
["E","Módulo 5 - Insumos diversos",{"$nulls":4},{"$f":"G114","v":103.39}]
["Subtotal ( A + B +C + D + E)",{"$nulls":5},{"$f":"SUM(G130:G134)","v":5528.66}]
["E","Módulo 6  - Custos indiretos, Tributos e lucro",{"$nulls":4},{"$f":"G125","v":1563.1}]
["Valor total por empregado",{"$nulls":5},{"$f":"G135+G136","v":7091.76}]
[]
["P0 = (MÓD 1+MÓD 2+MÓD 3+MÓD 4) + (CI) + (L)",null,null,null,{"$f":"G39+G78+G89+G108+G114+G119+G120","v":6081.18}]
["P1 = P0/(1 - (pis+confins+iss))",null,null,null,{"$f":"E139/(1-(F122+F123+F124))","v":7091.76}]
["T = P1 - P0",null,null,null,{"$f":"E140-E139","v":1010.58}]
["COFINS = ((cofins)/(pis+cofins+iss) x T",null,null,null,{"$f":"((F122)/(F122+F123+F124))*E141","v":538.98}]
["PIS = ((pis)/(pis+cofins+iss) x T",null,null,null,{"$f":"((F123)/(F122+F123+F124))*E141","v":117.01}]
["ISS = (iss/(pis+cofins+iss)) x T",null,null,null,{"$f":"((F124/(F122+F123+F124))*E141)","v":354.59}]

{"sheet":"Assist. Condução - Hora Extra","index":10,"n_rows":143,"n_cols":8,"rows_kept":143,"cut":false,"hidden":false,"merged":[[141,0,141,2],[142,0,142,2],[128,10,129,11],[135,0,135,5],[137,0,137,2],[138,0,138,2],[139,0,139,2],[140,0,140,2],[89,0,89,6],[102,0,102,6],[108,0,108,6],[114,0,114,6],[125,0,125,6],[40,0,40,6],[65,1,65,3],[67,1,67,4],[70,0,70,6],[78,0,78,6],[21,0,21,6],[23,0,23,6],[24,0,24,6],[26,0,26,6],[34,0,34,6],[18,0,18,1],[18,2,18,3],[18,4,18,6],[19,0,19,1],[19,2,19,3],[19,4,19,6],[13,1,13,4],[13,5,13,6],[14,1,14,4],[14,5,14,6],[16,0,16,6],[9,0,9,6],[11,1,11,4],[11,5,11,6],[12,1,12,4],[12,5,12,6],[4,0,4,6],[5,0,5,6],[7,1,7,3],[7,4,7,6],[8,1,8,3],[8,4,8,6]]}
[]
[]
[]
[]
[]
[" PLANILHA DE CUSTOS E FORMAÇÃO DE PREÇOS "]
[]
[null,{"$f":"'Aux. Adm.'!B8","v":"Nº Processo"},null,null,{"$f":"'Aux. Adm.'!E8","v":"59512.000251/2023-61"}]
[null,{"$f":"'Aux. Adm.'!B9","v":"Licitação nº"}]
["DISCRIMINAÇÃO DOS SERVIÇOS (dados referentes à contratação)"]
[]
["A","Ano do Acordo, Convenção ou  Dissídio Coletivo",null,null,null,{"$f":"'Aux. Adm.'!F12","v":"2023 - PB000071/2023"}]
["B","Município/UF",null,null,null,{"$f":"'Aux. Adm.'!F13","v":"João Pessoa/PB"}]
["C","Data de Registro no MTE",null,null,null,{"$f":"'Aux. Adm.'!F14","v":"15/03/2023"}]
["D","Nº de meses de execução contratual",null,null,null,{"$f":"'Aux. Adm.'!F15","v":"12 (doze) meses"}]
[]
["IDENTIFICAÇÃO DO SERVIÇO"]
[]
["Tipo de Serviço",null,"Unidade de Medida",null,"Quantidade total a contratar (em função da unidade de medida)"]
["Assistente de Condução - Horas Extras",null,"Hora",null,1]
[]
["1. MÓDULOS"]
[]
["MÃO DE OBRA"]
["Mão de obra vinculada à execução contratual"]
[]
["Dados para composição dos custos referente à mão de obra"]
[1,"Tipo de serviço ",{"$nulls":4},"Assistente de Condução (A3) - Horas Extras"]
[2,"Classificação Brasileira de Ocupações (CBO)",{"$nulls":4},"3421-25"]
[3,"Hora extra a 50%",{"$nulls":4},{"$f":"(H30/220)*1.5","v":16.809999999999999},{"$f":"'Assist. Condução'!G30","v":2465.1799999999998}]
[4,"Categoria profissional  (vinculada à execução contratual)",{"$nulls":4},"Apoio Administrativo"]
[5,"Data-Base da categoria (dia/mês/ano)",{"$nulls":4},"01° de janeiro"]
[]
[]
["MÓDULO  1: COMPOSIÇÃO DA REMUNERAÇÃO"]
[]
[1,"Composição da Remuneração",{"$nulls":4},"Valor (R$)"]
["A","Hora extra a 50% - Assistente de Condução",{"$nulls":4},{"$f":"G30","v":16.809999999999999}]
[null,"Total ",{"$nulls":4},{"$f":"G38","v":16.809999999999999}]
[]
["MÓDULO 2: ENCARGOS E BENEFÍCIOS ANUAIS, MENSAIS E DIÁRIOS"]
[]
["Submódulo 2.1 - 13º (décimo terceiro) Salário, Férias e Adicional de Férias"]
[]
["2.1"," 13º (décimo terceiro) Salário, Férias e Adicional de Férias",null,null,null,"%","Valor (R$)"]
["A","13º (décimo terceiro) Salário",null,null,null,{"$f":"'Ass. Op. Adm. II'!F46","v":8.3299999999999999E-2},{"$f":"G39*F46","v":1.4}]
["B","Férias e Adicional de Férias",null,null,null,{"$f":"'Ass. Op. Adm. II'!F47","v":0.121},{"$f":"G39*F47","v":2.0299999999999998}]
["TOTAL",{"$nulls":4},{"$f":"SUM(F46:F47)","v":0.20430000000000001},{"$f":"SUM(G46:G47)","v":3.43}]
[]
["Submódulo 2.2 - Encargos previdenciários (GPS), Fundo de Garantia por tempo de Serviço (FGTS) e outras contribuições:"]
[]
["2.2","GPS, FGTS e outras contribuiçoes",null,null,null,"%","Valor (R$)"]
["A","INSS",null,null,null,{"$f":"'Ass. Op. Adm. II'!F54","v":0.2},{"$f":"($G$39+$G$48)*F53","v":4.05}]
["B","SESI ou SESC",null,null,null,{"$f":"'Ass. Op. Adm. II'!F55","v":1.4999999999999999E-2},0.3]
["C","SENAI ou SENAC",null,null,null,{"$f":"'Ass. Op. Adm. II'!F56","v":0.01},0.2]
["D","INCRA",null,null,null,{"$f":"'Ass. Op. Adm. II'!F57","v":2E-3},0.04]
["E","Salário educação",null,null,null,{"$f":"'Ass. Op. Adm. II'!F58","v":2.5000000000000001E-2},0.51]
["F","FGTS",null,null,null,{"$f":"'Ass. Op. Adm. II'!F59","v":0.08},1.62]
["G","SAT",null,null,null,{"$f":"'Ass. Op. Adm. II'!F60","v":0.03},0.61]
["H","SEBRAE",null,null,null,{"$f":"'Ass. Op. Adm. II'!F61","v":6.0000000000000001E-3},0.12]
["TOTAL",{"$nulls":4},{"$f":"SUM(F53:F60)","v":0.36799999999999999},{"$f":"SUM(G53:G60)","v":7.45}]
[]
["Submódulo 2.3 - Benefícios Mensais e Diários"]
[]
["2.3","Benefícios Mensais e Diários",{"$nulls":4},"Valor (R$)"]
["A","Transporte ",{"$nulls":4},0]
["B","Auxílio alimentação (Clausula 12ª CCT 2023)",{"$nulls":4},0]
["C","Outros(COBERTURA SOCIAL) - Clausula 13ªCCT 2023",{"$nulls":4},0]
[null,"Total de Benefícios mensais e diários",{"$nulls":4},{"$f":"SUM(G66:G68)","v":0}]
[]
["QUADRO RESUMO DO MÓDULO 2 - Encargos e Benefícios anuais, mensais e diários"]
[]
[2,"Encargos e Benefícios anuais, mensais e diários",{"$nulls":4},"Valor (R$)"]
["2.1","13º (décimo terceiro) Salário, Férias e Adicional de Férias",{"$nulls":4},{"$f":"G48","v":3.43}]
["2.2","GPS, FGTS e outras contribuiçoes",{"$nulls":4},{"$f":"G61","v":7.45}]
["2.3","Benefícios Mensais e Diários",{"$nulls":4},{"$f":"G69","v":0}]
["TOTAL",{"$nulls":5},{"$f":"SUM(G74:G76)","v":10.88}]
[]
["MÓDULO 3 - PROVISÃO PARA RESCISÃO"]
[]
[3,"Provisão para Rescisão",null,null,null,"%","Valor (R$)"]
["A","Aviso prévio indenizado",null,null,null,{"$f":"'Ass. Op. Adm. II'!F83","v":2.4199999999999999E-2},{"$f":"(G39)*F82","v":0.41}]
["B","Incidência do FGTS sobre Aviso Prévio Indenizado",null,null,null,{"$f":"'Ass. Op. Adm. II'!F84","v":1.9E-3},{"$f":"(G39)*F83","v":0.03}]
["C","Multa do FGTS e contribuição social sobre o Aviso Prévio Indenizado",null,null,null,{"$f":"'Ass. Op. Adm. II'!F85","v":4.02E-2},{"$f":"(G39)*F84","v":0.68}]
["D","Aviso Prévio Trabalhado",null,null,null,{"$f":"'Ass. Op. Adm. II'!F86","v":1.4E-3},{"$f":"(G39)*F85","v":0.02}]
["E","Incidência dos encargos do submódulo 2.2 sobre Aviso Prévio Trabalhado",null,null,null,{"$f":"'Ass. Op. Adm. II'!F87","v":5.0000000000000001E-4},{"$f":"(G39)*F86","v":0.01}]
["F","Multa do FGTS e contribuição social sobre o Aviso Prévio Trabalhado",null,null,null,{"$f":"'Ass. Op. Adm. II'!F88","v":6.6E-3},{"$f":"(G39)*F87","v":0.11}]
["TOTAL",{"$nulls":4},{"$f":"SUM(F82:F87)","v":7.4800000000000005E-2},{"$f":"SUM(G82:G87)","v":1.26}]
[]
["MÓDULO 4 - CUSTO DE REPOSIÇÃO DO PROFISSIONAL AUSENTE"]
[]
["Submódulo 4.1 - Ausências Legais"]
["4.1","Ausências legais",null,null,null,"%","Valor (R$)"]
["A","Férias ",null,null,null,0,{"$f":"G39*F94","v":0}]
["B","Ausências legais",null,null,null,0,{"$f":"G39*F95","v":0}]
["C","Licença paternidade",null,null,null,0,{"$f":"G39*F96","v":0}]
["D","Ausência por Acidente de trabalho",null,null,null,0,{"$f":"G39*F97","v":0}]
["E","Afastamento Maternidade",null,null,null,0,{"$f":"G39*F98","v":0}]
["F","Outros (auxílio doença)",null,null,null,{"$f":"'Ass. Op. Adm. II'!F100","v":2.6800000000000001E-2},{"$f":"G39*F99","v":0.45}]
["TOTAL",{"$nulls":4},{"$f":"SUM(F94:F99)","v":2.6800000000000001E-2},{"$f":"SUM(G94:G99)","v":0.45}]
[]
[]
["QUADRO RESUMO DO MÓDULO 4 - Custo de Reposição do Profissional Ausente"]
[]
[4,"Custo de Reposição do Profissional Ausente",{"$nulls":4},"Valor (R$)"]
["4.1","Ausências legais",{"$nulls":4},{"$f":"G100","v":0.45}]
["TOTAL",{"$nulls":5},{"$f":"G106","v":0.45}]
[]
["MÓDULO 5 - INSUMOS DIVERSOS"]
[]
[5,"Insumos Diversos",{"$nulls":4},"Valor (R$)"]
["A","Uniformes",{"$nulls":4},0]
[null,"Total ",{"$nulls":4},{"$f":"SUM(G112)","v":0}]
[]
["MÓDULO 6 - CUSTOS INDIRETOS, TRIBUTOS E LUCRO"]
[]
[6,"Custos Indiretos, Tributos e Lucro",null,null,null,"%","Valor (R$)"]
["A","Custos Indiretos",null,null,null,{"$f":"'Ass. Op. Adm. II'!F119","v":0.03},{"$f":"G134*F118","v":0.88}]
["B","Lucro",null,null,null,{"$f":"'Ass. Op. Adm. II'!F120","v":6.7900000000000002E-2},{"$f":"(G134+G118)*F119","v":2.06}]
["C","Tributos"]
["c.1","COFINS",null,null,null,{"$f":"'Ass. Op. Adm. II'!F122","v":7.5999999999999998E-2},{"$f":"E141","v":2.86}]
["c.2","PIS",null,null,null,{"$f":"'Ass. Op. Adm. II'!F123","v":1.6500000000000001E-2},0.62]
["c.3","ISSQN",null,null,null,{"$f":"'Ass. Op. Adm. II'!F124","v":0.05},1.88]
[null,"Total",null,null,null,{"$f":"SUM(F118:F123)","v":0.2404},{"$f":"SUM(G118:G123)","v":8.3000000000000007}]
[]
["2.  QUADRO -  RESUMO DO CUSTO POR EMPREGADO"]
[]
[null,"Mão de obra vinculada à execução contratual (valor por empregado)",{"$nulls":4},"Valor (R$)"]
["A","Módulo 1 - Composição da Remuneração",{"$nulls":4},{"$f":"G39","v":16.809999999999999}]
["B","Módulo 2 - Encargos e Benefícios Anuais, Mensais e Diários",{"$nulls":4},{"$f":"G77","v":10.88}]
["C","Módulo 3 - Provisão para recisão",{"$nulls":4},{"$f":"G88","v":1.26}]
["D","Módulo 4 - Custo de Reposição do Profissional Ausente",{"$nulls":4},{"$f":"G107","v":0.45}]
["E","Módulo 5 - Insumos diversos",{"$nulls":4},{"$f":"G113","v":0}]
["Subtotal ( A + B +C + D + E)",{"$nulls":5},{"$f":"SUM(G129:G133)","v":29.4}]
["E","Módulo 6  - Custos indiretos, Tributos e lucro",{"$nulls":4},{"$f":"G124","v":8.3000000000000007}]
["Valor total por Hora Extra a 50%",{"$nulls":5},{"$f":"G134+G135","v":37.700000000000003}]
[]
["P0 = (MÓD 1+MÓD 2+MÓD 3+MÓD 4) + (CI) + (L)",null,null,null,{"$f":"G39+G77+G88+G107+G113+G118+G119","v":32.340000000000003}]
["P1 = P0/(1 - (pis+confins+iss))",null,null,null,{"$f":"E138/(1-(F121+F122+F123))","v":37.71}]
["T = P1 - P0",null,null,null,{"$f":"E139-E138","v":5.37}]
["COFINS = ((cofins)/(pis+cofins+iss) x T",null,null,null,{"$f":"((F121)/(F121+F122+F123))*E140","v":2.86}]
["PIS = ((pis)/(pis+cofins+iss) x T",null,null,null,{"$f":"((F122)/(F121+F122+F123))*E140","v":0.62}]
["ISS = (iss/(pis+cofins+iss)) x T",null,null,null,{"$f":"((F123/(F121+F122+F123))*E140)","v":1.88}]

{"sheet":"Despesas com Viagens - Diárias","index":11,"n_rows":17,"n_cols":5,"rows_kept":17,"cut":false,"hidden":false,"merged":[[6,0,6,4],[7,3,7,4],[11,1,11,3],[12,1,12,3],[13,1,13,3],[16,0,16,4],[15,0,15,4],[7,0,8,0],[7,1,8,1],[7,2,8,2]]}
[]
[]
[]
[]
[]
[]
["Despesas com Viagens"]
["ITEM","DISCRIMINAÇÃO","QUANT.","VALOR"]
[null,null,null,"UNITÁRIO","TOTAL"]
[1,"Diária (pernoite) - 13ª CCT 2023",{"$f":"10*12","v":120},160,{"$f":"C10*D10","v":19200}]
[2,"Diária (sem pernoite) - 13ª CCT 2023",{"$f":"5*12","v":60},80,{"$f":"C11*D11","v":4800}]
[2,"BDI + IMPOSTOS (18,44%)",null,null,{"$f":"(E10+E11)*'Assist. Condução'!F125","v":5769.6}]
[3,"TOTAL + BDI + IMPOSTOS (18,44%)",null,null,{"$f":"SUM(E10:E12)","v":29769.599999999999}]
[4,"TOTAL + BDI + IMPOSTOS (18,44%) P/ MÊS",null,null,{"$f":"E13/12","v":2480.8000000000002}]
[]
["Obs.: O cálculo do quantitativo de diárias foi baseado na estimativa de 10 diárias por mês, durante o período de 12 meses, totalizando 120 diárias."]
["Obs.: O cálculo do quantitativo de diárias (12hs) foi baseado na estimativa de 05 diárias por mês, durante o período de 12 meses, totalizando 60  diárias (12hs)."]

{"sheet":"Uniformes","index":12,"n_rows":17,"n_cols":6,"rows_kept":17,"cut":false,"hidden":false,"merged":[[6,0,6,5],[7,0,8,0],[7,1,8,1],[7,2,8,2],[7,4,7,5],[15,0,15,5],[16,0,16,5],[7,3,8,3],[12,0,12,4],[13,0,13,4]]}
[]
[]
[]
[]
[]
[]
["Despesas com Uniformes"]
["ITEM","DISCRIMINAÇÃO","QUANT.","Unidade","VALOR"]
[{"$nulls":4},"UNITÁRIO","TOTAL"]
[1,"Calça/Saia",4,"Unidade",{"$f":"(89+119.99+159.9+125.9)/4","v":123.7},{"$f":"C10*E10","v":494.8}]
[2,"Camisa Social",6,"Unidade",{"$f":"(89+83.99+89.9+109.9)/4","v":93.2},{"$f":"C11*E11","v":559.20000000000005}]
[3,"Par de Sapatos",2,"Par",{"$f":"(99.99+99.99+79.99)/3","v":93.32},186.64]
["VALOR TOTAL DO UNIFORME (ANUAL)",{"$nulls":4},{"$f":"SUM(F10:F12)","v":1240.6400000000001}]
["VALOR MENSAL DO UNIFORME POR COLABORADOR","TOTAL + BDI + IMPOSTOS (18,44%)",null,null,null,{"$f":"F13/12","v":103.39}]
[]
["Obs.: Pela cláusula 34ª da CCT é obrigatório a composição mínima de 02 camisas, 02 calças e 01 par de sapatos, porém o quantitativo exigido pela Codevasf é o discriminado na tabela acima"]
["Obs.: Os uniformes deverão conter a identificação da empresa (nome e/ou logotipo) em local visível, pelo menos nas peças que compõem a parte superior do vestuário (impressa ou bordada)."]