{"text_format":"2","workbook":"xlsx","n_sheets":5,"sheets":["PO","CPU","CRON.","BDI-SERV.","BD MAT."],"not_rendered":{"charts":0,"images":2,"macros":0,"external_links":1,"defined_names":8,"comments":0,"pivot_tables":0},"unopened":[],"bounds":{"document_bytes":16777216,"sheet_cells":100000,"run_cost":"one","rows_first":2000,"rows_last":500,"rows_between":2000,"halvings":0,"cell_chars":16384,"cell_head_chars":4096},"cells_cut":0,"cells_raw":0,"read":"whole","date_system":"1900"}

{"sheet":"PO","index":0,"n_rows":161,"n_cols":18,"rows_kept":161,"cut":false,"hidden":false,"merged":[[6,2,6,7],[160,0,160,7],[0,0,0,8],[1,0,1,8],[2,0,2,8],[3,7,3,8],[4,7,4,8],[3,0,3,3],[4,0,4,3],[3,4,3,5],[4,4,4,5]]}
["MINISTÉRIO DA INTEGRAÇÃO E DESENVOLVIMENTO REGIONAL - MDR",{"$nulls":8},"BDI SERVIÇO",1.2624]
["COMPANHIA DE DESENVOLVIMENTO DOS VALES DO SÃO FRANCISCO E DO PARNAÍBA",{"$nulls":8},"BDI mat.",1.1528]
["1ª SUPERINTENDÊNCIA REGIONAL",{"$nulls":8},"Pr. Equipe H.E",0.7]
["BELO HORIZONTE - MG",null,null,null,"BDI SERVIÇOS:",null,0.26240000000000002,"BASE SINAPI-MG 09-2023",null,"Pr. Equipe H.E",0.8]
["REFORMA DO ESCRITÓRIO DA CODEVASF - 16ª SR",null,null,null,"BDI MATEERIAIS:",null,0.15279999999999999,"DATA: OUTUBRO/2023",null,"ADMINISTRAÇÃO"]
["ITEM","BASE","CÓDIGO","DESCRIÇÃO","UNID.","QUANT.","UNIT. (S/ BDI)","UNIT. (C/ BDI)","VALOR TOTAL  (C/ BDI)",{"$f":"I11/I7","v":0.21723993217510046}]
[null,null,"REFORMA ESCRITÓRIO ",{"$nulls":5},{"$f":"SUM(I91,I94,I32,I17,I73,I8,I58,I13)","v":1299451.98},1299451.98,{"$f":"I7-J7","v":0},null,{"$f":"'[1]PO FINAL'!I7","v":1299173.6199999999},{"$f":"I7-M7","v":278.36000000010245}]
[1,null,null,"ITENS DE RATEIO",{"$nulls":4},{"$f":"SUM(I9:I12)","v":298088.89},null,null,null,{"$f":"'[1]PO FINAL'!I8","v":298069.08},{"$f":"I8-M8","v":19.809999999997672}]
["1.1","CPU","CPU001","MOBILIZAÇÃO","GB",1,{"$f":"(J9)","v":1013.9499999999999},{"$f":"(J9*(1+G$4))","v":1280.0104799999999},{"$f":"ROUND(F9*H9,2)","v":1280.01},{"$f":"CPU!H18","v":1013.9499999999999},null,null,{"$f":"'[1]PO FINAL'!I9","v":1280.01},0]
["1.2","CPU","CPU002","DESMOBILIZAÇÃO","GB",1,1013.9499999999999,{"$f":"(J10*(1+G$4))","v":1280.0104799999999},{"$f":"ROUND(F10*H10,2)","v":1280.01},{"$f":"CPU!H30","v":1013.9499999999999},null,null,{"$f":"'[1]PO FINAL'!I10","v":1280.01},0]
["1.3","CPU","CPU003","ADMINISTRAÇÃO LOCAL ","GB",1,223616.02000000002,282292.863648,282292.86,{"$f":"CPU!H49","v":223616.02000000002},null,null,{"$f":"'[1]PO FINAL'!I11","v":273794.77},{"$f":"I11-M11","v":8498.0899999999674}]
["1.4","CPU","CPU041","ADICIONAL HORAS EXTRAS PARA TRABALHO EM FINAIS DE SEMANA ","MÊS",10,1048.48,1323.601152,13236.01,{"$f":"CPU!H748","v":1048.48},null,null,{"$f":"'[1]PO FINAL'!I12","v":21714.29},-8478.2800000000007]
[2,null,null,"INST. PRELIMINARES E LIMPEZA",{"$nulls":4},{"$f":"SUM(I14:I16)","v":32866.33},null,null,null,{"$f":"'[1]PO FINAL'!I13","v":20105.789999999997},12760.540000000005]
["2.1","CPU","CPU040","LIMPEZA DIÁRIA DAS ÁREAS DE ACESSO, CONSIDERANDO AS ÁREAS INTERNAS COMUNS A OBRA E TRABALHO INTERNO E AS ÁREAS COMUNS DO PRÉDIO QUE SERÃO UTILIZADAS, CONSIDERANDO ADICIONAL NOTURNO E HORA EXTRA  ","UNID.",160,{"$f":"(J14)","v":98.752941176470586},124.66571294117647,{"$f":"ROUND(F14*H14,2)","v":19946.509999999998},{"$f":"CPU!H734","v":98.752941176470586},null,null,{"$f":"'[1]PO FINAL'!I14","v":10596.59},9349.9199999999983,{"$f":"10*4*5","v":200}]
["2.2","SETOP","ED-50266","LIMPEZA FINAL PARA ENTREGA DA OBRA, CONSIDERANDO ADICIONAL NOTURNO E HORA EXTRA ","M2",512,10.12857142857143,12.786308571428572,{"$f":"ROUND(F15*H15,2)","v":6546.59},{"$f":"K15/$K$3","v":10.12857142857143},7.09,{"$f":"J15/K15-1","v":0.42857142857142883},{"$f":"'[1]PO FINAL'!I15","v":6110.15},436.44000000000051]
["2.3","SETOP","ED-50159","TAPUME EM CHAPA COMPENSADO DE 12 MM E PONTALETES H = 2,20 M, CONSIDERANDO ADICIONAL NOTURNO E HORA EXTRA ","M",20,252.42499999999998,318.66131999999999,6373.23,{"$f":"K16/$K$4","v":252.42499999999998},201.94,{"$f":"J16/K16-1","v":0.25},{"$f":"'[1]PO FINAL'!I16","v":3399.05},2974.1799999999994,20]
[3,null,null,"DEMOLIÇÕES E REMOÇÕES",{"$nulls":4},{"$f":"SUM(I18:I31)","v":91647.430000000008},null,null,null,{"$f":"'[1]PO FINAL'!I17","v":111718.20999999999},-20070.779999999984]
["3.1","CPU","CPU047","DEMOLIÇÃO DE ALVENARIA DE BLOCO FURADO, DE FORMA MANUAL, SEM REAPROVEITAMENTO, CONSIDERANDO ADICIONAL NOTURNO E HORA EXTRA","M3",{"$f":"19.8*2+9+0.2","v":48.800000000000004},{"$f":"(J18)","v":91.966408235294139},116.09839375623532,{"$f":"ROUND(F18*H18,2)","v":5665.6},{"$f":"CPU!H849","v":91.966408235294139},null,null,{"$f":"'[1]PO FINAL'!I18","v":6421.02},-755.42000000000007]
["3.2","CPU","CPU048","DEMOLIÇÃO DE LAJES, DE FORMA MANUAL, SEM REAPROVEITAMENTO,  CONSIDERANDO ADICIONAL NOTURNO E HORA EXTRA","M3",3.15,681.68578764705887,860.56013832564713,2710.76,{"$f":"CPU!H862","v":681.68578764705887},null,null,{"$f":"'[1]PO FINAL'!I19","v":2730.84},-20.079999999999927]
["3.3","CPU","CPU049","DEMOLIÇÃO DE FORRO DE GESSO INCLUSIVE AFASTAMENTO E EMPILHAMENTO, CONSIDERANDO ADICIONAL NOTURNO E HORA EXTRA","M2",{"$f":"272*2","v":544},15.068250000000001,19.0221588,10348.049999999999,{"$f":"CPU!H875","v":15.068250000000001},null,null,{"$f":"'[1]PO FINAL'!I20","v":11727.79},-1379.7400000000016]
["3.4","SETOP","ED-48484 ","DEMOLIÇÃO DE PISO DE TACO DE MADEIRA, INCLUSIVE AFASTAMENTO, CONSIDERANDO ADICIONAL NOTURNO E HORA EXTRA","M2",100,30.485714285714288,38.485165714285714,3848.52,{"$f":"K21/$K$3","v":30.485714285714288},21.34,{"$f":"J21/K21-1","v":0.4285714285714286},{"$f":"'[1]PO FINAL'!I21","v":3591.95},256.57000000000016]
["3.5",{"$f":"'[1]PO FINAL'!B22","v":"CPU"},"CPU051","DEMOLIÇÃO DE PISO VINÍLICO, INCLUSIVE AFASTAMENTO, CONSIDERANDO ADICIONAL NOTURNO E HORA EXTRA","M2",100,15.885882352941179,20.054337882352943,2005.43,{"$f":"CPU!H901","v":15.885882352941179},null,null,{"$f":"'[1]PO FINAL'!I22","v":2272.8200000000002},-267.3900000000001]
["3.6","CPU","CPU052","DEMOLIÇÃO DE PISO CERÂMICO OU LADRILHO HIDRÁULICO, INCLUSIVE AFASTAMENTO, CONSIDERANDO HORA EXTRA","M2",40,{"$f":"(J23)","v":28.187823529411762},35.584308423529407,{"$f":"ROUND(F23*H23,2)","v":1423.37},{"$f":"CPU!H914","v":28.187823529411762},null,null,{"$f":"'[1]PO FINAL'!I23","v":1613.16},-189.79000000000019]
["3.7","CPU","CPU053","REMOÇÃO DE PORTA OU JANELA INCLUSIVE MARCO E ALIZAR, INCLUSIVE AFASTAMENTO E EMPILHAMENTO, CONSIDERANDO ADICIONAL NOTURNO E HORA EXTRA","M2",{"$f":"13.4*2","v":26.8},{"$f":"(J24)","v":23.828823529411764},30.081506823529409,{"$f":"ROUND(F24*H24,2)","v":806.18},{"$f":"CPU!H927","v":23.828823529411764},null,null,{"$f":"'[1]PO FINAL'!I24","v":913.68},-107.5]
["3.8","CPU","CPU054","DEMOLIÇÃO DE REVESTIMENTO CERÂMICO, DE FORMA MANUAL, SEM REAPROVEITAMENTO, CONSIDERANDO ADICIONAL NOTURNO E HORA EXTRA","M2",{"$f":"82.65*2","v":165.3},{"$f":"(J25)","v":37.456420588235297},47.284985350588236,{"$f":"ROUND(F25*H25,2)","v":7816.21},{"$f":"CPU!H940","v":37.456420588235297},null,null,{"$f":"'[1]PO FINAL'!I25","v":8858.3700000000008},-1042.1600000000008]
["3.9","CPU","CPU055","REMOÇÃO DE VIDRO LISO COMUM DE ESQUADRIA COM BAGUETE DE MADEIRA, CONSIDERANDO ADICIONAL NOTURNO E HORA EXTRA","M2",{"$f":"29.5*2","v":59},{"$f":"(J26)","v":33.024441176470596},41.69005454117648,{"$f":"ROUND(F26*H26,2)","v":2459.71},{"$f":"CPU!H953","v":33.024441176470596},null,null,{"$f":"'[1]PO FINAL'!I26","v":2787.67},-327.96000000000004]
["3.10","CPU","CPU039","REMOÇÃO DE APARELHOS SANITÁRIOS, DE FORMA MANUAL, SEM REAPROVEITAMENTO, CONSIDERANDO ADICIONAL NOTURNO E HORA EXTRA","UNID.",10,{"$f":"(J27)","v":131.18117647058824},165.60311717647059,{"$f":"ROUND(F27*H27,2)","v":1656.03},{"$f":"CPU!H722","v":131.18117647058824},null,null,{"$f":"'[1]PO FINAL'!I27","v":1173.02},483.01]
["3.11","CPU","ED-48437 ","REMOÇÃO DE BANCADA DE PEDRA (MÁRMORE, GRANITO, ARDÓSIA, MARMORITE, ETC.), CONSIDERANDO ADICIONAL NOTURNO E HORA EXTRA","M2",8,67.814285714285717,85.608754285714284,684.87,{"$f":"K28/$K$3","v":67.814285714285717},47.47,{"$f":"J28/K28-1","v":0.4285714285714286},{"$f":"'[1]PO FINAL'!I28","v":639.21},45.659999999999968]
["3.12","CPU","CPU004","ALUGUEL CAÇAMBA 5 m³ A SER ENTREGUE EM REGIÃO CENTRAL EM DIAS DE SEMANA NO PERIODO APÓS 19:00 E RETIRADA NO MESMO DIA OU ATÉ AS 06:00 DO DIA SEGUINTE OU ENTREGUE NO SABADO APÓS AS 14:00 E RETIRADA ATÉ AS 06:00 DA PROXIMA SEGUNDA FEIRA","UNID.",{"$f":"54-10","v":44},400,504.96,{"$f":"ROUND(F29*H29,2)","v":22218.240000000002},{"$f":"CPU!H61","v":400},null,null,{"$f":"'[1]PO FINAL'!I29","v":29994.62},-7776.3799999999974]
["3.13","CPU","CPU042","TRANSPORTE MANUAL (TERRA, AREIA, ENTULHO) PARA RETIRADA DA ÁREA INTERNA DA REFORMA, TRANSPORTE PELO ELEVADOR E DESCARGA MANUAL EM CAÇAMBA A ATÉ 30 M DO EDIFÍCIO - FINAL SEMANA","M3",{"$f":"167.8-25","v":142.80000000000001},139.48235294117649,176.0825223529412,{"$f":"ROUND(F30*H30,2)","v":25144.58},{"$f":"CPU!H760","v":139.48235294117649},null,null,{"$f":"'[1]PO FINAL'!I30","v":33486.199999999997},-8341.6199999999953]
["3.14","CPU","CPU043","TRANSPORTE MANUAL DE MATERIAIS NOVOS, RECEBENDO A DESCARGA A ATÉ 30 M DO EDIFÍCIO, TRANSPORTE PELO ELEVADOR E DESCARGA NA ÁREA INTERNA DA REFORMA  - FINAL DE SEMANA","M3",27.6,139.48235294117649,176.0825223529412,4859.88,{"$f":"CPU!H772","v":139.48235294117649},null,null,{"$f":"'[1]PO FINAL'!I31","v":5507.86},-647.97999999999956]
[4,null,null,"CONSTRUÇÃO CIVIL",{"$nulls":4},{"$f":"SUM(I33:I57)","v":471569.65000000008},null,null,null,{"$f":"'[1]PO FINAL'!I32","v":476691.83999999997},-5122.1899999998859]
["4.1","CPU","CPU044","REVESTIMENTO CERÂMICO PARA PAREDES TIPO ELIANE METRO WHITE 10x20cm OU PORTINARI BORDA BOLD DECORA MATTE WHITE 8x25 OU INCEPA RV GLACIAL SNOW 33x60 OU SIMILAR A CRITÉRIO DA FISCALIZAÇÃO, ASSENTADO COM ARGAMASSA INDUSTRIALIZADA COM ADITIVO IMPERMEABILIZANTE, CONSIDERANDO ADICIONAL NOTURNO E HORA EXTRA ","M2",369.8,{"$f":"(J33)","v":205.30711764705885},259.17970531764706,{"$f":"ROUND(F33*H33,2)","v":95844.66},{"$f":"CPU!H795","v":205.30711764705885},null,null,{"$f":"'[1]PO FINAL'!I33","v":94859.199999999997},985.4600000000064]
["4.2","SINAPI",88489,"APLICAÇÃO MANUAL DE PINTURA COM TINTA LÁTEX ACRÍLICA EM PAREDES, DUAS DEMÃOS. CONSIDERANDO ADICIONAL NOTURNO E HORA EXTRA ","M2",301,{"$f":"(J34)","v":14.55},18.367920000000002,{"$f":"ROUND(F34*H34,2)","v":5528.74},{"$f":"K34/$K$4","v":14.55},11.64,{"$f":"J34/K34-1","v":0.25},{"$f":"'[1]PO FINAL'!I34","v":5897.33},-368.59000000000015,null,0.4,0.4]
["4.3","SINAPI",103335,"ALVENARIA DE VEDAÇÃO DE BLOCOS CERÂMICOS FURADOS NA HORIZONTAL DE 14X9X19 CM (ESPESSURA 14 CM, BLOCO DEITADO) E ARGAMASSA DE ASSENTAMENTO COM PREPARO MANUAL. CONSIDERANDO ADICIONAL NOTURNO E HORA EXTRA ","M2",40.25,{"$f":"(J35)","v":179.48749999999998},226.58501999999999,{"$f":"ROUND(F35*H35,2)","v":9120.0499999999993},{"$f":"K35/$K$4","v":179.48749999999998},143.59,0.24999999999999978,{"$f":"'[1]PO FINAL'!I35","v":9728.0499999999993},-608,null,0.6,{"$f":"P35*1.38","v":0.82799999999999996}]
["4.4","SINAPI",96361,"PAREDE COM PLACAS DE GESSO ACARTONADO (DRYWALL), PARA USO INTERNO, COM DUAS FACES SIMPLES E ESTRUTURA METÁLICA COM GUIAS DUPLAS, CONSIDERANDO ADICIONAL NOTURNO E HORA EXTRA  ","M2",100,179.98750000000001,227.21622000000002,22721.62,{"$f":"K36/$K$4","v":179.98750000000001},143.99,0.25,{"$f":"'[1]PO FINAL'!I36","v":24236.400000000001},-1514.7800000000025,null,{"$f":"SUM(P34:P35)","v":1},{"$f":"SUM(Q34:Q35)","v":1.228}]
["4.5","SINAPI",96369,"PAREDE COM PLACAS DE GESSO ACARTONADO (DRYWALL), PARA USO INTERNO, COM DUAS FACES DUPLAS E ESTRUTURA METÁLICA COM GUIAS DUPLAS, CONSIDERANDO ADICIONAL NOTURNO E HORA EXTRA   ","M2",98,253.85,320.46024,31405.1,253.85,203.08,0.25,{"$f":"'[1]PO FINAL'!I37","v":33498.78},-2093.6800000000003]
["4.6","SINAPI",87878,"CHAPISCO APLICADO EM ALVENARIAS E ESTRUTURAS DE CONCRETO INTERNAS, COM COLHER DE PEDREIRO. ARGAMASSA TRAÇO 1:3 COM PREPARO MANUAL, CONSIDERANDO ADICIONAL NOTURNO E HORA EXTRA","M2",317,5.8624999999999998,7.4008199999999995,2346.06,5.8624999999999998,4.6900000000000004,0.24999999999999978,{"$f":"'[1]PO FINAL'!I38","v":2502.46},-156.40000000000009,null,"M.O",0.5,{"$f":"Q38*1.5","v":0.75}]
["4.7","SINAPI",87556,"MASSA ÚNICA, PARA RECEBIMENTO DE PINTURA, EM ARGAMASSA INDUSTRIALIZADA, PREPARO MECÂNICO, APLICADO COM EQUIPAMENTO DE MISTURA E PROJEÇÃO DE 1,5 M3/H DE ARGAMASSA EM FACES INTERNAS DE PAREDES, CONSIDERANDO ADICIONAL NOTURNO E HORA EXTRA ","M2",301,{"$f":"(J39)","v":50.962499999999999},64.335059999999999,19364.849999999999,50.962499999999999,40.770000000000003,0.24999999999999978,{"$f":"'[1]PO FINAL'!I39","v":20655.84},-1290.9900000000016,null,"MAT",{"$f":"1-Q38","v":0.5},{"$f":"Q39","v":0.5}]
["4.8","SINAPI",87559,"EMBOÇO, PARA RECEBIMENTO DE CERÂMICA, EM ARGAMASSA INDUSTRIALIZADA, PREPARO MECÂNICO, APLICADO COM EQUIPAMENTO DE MISTURA E PROJEÇÃO DE 1,5 M3/H DE ARGAMASSA EM FACES INTERNAS DE PAREDES, CONSIDERANDO ADICIONAL NOTURNO E HORA EXTRA ","M2",235,{"$f":"(J40)","v":45.35},57.249839999999999,13453.71,{"$f":"K40/$K$4","v":45.35},36.28,0.25,{"$f":"'[1]PO FINAL'!I40","v":14350.63},-896.92000000000007,null,null,{"$f":"SUM(Q38:Q39)","v":1},{"$f":"SUM(R38:R39)","v":1.25}]
["4.9","SINAPI",87416,"APLICAÇÃO MANUAL DE GESSO DESEMPENADO (SEM TALISCAS) EM TETO DE AMBIENTES DE ÁREA MENOR QUE 5M², ESPESSURA DE 1,0CM. CONSIDERANDO ADICIONAL NOTURNO E HORA EXTRA","M2",544.04999999999995,{"$f":"(J41)","v":49.324999999999996},62.267879999999991,33876.839999999997,{"$f":"K41/$K$4","v":49.324999999999996},39.46,0.24999999999999978,{"$f":"'[1]PO FINAL'!I41","v":36135.300000000003},-2258.4600000000064]
["4.10","CPU","ED-48533 ","DIVISÓRIA EM GRANITO E = 3 CM, INCLUSIVE FERRAGENS EM LATÃO CROMADO, CONSIDERANDO ADICIONAL NOTURNO E HORA EXTRA","M2",42.65,748.67500000000007,945.12732000000005,40309.68,{"$f":"K42/$K$4","v":748.67500000000007},598.94000000000005,0.25,{"$f":"'[1]PO FINAL'!I42","v":42996.99},-2687.3099999999977]
["4.11","CPU","CPU006","DIVISÓRIA EM MDF, FORNECIMENTO E INSTALAÇÃO, CONSIDERANDO ADICIONAL NOTURNO E HORA EXTRA","M2",65.75,749.47097000000008,946.13215252800012,62208.19,{"$f":"CPU!H96","v":749.47097000000008},null,null,{"$f":"'[1]PO FINAL'!I43","v":54961.96},7246.2300000000032]
["4.12","CPU","CPU007","PAINEL EM MDF FREIJÓ, FORNECIMENTO E INSTALAÇÃO, CONSIDERANDO ADICIONAL NOTURNO E HORA EXTRA","M2",17.3,749.47097000000008,946.13215252800012,16368.09,{"$f":"CPU!H118","v":749.47097000000008},null,null,{"$f":"'[1]PO FINAL'!I44","v":14461.47},1906.6200000000008]
["4.13","CPU","CPU045","REVESTIMENTO COM PORCELANATO TIPO ELIANE PALLADIO CINZA 90x90 OU BIANCOGRES CEMENTO AVORIO 90x90 APLICADO EM PISO ELAINE PALLADIO ACETINADO 90x90cm OU SIMILAR A CRITÉRIO DA FISCALIZAÇÃO, ASSENTADO COM ARGAMASSA INDUSTRIALIZADA COM ADITIVO IMPERMEABILIZANTE, CONSIDERANDO ADICIONAL NOTURNO E HORA EXTRA","M2",90,285.98509411764707,361.02758281411764,32492.48,{"$f":"CPU!H818","v":285.98509411764707},null,null,{"$f":"'[1]PO FINAL'!I45","v":36177},-3684.5200000000004]
["4.14","CPU","CPU057","LIMPEZA, REPAROS E APLICAÇÃO DE VERNIZ, COM ACABAMENTO BRILHANTE, EM PISO DE MADEIRA TIPO TACO, DUAS (2) DEMÃOS, INCLUSIVE RASPAGEM E CALAFETAÇÃO, CONSIDERANDO ADICIONAL NOTURNO E HORA EXTRA ","M2",420,103.49137500000001,130.64751179999999,54871.95,{"$f":"CPU!H989","v":103.49137500000001},null,null,{"$f":"'[1]PO FINAL'!I46","v":53173.5},1698.4499999999971]
["4.15","CPU","ED-50734","FRISO DE ALUMÍNIO ANODIZADO NATURAL 3/8\" (USO INTERNO), CONSIDERANDO ADICIONAL NOTURNO E HORA EXTRA ","M",30,28.037499999999998,35.394539999999999,1061.8399999999999,{"$f":"K47/$K$4","v":28.037499999999998},22.43,{"$f":"J47/K47-1","v":0.25},{"$f":"'[1]PO FINAL'!I47","v":1132.6300000000001},-70.790000000000191]
["4.16","CPU","ED-51150 ","ESPELHO (60X90CM) ESP.4MM INCLUSIVE FIXAÇÃO COM PARAFUSO FINESSON - FORNECIMENTO E INSTALAÇÃO, CONSIDERANDO ADICIONAL NOTURNO E HORA EXTRA","UNID.",11,290.27499999999998,366.44315999999998,4030.87,290.27499999999998,232.22,{"$f":"J48/K48-1","v":0.25},{"$f":"'[1]PO FINAL'!I48","v":4299.6000000000004},-268.73000000000047]
["4.17","CPU","CPU035","QUADRO ILUSTRATIVO COM FOTOGRAFIAS IMPRESSAS EM ADESIVO APLICADOS SOBRE PLACA DE ACRÍLICO 1,00 X 1,50 M CONFORME PROJETO - FORNECIMENTO E INSTALAÇÃO","UNID.",2,1113.2588235294118,1405.3779388235293,2810.76,{"$f":"CPU!H660","v":1113.2588235294118},null,null,{"$f":"'[1]PO FINAL'!I49","v":2955.25},-144.48999999999978]
["4.18","CPU","CPU036","QUADRO ILUSTRATIVO COM FOTOGRAFIAS IMPRESSAS EM ADESIVO APLICADOS SOBRE PLACA DE ACRÍLICO 2,30 X 1,50 M CONFORME PROJETO - FORNECIMENTO E INSTALAÇÃO","UNID.",1,2416.5176470588235,3050.6118776470589,3050.61,{"$f":"CPU!H678","v":2416.5176470588235},null,null,{"$f":"'[1]PO FINAL'!I50","v":3225.68},-175.06999999999971]
["4.19","CPU","CPU037","QUADRO ILUSTRATIVO COM FOTOGRAFIAS IMPRESSAS EM ADESIVO APLICADOS SOBRE PLACA DE ACRÍLICO 2,60 X 1,60 M CONFORME PROJETO - FORNECIMENTO E INSTALAÇÃO","UNID.",4,2877.3764705882354,3632.4000564705884,14529.6,{"$f":"CPU!H696","v":2877.3764705882354},null,null,{"$f":"'[1]PO FINAL'!I51","v":15375.34},-845.73999999999978]
["4.20","CPU","CPU029","BANCADA DE GRANITO BRANCO 1,40 X 0,5 M BD1, CONFORME PROJETO - FORNECIMENTO E INSTALAÇÃO, CONSIDERANDO ADICIONAL NOTURNO E HORA EXTRA","UNID.",1,652.75625176470589,824.03949222776475,824.04,{"$f":"CPU!H537","v":652.75625176470589},null,null,{"$f":"'[1]PO FINAL'!I52","v":807.04},17]
["4.21","CPU","CPU030","BANCADA DE GRANITO BRANCO 1,90 X 0,5 M BD2, CONFORME PROJETO - FORNECIMENTO E INSTALAÇÃO, CONSIDERANDO ADICIONAL NOTURNO E HORA EXTRA","UNID.",1,814.63587764705881,1028.3963319416471,1028.4000000000001,{"$f":"CPU!H558","v":814.63587764705881},null,null,{"$f":"'[1]PO FINAL'!I53","v":1021.91},6.4900000000001228]
["4.22","CPU","CPU031","BANCADA DE GRANITO BRANCO 3,07 X 0,5 M BD3, CONFORME PROJETO - FORNECIMENTO E INSTALAÇÃO, CONSIDERANDO ADICIONAL NOTURNO E HORA EXTRA","UNID.",1,1229.3756070588236,1551.9637663510589,1551.96,{"$f":"CPU!H579","v":1229.3756070588236},null,null,{"$f":"'[1]PO FINAL'!I54","v":1541.4},10.559999999999945]
["4.23","CPU","CPU032","BANCADA DE GRANITO BRANCO 2,56 X 0,5 M BD4, CONFORME PROJETO - FORNECIMENTO E INSTALAÇÃO,CONSIDERANDO ADICIONAL NOTURNO E HORA EXTRA","UNID.",1,1071.7092541176469,1352.9257623981173,1352.93,{"$f":"CPU!H600","v":1071.7092541176469},null,null,{"$f":"'[1]PO FINAL'!I55","v":1329.93},23]
["4.24","CPU","CPU033","BANCADA DE GRANITO BRANCO 1,00 X 0,5 M BD5, CONFORME PROJETO - FORNECIMENTO E INSTALAÇÃO, CONSIDERANDO ADICIONAL NOTURNO E HORA EXTRA","UNID.",1,547.98448705882345,691.77561646305867,691.78,{"$f":"CPU!H621","v":547.98448705882345},null,null,{"$f":"'[1]PO FINAL'!I56","v":666.51},25.269999999999982]
["4.25","CPU","CPU034","BANCADA DE GRANITO BRANCO 1,10 X 0,5 M BD5, CONFORME PROJETO - FORNECIMENTO E INSTALAÇÃO, CONSIDERANDO ADICIONAL NOTURNO E HORA EXTRA","UNID.",1,574.17742823529409,724.84158540423527,724.84,{"$f":"CPU!H642","v":574.17742823529409},null,null,{"$f":"'[1]PO FINAL'!I57","v":701.64},23.200000000000045]
[5,null,null,"ESQUADRIAS",{"$nulls":4},{"$f":"SUM(I59:I72)","v":137355.38},null,null,null,{"$f":"'[1]PO FINAL'!I58","v":144555.70000000001},-7200.320000000007]
["5.1","CPU",90843,"KIT DE PORTA DE MADEIRA PARA PINTURA, SEMI-OCA (LEVE OU MÉDIA), PADRÃO MÉDIO, 80X210CM, ESPESSURA DE 3,5CM, ITENS INCLUSOS: DOBRADIÇAS, MONTAGEM E INSTALAÇÃO DO BATENTE, FECHADURA COM EXECUÇÃO DO FURO - FORNECIMENTO E INSTALAÇÃO. CONSIDERANDO ADICIONAL NOTURNO E HORA EXTRA  ","UNID.",11,{"$f":"(J59)","v":1294.7124999999999},1634.4450599999998,{"$f":"ROUND(F59*H59,2)","v":17978.900000000001},{"$f":"K59/$K$4","v":1294.7124999999999},1035.77,{"$f":"J59/K59-1","v":0.25},{"$f":"'[1]PO FINAL'!I59","v":19177.490000000002},-1198.5900000000001]
["5.2","CPU","CPU008","PORTA DE CORRER DE MADEIRA, SEMIOCA 80 X 210 CM, INCLUSO TRILHO, ROLDANA, PUXADOR E FECHADURA - FORNECIMENTO E INSTALAÇÃO, CONSIDERANDO ADICIONAL NOTURNO E HORA EXTRA ","UNID.",6,2874.3232812499996,3628.5457102499995,21771.27,{"$f":"K60/$K$4","v":2874.3232812499996},2299.4586249999998,0.25,{"$f":"'[1]PO FINAL'!I60","v":23222.69},-1451.4199999999983]
["5.3","CPU","CPU009","PORTA DE CORRER DE VIDRO 220 X 200 CM, INCLUSO TRILHO, ROLDANA, PUXADOR - FORNECIMENTO E INSTALAÇÃO, CONSIDERANDO ADICIONAL NOTURNO E HORA EXTRA ","UNID.",4,3049.8187499999999,3850.0911899999996,15400.36,3049.8187499999999,2439.855,0.25,{"$f":"'[1]PO FINAL'!I61","v":16427.060000000001},-1026.7000000000007]
["5.4","CPU","CPU010","PORTA TIPO VAI-VEM DE MADEIRA, SEMIOCA 150 X 210 CM, INCLUSO ADUELA E DOBRADIÇAS - FORNECIMENTO E INSTALAÇÃO, CONSIDERANDO ADICIONAL NOTURNO E HORA EXTRA ","UNID.",1,1787.6173749999998,2256.6881741999996,2256.69,1787.6173749999998,1430.0938999999998,0.25,{"$f":"'[1]PO FINAL'!I62","v":2407.13},-150.44000000000005]
["5.5","CPU","CPU011","PORTA DE CORRER DE MADEIRA, SEMIOCA 1,10 X 210 CM, INCLUSO TRILHO, ROLDANA, PUXADOR E FECHADURA - FORNECIMENTO E INSTALAÇÃO, CONSIDERANDO ADICIONAL NOTURNO E HORA EXTRA ","UNID.",1,3752.3731249999983,4736.9958329999972,4737,3752.3731249999983,3001.8984999999989,0.24999999999999978,{"$f":"'[1]PO FINAL'!I63","v":5052.8},-315.80000000000018]
["5.6","CPU",90841,"KIT DE PORTA DE MADEIRA PARA PINTURA, SEMI-OCA (LEVE OU MÉDIA), PADRÃO MÉDIO, 60X210CM, ESPESSURA DE 3,5CM, ITENS INCLUSOS: DOBRADIÇAS, MONTAGEM E INSTALAÇÃO DO BATENTE, FECHADURA COM EXECUÇÃO DO FURO - FORNECIMENTO E INSTALAÇÃO. CONSIDERANDO ADICIONAL NOTURNO E HORA EXTRA ","UNID.",10,1216.875,1536.183,15361.83,1216.875,973.5,0.25,{"$f":"'[1]PO FINAL'!I64","v":16385.95},-1024.1200000000008]
["5.7","CPU",90842,"KIT DE PORTA DE MADEIRA PARA PINTURA, SEMI-OCA (LEVE OU MÉDIA), PADRÃO MÉDIO, 70X210CM, ESPESSURA DE 3,5CM, ITENS INCLUSOS: DOBRADIÇAS, MONTAGEM E INSTALAÇÃO DO BATENTE, FECHADURA COM EXECUÇÃO DO FURO - FORNECIMENTO E INSTALAÇÃO. CONSIDERANDO ADICIONAL NOTURNO E HORA EXTRA ","UNID.",6,1228.1999999999998,1550.4796799999997,9302.8799999999992,1228.1999999999998,982.56,0.24999999999999978,{"$f":"'[1]PO FINAL'!I65","v":9923.07},-620.19000000000051]
["5.8","CPU","ED-50507 ","LIXAMENTO MANUAL EM SUPERFÍCIE DE MADEIRA PARA REMOÇÃO DE TINTA, CONSIDERANDO ADICIONAL NOTURNO E HORA EXTRA ","M2",92.2,5.8857142857142861,7.4301257142857144,685.06,{"$f":"K66/$K$3","v":5.8857142857142861},4.12,0.4285714285714286,{"$f":"'[1]PO FINAL'!I66","v":639.39},45.669999999999959]
["5.9","CPU",100717,"LIXAMENTO MANUAL EM SUPERFÍCIES METÁLICAS EM OBRA. CONSIDERANDO ADICIONAL NOTURNO E HORA EXTRA ","M2",7.15,12.871428571428572,16.248891428571429,116.18,12.871428571428572,9.01,0.4285714285714286,{"$f":"'[1]PO FINAL'!I67","v":108.43},7.75]
["5.10","CPU",102201,"APLICAÇÃO MASSA ACRÍLICA PARA MADEIRA, PARA PINTURA COM TINTA DE ACABAMENTO (PIGMENTADA). CONSIDERANDO ADICIONAL NOTURNO E HORA EXTRA ","M2",92.2,23.112499999999997,29.177219999999995,2690.14,{"$f":"K68/$K$4","v":23.112499999999997},18.489999999999998,0.25,{"$f":"'[1]PO FINAL'!I68","v":2869.48},-179.34000000000015]
["5.11","CPU","CPU056","RESTAURAÇÃO DE ESQUADRIAS CONTEMPLANDO TROCA DE MADEIRA, CONSIDERANDO HORA EXTRA","M2",23.5,935.33680000000004,1180.76917632,27748.080000000002,{"$f":"[1]CPU!H972","v":935.33680000000004},null,null,{"$f":"'[1]PO FINAL'!I69","v":27748.080000000002},0]
["5.12","CPU","ED-50493 ","PINTURA ESMALTE EM ESQUADRIA DE MADEIRA, DUAS (2) DEMÃOS, INCLUSIVE UMA (1) DEMÃO DE FUNDO NIVELADOR, EXCLUSIVE MASSA A ÓLEO, CONSIDERANDO ADICIONAL NOTURNO E HORA EXTRA ","M2",143.44999999999999,27.437499999999996,34.637099999999997,4968.6899999999996,{"$f":"K70/$K$4","v":27.437499999999996},21.95,{"$f":"J70/K70-1","v":0.24999999999999978},{"$f":"'[1]PO FINAL'!I70","v":5299.94},-331.25]
["5.13","SETOP","ED-50532 ","PINTURA ANTICORROSIVA A BASE DE ÓXIDO DE FERRO (ZARCÃO) EM ESQUADRIA E SUPERFÍCIE METÁLICA, UMA (1) DEMÃO, CONSIDERANDO ADICIONAL NOTURNO E HORA EXTRA ","M2",7.15,13.887499999999999,17.531579999999998,125.35,13.887499999999999,11.11,{"$f":"J71/K71-1","v":0.25},{"$f":"'[1]PO FINAL'!I71","v":133.71},-8.3600000000000136]
["5.14","SINAPI",102151,"INSTALAÇÃO DE VIDRO LISO INCOLOR, E = 3 MM, EM ESQUADRIA DE MADEIRA, FIXADO COM BAGUETE. CONSIDERANDO ADICIONAL NOTURNO E HORA EXTRA ","M2",59,190.82499999999999,240.89747999999997,14212.95,190.82499999999999,152.66,{"$f":"J72/K72-1","v":0.25},{"$f":"'[1]PO FINAL'!I72","v":15160.48},-947.52999999999884]
[6,null,null,"MÓVEIS PLANEJADOS",{"$nulls":4},{"$f":"SUM(I74:I90)","v":118496.45000000001},null,null,null,{"$f":"'[1]PO FINAL'!I73","v":103235.31999999999},15261.130000000019]
["6.1","CPU","CPU012","MÓVEL PLANEJADO EM MDF PARA ESCRITÓRIO DM1, CONFORME PROJETO - FORNECIMENTO E INSTALAÇÃO, CONSIDERANDO ADICIONAL NOTURNO E HORA EXTRA ","UNID.",1,{"$f":"(J74)","v":4630.4224000000004},{"$f":"(J74*(1+G$4))","v":5845.4452377600001},{"$f":"ROUND(F74*H74,2)","v":5845.45},{"$f":"CPU!H220","v":4630.4224000000004},null,null,{"$f":"'[1]PO FINAL'!I74","v":4858.92},{"$f":"I74-M74","v":986.52999999999975}]
["6.2","CPU","CPU013","MÓVEL PLANEJADO EM MDF PARA ESCRITÓRIO DM2, CONFORME PROJETO - FORNECIMENTO E INSTALAÇÃO, CONSIDERANDO ADICIONAL NOTURNO E HORA EXTRA ","UNID.",1,{"$f":"(J75)","v":4827.6706000000004},6094.4513654400007,{"$f":"ROUND(F75*H75,2)","v":6094.45},{"$f":"CPU!H238","v":4827.6706000000004},null,null,{"$f":"'[1]PO FINAL'!I75","v":5270.72},823.72999999999956]
["6.3","CPU","CPU014","MÓVEL PLANEJADO EM MDF PARA ESCRITÓRIO DM3, CONFORME PROJETO - FORNECIMENTO E INSTALAÇÃO, CONSIDERANDO ADICIONAL NOTURNO E HORA EXTRA ","UNID.",1,4752.7878000000001,5999.9193187199999,5999.92,{"$f":"CPU!H256","v":4752.7878000000001},null,null,{"$f":"'[1]PO FINAL'!I76","v":5217.1099999999997},782.8100000000004]
["6.4","CPU","CPU015","MÓVEL PLANEJADO EM MDF PARA ESCRITÓRIO DM4, CONFORME PROJETO - FORNECIMENTO E INSTALAÇÃO, CONSIDERANDO ADICIONAL NOTURNO E HORA EXTRA ","UNID.",1,2970.2646,3749.6620310399999,3749.66,{"$f":"CPU!H275","v":2970.2646},null,null,{"$f":"'[1]PO FINAL'!I77","v":3308.15},441.50999999999976]
["6.5","CPU","CPU016","MÓVEL PLANEJADO EM MDF PARA ESCRITÓRIO DM5, CONFORME PROJETO - FORNECIMENTO E INSTALAÇÃO, CONSIDERANDO ADICIONAL NOTURNO E HORA EXTRA ","UNID.",1,8662.4710000000014,10935.503390400001,10935.5,{"$f":"CPU!H293","v":8662.4710000000014},null,null,{"$f":"'[1]PO FINAL'!I78","v":10074.34},861.15999999999985]
["6.6","CPU","CPU017","MÓVEL PLANEJADO EM MDF PARA ESCRITÓRIO DM6, CONFORME PROJETO - FORNECIMENTO E INSTALAÇÃO, CONSIDERANDO ADICIONAL NOTURNO E HORA EXTRA ","UNID.",1,10704.402000000002,13513.237084800003,13513.24,{"$f":"CPU!H312","v":10704.402000000002},null,null,{"$f":"'[1]PO FINAL'!I79","v":11910.08},1603.1599999999999]
["6.7","CPU","CPU018","MÓVEL PLANEJADO EM MDF PARA ESCRITÓRIO DM7-1, CONFORME PROJETO - FORNECIMENTO E INSTALAÇÃO, CONSIDERANDO ADICIONAL NOTURNO E HORA EXTRA ","UNID.",1,2585.5924999999997,3264.0519719999998,3264.05,{"$f":"CPU!H331","v":2585.5924999999997},null,null,{"$f":"'[1]PO FINAL'!I80","v":2794.3},469.75]
["6.8","CPU","CPU019","MÓVEL PLANEJADO EM MDF PARA ESCRITÓRIO DM7-2, CONFORME PROJETO - FORNECIMENTO E INSTALAÇÃO, CONSIDERANDO ADICIONAL NOTURNO E HORA EXTRA ","UNID.",1,3669.0916000000002,4631.8612358400005,4631.8599999999997,{"$f":"CPU!H350","v":3669.0916000000002},null,null,{"$f":"'[1]PO FINAL'!I81","v":4005.56},626.29999999999973]
["6.9","CPU","CPU020","MÓVEL PLANEJADO EM MDF PARA ESCRITÓRIO DM8, CONFORME PROJETO - FORNECIMENTO E INSTALAÇÃO, CONSIDERANDO ADICIONAL NOTURNO E HORA EXTRA ","UNID.",1,3678.7084000000004,4644.0014841600005,4644,{"$f":"CPU!H369","v":3678.7084000000004},null,null,{"$f":"'[1]PO FINAL'!I82","v":4019.05},624.94999999999982]
["6.10","CPU","CPU021","MÓVEL PLANEJADO EM MDF PARA ESCRITÓRIO DM9, CONFORME PROJETO - FORNECIMENTO E INSTALAÇÃO, CONSIDERANDO ADICIONAL NOTURNO E HORA EXTRA ","UNID.",1,7755.9753000000001,9791.1432187199989,9791.14,{"$f":"CPU!H387","v":7755.9753000000001},null,null,{"$f":"'[1]PO FINAL'!I83","v":8468.6},1322.5399999999991]
["6.11","CPU","CPU022","MÓVEL PLANEJADO EM MDF PARA ESCRITÓRIO DM10, CONFORME PROJETO - FORNECIMENTO E INSTALAÇÃO, CONSIDERANDO ADICIONAL NOTURNO E HORA EXTRA ","UNID.",1,7643.3732000000009,9648.9943276800004,9648.99,{"$f":"CPU!H405","v":7643.3732000000009},null,null,{"$f":"'[1]PO FINAL'!I84","v":8346.07},1302.92]
["6.12","CPU","CPU023","MÓVEL PLANEJADO EM MDF PARA ESCRITÓRIO DM11, CONFORME PROJETO - FORNECIMENTO E INSTALAÇÃO, CONSIDERANDO ADICIONAL NOTURNO E HORA EXTRA ","UNID.",1,3681.6804000000002,4647.7533369600005,4647.75,{"$f":"CPU!H424","v":3681.6804000000002},null,null,{"$f":"'[1]PO FINAL'!I85","v":4033.91},613.84000000000015]
["6.13","CPU","CPU024","MÓVEL PLANEJADO EM MDF PARA ESCRITÓRIO DM12, CONFORME PROJETO - FORNECIMENTO E INSTALAÇÃO, CONSIDERANDO ADICIONAL NOTURNO E HORA EXTRA ","UNID.",1,6261.3965000000007,7904.3869416000007,7904.39,{"$f":"CPU!H442","v":6261.3965000000007},null,null,{"$f":"'[1]PO FINAL'!I86","v":6834.99},1069.4000000000005]
["6.14","CPU","CPU025","MÓVEL PLANEJADO EM MDF PARA ESCRITÓRIO DM13, CONFORME PROJETO - FORNECIMENTO E INSTALAÇÃO, CONSIDERANDO ADICIONAL NOTURNO E HORA EXTRA ","UNID.",1,6976.4779999999992,8807.1058271999991,8807.11,{"$f":"CPU!H460","v":6976.4779999999992},null,null,{"$f":"'[1]PO FINAL'!I87","v":7617.31},1189.8000000000002]
["6.15","CPU","CPU026","MÓVEL PLANEJADO EM MDF PARA ESCRITÓRIO DM14, CONFORME PROJETO - FORNECIMENTO E INSTALAÇÃO, CONSIDERANDO ADICIONAL NOTURNO E HORA EXTRA ","UNID.",1,10766.612800000001,13591.77199872,13591.77,{"$f":"CPU!H479","v":10766.612800000001},null,null,{"$f":"'[1]PO FINAL'!I88","v":11812.06},1779.7100000000009]
["6.16","CPU","CPU027","MÓVEL PLANEJADO EM MDF PARA ESCRITÓRIO DM15, CONFORME PROJETO - FORNECIMENTO E INSTALAÇÃO, CONSIDERANDO ADICIONAL NOTURNO E HORA EXTRA ","UNID.",1,2449.34,3092.046816,3092.05,{"$f":"CPU!H497","v":2449.34},null,null,{"$f":"'[1]PO FINAL'!I89","v":2603.1799999999998},488.87000000000035]
["6.17","CPU","CPU028","MÓVEL PLANEJADO EM MDF PARA ESCRITÓRIO DM16, CONFORME PROJETO - FORNECIMENTO E INSTALAÇÃO, CONSIDERANDO ADICIONAL NOTURNO E HORA EXTRA ","UNID.",1,1849.7463000000002,2335.1197291200001,2335.12,{"$f":"CPU!H516","v":1849.7463000000002},null,null,{"$f":"'[1]PO FINAL'!I90","v":2060.9699999999998},274.15000000000009]
[7,null,null,"INSTALAÇÕES PREDIAIS",{"$nulls":4},{"$f":"SUM(I92:I93)","v":34763.369999999995},null,null,null,{"$f":"'[1]PO FINAL'!I91","v":29548.870000000003},5214.4999999999927]
["7.1","CPU","CPU005","EXECUÇÃO DE INSTALAÇÕES HIDROSSANITÁRIAS, EXCLUSIVE EQUIPAMENTOS, CONSIDERANDO ADICIONAL NOTURNO E HORA EXTRA ","CJ.",1,{"$f":"(J92)","v":13467.882352941178},17001.854682352943,{"$f":"ROUND(F92*H92,2)","v":17001.849999999999},{"$f":"CPU!H74","v":13467.882352941178},null,null,{"$f":"'[1]PO FINAL'!I92","v":14451.58},2550.2699999999986]
["7.2","CPU","CPU038","EXECUÇÃO DE INSTALAÇÕES ELÉTRICAS, EXCLUSIVE EQUIPAMENTOS, CONSIDERANDO ADICIONAL NOTURNO E HORA EXTRA  ","CJ.",1,14069.64705882353,17761.522447058822,{"$f":"ROUND(F93*H93,2)","v":17761.52},{"$f":"CPU!H709","v":14069.64705882353},null,null,{"$f":"'[1]PO FINAL'!I93","v":15097.29},2664.2299999999996]
[8,null,null,"MATERIAIS",{"$nulls":4},{"$f":"SUM(I95:I160)","v":114664.48},null,null,null,{"$f":"'[1]PO FINAL'!I94","v":115248.81},-584.33000000000175]
["8.1","SINAPI",9868,"TUBO PVC, SOLDAVEL, DN 25 MM, AGUA FRIA (NBR-5648)","M",63,{"$f":"K95","v":4.3099999999999996},{"$f":"G95*(1+G$5)","v":4.9685679999999994},{"$f":"ROUND(F95*H95,2)","v":313.02},5.48,4.3099999999999996,{"$f":"K95-J95","v":-1.1700000000000008},{"$f":"'[1]PO FINAL'!I95","v":313.02},0]
["8.2","SINAPI",9875,"TUBO PVC, SOLDAVEL, DN 50 MM, PARA AGUA FRIA (NBR-5648) ","M",1,{"$f":"K96","v":16.02},{"$f":"G96*(1+G$5)","v":18.467856000000001},18.47,20.52,16.02,{"$f":"K96-J96","v":-4.5},{"$f":"'[1]PO FINAL'!I96","v":18.47},0]
["8.3","SINAPI",9871,"TUBO PVC, SOLDAVEL, DN 75 MM, AGUA FRIA (NBR-5648)","M",15,43.67,{"$f":"G97*(1+G$5)","v":50.342776000000001},755.14,58,43.67,-14.329999999999998,{"$f":"'[1]PO FINAL'!I97","v":755.14},0]
["8.4","SINAPI",9835,"TUBO PVC SERIE NORMAL, DN 40 MM, PARA ESGOTO PREDIAL (NBR 5688)","M",14,6.9,7.9543200000000009,111.36,6.73,6.9,0.16999999999999993,{"$f":"'[1]PO FINAL'!I98","v":111.36},0]
["8.5","SINAPI",9838,"TUBO PVC SERIE NORMAL, DN 50 MM, PARA ESGOTO PREDIAL (NBR 5688) ","M",17,11.4,13.141920000000001,223.41,11.46,11.4,-6.0000000000000497E-2,{"$f":"'[1]PO FINAL'!I99","v":223.41},0]
["8.6","SINAPI",9837,"TUBO PVC SERIE NORMAL, DN 75 MM, PARA ESGOTO PREDIAL (NBR 5688) ","M",2,14.96,17.245888000000001,34.49,16.55,14.96,-1.5899999999999999,{"$f":"'[1]PO FINAL'!I100","v":34.49},0]
["8.7","SINAPI",9836,"TUBO PVC SERIE NORMAL, DN 100 MM, PARA ESGOTO PREDIAL (NBR 5688) ","M",22,15.8,18.21424,400.71,16.670000000000002,15.8,-0.87000000000000099,{"$f":"'[1]PO FINAL'!I101","v":400.71},0]
["8.8","SINAPI",3529,"JOELHO PVC, SOLDAVEL, 90 GRAUS, 25 MM, PARA AGUA FRIA PREDIAL","UNID.",15,0.75,0.86460000000000004,12.97,1.08,0.75,-0.33000000000000007,{"$f":"'[1]PO FINAL'!I102","v":12.97},0]
["8.9","SINAPI",3515,"JOELHO PVC, SOLDAVEL, COM BUCHA DE LATAO, 90 GRAUS, 20 MM X 1/2\", PARA AGUA FRIA PREDIAL","UNID.",12,6.76,7.7929279999999999,93.52,8.3800000000000008,6.76,-1.620000000000001,{"$f":"'[1]PO FINAL'!I103","v":93.52},0]
["8.10","SINAPI",7104,"TE DE REDUCAO, PVC, SOLDAVEL, 90 GRAUS, 25 MM X 20 MM, PARA AGUA FRIA PREDIAL ","UNID.",1,3.98,4.5881439999999998,4.59,4.8099999999999996,3.98,-0.82999999999999963,{"$f":"'[1]PO FINAL'!I104","v":4.59},0]
["8.11","SINAPI",7139,"TE SOLDAVEL, PVC, 90 GRAUS, 25 MM, PARA AGUA FRIA PREDIAL (NBR 5648) ","UNID.",7,1.25,1.4410000000000001,10.09,1.83,1.25,-0.58000000000000007,{"$f":"'[1]PO FINAL'!I105","v":10.09},0]
["8.12","SINAPI",7122,"TE PVC, SOLDAVEL, COM BUCHA DE LATAO NA BOLSA CENTRAL, 90 GRAUS, 25 MM X 3/4\", PARA AGUA FRIA PREDIAL","UNID.",13,11.43,13.176504,171.29,16.23,11.43,-4.8000000000000007,{"$f":"'[1]PO FINAL'!I106","v":171.29},0]
["8.13","SINAPI",6138,"ANEL DE VEDACAO, PVC FLEXIVEL, 100 MM, PARA SAIDA DE BACIA / VASO SANITARIO","UNID.",12,9.6199999999999992,11.089936,133.08000000000001,11.43,9.6199999999999992,-1.8100000000000005,{"$f":"'[1]PO FINAL'!I107","v":133.08000000000001},0]
["8.14","SINAPI",20086,"BUCHA DE REDUCAO DE PVC, SOLDAVEL, LONGA, 50 X 40 MM, PARA ESGOTO PREDIAL","UNID.",4,3.27,3.7696560000000003,15.08,2.95,3.27,0.31999999999999984,{"$f":"'[1]PO FINAL'!I108","v":15.08},0]
["8.15","SINAPI",37951,"JOELHO PVC, SOLDAVEL, PB, 45 GRAUS, DN 40 MM, PARA ESGOTO PREDIAL","UNID.",6,2.61,3.0088080000000001,18.05,2.73,2.61,-0.12000000000000011,{"$f":"'[1]PO FINAL'!I109","v":18.05},0]
["8.16","SINAPI",3518,"JOELHO PVC, SOLDAVEL, PB, 45 GRAUS, DN 50 MM, PARA ESGOTO PREDIAL ","UNID.",9,4.0199999999999996,4.6342559999999997,41.71,4,4.0199999999999996,1.9999999999999574E-2,{"$f":"'[1]PO FINAL'!I110","v":41.71},0]
["8.17","SINAPI",3519,"JOELHO PVC, SOLDAVEL, PB, 45 GRAUS, DN 75 MM, PARA ESGOTO PREDIAL ","UNID.",4,8.4,9.6835200000000015,38.729999999999997,9.4700000000000006,8.4,-1.0700000000000003,{"$f":"'[1]PO FINAL'!I111","v":38.729999999999997},0]
["8.18","SINAPI",3528,"JOELHO PVC, SOLDAVEL, PB, 45 GRAUS, DN 100 MM, PARA ESGOTO PREDIAL ","UNID.",5,9.69,11.170631999999999,55.85,10.54,9.69,-0.84999999999999964,{"$f":"'[1]PO FINAL'!I112","v":55.85},0]
["8.19","SINAPI",10835,"JOELHO PVC, COM BOLSA E ANEL, 90 GRAUS, DN 40 MM, SERIE NORMAL, PARA ESGOTO PREDIAL","UNID.",13,6.01,6.9283279999999996,90.07,5.12,6.01,0.88999999999999968,{"$f":"'[1]PO FINAL'!I113","v":90.07},0]
["8.20","SINAPI",37949,"JOELHO PVC, SOLDAVEL, PB, 90 GRAUS, DN 40 MM, PARA ESGOTO PREDIA","UNID.",13,2.36,2.7206079999999999,35.369999999999997,2.39,2.36,-3.0000000000000249E-2,{"$f":"'[1]PO FINAL'!I114","v":35.369999999999997},0]
["8.21","SINAPI",3526,"JOELHO PVC, SOLDAVEL, PB, 90 GRAUS, DN 50 MM, PARA ESGOTO PREDIAL ","UNID.",5,3.24,3.7350720000000006,18.68,3.21,3.24,3.0000000000000249E-2,{"$f":"'[1]PO FINAL'!I115","v":18.68},0]
["8.22","SINAPI",3509,"JOELHO PVC, SOLDAVEL, PB, 90 GRAUS, DN 75 MM, PARA ESGOTO PREDIAL ","UNID.",4,7.37,8.4961359999999999,33.979999999999997,8.35,7.37,-0.97999999999999954,{"$f":"'[1]PO FINAL'!I116","v":33.979999999999997},0]
["8.23","SINAPI",3520,"JOELHO PVC, SOLDAVEL, PB, 90 GRAUS, DN 100 MM, PARA ESGOTO PREDIAL ","UNID.",11,8.81,10.156168000000001,111.72,10.61,8.81,-1.7999999999999989,{"$f":"'[1]PO FINAL'!I117","v":111.72},0]
["8.24","SINAPI",3666,"JUNCAO SIMPLES, PVC, 45 GRAUS, DN 40 X 40 MM, SERIE NORMAL PARA ESGOTO PREDIAL","UNID.",5,4.01,4.6227279999999995,23.11,4.68,4.01,-0.66999999999999993,{"$f":"'[1]PO FINAL'!I118","v":23.11},0]
["8.25","SINAPI",3662,"JUNCAO SIMPLES, PVC, DN 50 X 50 MM, SERIE NORMAL PARA ESGOTO PREDIAL","UNID.",1,10.45,12.046759999999999,12.05,11.3,10.45,-0.85000000000000142,{"$f":"'[1]PO FINAL'!I119","v":12.05},0]
["8.26","SINAPI",3659,"JUNCAO SIMPLES, PVC, DN 100 X 50 MM, SERIE NORMAL PARA ESGOTO PREDIAL ","UNID.",3,19.829999999999998,22.860023999999999,68.58,20.76,19.829999999999998,-0.93000000000000327,{"$f":"'[1]PO FINAL'!I120","v":68.58},0]
["8.27","SINAPI",3670,"JUNCAO SIMPLES, PVC, 45 GRAUS, DN 100 X 100 MM, SERIE NORMAL PARA ESGOTO PREDIAL","UNID.",9,25.47,29.361816000000001,264.26,27.61,25.47,-2.1400000000000006,{"$f":"'[1]PO FINAL'!I121","v":264.26},0]
["8.28","SINAPI",3875,"LUVA SIMPLES, PVC, SOLDAVEL, DN 50 MM, SERIE NORMAL, PARA ESGOTO PREDIAL","UNID.",24,3.5,4.0348000000000006,96.84,3.69,3.5,-0.18999999999999995,{"$f":"'[1]PO FINAL'!I122","v":96.84},0]
["8.29","SINAPI",3898,"LUVA SIMPLES, PVC, SOLDAVEL, DN 75 MM, SERIE NORMAL, PARA ESGOTO PREDIAL","UNID.",12,7.11,8.1964079999999999,98.36,6.98,7.11,0.12999999999999989,{"$f":"'[1]PO FINAL'!I123","v":98.36},0]
["8.30","SINAPI",3899,"LUVA SIMPLES, PVC, SOLDAVEL, DN 100 MM, SERIE NORMAL, PARA ESGOTO PREDIAL","UNID.",28,6.95,8.0119600000000002,224.33,8.09,6.95,-1.1399999999999997,{"$f":"'[1]PO FINAL'!I124","v":224.33},0]
["8.31","SINAPI",20042,"REDUCAO EXCENTRICA PVC P/ ESG PREDIAL DN 75 X 50MM ","UNID.",3,8.25,9.5106000000000002,28.53,8.01,8.25,0.24000000000000021,{"$f":"'[1]PO FINAL'!I125","v":28.53},0]
["8.32","SINAPI",7097,"TE SANITARIO, PVC, DN 50 X 50 MM, SERIE NORMAL, PARA ESGOTO PREDIAL","UNID.",5,7.96,9.1762879999999996,45.88,9.0500000000000007,7.96,-1.0900000000000007,{"$f":"'[1]PO FINAL'!I126","v":45.88},0]
["8.33","SINAPI",11658,"TE SANITARIO, PVC, DN 75 X 75 MM, SERIE NORMAL, PARA ESGOTO PREDIAL","UNID.",1,17.600000000000001,20.289280000000002,20.29,18.079999999999998,17.600000000000001,-0.47999999999999687,{"$f":"'[1]PO FINAL'!I127","v":20.29},0]
["8.34","SINAPI",10422,"BACIA SANITARIA (VASO) COM CAIXA ACOPLADA, SIFAO APARENTE, DE LOUCA BRANCA (SEM ASSENTO)","UNID.",14,390.66,450.35284800000005,6304.94,368.23,390.66,22.430000000000007,{"$f":"'[1]PO FINAL'!I128","v":6304.94},0]
["8.35","SINAPI",11712,"CAIXA SIFONADA PVC, 150 X 150 X 50 MM, COM GRELHA QUADRADA BRANCA (NBR 5688) ","UNID.",5,37.4,43.114719999999998,215.57,44.45,37.4,-7.0500000000000043,{"$f":"'[1]PO FINAL'!I129","v":215.57},0]
["8.36","SINAPI",20269,"LAVATORIO / CUBA DE EMBUTIR, OVAL, DE LOUCA BRANCA, SEM LADRAO, DIMENSOES *50 X 35* CM (L X C)","UNID.",11,98.32,113.343296,1246.78,92.68,98.32,5.6399999999999864,{"$f":"'[1]PO FINAL'!I130","v":1246.78},0]
["8.37","SINAPI",1744,"CUBA ACO INOX (AISI 304) DE EMBUTIR COM VALVULA 3 1/2 \", DE *40 X 34 X 12* CM","UNID.",1,132.55000000000001,152.80364000000003,152.80000000000001,130.12,132.55000000000001,2.4300000000000068,{"$f":"'[1]PO FINAL'!I131","v":152.80000000000001},0]
["8.38","SINAPI",36521,"LAVATORIO DE CANTO LOUCA BRANCA SUSPENSO *40 X 30* CM","UNID.",2,156.46,180.36708800000002,360.73,147.47,156.46,8.9900000000000091,{"$f":"'[1]PO FINAL'!I132","v":360.73},0]
["8.39","SINAPI",11683,"ENGATE / RABICHO FLEXIVEL INOX 1/2 \" X 30 CM  ","UNID.",25,55.92,64.464576000000008,1611.61,41.28,55.92,14.64,{"$f":"'[1]PO FINAL'!I133","v":1611.61},0]
["8.40","SINAPI",11735,"PROLONGAMENTO / PROLONGADOR PARA CAIXA SIFONADA, PVC, 100 MM X 200 MM (NBR 5688)","UNID.",5,7.86,9.0610080000000011,45.31,9.35,7.86,-1.4899999999999993,{"$f":"'[1]PO FINAL'!I134","v":45.31},0]
["8.41","COTAÇÃO",null,"REGISTRO DE GAVETA PVC 25 MM","UNID.",9,61.337549999999993,70.709927639999989,636.39,{"$f":"46.38*1.15","v":53.336999999999996},{"$f":"J135*1.15","v":61.337549999999993},8.0005499999999969,{"$f":"'[1]PO FINAL'!I135","v":636.39},0]
["8.42","SINAPI",6145,"SIFAO PLASTICO TIPO COPO PARA PIA AMERICANA 1.1/2 X 1.1/2 \"","UNID.",1,19.62,22.617936000000004,22.62,18.61,19.62,1.0100000000000016,{"$f":"'[1]PO FINAL'!I136","v":22.62},0]
["8.43","SINAPI",6149,"SIFAO PLASTICO TIPO COPO PARA PIA OU LAVATORIO, 1 X 1.1/2 \"","UNID.",11,12.97,14.951816000000001,164.47,12.3,12.97,0.66999999999999993,{"$f":"'[1]PO FINAL'!I137","v":164.47},0]
["8.44","SINAPI",6146,"SIFAO PLASTICO TIPO COPO PARA TANQUE, 1.1/4 X 1.1/2 \" ","UNID.",1,18.649999999999999,21.49972,21.5,17.68,18.649999999999999,0.96999999999999886,{"$f":"'[1]PO FINAL'!I138","v":21.5},{"$f":"I138-M138","v":0}]
["8.45","SINAPI",6148,"SIFAO PLASTICO FLEXIVEL SAIDA VERTICAL PARA COLUNA LAVATORIO, 1 X 1.1/2 \"","UNID.",2,61.2,70.551360000000003,141.1,19.850000000000001,61.2,41.35,{"$f":"'[1]PO FINAL'!I139","v":141.1},0]
["8.46","COTAÇÃO",null,"FOGÃO COOKTOP DE VIDRO COM 2 QUEIMADORES A GÁS","UNID.",1,366.83850000000001,422.89142280000004,422.89,{"$f":"318.99","v":318.99},{"$f":"J140*1.15","v":366.83850000000001},47.848500000000001,{"$f":"'[1]PO FINAL'!I140","v":422.89},0]
["8.47","SINAPI",10423,"TANQUE DE LOUCA BRANCA, SUSPENSO, *20* L ","UNID.",1,400.3,461.46584000000001,461.47,377.32,400.3,22.980000000000018,{"$f":"'[1]PO FINAL'!I141","v":461.47},0]
["8.48","SINAPI",11762,"TORNEIRA METALICA CROMADA PARA TANQUE, COM BICO PLASTICO, CANO LONGO, DE PAREDE USO GERAL , 1/2 \" OU 3/4 \" ","UNID.",1,55.98,64.533743999999999,64.53,46,55.98,9.9799999999999969,{"$f":"'[1]PO FINAL'!I142","v":64.53},0]
["8.49","SINAPI",39702,"TORNEIRA DE MESA PARA LAVATORIO, METALICA CROMADA, COM SENSOR DE APROXIMACAO ELETRICO","UNID.",{"$f":"9+4","v":13},2075.79,2392.9707120000003,31108.62,1705.71,2075.79,370.07999999999993,{"$f":"'[1]PO FINAL'!I143","v":31108.62},0]
["8.50","SINAPI",1014,"CABO DE COBRE, FLEXIVEL, CLASSE 4 OU 5, ISOLACAO EM PVC/A, ANTICHAMA BWF-B, 1 CONDUTOR, 450/750 V, SECAO NOMINAL 2,5 MM2","M",2000,1.87,2.1557360000000001,4311.47,1.97,1.87,-9.9999999999999867E-2,{"$f":"'[1]PO FINAL'!I144","v":4311.47},0]
["8.51","SINAPI",1013,"CABO DE COBRE, FLEXIVEL, CLASSE 4 OU 5, ISOLACAO EM PVC/A, ANTICHAMA BWF-B, 1 CONDUTOR, 450/750 V, SECAO NOMINAL 1,5 MM2","M",300,1.18,1.360304,408.09,1.24,1.18,-6.0000000000000053E-2,{"$f":"'[1]PO FINAL'!I145","v":408.09},0]
["8.52","SINAPI",2674,"ELETRODUTO DE PVC RIGIDO ROSCAVEL DE 3/4 \", SEM LUVA","M",400,5.43,6.2597040000000002,2503.88,6.01,5.43,-0.58000000000000007,{"$f":"'[1]PO FINAL'!I146","v":2503.88},0]
["8.53","COTAÇÃO",null,"ELETROCALHA PERFURADA 50X50 ","M",50,24.877949999999998,28.67930076,1433.97,{"$f":"21.633","v":21.632999999999999},{"$f":"J147*1.15","v":24.877949999999998},3.2449499999999993,{"$f":"'[1]PO FINAL'!I147","v":1433.97},0]
["8.54","SINAPI",43096,"CAIXA DE PASSAGEM ELETRICA DE PAREDE, DE EMBUTIR, EM TERMOPLASTICO / PVC, COM TAMPA APARAFUSADA, DIMENSOES 400 X 400 X *120* MM","UNID.",102,240.72,277.50201600000003,28305.21,224.99,240.72,15.72999999999999,{"$f":"'[1]PO FINAL'!I148","v":28305.21},0]
["8.55","SINAPI",38062,"INTERRUPTOR SIMPLES 10A, 250V, CONJUNTO MONTADO PARA EMBUTIR 4\" X 2\" (PLACA + SUPORTE + MODULO)","UNID.",35,6.75,7.7814000000000005,272.35000000000002,7.48,6.75,-0.73000000000000043,{"$f":"'[1]PO FINAL'!I149","v":272.35000000000002},0]
["8.56","SINAPI",38101,"TOMADA 2P+T 10A, 250V (APENAS MODULO) ","UNID.",30,7.78,8.9687840000000012,269.06,8.3000000000000007,7.78,-0.52000000000000046,{"$f":"'[1]PO FINAL'!I150","v":269.06},0]
["8.57","SINAPI",34653,"DISJUNTOR TIPO DIN/IEC, MONOPOLAR DE 6 ATE 32A","UNID.",12,14.28,16.461984000000001,197.54,15.63,14.28,-1.3500000000000014,{"$f":"'[1]PO FINAL'!I151","v":197.54},0]
["8.58","SINAPI",34616,"DISJUNTOR TIPO DIN/IEC, BIPOLAR DE 6 ATE 32A ","UNID.",14,81.88,94.391263999999993,1321.48,89.62,81.88,-7.7400000000000091,{"$f":"'[1]PO FINAL'!I152","v":1321.48},0]
["8.59","SINAPI",39445,"DISPOSITIVO DR, 2 POLOS, SENSIBILIDADE DE 30 MA, CORRENTE DE 25 A, TIPO AC","UNID.",9,219.94,253.54683199999999,2281.92,240.75,219.94,-20.810000000000002,{"$f":"'[1]PO FINAL'!I153","v":2281.92},0]
["8.60","SINAPI",2373,"DISJUNTOR TIPO NEMA, TRIPOLAR 60 ATE 100 A, TENSAO MAXIMA DE 415 V ","UNID.",1,174.97,201.70541600000001,201.71,191.52,174.97,-16.550000000000011,{"$f":"'[1]PO FINAL'!I154","v":201.71},0]
["8.61","SINAPI",39469,"DISPOSITIVO DPS CLASSE II, 1 POLO, TENSAO MAXIMA DE 275 V, CORRENTE MAXIMA DE *20* KA (TIPO AC)","UNID.",3,111.37,128.387336,385.16,121.9,111.37,-10.530000000000001,{"$f":"'[1]PO FINAL'!I155","v":385.16},0]
["8.62","SINAPI",39807,"QUADRO DE DISTRIBUICAO, EM PVC, DE EMBUTIR, COM BARRAMENTO TERRA / NEUTRO, PARA 27 DISJUNTORES NEMA OU 36 DISJUNTORES DIN","UNID.",1,605.20000000000005,697.67456000000004,697.67,565.66,605.20000000000005,39.540000000000077,{"$f":"'[1]PO FINAL'!I156","v":697.67},0]
["8.63","COTAÇÃO",null,"PENDENTE MEIA LUA 50 CM PARA SALA DE REUNIÕES","UNID.",3,130.82300000000001,150.81275440000002,452.44,{"$f":"118.93","v":118.93},{"$f":"J157*1.1","v":130.82300000000001},11.893000000000001,{"$f":"'[1]PO FINAL'!I157","v":452.44},0]
["8.64","COTAÇÃO",null,"PENDENTE LED CANOA, MADEIRA ACRÍLICO ","UNID.",3,4077.029,4699.9990312,14100,{"$f":"3706.39","v":3706.39},{"$f":"J158*1.1","v":4077.029},370.63900000000012,{"$f":"'[1]PO FINAL'!I158","v":14100},0]
["8.65","SINAPI",3803,"LUMINARIA PLAFON REDONDO COM VIDRO FOSCO DIAMETRO *25* CM, PARA 1 LAMPADA, BASE E27, POTENCIA MAXIMA 40/60 W (NAO INCLUI LAMPADA)","UNID.",110,65.150000000000006,75.104920000000007,{"$f":"ROUND(F159*H159,2)","v":8261.5400000000009},69.489999999999995,65.150000000000006,-4.3399999999999892,{"$f":"'[1]PO FINAL'!I159","v":8261.5400000000009},0]
["8.66","SINAPI",37526,"SACO DE RÁFIA PARA ENTULHO, NOVO, LISO (SEM CLICHE), *60 x 90* CM ","UNID.",800,{"$f":"K160","v":2.88},3.3200639999999999,2656.05,3.11,2.88,{"$f":"K160-J160","v":-0.22999999999999998},{"$f":"'[1]PO FINAL'!I160","v":3240.38},-584.32999999999993]
["VALOR TOTAL DA OBRA DE REFORMA",{"$nulls":7},{"$f":"I94+I91+I73+I58+I32+I17+I13+I8","v":1299451.98}]

{"sheet":"CPU","index":1,"n_rows":989,"n_cols":12,"rows_kept":989,"cut":false,"hidden":false,"merged":[[0,0,0,7],[1,0,1,7],[2,0,2,7],[3,0,3,5],[3,6,3,7],[4,0,4,5],[4,6,4,7],[14,0,14,2],[14,4,14,6],[15,0,15,6],[16,0,16,6],[17,0,17,6],[18,0,18,7],[5,0,5,7],[6,0,6,7],[7,0,7,6],[8,0,8,5],[10,0,10,7],[13,0,13,6],[27,0,27,6],[28,0,28,6],[29,0,29,6],[30,0,30,7],[31,0,31,6],[32,0,32,5],[19,0,19,6],[20,0,20,5],[22,0,22,7],[25,0,25,6],[26,0,26,2],[26,4,26,6],[46,0,46,6],[47,0,47,6],[48,0,48,6],[49,0,49,7],[50,0,50,6],[51,0,51,5],[34,0,34,7],[37,0,37,6],[38,0,38,7],[44,0,44,6],[45,0,45,2],[45,4,45,6],[59,0,59,6],[60,0,60,6],[61,0,61,7],[62,0,62,6],[63,0,63,5],[64,0,64,5],[52,0,52,5],[53,0,53,7],[56,0,56,6],[57,0,57,2],[57,4,57,6],[58,0,58,6],[73,0,73,6],[74,0,74,7],[75,0,75,6],[76,0,76,5],[77,0,77,5],[78,0,78,7],[65,0,65,7],[69,0,69,6],[70,0,70,2],[70,4,70,6],[71,0,71,6],[72,0,72,6],[93,0,93,6],[94,0,94,6],[95,0,95,6],[96,0,96,7],[97,0,97,6],[98,0,98,5],[82,0,82,6],[83,0,83,7],[86,0,86,6],[87,0,87,7],[91,0,91,6],[92,0,92,2],[92,4,92,6],[113,0,113,6],[114,0,114,2],[114,4,114,6],[115,0,115,6],[116,0,116,6],[117,0,117,6],[99,0,99,5],[100,0,100,7],[104,0,104,6],[105,0,105,7],[108,0,108,6],[109,0,109,7],[130,0,130,7],[134,0,134,6],[135,0,135,2],[135,4,135,6],[136,0,136,6],[137,0,137,6],[118,0,118,7],[119,0,119,6],[120,0,120,5],[121,0,121,5],[122,0,122,7],[129,0,129,6],[149,0,149,6],[150,0,150,7],[155,0,155,6],[156,0,156,2],[156,4,156,6],[157,0,157,6],[138,0,138,6],[139,0,139,7],[140,0,140,6],[141,0,141,5],[142,0,142,5],[143,0,143,7],[164,0,164,7],[171,0,171,6],[172,0,172,7],[176,0,176,6],[177,0,177,2],[177,4,177,6],[158,0,158,6],[159,0,159,6],[160,0,160,7],[161,0,161,6],[162,0,162,5],[163,0,163,5],[184,0,184,5],[185,0,185,7],[192,0,192,6],[193,0,193,7],[197,0,197,6],[198,0,198,2],[198,4,198,6],[178,0,178,6],[179,0,179,6],[180,0,180,6],[181,0,181,7],[182,0,182,6],[183,0,183,5],[205,0,205,5],[206,0,206,7],[209,0,209,6],[210,0,210,7],[215,0,215,6],[216,0,216,2],[216,4,216,6],[199,0,199,6],[200,0,200,6],[201,0,201,6],[202,0,202,7],[203,0,203,6],[204,0,204,5],[223,0,223,5],[224,0,224,7],[227,0,227,6],[228,0,228,7],[233,0,233,6],[234,0,234,2],[234,4,234,6],[217,0,217,6],[218,0,218,6],[219,0,219,6],[220,0,220,7],[221,0,221,6],[222,0,222,5],[241,0,241,5],[242,0,242,7],[245,0,245,6],[246,0,246,7],[251,0,251,6],[252,0,252,2],[252,4,252,6],[235,0,235,6],[236,0,236,6],[237,0,237,6],[238,0,238,7],[239,0,239,6],[240,0,240,5],[259,0,259,5],[260,0,260,7],[264,0,264,6],[265,0,265,7],[270,0,270,6],[271,0,271,2],[271,4,271,6],[253,0,253,6],[254,0,254,6],[255,0,255,6],[256,0,256,7],[257,0,257,6],[258,0,258,5],[278,0,278,5],[279,0,279,7],[282,0,282,6],[283,0,283,7],[288,0,288,6],[289,0,289,2],[289,4,289,6],[272,0,272,6],[273,0,273,6],[274,0,274,6],[275,0,275,7],[276,0,276,6],[277,0,277,5],[296,0,296,5],[297,0,297,7],[301,0,301,6],[302,0,302,7],[307,0,307,6],[308,0,308,2],[308,4,308,6],[290,0,290,6],[291,0,291,6],[292,0,292,6],[293,0,293,7],[294,0,294,6],[295,0,295,5],[315,0,315,5],[316,0,316,7],[320,0,320,6],[321,0,321,7],[326,0,326,6],[327,0,327,2],[327,4,327,6],[309,0,309,6],[310,0,310,6],[311,0,311,6],[312,0,312,7],[313,0,313,6],[314,0,314,5],[334,0,334,5],[335,0,335,7],[339,0,339,6],[340,0,340,7],[345,0,345,6],[346,0,346,2],[346,4,346,6],[328,0,328,6],[329,0,329,6],[330,0,330,6],[331,0,331,7],[332,0,332,6],[333,0,333,5],[353,0,353,5],[354,0,354,7],[358,0,358,6],[359,0,359,7],[364,0,364,6],[365,0,365,2],[365,4,365,6],[347,0,347,6],[348,0,348,6],[349,0,349,6],[350,0,350,7],[351,0,351,6],[352,0,352,5],[372,0,372,5],[373,0,373,7],[376,0,376,6],[377,0,377,7],[382,0,382,6],[383,0,383,2],[383,4,383,6],[366,0,366,6],[367,0,367,6],[368,0,368,6],[369,0,369,7],[370,0,370,6],[371,0,371,5],[390,0,390,5],[391,0,391,7],[394,0,394,6],[395,0,395,7],[400,0,400,6],[401,0,401,2],[401,4,401,6],[384,0,384,6],[385,0,385,6],[386,0,386,6],[387,0,387,7],[388,0,388,6],[389,0,389,5],[408,0,408,5],[409,0,409,7],[413,0,413,6],[414,0,414,7],[419,0,419,6],[420,0,420,2],[420,4,420,6],[402,0,402,6],[403,0,403,6],[404,0,404,6],[405,0,405,7],[406,0,406,6],[407,0,407,5],[427,0,427,5],[428,0,428,7],[431,0,431,6],[432,0,432,7],[437,0,437,6],[438,0,438,2],[438,4,438,6],[421,0,421,6],[422,0,422,6],[423,0,423,6],[424,0,424,7],[425,0,425,6],[426,0,426,5],[445,0,445,5],[446,0,446,7],[449,0,449,6],[450,0,450,7],[455,0,455,6],[456,0,456,2],[456,4,456,6],[439,0,439,6],[440,0,440,6],[441,0,441,6],[442,0,442,7],[443,0,443,6],[444,0,444,5],[463,0,463,5],[464,0,464,7],[468,0,468,6],[469,0,469,7],[474,0,474,6],[475,0,475,2],[475,4,475,6],[457,0,457,6],[458,0,458,6],[459,0,459,6],[460,0,460,7],[461,0,461,6],[462,0,462,5],[482,0,482,5],[483,0,483,7],[486,0,486,6],[487,0,487,7],[492,0,492,6],[493,0,493,2],[493,4,493,6],[476,0,476,6],[477,0,477,6],[478,0,478,6],[479,0,479,7],[480,0,480,6],[481,0,481,5],[500,0,500,5],[501,0,501,7],[505,0,505,6],[506,0,506,7],[511,0,511,6],[512,0,512,2],[512,4,512,6],[494,0,494,6],[495,0,495,6],[496,0,496,6],[497,0,497,7],[498,0,498,6],[499,0,499,5],[519,0,519,5],[520,0,520,7],[527,0,527,6],[528,0,528,7],[532,0,532,6],[533,0,533,2],[533,4,533,6],[513,0,513,6],[514,0,514,6],[515,0,515,6],[516,0,516,7],[517,0,517,6],[518,0,518,5],[540,0,540,5],[541,0,541,7],[548,0,548,6],[549,0,549,7],[553,0,553,6],[554,0,554,2],[554,4,554,6],[534,0,534,6],[535,0,535,6],[536,0,536,6],[537,0,537,7],[538,0,538,6],[539,0,539,5],[561,0,561,5],[562,0,562,7],[569,0,569,6],[570,0,570,7],[574,0,574,6],[575,0,575,2],[575,4,575,6],[555,0,555,6],[556,0,556,6],[557,0,557,6],[558,0,558,7],[559,0,559,6],[560,0,560,5],[582,0,582,5],[583,0,583,7],[590,0,590,6],[591,0,591,7],[595,0,595,6],[596,0,596,2],[596,4,596,6],[576,0,576,6],[577,0,577,6],[578,0,578,6],[579,0,579,7],[580,0,580,6],[581,0,581,5],[603,0,603,5],[604,0,604,7],[611,0,611,6],[612,0,612,7],[616,0,616,6],[617,0,617,2],[617,4,617,6],[597,0,597,6],[598,0,598,6],[599,0,599,6],[600,0,600,7],[601,0,601,6],[602,0,602,5],[624,0,624,5],[625,0,625,7],[632,0,632,6],[633,0,633,7],[637,0,637,6],[638,0,638,2],[638,4,638,6],[618,0,618,6],[619,0,619,6],[620,0,620,6],[621,0,621,7],[622,0,622,6],[623,0,623,5],[645,0,645,5],[646,0,646,7],[651,0,651,6],[652,0,652,7],[655,0,655,6],[656,0,656,2],[656,4,656,6],[639,0,639,6],[640,0,640,6],[641,0,641,6],[642,0,642,7],[643,0,643,6],[644,0,644,5],[663,0,663,5],[664,0,664,7],[669,0,669,6],[670,0,670,7],[673,0,673,6],[674,0,674,2],[674,4,674,6],[657,0,657,6],[658,0,658,6],[659,0,659,6],[660,0,660,7],[661,0,661,6],[662,0,662,5],[681,0,681,5],[682,0,682,7],[687,0,687,6],[688,0,688,7],[691,0,691,6],[692,0,692,2],[692,4,692,6],[675,0,675,6],[676,0,676,6],[677,0,677,6],[678,0,678,7],[679,0,679,6],[680,0,680,5],[699,0,699,5],[700,0,700,7],[704,0,704,6],[705,0,705,2],[705,4,705,6],[706,0,706,6],[693,0,693,6],[694,0,694,6],[695,0,695,6],[696,0,696,7],[697,0,697,6],[698,0,698,5],[713,0,713,7],[717,0,717,6],[718,0,718,2],[718,4,718,6],[719,0,719,6],[720,0,720,6],[707,0,707,6],[708,0,708,6],[709,0,709,7],[710,0,710,6],[711,0,711,5],[712,0,712,5],[729,0,729,6],[730,0,730,2],[730,4,730,6],[731,0,731,6],[732,0,732,6],[733,0,733,6],[721,0,721,6],[722,0,722,7],[723,0,723,6],[724,0,724,5],[725,0,725,5],[726,0,726,7],[744,0,744,2],[744,4,744,6],[745,0,745,6],[746,0,746,6],[747,0,747,6],[748,0,748,7],[734,0,734,7],[735,0,735,6],[736,0,736,5],[737,0,737,5],[738,0,738,7],[743,0,743,6],[757,0,757,6],[758,0,758,6],[759,0,759,6],[760,0,760,7],[761,0,761,6],[762,0,762,5],[749,0,749,6],[750,0,750,5],[751,0,751,5],[752,0,752,7],[755,0,755,6],[756,0,756,2],[756,4,756,6],[770,0,770,6],[771,0,771,6],[772,0,772,7],[773,0,773,6],[774,0,774,5],[775,0,775,5],[763,0,763,5],[764,0,764,7],[767,0,767,6],[768,0,768,2],[768,4,768,6],[769,0,769,6],[791,0,791,2],[791,4,791,6],[792,0,792,6],[793,0,793,6],[794,0,794,6],[795,0,795,7],[776,0,776,7],[781,0,781,6],[782,0,782,7],[785,0,785,6],[786,0,786,7],[790,0,790,6],[807,9,807,11],[808,0,808,6],[809,0,809,7],[813,0,813,6],[814,0,814,2],[814,4,814,6],[796,0,796,6],[797,0,797,5],[798,0,798,5],[799,0,799,7],[804,0,804,6],[805,0,805,7],[821,0,821,5],[822,0,822,7],[826,0,826,6],[827,0,827,7],[831,0,831,6],[832,0,832,2],[832,4,832,6],[815,0,815,6],[816,0,816,6],[817,0,817,6],[818,0,818,7],[819,0,819,6],[820,0,820,5],[839,0,839,5],[840,0,840,7],[844,0,844,6],[845,0,845,2],[845,4,845,6],[846,0,846,6],[833,0,833,6],[834,0,834,6],[835,0,835,6],[836,0,836,7],[837,0,837,6],[838,0,838,5],[853,0,853,7],[857,0,857,6],[858,0,858,2],[858,4,858,6],[859,0,859,6],[860,0,860,6],[847,0,847,6],[848,0,848,6],[849,0,849,7],[850,0,850,6],[851,0,851,5],[852,0,852,5],[870,0,870,6],[871,0,871,2],[871,4,871,6],[872,0,872,6],[873,0,873,6],[874,0,874,6],[861,0,861,6],[862,0,862,7],[863,0,863,6],[864,0,864,5],[865,0,865,5],[866,0,866,7],[884,0,884,2],[884,4,884,6],[885,0,885,6],[886,0,886,6],[887,0,887,6],[888,0,888,7],[875,0,875,7],[876,0,876,6],[877,0,877,5],[878,0,878,5],[879,0,879,7],[883,0,883,6],[898,0,898,6],[899,0,899,6],[900,0,900,6],[901,0,901,7],[902,0,902,6],[903,0,903,5],[889,0,889,6],[890,0,890,5],[891,0,891,5],[892,0,892,7],[896,0,896,6],[897,0,897,2],[897,4,897,6],[912,0,912,6],[913,0,913,6],[914,0,914,7],[915,0,915,6],[916,0,916,5],[917,0,917,5],[904,0,904,5],[905,0,905,7],[909,0,909,6],[910,0,910,2],[910,4,910,6],[911,0,911,6],[926,0,926,6],[927,0,927,7],[928,0,928,6],[929,0,929,5],[930,0,930,5],[931,0,931,7],[918,0,918,7],[922,0,922,6],[923,0,923,2],[923,4,923,6],[924,0,924,6],[925,0,925,6],[940,0,940,7],[941,0,941,6],[942,0,942,5],[943,0,943,5],[944,0,944,7],[948,0,948,6],[935,0,935,6],[936,0,936,2],[936,4,936,6],[937,0,937,6],[938,0,938,6],[939,0,939,6],[954,0,954,6],[955,0,955,5],[956,0,956,5],[957,0,957,7],[962,0,962,6],[963,0,963,7],[949,0,949,2],[949,4,949,6],[950,0,950,6],[951,0,951,6],[952,0,952,6],[953,0,953,7],[0,10,1,11],[10,8,10,9],[2,10,2,11],[988,0,988,6],[0,8,1,9],[8,8,8,9],[980,0,980,7],[984,0,984,6],[985,0,985,2],[985,4,985,6],[986,0,986,6],[987,0,987,6],[972,0,972,7],[973,0,973,6],[974,0,974,5],[975,0,975,5],[976,0,976,7],[979,0,979,6],[967,0,967,6],[968,0,968,2],[968,4,968,6],[969,0,969,6],[970,0,970,6],[971,0,971,6]]}
["MINISTÉRIO DO DESENVOLVIMENTO REGIONAL - MDR",{"$nulls":7},"FATORES DE MAJORAÇÃO DE MÃO DE OBRA",null,{"$f":"PO!I7","v":1299451.98}]
["COMPANHIA DE DESENVOLVIMENTO DOS VALES DO SÃO FRANCISCO E DO PARNAÍBA"]
["1ª SUPERINTENDÊNCIA REGIONAL",{"$nulls":7},"ARH","ADOTADO","ADICIONAL HE"]
["BELO HORIZONTE - MG",{"$nulls":5},"Base SINAPI-MG 09-2023",null,2,1.5,1,1]
["PROJETO DE REFORMA DO ESCRITÓRIO DA CODEVASF",{"$nulls":5},"Data: outubro 2023",null,0.6,0.85]
["COMPOSIÇÕES DE PREÇO UNITÁRIO",{"$nulls":7},0.8,0.85]
[{"$nulls":8},"ATUALIZ. 1",1.1000000000000001]
[" COMPOSIÇÃO DE PREÇO UNITÁRIO",{"$nulls":6},"CPU001","ATUALIZ. 2",1.1499999999999999]
["DESCRIÇÃO DO SERVIÇO",{"$nulls":5},"DATA BASE: ","2023-09-01","DIVISÓRIAS"]
["MOBILIZAÇÃO",{"$nulls":5},"UNIDADE: ","GB",0.8,0.8]
["EQUIPAMENTO",{"$nulls":7},"TACO"]
["BASE","CÓDIGO","DISCRIMINAÇÃO","UNI","QUANT.","P.UN.PROD","P.UN.IMPR","P.TOTAL",0.7,0.75]
["SINAPI",5811,"CAMINHÃO BASCULANTE 6 M3, PESO BRUTO TOTAL 16.000 KG, CARGA ÚTIL MÁXIMA 13.071 KG, DISTÂNCIA ENTRE EIXOS 4,80 M, POTÊNCIA 230 CV INCLUSIVE CAÇAMBA METÁLICA ","h",5,{"$f":"I13","v":202.79},null,{"$f":"E13*F13+E13*G13","v":1013.9499999999999},202.79]
["SUB-TOTAL",{"$nulls":6},{"$f":"SUM(H13:H13)","v":1013.9499999999999}]
["PRODUÇÃO DA EQUIPE",null,null,1,"CUSTO ",null,null,{"$f":"H14","v":1013.9499999999999}]
["TOTAL - R$",{"$nulls":6},{"$f":"H15/D15","v":1013.9499999999999}]
["BDI                %",{"$nulls":6},1]
["TOTAL DO SERVIÇO - R$",{"$nulls":6},{"$f":"H16*H17","v":1013.9499999999999}]
[]
[" COMPOSIÇÃO DE PREÇO UNITÁRIO",{"$nulls":6},"CPU002"]
["DESCRIÇÃO DO SERVIÇO",{"$nulls":5},"DATA BASE: ","2023-09-01"]
["DESMOBILIZAÇÃO",{"$nulls":5},"UNIDADE: ","GB"]
["EQUIPAMENTO"]
["BASE","CÓDIGO","DISCRIMINAÇÃO","UNI","QUANT.","P.UN.PROD","P.UN.IMPR","P.TOTAL"]
["SINAPI",5811,"CAMINHÃO BASCULANTE 6 M3, PESO BRUTO TOTAL 16.000 KG, CARGA ÚTIL MÁXIMA 13.071 KG, DISTÂNCIA ENTRE EIXOS 4,80 M, POTÊNCIA 230 CV INCLUSIVE CAÇAMBA METÁLICA ","h",5,{"$f":"I25","v":202.79},null,{"$f":"E25*F25+E25*G25","v":1013.9499999999999},202.79]
["SUB-TOTAL",{"$nulls":6},{"$f":"SUM(H25:H25)","v":1013.9499999999999}]
["PRODUÇÃO DA EQUIPE",null,null,1,"CUSTO ",null,null,{"$f":"H26","v":1013.9499999999999}]
["TOTAL - R$",{"$nulls":6},{"$f":"H27/D27","v":1013.9499999999999}]
["BDI                %",{"$nulls":6},1]
["TOTAL DO SERVIÇO - R$",{"$nulls":6},{"$f":"H28*H29","v":1013.9499999999999}]
[]
[" COMPOSIÇÃO DE PREÇO UNITÁRIO",{"$nulls":6},"CPU003"]
["DESCRIÇÃO DO SERVIÇO",{"$nulls":5},"DATA BASE: ","2023-09-01"]
["ADMINISTRAÇÃO LOCAL ",{"$nulls":5},"UNIDADE: ","GB"]
["SERVIÇOS - COMPOSIÇÕES AUXILIARES"]
["BASE","CÓDIGO","DISCRIMINAÇÃO","UNI","QUANT.",null,"P.UNIT.","P.TOTAL",{"$f":"$J$7","v":1.1000000000000001}]
["Mercado",null,"VALE TRANSPORTE - TARIFA DE ÔNIBUS NO MUNICIPIO BELO HORIZONTE PARA TRANSPORTE DE MÃO DE OBRA ATÉ O LOCAL DA OBRA","un",352,null,{"$f":"I37*I36","v":4.95},{"$f":"E37*G37","v":1742.4},4.5]
["SUB-TOTAL",{"$nulls":6},{"$f":"SUM(H37:H37)","v":1742.4}]
["MÃO DE OBRA"]
["BASE","CÓDIGO","DISCRIMINAÇÃO","UNI","QUANT.",null,"P.UNIT.","P.TOTAL",{"$f":"$J$4","v":1.5}]
["SINAPI",40811,"ENGENHEIRO DE OBRA ","mês",0.5,null,{"$f":"I41","v":19486.89},{"$f":"E41*G41","v":9743.4449999999997},19486.89]
["SINAPI",40818,"ENCARREGADO GERAL DE OBRAS","mês",1,null,8310.58,{"$f":"E42*G42","v":8310.58},8310.58]
["SINAPI",40812,"AUXILIAR DE ESCRITORIO COM ENCARGOS COMPLEMENTARES ","mês",0.2,null,{"$f":"I43*I40","v":5456.6849999999995},{"$f":"E43*G43","v":1091.337},3637.79]
["SINAPI",40943,"TÉCNICO EM SEGURANÇA DO TRABALHO","h",24,null,{"$f":"I44*I40","v":61.41},{"$f":"E44*G44","v":1473.84},40.94]
["SUB-TOTAL",{"$nulls":6},{"$f":"SUM(H41:H44)","v":20619.202000000001}]
["PRODUÇÃO DA EQUIPE",null,null,10,"CUSTO ",null,null,{"$f":"H45+H38","v":22361.602000000003}]
["TOTAL - R$",{"$nulls":6},{"$f":"H46*D46","v":223616.02000000002}]
["BDI                %",{"$nulls":6},1]
["TOTAL DO SERVIÇO - R$",{"$nulls":6},{"$f":"H47*H48","v":223616.02000000002}]
[]
[" COMPOSIÇÃO DE PREÇO UNITÁRIO",{"$nulls":6},"CPU004"]
["DESCRIÇÃO DO SERVIÇO",{"$nulls":5},"DATA BASE: ","2023-09-01"]
["ALUGUEL CAÇAMBA 5 m³ A SER ENTREGUE EM REGIÃO CENTRAL EM DIAS DE SEMANA NO PERIODO APÓS 19:00 E RETIRADA NO MESMO DIA OU ATÉ AS 06:00 DO DIA SEGUINTE OU ENTREGUE NO SABADO APÓS AS 14:00 E RETIRADA ATÉ AS 06:00 DA PROXIMA SEGUNDA FEIRA",{"$nulls":5},"UNIDADE: ","UNID."]
["SERVIÇOS - COMPOSIÇÕES AUXILIARES"]
["BASE","CÓDIGO","DISCRIMINAÇÃO","UNI","QUANT.",null,"P.UNIT.","P.TOTAL",1]
["Mercado",null,"ALUGUEL CAÇAMBA 5 m³ A SER ENTREGUE EM REGIÃO CENTRAL EM DIAS DE SEMANA NO PERIODO APÓS 19:00 E RETIRADA NO MESMO DIA OU ATÉ AS 06:00 DO DIA SEGUINTE OU ENTREGUE NO SABADO APÓS AS 13:00 E RETIRADA ATÉ AS 06:00 DA PROXIMA SEGUNDA FEIRA","und",1,null,{"$f":"I56*I55","v":400},{"$f":"E56*G56","v":400},400]
["SUB-TOTAL",{"$nulls":6},{"$f":"SUM(H56:H56)","v":400}]
["PRODUÇÃO DA EQUIPE",null,null,1,"CUSTO ",null,null,{"$f":"H57","v":400}]
["TOTAL - R$",{"$nulls":6},{"$f":"H58/D58","v":400}]
["BDI                %",{"$nulls":6},1]
["TOTAL DO SERVIÇO - R$",{"$nulls":6},{"$f":"H59*H60","v":400}]
[]
[" COMPOSIÇÃO DE PREÇO UNITÁRIO",{"$nulls":6},"CPU005"]
["DESCRIÇÃO DO SERVIÇO",{"$nulls":5},"DATA BASE: ","2023-09-01"]
["EXECUÇÃO DE INSTALAÇÕES HIDROSSANITÁRIAS, EXCLUSIVE EQUIPAMENTOS",{"$nulls":5},"UNIDADE: ","CJ."]
["MÃO DE OBRA"]
["BASE","CÓDIGO","DISCRIMINAÇÃO","UNI","QUANT.",null,"P.UNIT.","P.TOTAL",{"$f":"$J$4","v":1.5},null,{"$f":"1*1.25/0.8","v":1.5625}]
["SINAPI",88248,"AUXILIAR DE ENCANADOR OU BOMBEIRO HIDRÁULICO COM ENCARGOS COMPLEMENTARES","h",220,null,{"$f":"I68*I67","v":32.01},{"$f":"E68*G68","v":7042.2},21.34]
["SINAPI",88267,"ENCANADOR OU BOMBEIRO HIDRÁULICO COM ENCARGOS COMPLEMENTARES ","h",110,null,{"$f":"I69*I67","v":40.049999999999997},{"$f":"E69*G69","v":4405.5},26.7,null,{"$f":"SUM(H68:H69)","v":11447.7}]
["SUB-TOTAL",{"$nulls":6},{"$f":"SUM(H68:H69)","v":11447.7},null,null,{"$f":"I67*K69","v":17171.550000000003}]
["PRODUÇÃO DA EQUIPE",null,null,{"$f":"$J$5","v":0.85},"CUSTO ",null,null,{"$f":"+H70","v":11447.7},null,null,{"$f":"K70/0.8","v":21464.437500000004}]
["TOTAL - R$",{"$nulls":6},{"$f":"H71/D71","v":13467.882352941178}]
["BDI                %",{"$nulls":6},1]
["TOTAL DO SERVIÇO - R$",{"$nulls":6},{"$f":"H72*H73","v":13467.882352941178}]
[]
[" COMPOSIÇÃO DE PREÇO UNITÁRIO",{"$nulls":6},"CPU006"]
["DESCRIÇÃO DO SERVIÇO",{"$nulls":5},"DATA BASE: ","2023-09-01"]
["DIVISÓRIA EM MDF, FORNECIMENTO E INSTALAÇÃO",{"$nulls":5},"UNIDADE: ","M2"]
["MATERIAIS"]
["BASE","CÓDIGO","DISCRIMINAÇÃO","UNI","QUANT.",null,"P.UNIT.","P.TOTAL"]
["SINAPI",34666,"CHAPA DE MDF BRANCO LISO 2 FACES, E = 25 MM, DE *2,75 X 1,85* M ","m²",1.1000000000000001,null,{"$f":"I81","v":80.17},{"$f":"E81*G81","v":88.187000000000012},80.17]
["SINAPI",5061,"PREGO DE ACO POLIDO COM CABECA 18 X 27 (2 1/2 X 10)","kg",7.8399999999999997E-2,null,{"$f":"I82","v":18.899999999999999},{"$f":"E82*G82","v":1.4817599999999997},18.899999999999999]
["SUB-TOTAL",{"$nulls":6},{"$f":"SUM(H81:H82)","v":89.668760000000006}]
["EQUIPAMENTOS"]
["BASE","CÓDIGO","DISCRIMINAÇÃO","UNI","QUANT.",null,"P.UNIT.","P.TOTAL"]
["SINAPI",91692,"SERRA CIRCULAR DE BANCADA COM MOTOR ELÉTRICO POTÊNCIA DE 5HP, COM COIFA PARA DISCO 10\" - CHP DIURNO. ","chp",1.7000000000000001E-2,null,{"$f":"I86","v":35.130000000000003},{"$f":"E86*G86","v":0.59721000000000013},35.130000000000003]
["SUB-TOTAL",{"$nulls":6},{"$f":"SUM(H86:H86)","v":0.59721000000000013}]
["MÃO DE OBRA"]
["BASE","CÓDIGO","DISCRIMINAÇÃO","UNI","QUANT.",null,"P.UNIT.","P.TOTAL",{"$f":"$J$4","v":1.5}]
["SINAPI",88239,"AJUDANTE DE CARPINTEIRO COM ENCARGOS COMPLEMENTARES","h",9,null,{"$f":"I90*I89","v":32.67},{"$f":"E90*G90","v":294.03000000000003},21.78]
["SINAPI",88262,"CARPINTEIRO DE FORMAS COM ENCARGOS COMPLEMENTARES","h",9,null,{"$f":"I91*I89","v":40.575000000000003},{"$f":"E91*G91","v":365.17500000000001},27.05]
["SUB-TOTAL",{"$nulls":6},{"$f":"SUM(H90:H91)","v":659.20500000000004}]
["PRODUÇÃO DA EQUIPE",null,null,1,"CUSTO ",null,null,{"$f":"H83+H92+H87","v":749.47097000000008}]
["TOTAL - R$",{"$nulls":6},{"$f":"H93/D93","v":749.47097000000008}]
["BDI                %",{"$nulls":6},1]
["TOTAL DO SERVIÇO - R$",{"$nulls":6},{"$f":"H94*H95","v":749.47097000000008}]
[]
[" COMPOSIÇÃO DE PREÇO UNITÁRIO",{"$nulls":6},"CPU007"]
["DESCRIÇÃO DO SERVIÇO",{"$nulls":5},"DATA BASE: ","2023-09-01"]
["PAINEL EM MDF FREIJÓ, FORNECIMENTO E INSTALAÇÃO",{"$nulls":5},"UNIDADE: ","M2"]
["MATERIAIS"]
["BASE","CÓDIGO","DISCRIMINAÇÃO","UNI","QUANT.",null,"P.UNIT.","P.TOTAL"]
["SINAPI",34666,"CHAPA DE MDF BRANCO LISO 2 FACES, E = 25 MM, DE *2,75 X 1,85* M ","m²",1.1000000000000001,null,{"$f":"I103","v":80.17},{"$f":"E103*G103","v":88.187000000000012},80.17]
["SINAPI",5061,"PREGO DE ACO POLIDO COM CABECA 18 X 27 (2 1/2 X 10)","kg",7.8399999999999997E-2,null,{"$f":"I104","v":18.899999999999999},{"$f":"E104*G104","v":1.4817599999999997},18.899999999999999]
["SUB-TOTAL",{"$nulls":6},{"$f":"SUM(H103:H104)","v":89.668760000000006}]
["EQUIPAMENTOS"]
["BASE","CÓDIGO","DISCRIMINAÇÃO","UNI","QUANT.",null,"P.UNIT.","P.TOTAL"]
["SINAPI",91692,"SERRA CIRCULAR DE BANCADA COM MOTOR ELÉTRICO POTÊNCIA DE 5HP, COM COIFA PARA DISCO 10\" - CHP DIURNO. ","chp",1.7000000000000001E-2,null,{"$f":"I108","v":35.130000000000003},{"$f":"E108*G108","v":0.59721000000000013},35.130000000000003]
["SUB-TOTAL",{"$nulls":6},{"$f":"SUM(H108:H108)","v":0.59721000000000013}]
["MÃO DE OBRA"]
["BASE","CÓDIGO","DISCRIMINAÇÃO","UNI","QUANT.",null,"P.UNIT.","P.TOTAL",{"$f":"$J$4","v":1.5}]
["SINAPI",88239,"AJUDANTE DE CARPINTEIRO COM ENCARGOS COMPLEMENTARES","h",9,null,{"$f":"I112*I111","v":32.67},{"$f":"E112*G112","v":294.03000000000003},21.78]
["SINAPI",88262,"CARPINTEIRO DE FORMAS COM ENCARGOS COMPLEMENTARES","h",9,null,{"$f":"I113*I111","v":40.575000000000003},{"$f":"E113*G113","v":365.17500000000001},27.05]
["SUB-TOTAL",{"$nulls":6},{"$f":"SUM(H112:H113)","v":659.20500000000004}]
["PRODUÇÃO DA EQUIPE",null,null,1,"CUSTO ",null,null,{"$f":"H105+H114+H109","v":749.47097000000008}]
["TOTAL - R$",{"$nulls":6},{"$f":"H115/D115","v":749.47097000000008}]
["BDI                %",{"$nulls":6},1]
["TOTAL DO SERVIÇO - R$",{"$nulls":6},{"$f":"H116*H117","v":749.47097000000008}]
[]
[" COMPOSIÇÃO DE PREÇO UNITÁRIO",{"$nulls":6},"CPU008"]
["DESCRIÇÃO DO SERVIÇO",{"$nulls":5},"DATA BASE: ","2023-09-01"]
["PORTA DE CORRER DE MADEIRA, SEMIOCA 80 X 210 CM, INCLUSO TRILHO, ROLDANA, PUXADOR E FECHADURA - FORNECIMENTO E INSTALAÇÃO",{"$nulls":5},"UNIDADE: ","UNID."]
["MATERIAIS"]
["BASE","CÓDIGO","DISCRIMINAÇÃO","UNI","QUANT.",null,"P.UNIT.","P.TOTAL"]
["SINAPI",4998,"PORTA DE MADEIRA-DE-LEI TIPO MEXICANA SEM EMENDA (ANGELIM OU EQUIVALENTE REGIONAL), E = *3,5* CM","m²",1.68,null,{"$f":"I125","v":853.84},{"$f":"E125*G125","v":1434.4512},853.84]
["SINAPI",5067,"PREGO DE ACO POLIDO COM CABECA 16 X 24 (2 1/4 X 12) ","kg",0.15,null,{"$f":"I126","v":20.49},{"$f":"E126*G126","v":3.0734999999999997},20.49]
["SINAPI",38179,"ROLDANA CONCAVA DUPLA, 4 RODAS, PARA PORTA DE CORRER, EM ZAMAC COM CHAPA DE ACO, ROLAMENTO INTERNO BLINDADO DE ACO REVESTIDO EM NYLON","un",1,null,48.52,48.52,48.52]
["SINAPI",11581,"TRILHO PANTOGRAFICO CONCAVO, TIPO U, EM ALUMINIO, COM DIMENSOES DE APROX *35 X 35* MM, PARA ROLDANA DE PORTA DE CORRER","m",1.6,null,21.52,{"$f":"E128*G128","v":34.432000000000002},21.52]
["SINAPI",38165,"FECHO / FECHADURA COM PUXADOR CONCHA, COM TRANCA TIPO TRAVA, PARA JANELA / PORTA DE CORRER (INCLUI TESTA, FECHADURA, PUXADOR) - COMPLETA","cj",1,null,72.239999999999995,{"$f":"E129*G129","v":72.239999999999995},72.239999999999995]
["SUB-TOTAL",{"$nulls":6},{"$f":"SUM(H125:H129)","v":1592.7166999999999}]
["MÃO DE OBRA"]
["BASE","CÓDIGO","DISCRIMINAÇÃO","UNI","QUANT.",null,"P.UNIT.","P.TOTAL",{"$f":"$J$4","v":1.5}]
["SINAPI",88316,"SERVENTE DE OBRAS ","h",4.75,null,{"$f":"I133*I132","v":29.64},{"$f":"E133*G133","v":140.79},19.760000000000002]
["SINAPI",88261,"CARPINTEIRO DE ESQUADRIA COM ENCARGOS COMPLEMENTARES","h",4.75,null,{"$f":"I134*I132","v":45.884999999999998},{"$f":"E134*G134","v":217.95374999999999},30.59]
["SUB-TOTAL",{"$nulls":6},{"$f":"SUM(H133:H134)","v":358.74374999999998}]
["PRODUÇÃO DA EQUIPE",null,null,{"$f":"$J$6","v":0.85},"CUSTO ",null,null,{"$f":"H130+H135","v":1951.46045}]
["TOTAL - R$",{"$nulls":6},{"$f":"H136/D136","v":2295.8358235294118}]
["BDI                %",{"$nulls":6},1]
["TOTAL DO SERVIÇO - R$",{"$nulls":6},{"$f":"H137*H138","v":2295.8358235294118}]
[]
[" COMPOSIÇÃO DE PREÇO UNITÁRIO",{"$nulls":6},"CPU009"]
["DESCRIÇÃO DO SERVIÇO",{"$nulls":5},"DATA BASE: ","2023-09-01"]
["PORTA DE CORRER DE VIDRO 220 X 200 CM, INCLUSO TRILHO, ROLDANA, PUXADOR - FORNECIMENTO E INSTALAÇÃO",{"$nulls":5},"UNIDADE: ","UNID."]
["MATERIAIS"]
["BASE","CÓDIGO","DISCRIMINAÇÃO","UNI","QUANT.",null,"P.UNIT.","P.TOTAL"]
["SINAPI",34713,"PORTA VIDRO TEMPERADO INCOLOR, 2 FOLHAS DE CORRER, E = 10 MM (SEM FERRAGENS E SEM COLOCACAO)","m²",4.4000000000000004,null,{"$f":"I146","v":288.18},{"$f":"E146*G146","v":1267.9920000000002},288.18]
["SINAPI",3104,"CONJ. DE FERRAGENS PARA PORTA DE VIDRO TEMPERADO, EM ZAMAC CROMADO, CONTEMPLANDO DOBRADICA INF., DOBRADICA SUP., PIVO PARA DOBRADICA INF., PIVO PARA DOBRADICA SUP., FECHADURA CENTRAL EM ZAMC. CROMADO, CONTRA FECHADURA\nDE PRESSAO","cj",1,null,{"$f":"I147","v":157.65},{"$f":"E147*G147","v":157.65},157.65]
["SINAPI",11522,"PUXADOR DE EMBUTIR TIPO CONCHA, COM FURO PARA CHAVE, EM LATAO CROMADO, COMPRIMENTO DE APROX *100* MM E LARGURA DE APROX *40* MM","un",1,null,13.6,13.6,13.6]
["SINAPI",11581,"TRILHO PANTOGRAFICO CONCAVO, TIPO U, EM ALUMINIO, COM DIMENSOES DE APROX *35 X 35* MM, PARA ROLDANA DE PORTA DE CORRER","m",4.4000000000000004,null,21.52,{"$f":"E149*G149","v":94.688000000000002},21.52]
["SUB-TOTAL",{"$nulls":6},{"$f":"SUM(H146:H149)","v":1533.9300000000003}]
["MÃO DE OBRA"]
["BASE","CÓDIGO","DISCRIMINAÇÃO","UNI","QUANT.",null,"P.UNIT.","P.TOTAL",{"$f":"$J$4","v":1.5}]
["SINAPI",88316,"SERVENTE DE OBRAS ","h",1,null,{"$f":"I153*I152","v":29.64},{"$f":"E153*G153","v":29.64},19.760000000000002]
["SINAPI",88325,"VIDRACEIRO COM ENCARGOS COMPLEMENTARES H CR ","h",2.5,null,{"$f":"I154*I152","v":32.97},{"$f":"E154*G154","v":82.424999999999997},21.98]
["SINAPI",88309,"PEDREIRO","h",1,null,{"$f":"I155*I152","v":41.174999999999997},{"$f":"E155*G155","v":41.174999999999997},27.45]
["SUB-TOTAL",{"$nulls":6},{"$f":"SUM(H153:H155)","v":153.24}]
["PRODUÇÃO DA EQUIPE",null,null,{"$f":"$J$6","v":0.85},"CUSTO ",null,null,{"$f":"H150+H156","v":1687.1700000000003}]
["TOTAL - R$",{"$nulls":6},{"$f":"H157/D157","v":1984.9058823529415}]
["BDI                %",{"$nulls":6},1]
["TOTAL DO SERVIÇO - R$",{"$nulls":6},{"$f":"H158*H159","v":1984.9058823529415}]
[]
[" COMPOSIÇÃO DE PREÇO UNITÁRIO",{"$nulls":6},"CPU010"]
["DESCRIÇÃO DO SERVIÇO",{"$nulls":5},"DATA BASE: ","2023-09-01"]
["PORTA TIPO VAI-VEM DE MADEIRA, SEMIOCA 150 X 210 CM, INCLUSO ADUELA E DOBRADIÇAS - FORNECIMENTO E INSTALAÇÃO",{"$nulls":5},"UNIDADE: ","UNID."]
["MATERIAIS"]
["BASE","CÓDIGO","DISCRIMINAÇÃO","UNI","QUANT.",null,"P.UNIT.","P.TOTAL"]
["SINAPI",10554,"PORTA DE MADEIRA, FOLHA MEDIA (NBR 15930) DE 700 X 2100 MM, DE 35 MM A 40 MM DE ESPESSURA, NUCLEO SEMI-SOLIDO (SARRAFEADO), CAPA LISA EM HDF, ACABAMENTO EM PRIMER PARA PINTURA","un",2,null,{"$f":"I167","v":184.36},{"$f":"E167*G167","v":368.72},184.36]
["SINAPI",5067,"PREGO DE ACO POLIDO COM CABECA 16 X 24 (2 1/4 X 12) ","kg",0.58799999999999997,null,{"$f":"I168","v":20.49},{"$f":"E168*G168","v":12.048119999999999},20.49]
["SINAPI",11451,"DOBRADICA TIPO VAI-E-VEM EM ACO/FERRO, TAMANHO 3'', GALVANIZADO, COM PARAFUSOS UN CR ","un",6,null,64.12,384.72,64.12]
["SINAPI",184,"BATENTE / PORTAL / ADUELA / MARCO EM MADEIRA MACICA COM REBAIXO, E = *3* CM, L = *14* CM, PARA PORTAS DE GIRO DE *60 CM A 120* CM X *210* CM, PINUS / EUCALIPTO / VIROLA OU EQUIVALENTE DA REGIAO (NAO INCLUI ALIZARES)","jg",1,null,130.06,{"$f":"E170*G170","v":130.06},130.06]
["SINAPI",4791,"ADESIVO ACRILICO DE BASE AQUOSA / COLA DE CONTATO  ","kg",0.28000000000000003,null,47,{"$f":"E171*G171","v":13.160000000000002}]
["SUB-TOTAL",{"$nulls":6},{"$f":"SUM(H167:H171)","v":908.70811999999989}]
["MÃO DE OBRA"]
["BASE","CÓDIGO","DISCRIMINAÇÃO","UNI","QUANT.",null,"P.UNIT.","P.TOTAL",{"$f":"$J$4","v":1.5}]
["SINAPI",88316,"SERVENTE DE OBRAS ","h",7.26,null,{"$f":"I175*I174","v":29.64},{"$f":"E175*G175","v":215.18639999999999},19.760000000000002]
["SINAPI",88261,"CARPINTEIRO DE ESQUADRIA COM ENCARGOS COMPLEMENTARES","h",4.32,null,{"$f":"I176*I174","v":45.884999999999998},{"$f":"E176*G176","v":198.22319999999999},30.59]
["SUB-TOTAL",{"$nulls":6},{"$f":"SUM(H175:H176)","v":413.40959999999995}]
["PRODUÇÃO DA EQUIPE",null,null,{"$f":"$J$6","v":0.85},"CUSTO ",null,null,{"$f":"H172+H177","v":1322.1177199999997}]
["TOTAL - R$",{"$nulls":6},{"$f":"H178/D178","v":1555.4326117647056}]
["BDI                %",{"$nulls":6},1]
["TOTAL DO SERVIÇO - R$",{"$nulls":6},{"$f":"H179*H180","v":1555.4326117647056}]
[]
[" COMPOSIÇÃO DE PREÇO UNITÁRIO",{"$nulls":6},"CPU011"]
["DESCRIÇÃO DO SERVIÇO",{"$nulls":5},"DATA BASE: ","2023-09-01"]
["PORTA DE CORRER DE MADEIRA, SEMIOCA 1,10 X 210 CM, INCLUSO TRILHO, ROLDANA, PUXADOR E FECHADURA - FORNECIMENTO E INSTALAÇÃO",{"$nulls":5},"UNIDADE: ","UNID."]
["MATERIAIS"]
["BASE","CÓDIGO","DISCRIMINAÇÃO","UNI","QUANT.",null,"P.UNIT.","P.TOTAL"]
["SINAPI",4998,"PORTA DE MADEIRA-DE-LEI TIPO MEXICANA SEM EMENDA (ANGELIM OU EQUIVALENTE REGIONAL), E = *3,5* CM","m²",2.31,null,{"$f":"I188","v":853.84},{"$f":"E188*G188","v":1972.3704},853.84]
["SINAPI",5067,"PREGO DE ACO POLIDO COM CABECA 16 X 24 (2 1/4 X 12) ","kg",0.15,null,{"$f":"I189","v":20.49},{"$f":"E189*G189","v":3.0734999999999997},20.49]
["SINAPI",38179,"ROLDANA CONCAVA DUPLA, 4 RODAS, PARA PORTA DE CORRER, EM ZAMAC COM CHAPA DE ACO, ROLAMENTO INTERNO BLINDADO DE ACO REVESTIDO EM NYLON","un",1,null,48.52,48.52,48.52]
["SINAPI",11581,"TRILHO PANTOGRAFICO CONCAVO, TIPO U, EM ALUMINIO, COM DIMENSOES DE APROX *35 X 35* MM, PARA ROLDANA DE PORTA DE CORRER","m",2.2000000000000002,null,21.52,{"$f":"E191*G191","v":47.344000000000001},21.52]
["SINAPI",38165,"FECHO / FECHADURA COM PUXADOR CONCHA, COM TRANCA TIPO TRAVA, PARA JANELA / PORTA DE CORRER (INCLUI TESTA, FECHADURA, PUXADOR) - COMPLETA","cj",1,null,72.239999999999995,{"$f":"E192*G192","v":72.239999999999995},72.239999999999995]
["SUB-TOTAL",{"$nulls":6},{"$f":"SUM(H188:H192)","v":2143.5478999999996}]
["MÃO DE OBRA"]
["BASE","CÓDIGO","DISCRIMINAÇÃO","UNI","QUANT.",null,"P.UNIT.","P.TOTAL",{"$f":"$J$4","v":1.5}]
["SINAPI",88316,"SERVENTE DE OBRAS ","h",4.75,null,{"$f":"I196*I195","v":29.64},{"$f":"E196*G196","v":140.79},19.760000000000002]
["SINAPI",88261,"CARPINTEIRO DE ESQUADRIA COM ENCARGOS COMPLEMENTARES","h",4.75,null,{"$f":"I197*I195","v":45.884999999999998},{"$f":"E197*G197","v":217.95374999999999},30.59]
["SUB-TOTAL",{"$nulls":6},{"$f":"SUM(H196:H197)","v":358.74374999999998}]
["PRODUÇÃO DA EQUIPE",null,null,{"$f":"$J$6","v":0.85},"CUSTO ",null,null,{"$f":"H193+H198","v":2502.2916499999997}]
["TOTAL - R$",{"$nulls":6},{"$f":"H199/D199","v":2943.8725294117644}]
["BDI                %",{"$nulls":6},1]
["TOTAL DO SERVIÇO - R$",{"$nulls":6},{"$f":"H200*H201","v":2943.8725294117644}]
[]
[" COMPOSIÇÃO DE PREÇO UNITÁRIO",{"$nulls":6},"CPU012"]
["DESCRIÇÃO DO SERVIÇO",{"$nulls":5},"DATA BASE: ","2023-09-01"]
["MÓVEL PLANEJADO EM MDF PARA ESCRITÓRIO DM1, CONFORME PROJETO - FORNECIMENTO E INSTALAÇÃO",{"$nulls":5},"UNIDADE: ","UNID."]
["MATERIAIS"]
["BASE","CÓDIGO","DISCRIMINAÇÃO","UNI","QUANT.",null,"P.UNIT.","P.TOTAL"]
["SINAPI",34666,"CHAPA DE MDF BRANCO LISO 2 FACES, E = 25 MM, DE *2,75 X 1,85* M ","m²",8.41,null,{"$f":"I209","v":80.14},{"$f":"E209*G209","v":673.97739999999999},80.14]
["SUB-TOTAL",{"$nulls":6},{"$f":"SUM(H209:H209)","v":673.97739999999999}]
["MÃO DE OBRA",{"$nulls":7},{"$f":"$J$4*0.9","v":1.35}]
["BASE","CÓDIGO","DISCRIMINAÇÃO","UNI","QUANT.",null,"P.UNIT.","P.TOTAL",{"$f":"I$211","v":1.35}]
["SINAPI",88239,"AJUDANTE DE CARPINTEIRO COM ENCARGOS COMPLEMENTARES ","h",55,null,{"$f":"I213*I212","v":29.403000000000002},{"$f":"E213*G213","v":1617.1650000000002},21.78]
["SINAPI",88261,"CARPINTEIRO DE ESQUADRIA COM ENCARGOS COMPLEMENTARES","h",56,null,{"$f":"I214*I212","v":41.296500000000002},{"$f":"E214*G214","v":2312.6040000000003},30.59]
["SINAPI",88316,"SERVENTE DE OBRAS ","h",1,null,{"$f":"I215*I212","v":26.676000000000005},{"$f":"E215*G215","v":26.676000000000005},19.760000000000002]
["SUB-TOTAL",{"$nulls":6},{"$f":"SUM(H213:H215)","v":3956.4450000000002}]
["PRODUÇÃO DA EQUIPE",null,null,1,"CUSTO ",null,null,{"$f":"H210+H216","v":4630.4224000000004}]
["TOTAL - R$",{"$nulls":6},{"$f":"H217/D217","v":4630.4224000000004}]
["BDI                %",{"$nulls":6},1]
["TOTAL DO SERVIÇO - R$",{"$nulls":6},{"$f":"H218*H219","v":4630.4224000000004}]
[]
[" COMPOSIÇÃO DE PREÇO UNITÁRIO",{"$nulls":6},"CPU013"]
["DESCRIÇÃO DO SERVIÇO",{"$nulls":5},"DATA BASE: ","2023-09-01"]
["MÓVEL PLANEJADO EM MDF PARA ESCRITÓRIO DM2, CONFORME PROJETO - FORNECIMENTO E INSTALAÇÃO",{"$nulls":5},"UNIDADE: ","UNID."]
["MATERIAIS"]
["BASE","CÓDIGO","DISCRIMINAÇÃO","UNI","QUANT.",null,"P.UNIT.","P.TOTAL"]
["SINAPI",34666,"CHAPA DE MDF BRANCO LISO 2 FACES, E = 25 MM, DE *2,75 X 1,85* M ","m²",8.74,null,{"$f":"I227","v":80.14},{"$f":"E227*G227","v":700.42360000000008},80.14]
["SUB-TOTAL",{"$nulls":6},{"$f":"SUM(H227:H227)","v":700.42360000000008}]
["MÃO DE OBRA"]
["BASE","CÓDIGO","DISCRIMINAÇÃO","UNI","QUANT.",null,"P.UNIT.","P.TOTAL",{"$f":"I$211","v":1.35}]
["SINAPI",88239,"AJUDANTE DE CARPINTEIRO COM ENCARGOS COMPLEMENTARES ","h",58,null,{"$f":"I231*I230","v":29.403000000000002},{"$f":"E231*G231","v":1705.374},21.78]
["SINAPI",88261,"CARPINTEIRO DE ESQUADRIA COM ENCARGOS COMPLEMENTARES","h",58,null,{"$f":"I232*I230","v":41.296500000000002},{"$f":"E232*G232","v":2395.1970000000001},30.59]
["SINAPI",88316,"SERVENTE DE OBRAS ","h",1,null,{"$f":"I233*I230","v":26.676000000000005},{"$f":"E233*G233","v":26.676000000000005},19.760000000000002]
["SUB-TOTAL",{"$nulls":6},{"$f":"SUM(H231:H233)","v":4127.2470000000003}]
["PRODUÇÃO DA EQUIPE",null,null,1,"CUSTO ",null,null,{"$f":"H228+H234","v":4827.6706000000004}]
["TOTAL - R$",{"$nulls":6},{"$f":"H235/D235","v":4827.6706000000004}]
["BDI                %",{"$nulls":6},1]
["TOTAL DO SERVIÇO - R$",{"$nulls":6},{"$f":"H236*H237","v":4827.6706000000004}]
[]
[" COMPOSIÇÃO DE PREÇO UNITÁRIO",{"$nulls":6},"CPU014"]
["DESCRIÇÃO DO SERVIÇO",{"$nulls":5},"DATA BASE: ","2023-09-01"]
["MÓVEL PLANEJADO EM MDF PARA ESCRITÓRIO DM3, CONFORME PROJETO - FORNECIMENTO E INSTALAÇÃO",{"$nulls":5},"UNIDADE: ","UNID."]
["MATERIAIS"]
["BASE","CÓDIGO","DISCRIMINAÇÃO","UNI","QUANT.",null,"P.UNIT.","P.TOTAL"]
["SINAPI",34666,"CHAPA DE MDF BRANCO LISO 2 FACES, E = 25 MM, DE *2,75 X 1,85* M ","m²",9.57,null,{"$f":"I245","v":80.14},{"$f":"E245*G245","v":766.93979999999999},80.14]
["SUB-TOTAL",{"$nulls":6},{"$f":"SUM(H245:H245)","v":766.93979999999999}]
["MÃO DE OBRA"]
["BASE","CÓDIGO","DISCRIMINAÇÃO","UNI","QUANT.",null,"P.UNIT.","P.TOTAL",{"$f":"I$211","v":1.35}]
["SINAPI",88239,"AJUDANTE DE CARPINTEIRO COM ENCARGOS COMPLEMENTARES ","h",56,null,{"$f":"I249*I248","v":29.403000000000002},{"$f":"E249*G249","v":1646.5680000000002},21.78]
["SINAPI",88261,"CARPINTEIRO DE ESQUADRIA COM ENCARGOS COMPLEMENTARES","h",56,null,{"$f":"I250*I248","v":41.296500000000002},{"$f":"E250*G250","v":2312.6040000000003},30.59]
["SINAPI",88316,"SERVENTE DE OBRAS ","h",1,null,{"$f":"I251*I248","v":26.676000000000005},{"$f":"E251*G251","v":26.676000000000005},19.760000000000002]
["SUB-TOTAL",{"$nulls":6},{"$f":"SUM(H249:H251)","v":3985.8480000000004}]
["PRODUÇÃO DA EQUIPE",null,null,1,"CUSTO ",null,null,{"$f":"H246+H252","v":4752.7878000000001}]
["TOTAL - R$",{"$nulls":6},{"$f":"H253/D253","v":4752.7878000000001}]
["BDI                %",{"$nulls":6},1]
["TOTAL DO SERVIÇO - R$",{"$nulls":6},{"$f":"H254*H255","v":4752.7878000000001}]
[]
[" COMPOSIÇÃO DE PREÇO UNITÁRIO",{"$nulls":6},"CPU015"]
["DESCRIÇÃO DO SERVIÇO",{"$nulls":5},"DATA BASE: ","2023-09-01"]
["MÓVEL PLANEJADO EM MDF PARA ESCRITÓRIO DM4, CONFORME PROJETO - FORNECIMENTO E INSTALAÇÃO",{"$nulls":5},"UNIDADE: ","UNID."]
["MATERIAIS"]
["BASE","CÓDIGO","DISCRIMINAÇÃO","UNI","QUANT.",null,"P.UNIT.","P.TOTAL"]
["SINAPI",34666,"CHAPA DE MDF BRANCO LISO 2 FACES, E = 25 MM, DE *2,75 X 1,85* M ","m²",5.59,null,{"$f":"I263","v":80.14},{"$f":"E263*G263","v":447.98259999999999},80.14]
["SINAPI",40424,"CHAPA DE ACO CARBONO LAMINADO A QUENTE, QUALIDADE ESTRUTURAL, BITOLA 3/16\", E =4,75 MM (37,29 KG/M2)","m²",17.57,null,{"$f":"I264","v":9.25},{"$f":"E264*G264","v":162.52250000000001},9.25]
["SUB-TOTAL",{"$nulls":6},{"$f":"SUM(H263:H264)","v":610.50509999999997}]
["MÃO DE OBRA"]
["BASE","CÓDIGO","DISCRIMINAÇÃO","UNI","QUANT.",null,"P.UNIT.","P.TOTAL",{"$f":"I$211","v":1.35}]
["SINAPI",88239,"AJUDANTE DE CARPINTEIRO COM ENCARGOS COMPLEMENTARES ","h",33,null,{"$f":"I268*I267","v":29.403000000000002},{"$f":"E268*G268","v":970.29900000000009},21.78]
["SINAPI",88261,"CARPINTEIRO DE ESQUADRIA COM ENCARGOS COMPLEMENTARES","h",33,null,{"$f":"I269*I267","v":41.296500000000002},{"$f":"E269*G269","v":1362.7845},30.59]
["SINAPI",88316,"SERVENTE DE OBRAS ","h",1,null,{"$f":"I270*I267","v":26.676000000000005},{"$f":"E270*G270","v":26.676000000000005},19.760000000000002]
["SUB-TOTAL",{"$nulls":6},{"$f":"SUM(H268:H270)","v":2359.7595000000001}]
["PRODUÇÃO DA EQUIPE",null,null,1,"CUSTO ",null,null,{"$f":"H265+H271","v":2970.2646}]
["TOTAL - R$",{"$nulls":6},{"$f":"H272/D272","v":2970.2646}]
["BDI                %",{"$nulls":6},1]
["TOTAL DO SERVIÇO - R$",{"$nulls":6},{"$f":"H273*H274","v":2970.2646}]
[]
[" COMPOSIÇÃO DE PREÇO UNITÁRIO",{"$nulls":6},"CPU016"]
["DESCRIÇÃO DO SERVIÇO",{"$nulls":5},"DATA BASE: ","2023-09-01"]
["MÓVEL PLANEJADO EM MDF PARA ESCRITÓRIO DM5, CONFORME PROJETO - FORNECIMENTO E INSTALAÇÃO",{"$nulls":5},"UNIDADE: ","UNID."]
["MATERIAIS"]
["BASE","CÓDIGO","DISCRIMINAÇÃO","UNI","QUANT.",null,"P.UNIT.","P.TOTAL"]
["SINAPI",34666,"CHAPA DE MDF BRANCO LISO 2 FACES, E = 25 MM, DE *2,75 X 1,85* M ","m²",36.85,null,{"$f":"I282","v":80.14},{"$f":"E282*G282","v":2953.1590000000001},80.14]
["SUB-TOTAL",{"$nulls":6},{"$f":"SUM(H282:H282)","v":2953.1590000000001}]
["MÃO DE OBRA"]
["BASE","CÓDIGO","DISCRIMINAÇÃO","UNI","QUANT.",null,"P.UNIT.","P.TOTAL",{"$f":"I$211","v":1.35}]
["SINAPI",88239,"AJUDANTE DE CARPINTEIRO COM ENCARGOS COMPLEMENTARES ","h",80,null,{"$f":"I286*I285","v":29.403000000000002},{"$f":"E286*G286","v":2352.2400000000002},21.78]
["SINAPI",88261,"CARPINTEIRO DE ESQUADRIA COM ENCARGOS COMPLEMENTARES","h",80,null,{"$f":"I287*I285","v":41.296500000000002},{"$f":"E287*G287","v":3303.7200000000003},30.59]
["SINAPI",88316,"SERVENTE DE OBRAS ","h",2,null,{"$f":"I288*I285","v":26.676000000000005},{"$f":"E288*G288","v":53.352000000000011},19.760000000000002]
["SUB-TOTAL",{"$nulls":6},{"$f":"SUM(H286:H288)","v":5709.3120000000008}]
["PRODUÇÃO DA EQUIPE",null,null,1,"CUSTO ",null,null,{"$f":"H283+H289","v":8662.4710000000014}]
["TOTAL - R$",{"$nulls":6},{"$f":"H290/D290","v":8662.4710000000014}]
["BDI                %",{"$nulls":6},1]
["TOTAL DO SERVIÇO - R$",{"$nulls":6},{"$f":"H291*H292","v":8662.4710000000014}]
[]
[" COMPOSIÇÃO DE PREÇO UNITÁRIO",{"$nulls":6},"CPU017"]
["DESCRIÇÃO DO SERVIÇO",{"$nulls":5},"DATA BASE: ","2023-09-01"]
["MÓVEL PLANEJADO EM MDF PARA ESCRITÓRIO DM6, CONFORME PROJETO - FORNECIMENTO E INSTALAÇÃO",{"$nulls":5},"UNIDADE: ","UNID."]
["MATERIAIS"]
["BASE","CÓDIGO","DISCRIMINAÇÃO","UNI","QUANT.",null,"P.UNIT.","P.TOTAL"]
["SINAPI",34666,"CHAPA DE MDF BRANCO LISO 2 FACES, E = 25 MM, DE *2,75 X 1,85* M ","m²",27,null,{"$f":"I300","v":80.14},{"$f":"E300*G300","v":2163.7800000000002},80.14]
["SINAPI",40424,"CHAPA DE ACO CARBONO LAMINADO A QUENTE, QUALIDADE ESTRUTURAL, BITOLA 3/16\", E =4,75 MM (37,29 KG/M2)","m²",0.36,null,{"$f":"I301","v":9.25},{"$f":"E301*G301","v":3.33},9.25]
["SUB-TOTAL",{"$nulls":6},{"$f":"SUM(H300:H301)","v":2167.11}]
["MÃO DE OBRA"]
["BASE","CÓDIGO","DISCRIMINAÇÃO","UNI","QUANT.",null,"P.UNIT.","P.TOTAL",{"$f":"I$211","v":1.35}]
["SINAPI",88239,"AJUDANTE DE CARPINTEIRO COM ENCARGOS COMPLEMENTARES ","h",120,null,{"$f":"I305*I304","v":29.403000000000002},{"$f":"E305*G305","v":3528.36},21.78]
["SINAPI",88261,"CARPINTEIRO DE ESQUADRIA COM ENCARGOS COMPLEMENTARES","h",120,null,{"$f":"I306*I304","v":41.296500000000002},{"$f":"E306*G306","v":4955.58},30.59]
["SINAPI",88316,"SERVENTE DE OBRAS ","h",2,null,{"$f":"I307*I304","v":26.676000000000005},{"$f":"E307*G307","v":53.352000000000011},19.760000000000002]
["SUB-TOTAL",{"$nulls":6},{"$f":"SUM(H305:H307)","v":8537.2920000000013}]
["PRODUÇÃO DA EQUIPE",null,null,1,"CUSTO ",null,null,{"$f":"H302+H308","v":10704.402000000002}]
["TOTAL - R$",{"$nulls":6},{"$f":"H309/D309","v":10704.402000000002}]
["BDI                %",{"$nulls":6},1]
["TOTAL DO SERVIÇO - R$",{"$nulls":6},{"$f":"H310*H311","v":10704.402000000002}]
[]
[" COMPOSIÇÃO DE PREÇO UNITÁRIO",{"$nulls":6},"CPU018"]
["DESCRIÇÃO DO SERVIÇO",{"$nulls":5},"DATA BASE: ","2023-09-01"]
["MÓVEL PLANEJADO EM MDF PARA ESCRITÓRIO DM7-1, CONFORME PROJETO - FORNECIMENTO E INSTALAÇÃO",{"$nulls":5},"UNIDADE: ","UNID."]
["MATERIAIS"]
["BASE","CÓDIGO","DISCRIMINAÇÃO","UNI","QUANT.",null,"P.UNIT.","P.TOTAL"]
["SINAPI",34666,"CHAPA DE MDF BRANCO LISO 2 FACES, E = 25 MM, DE *2,75 X 1,85* M ","m²",2,null,{"$f":"I319","v":80.14},{"$f":"E319*G319","v":160.28},80.14]
["SINAPI",40424,"CHAPA DE ACO CARBONO LAMINADO A QUENTE, QUALIDADE ESTRUTURAL, BITOLA 3/16\", E =4,75 MM (37,29 KG/M2)","m²",14.73,null,9.25,{"$f":"E320*G320","v":136.2525},9.25]
["SUB-TOTAL",{"$nulls":6},{"$f":"SUM(H319:H320)","v":296.53250000000003}]
["MÃO DE OBRA"]
["BASE","CÓDIGO","DISCRIMINAÇÃO","UNI","QUANT.",null,"P.UNIT.","P.TOTAL",{"$f":"I$211","v":1.35}]
["SINAPI",88239,"AJUDANTE DE CARPINTEIRO COM ENCARGOS COMPLEMENTARES ","h",32,null,{"$f":"I324*I323","v":29.403000000000002},{"$f":"E324*G324","v":940.89600000000007},21.78]
["SINAPI",88261,"CARPINTEIRO DE ESQUADRIA COM ENCARGOS COMPLEMENTARES","h",32,null,{"$f":"I325*I323","v":41.296500000000002},{"$f":"E325*G325","v":1321.4880000000001},30.59]
["SINAPI",88316,"SERVENTE DE OBRAS ","h",1,null,{"$f":"I326*I323","v":26.676000000000005},{"$f":"E326*G326","v":26.676000000000005},19.760000000000002]
["SUB-TOTAL",{"$nulls":6},{"$f":"SUM(H324:H326)","v":2289.06}]
["PRODUÇÃO DA EQUIPE",null,null,1,"CUSTO ",null,null,{"$f":"H321+H327","v":2585.5924999999997}]
["TOTAL - R$",{"$nulls":6},{"$f":"H328/D328","v":2585.5924999999997}]
["BDI                %",{"$nulls":6},1]
["TOTAL DO SERVIÇO - R$",{"$nulls":6},{"$f":"H329*H330","v":2585.5924999999997}]
[]
[" COMPOSIÇÃO DE PREÇO UNITÁRIO",{"$nulls":6},"CPU019"]
["DESCRIÇÃO DO SERVIÇO",{"$nulls":5},"DATA BASE: ","2023-09-01"]
["MÓVEL PLANEJADO EM MDF PARA ESCRITÓRIO DM7-2, CONFORME PROJETO - FORNECIMENTO E INSTALAÇÃO",{"$nulls":5},"UNIDADE: ","UNID."]
["MATERIAIS"]
["BASE","CÓDIGO","DISCRIMINAÇÃO","UNI","QUANT.",null,"P.UNIT.","P.TOTAL"]
["SINAPI",34666,"CHAPA DE MDF BRANCO LISO 2 FACES, E = 25 MM, DE *2,75 X 1,85* M ","m²",6.59,null,{"$f":"I338","v":80.14},{"$f":"E338*G338","v":528.12260000000003},80.14]
["SINAPI",40424,"CHAPA DE ACO CARBONO LAMINADO A QUENTE, QUALIDADE ESTRUTURAL, BITOLA 3/16\", E =4,75 MM (37,29 KG/M2)","m²",0.38,null,9.25,{"$f":"E339*G339","v":3.5150000000000001},9.25]
["SUB-TOTAL",{"$nulls":6},{"$f":"SUM(H338:H339)","v":531.63760000000002}]
["MÃO DE OBRA"]
["BASE","CÓDIGO","DISCRIMINAÇÃO","UNI","QUANT.",null,"P.UNIT.","P.TOTAL",{"$f":"I$211","v":1.35}]
["SINAPI",88239,"AJUDANTE DE CARPINTEIRO COM ENCARGOS COMPLEMENTARES ","h",44,null,{"$f":"I343*I342","v":29.403000000000002},{"$f":"E343*G343","v":1293.7320000000002},21.78]
["SINAPI",88261,"CARPINTEIRO DE ESQUADRIA COM ENCARGOS COMPLEMENTARES","h",44,null,{"$f":"I344*I342","v":41.296500000000002},{"$f":"E344*G344","v":1817.046},30.59]
["SINAPI",88316,"SERVENTE DE OBRAS ","h",1,null,{"$f":"I345*I342","v":26.676000000000005},{"$f":"E345*G345","v":26.676000000000005},19.760000000000002]
["SUB-TOTAL",{"$nulls":6},{"$f":"SUM(H343:H345)","v":3137.4540000000002}]
["PRODUÇÃO DA EQUIPE",null,null,1,"CUSTO ",null,null,{"$f":"H340+H346","v":3669.0916000000002}]
["TOTAL - R$",{"$nulls":6},{"$f":"H347/D347","v":3669.0916000000002}]
["BDI                %",{"$nulls":6},1]
["TOTAL DO SERVIÇO - R$",{"$nulls":6},{"$f":"H348*H349","v":3669.0916000000002}]
[]
[" COMPOSIÇÃO DE PREÇO UNITÁRIO",{"$nulls":6},"CPU020"]
["DESCRIÇÃO DO SERVIÇO",{"$nulls":5},"DATA BASE: ","2023-09-01"]
["MÓVEL PLANEJADO EM MDF PARA ESCRITÓRIO DM8, CONFORME PROJETO - FORNECIMENTO E INSTALAÇÃO",{"$nulls":5},"UNIDADE: ","UNID."]
["MATERIAIS"]
["BASE","CÓDIGO","DISCRIMINAÇÃO","UNI","QUANT.",null,"P.UNIT.","P.TOTAL"]
["SINAPI",34666,"CHAPA DE MDF BRANCO LISO 2 FACES, E = 25 MM, DE *2,75 X 1,85* M ","m²",6.71,null,{"$f":"I357","v":80.14},{"$f":"E357*G357","v":537.73940000000005},80.14]
["SINAPI",40424,"CHAPA DE ACO CARBONO LAMINADO A QUENTE, QUALIDADE ESTRUTURAL, BITOLA 3/16\", E =4,75 MM (37,29 KG/M2)","m²",0.38,null,9.25,{"$f":"E358*G358","v":3.5150000000000001},9.25]
["SUB-TOTAL",{"$nulls":6},{"$f":"SUM(H357:H358)","v":541.25440000000003}]
["MÃO DE OBRA"]
["BASE","CÓDIGO","DISCRIMINAÇÃO","UNI","QUANT.",null,"P.UNIT.","P.TOTAL",{"$f":"I$211","v":1.35}]
["SINAPI",88239,"AJUDANTE DE CARPINTEIRO COM ENCARGOS COMPLEMENTARES ","h",44,null,{"$f":"I362*I361","v":29.403000000000002},{"$f":"E362*G362","v":1293.7320000000002},21.78]
["SINAPI",88261,"CARPINTEIRO DE ESQUADRIA COM ENCARGOS COMPLEMENTARES","h",44,null,{"$f":"I363*I361","v":41.296500000000002},{"$f":"E363*G363","v":1817.046},30.59]
["SINAPI",88316,"SERVENTE DE OBRAS ","h",1,null,{"$f":"I364*I361","v":26.676000000000005},{"$f":"E364*G364","v":26.676000000000005},19.760000000000002]
["SUB-TOTAL",{"$nulls":6},{"$f":"SUM(H362:H364)","v":3137.4540000000002}]
["PRODUÇÃO DA EQUIPE",null,null,1,"CUSTO ",null,null,{"$f":"H359+H365","v":3678.7084000000004}]
["TOTAL - R$",{"$nulls":6},{"$f":"H366/D366","v":3678.7084000000004}]
["BDI                %",{"$nulls":6},1]
["TOTAL DO SERVIÇO - R$",{"$nulls":6},{"$f":"H367*H368","v":3678.7084000000004}]
[]
[" COMPOSIÇÃO DE PREÇO UNITÁRIO",{"$nulls":6},"CPU021"]
["DESCRIÇÃO DO SERVIÇO",{"$nulls":5},"DATA BASE: ","2023-09-01"]
["MÓVEL PLANEJADO EM MDF PARA ESCRITÓRIO DM9, CONFORME PROJETO - FORNECIMENTO E INSTALAÇÃO",{"$nulls":5},"UNIDADE: ","UNID."]
["MATERIAIS"]
["BASE","CÓDIGO","DISCRIMINAÇÃO","UNI","QUANT.",null,"P.UNIT.","P.TOTAL"]
["SINAPI",34666,"CHAPA DE MDF BRANCO LISO 2 FACES, E = 25 MM, DE *2,75 X 1,85* M ","m²",14.07,null,{"$f":"I376","v":80.14},{"$f":"E376*G376","v":1127.5698},80.14]
["SUB-TOTAL",{"$nulls":6},{"$f":"SUM(H376:H376)","v":1127.5698}]
["MÃO DE OBRA"]
["BASE","CÓDIGO","DISCRIMINAÇÃO","UNI","QUANT.",null,"P.UNIT.","P.TOTAL",{"$f":"I$211","v":1.35}]
["SINAPI",88239,"AJUDANTE DE CARPINTEIRO COM ENCARGOS COMPLEMENTARES ","h",93,null,{"$f":"I380*I379","v":29.403000000000002},{"$f":"E380*G380","v":2734.4790000000003},21.78]
["SINAPI",88261,"CARPINTEIRO DE ESQUADRIA COM ENCARGOS COMPLEMENTARES","h",93,null,{"$f":"I381*I379","v":41.296500000000002},{"$f":"E381*G381","v":3840.5745000000002},30.59]
["SINAPI",88316,"SERVENTE DE OBRAS ","h",2,null,{"$f":"I382*I379","v":26.676000000000005},{"$f":"E382*G382","v":53.352000000000011},19.760000000000002]
["SUB-TOTAL",{"$nulls":6},{"$f":"SUM(H380:H382)","v":6628.4054999999998}]
["PRODUÇÃO DA EQUIPE",null,null,1,"CUSTO ",null,null,{"$f":"H377+H383","v":7755.9753000000001}]
["TOTAL - R$",{"$nulls":6},{"$f":"H384/D384","v":7755.9753000000001}]
["BDI                %",{"$nulls":6},1]
["TOTAL DO SERVIÇO - R$",{"$nulls":6},{"$f":"H385*H386","v":7755.9753000000001}]
[]
[" COMPOSIÇÃO DE PREÇO UNITÁRIO",{"$nulls":6},"CPU022"]
["DESCRIÇÃO DO SERVIÇO",{"$nulls":5},"DATA BASE: ","2023-09-01"]
["MÓVEL PLANEJADO EM MDF PARA ESCRITÓRIO DM10, CONFORME PROJETO - FORNECIMENTO E INSTALAÇÃO",{"$nulls":5},"UNIDADE: ","UNID."]
["MATERIAIS"]
["BASE","CÓDIGO","DISCRIMINAÇÃO","UNI","QUANT.",null,"P.UNIT.","P.TOTAL"]
["SINAPI",34666,"CHAPA DE MDF BRANCO LISO 2 FACES, E = 25 MM, DE *2,75 X 1,85* M ","m²",13.88,null,{"$f":"I394","v":80.14},{"$f":"E394*G394","v":1112.3432},80.14]
["SUB-TOTAL",{"$nulls":6},{"$f":"SUM(H394:H394)","v":1112.3432}]
["MÃO DE OBRA"]
["BASE","CÓDIGO","DISCRIMINAÇÃO","UNI","QUANT.",null,"P.UNIT.","P.TOTAL",{"$f":"I$211","v":1.35}]
["SINAPI",88239,"AJUDANTE DE CARPINTEIRO COM ENCARGOS COMPLEMENTARES ","h",92,null,{"$f":"I398*I397","v":29.403000000000002},{"$f":"E398*G398","v":2705.076},21.78]
["SINAPI",88261,"CARPINTEIRO DE ESQUADRIA COM ENCARGOS COMPLEMENTARES","h",92,null,{"$f":"I399*I397","v":41.296500000000002},{"$f":"E399*G399","v":3799.2780000000002},30.59]
["SINAPI",88316,"SERVENTE DE OBRAS ","h",1,null,{"$f":"I400*I397","v":26.676000000000005},{"$f":"E400*G400","v":26.676000000000005},19.760000000000002]
["SUB-TOTAL",{"$nulls":6},{"$f":"SUM(H398:H400)","v":6531.0300000000007}]
["PRODUÇÃO DA EQUIPE",null,null,1,"CUSTO ",null,null,{"$f":"H395+H401","v":7643.3732000000009}]
["TOTAL - R$",{"$nulls":6},{"$f":"H402/D402","v":7643.3732000000009}]
["BDI                %",{"$nulls":6},1]
["TOTAL DO SERVIÇO - R$",{"$nulls":6},{"$f":"H403*H404","v":7643.3732000000009}]
[]
[" COMPOSIÇÃO DE PREÇO UNITÁRIO",{"$nulls":6},"CPU023"]
["DESCRIÇÃO DO SERVIÇO",{"$nulls":5},"DATA BASE: ","2023-09-01"]
["MÓVEL PLANEJADO EM MDF PARA ESCRITÓRIO DM11, CONFORME PROJETO - FORNECIMENTO E INSTALAÇÃO",{"$nulls":5},"UNIDADE: ","UNID."]
["MATERIAIS"]
["BASE","CÓDIGO","DISCRIMINAÇÃO","UNI","QUANT.",null,"P.UNIT.","P.TOTAL"]
["SINAPI",34666,"CHAPA DE MDF BRANCO LISO 2 FACES, E = 25 MM, DE *2,75 X 1,85* M ","m²",6.71,null,{"$f":"I412","v":80.14},{"$f":"E412*G412","v":537.73940000000005},80.14]
["SINAPI",40424,"CHAPA DE ACO CARBONO LAMINADO A QUENTE, QUALIDADE ESTRUTURAL, BITOLA 3/16\", E =4,75 MM (37,29 KG/M2)","m²",3.88,null,9.25,{"$f":"E413*G413","v":35.89},9.25]
["SUB-TOTAL",{"$nulls":6},{"$f":"SUM(H412:H413)","v":573.62940000000003}]
["MÃO DE OBRA"]
["BASE","CÓDIGO","DISCRIMINAÇÃO","UNI","QUANT.",null,"P.UNIT.","P.TOTAL",{"$f":"I$211","v":1.35}]
["SINAPI",88239,"AJUDANTE DE CARPINTEIRO COM ENCARGOS COMPLEMENTARES ","h",43,null,{"$f":"I417*I416","v":29.403000000000002},{"$f":"E417*G417","v":1264.3290000000002},21.78]
["SINAPI",88261,"CARPINTEIRO DE ESQUADRIA COM ENCARGOS COMPLEMENTARES","h",44,null,{"$f":"I418*I416","v":41.296500000000002},{"$f":"E418*G418","v":1817.046},30.59]
["SINAPI",88316,"SERVENTE DE OBRAS ","h",1,null,{"$f":"I419*I416","v":26.676000000000005},{"$f":"E419*G419","v":26.676000000000005},19.760000000000002]
["SUB-TOTAL",{"$nulls":6},{"$f":"SUM(H417:H419)","v":3108.0509999999999}]
["PRODUÇÃO DA EQUIPE",null,null,1,"CUSTO ",null,null,{"$f":"H414+H420","v":3681.6804000000002}]
["TOTAL - R$",{"$nulls":6},{"$f":"H421/D421","v":3681.6804000000002}]
["BDI                %",{"$nulls":6},1]
["TOTAL DO SERVIÇO - R$",{"$nulls":6},{"$f":"H422*H423","v":3681.6804000000002}]
[]
[" COMPOSIÇÃO DE PREÇO UNITÁRIO",{"$nulls":6},"CPU024"]
["DESCRIÇÃO DO SERVIÇO",{"$nulls":5},"DATA BASE: ","2023-09-01"]
["MÓVEL PLANEJADO EM MDF PARA ESCRITÓRIO DM12, CONFORME PROJETO - FORNECIMENTO E INSTALAÇÃO",{"$nulls":5},"UNIDADE: ","UNID."]
["MATERIAIS"]
["BASE","CÓDIGO","DISCRIMINAÇÃO","UNI","QUANT.",null,"P.UNIT.","P.TOTAL"]
["SINAPI",34666,"CHAPA DE MDF BRANCO LISO 2 FACES, E = 25 MM, DE *2,75 X 1,85* M ","m²",11.3,null,{"$f":"I431","v":80.14},{"$f":"E431*G431","v":905.58200000000011},80.14]
["SUB-TOTAL",{"$nulls":6},{"$f":"SUM(H431:H431)","v":905.58200000000011}]
["MÃO DE OBRA"]
["BASE","CÓDIGO","DISCRIMINAÇÃO","UNI","QUANT.",null,"P.UNIT.","P.TOTAL",{"$f":"I$211","v":1.35}]
["SINAPI",88239,"AJUDANTE DE CARPINTEIRO COM ENCARGOS COMPLEMENTARES ","h",75,null,{"$f":"I435*I434","v":29.403000000000002},{"$f":"E435*G435","v":2205.2250000000004},21.78]
["SINAPI",88261,"CARPINTEIRO DE ESQUADRIA COM ENCARGOS COMPLEMENTARES","h",75,null,{"$f":"I436*I434","v":41.296500000000002},{"$f":"E436*G436","v":3097.2375000000002},30.59]
["SINAPI",88316,"SERVENTE DE OBRAS ","h",2,null,{"$f":"I437*I434","v":26.676000000000005},{"$f":"E437*G437","v":53.352000000000011},19.760000000000002]
["SUB-TOTAL",{"$nulls":6},{"$f":"SUM(H435:H437)","v":5355.8145000000004}]
["PRODUÇÃO DA EQUIPE",null,null,1,"CUSTO ",null,null,{"$f":"H432+H438","v":6261.3965000000007}]
["TOTAL - R$",{"$nulls":6},{"$f":"H439/D439","v":6261.3965000000007}]
["BDI                %",{"$nulls":6},1]
["TOTAL DO SERVIÇO - R$",{"$nulls":6},{"$f":"H440*H441","v":6261.3965000000007}]
[]
[" COMPOSIÇÃO DE PREÇO UNITÁRIO",{"$nulls":6},"CPU025"]
["DESCRIÇÃO DO SERVIÇO",{"$nulls":5},"DATA BASE: ","2023-09-01"]
["MÓVEL PLANEJADO EM MDF PARA ESCRITÓRIO DM13, CONFORME PROJETO - FORNECIMENTO E INSTALAÇÃO",{"$nulls":5},"UNIDADE: ","UNID."]
["MATERIAIS"]
["BASE","CÓDIGO","DISCRIMINAÇÃO","UNI","QUANT.",null,"P.UNIT.","P.TOTAL"]
["SINAPI",34666,"CHAPA DE MDF BRANCO LISO 2 FACES, E = 25 MM, DE *2,75 X 1,85* M ","m²",12.65,null,{"$f":"I449","v":80.14},{"$f":"E449*G449","v":1013.7710000000001},80.14]
["SUB-TOTAL",{"$nulls":6},{"$f":"SUM(H449:H449)","v":1013.7710000000001}]
["MÃO DE OBRA"]
["BASE","CÓDIGO","DISCRIMINAÇÃO","UNI","QUANT.",null,"P.UNIT.","P.TOTAL",{"$f":"I$211","v":1.35}]
["SINAPI",88239,"AJUDANTE DE CARPINTEIRO COM ENCARGOS COMPLEMENTARES ","h",83,null,{"$f":"I453*I452","v":29.403000000000002},{"$f":"E453*G453","v":2440.4490000000001},21.78]
["SINAPI",88261,"CARPINTEIRO DE ESQUADRIA COM ENCARGOS COMPLEMENTARES","h",84,null,{"$f":"I454*I452","v":41.296500000000002},{"$f":"E454*G454","v":3468.9059999999999},30.59]
["SINAPI",88316,"SERVENTE DE OBRAS ","h",2,null,{"$f":"I455*I452","v":26.676000000000005},{"$f":"E455*G455","v":53.352000000000011},19.760000000000002]
["SUB-TOTAL",{"$nulls":6},{"$f":"SUM(H453:H455)","v":5962.7069999999994}]
["PRODUÇÃO DA EQUIPE",null,null,1,"CUSTO ",null,null,{"$f":"H450+H456","v":6976.4779999999992}]
["TOTAL - R$",{"$nulls":6},{"$f":"H457/D457","v":6976.4779999999992}]
["BDI                %",{"$nulls":6},1]
["TOTAL DO SERVIÇO - R$",{"$nulls":6},{"$f":"H458*H459","v":6976.4779999999992}]
[]
[" COMPOSIÇÃO DE PREÇO UNITÁRIO",{"$nulls":6},"CPU026"]
["DESCRIÇÃO DO SERVIÇO",{"$nulls":5},"DATA BASE: ","2023-09-01"]
["MÓVEL PLANEJADO EM MDF PARA ESCRITÓRIO DM14, CONFORME PROJETO - FORNECIMENTO E INSTALAÇÃO",{"$nulls":5},"UNIDADE: ","UNID."]
["MATERIAIS"]
["BASE","CÓDIGO","DISCRIMINAÇÃO","UNI","QUANT.",null,"P.UNIT.","P.TOTAL"]
["SINAPI",34666,"CHAPA DE MDF BRANCO LISO 2 FACES, E = 25 MM, DE *2,75 X 1,85* M ","m²",19.170000000000002,null,{"$f":"I467","v":80.14},{"$f":"E467*G467","v":1536.2838000000002},80.14]
["SINAPI",40424,"CHAPA DE ACO CARBONO LAMINADO A QUENTE, QUALIDADE ESTRUTURAL, BITOLA 3/16\", E =4,75 MM (37,29 KG/M2)","m²",19.84,null,9.25,{"$f":"E468*G468","v":183.52},9.25]
["SUB-TOTAL",{"$nulls":6},{"$f":"SUM(H467:H468)","v":1719.8038000000001}]
["MÃO DE OBRA"]
["BASE","CÓDIGO","DISCRIMINAÇÃO","UNI","QUANT.",null,"P.UNIT.","P.TOTAL",{"$f":"I$211","v":1.35}]
["SINAPI",88239,"AJUDANTE DE CARPINTEIRO COM ENCARGOS COMPLEMENTARES ","h",127,null,{"$f":"I472*I471","v":29.403000000000002},{"$f":"E472*G472","v":3734.1810000000005},21.78]
["SINAPI",88261,"CARPINTEIRO DE ESQUADRIA COM ENCARGOS COMPLEMENTARES","h",128,null,{"$f":"I473*I471","v":41.296500000000002},{"$f":"E473*G473","v":5285.9520000000002},30.59]
["SINAPI",88316,"SERVENTE DE OBRAS ","h",1,null,{"$f":"I474*I471","v":26.676000000000005},{"$f":"E474*G474","v":26.676000000000005},19.760000000000002]
["SUB-TOTAL",{"$nulls":6},{"$f":"SUM(H472:H474)","v":9046.8090000000011}]
["PRODUÇÃO DA EQUIPE",null,null,1,"CUSTO ",null,null,{"$f":"H469+H475","v":10766.612800000001}]
["TOTAL - R$",{"$nulls":6},{"$f":"H476/D476","v":10766.612800000001}]
["BDI                %",{"$nulls":6},1]
["TOTAL DO SERVIÇO - R$",{"$nulls":6},{"$f":"H477*H478","v":10766.612800000001}]
[]
[" COMPOSIÇÃO DE PREÇO UNITÁRIO",{"$nulls":6},"CPU027"]
["DESCRIÇÃO DO SERVIÇO",{"$nulls":5},"DATA BASE: ","2023-09-01"]
["MÓVEL PLANEJADO EM MDF PARA ESCRITÓRIO DM15, CONFORME PROJETO - FORNECIMENTO E INSTALAÇÃO",{"$nulls":5},"UNIDADE: ","UNID."]
["MATERIAIS"]
["BASE","CÓDIGO","DISCRIMINAÇÃO","UNI","QUANT.",null,"P.UNIT.","P.TOTAL"]
["SINAPI",34666,"CHAPA DE MDF BRANCO LISO 2 FACES, E = 25 MM, DE *2,75 X 1,85* M ","m²",2,null,{"$f":"I486","v":80.14},{"$f":"E486*G486","v":160.28},80.14]
["SUB-TOTAL",{"$nulls":6},{"$f":"SUM(H486:H486)","v":160.28}]
["MÃO DE OBRA"]
["BASE","CÓDIGO","DISCRIMINAÇÃO","UNI","QUANT.",null,"P.UNIT.","P.TOTAL",{"$f":"I$211","v":1.35}]
["SINAPI",88239,"AJUDANTE DE CARPINTEIRO COM ENCARGOS COMPLEMENTARES ","h",32,null,{"$f":"I490*I489","v":29.403000000000002},{"$f":"E490*G490","v":940.89600000000007},21.78]
["SINAPI",88261,"CARPINTEIRO DE ESQUADRIA COM ENCARGOS COMPLEMENTARES","h",32,null,{"$f":"I491*I489","v":41.296500000000002},{"$f":"E491*G491","v":1321.4880000000001},30.59]
["SINAPI",88316,"SERVENTE DE OBRAS ","h",1,null,{"$f":"I492*I489","v":26.676000000000005},{"$f":"E492*G492","v":26.676000000000005},19.760000000000002]
["SUB-TOTAL",{"$nulls":6},{"$f":"SUM(H490:H492)","v":2289.06}]
["PRODUÇÃO DA EQUIPE",null,null,1,"CUSTO ",null,null,{"$f":"H487+H493","v":2449.34}]
["TOTAL - R$",{"$nulls":6},{"$f":"H494/D494","v":2449.34}]
["BDI                %",{"$nulls":6},1]
["TOTAL DO SERVIÇO - R$",{"$nulls":6},{"$f":"H495*H496","v":2449.34}]
[]
[" COMPOSIÇÃO DE PREÇO UNITÁRIO",{"$nulls":6},"CPU028"]
["DESCRIÇÃO DO SERVIÇO",{"$nulls":5},"DATA BASE: ","2023-09-01"]
["MÓVEL PLANEJADO EM MDF PARA ESCRITÓRIO DM16, CONFORME PROJETO - FORNECIMENTO E INSTALAÇÃO",{"$nulls":5},"UNIDADE: ","UNID."]
["MATERIAIS"]
["BASE","CÓDIGO","DISCRIMINAÇÃO","UNI","QUANT.",null,"P.UNIT.","P.TOTAL"]
["SINAPI",34666,"CHAPA DE MDF BRANCO LISO 2 FACES, E = 25 MM, DE *2,75 X 1,85* M ","m²",3.12,null,{"$f":"I504","v":80.14},{"$f":"E504*G504","v":250.0368},80.14]
["SINAPI",40424,"CHAPA DE ACO CARBONO LAMINADO A QUENTE, QUALIDADE ESTRUTURAL, BITOLA 3/16\", E =4,75 MM (37,29 KG/M2)","m²",14.31,null,9.25,{"$f":"E505*G505","v":132.36750000000001},9.25]
["SUB-TOTAL",{"$nulls":6},{"$f":"SUM(H504:H505)","v":382.40430000000003}]
["MÃO DE OBRA"]
["BASE","CÓDIGO","DISCRIMINAÇÃO","UNI","QUANT.",null,"P.UNIT.","P.TOTAL",{"$f":"I$211","v":1.35}]
["SINAPI",88239,"AJUDANTE DE CARPINTEIRO COM ENCARGOS COMPLEMENTARES ","h",20,null,{"$f":"I509*I508","v":29.403000000000002},{"$f":"E509*G509","v":588.06000000000006},21.78]
["SINAPI",88261,"CARPINTEIRO DE ESQUADRIA COM ENCARGOS COMPLEMENTARES","h",20,null,{"$f":"I510*I508","v":41.296500000000002},{"$f":"E510*G510","v":825.93000000000006},30.59]
["SINAPI",88316,"SERVENTE DE OBRAS ","h",2,null,{"$f":"I511*I508","v":26.676000000000005},{"$f":"E511*G511","v":53.352000000000011},19.760000000000002]
["SUB-TOTAL",{"$nulls":6},{"$f":"SUM(H509:H511)","v":1467.3420000000003}]
["PRODUÇÃO DA EQUIPE",null,null,1,"CUSTO ",null,null,{"$f":"H506+H512","v":1849.7463000000002}]
["TOTAL - R$",{"$nulls":6},{"$f":"H513/D513","v":1849.7463000000002}]
["BDI                %",{"$nulls":6},1]
["TOTAL DO SERVIÇO - R$",{"$nulls":6},{"$f":"H514*H515","v":1849.7463000000002}]
[]
[" COMPOSIÇÃO DE PREÇO UNITÁRIO",{"$nulls":6},"CPU029"]
["DESCRIÇÃO DO SERVIÇO",{"$nulls":5},"DATA BASE: ","2023-09-01"]
["BANCADA DE GRANITO BRANCO 1,40 X 0,5 M BD1, CONFORME PROJETO - FORNECIMENTO E INSTALAÇÃO",{"$nulls":5},"UNIDADE: ","UNID."]
["MATERIAIS"]
["BASE","CÓDIGO","DISCRIMINAÇÃO","UNI","QUANT.",null,"P.UNIT.","P.TOTAL"]
["SINAPI",4823,"MASSA PLASTICA PARA MARMORE/GRANITO","kg",0.52280000000000004,null,{"$f":"I523","v":41.57},{"$f":"E523*G523","v":21.732796},41.57]
["SINAPI",11795,"GRANITO PARA BANCADA, POLIDO, TIPO ANDORINHA/ QUARTZ/ CASTELO/ CORUMBA OU OUTROS EQUIVALENTES DA REGIAO, E= *2,5* CM","m²",0.8,null,{"$f":"I524","v":445.28},{"$f":"E524*G524","v":356.22399999999999},445.28]
["SINAPI",37591,"SUPORTE MAO-FRANCESA EM ACO, ABAS IGUAIS 40 CM, CAPACIDADE MINIMA 70 KG, BRANCO","un",2,null,20.47,40.94,20.47]
["SINAPI",37329,"REJUNTE EPOXI, QUALQUER COR ","kg",2.1100000000000001E-2,null,80.38,1.696018,80.38]
["SINAPI",7568,"BUCHA DE NYLON SEM ABA S10, COM PARAFUSO DE 6,10 X 65 MM EM ACO ZINCADO COM ROSCA SOBERBA, CABECA CHATA E FENDA PHILLIPS","un",6,null,0.67,4.0200000000000005,0.67]
["SUB-TOTAL",{"$nulls":6},{"$f":"SUM(H523:H527)","v":424.61281399999996}]
["MÃO DE OBRA"]
["BASE","CÓDIGO","DISCRIMINAÇÃO","UNI","QUANT.",null,"P.UNIT.","P.TOTAL",{"$f":"$J$4","v":1.5}]
["SINAPI",88274,"MARMORISTA/GRANITEIRO COM ENCARGOS COMPLEMENTARES","h",2,null,{"$f":"I531*I530","v":42.884999999999998},{"$f":"E531*G531","v":85.77},28.59]
["SINAPI",88316,"SERVENTE DE OBRAS ","h",1.5,null,{"$f":"I532*I530","v":29.64},{"$f":"E532*G532","v":44.46},19.760000000000002]
["SUB-TOTAL",{"$nulls":6},{"$f":"SUM(H531:H532)","v":130.22999999999999}]
["PRODUÇÃO DA EQUIPE",null,null,{"$f":"$J$5","v":0.85},"CUSTO ",null,null,{"$f":"H528+H533","v":554.84281399999998}]
["TOTAL - R$",{"$nulls":6},{"$f":"H534/D534","v":652.75625176470589}]
["BDI                %",{"$nulls":6},1]
["TOTAL DO SERVIÇO - R$",{"$nulls":6},{"$f":"H535*H536","v":652.75625176470589}]
[]
[" COMPOSIÇÃO DE PREÇO UNITÁRIO",{"$nulls":6},"CPU030"]
["DESCRIÇÃO DO SERVIÇO",{"$nulls":5},"DATA BASE: ","2023-09-01"]
["BANCADA DE GRANITO BRANCO 1,90 X 0,5 M BD2, CONFORME PROJETO - FORNECIMENTO E INSTALAÇÃO",{"$nulls":5},"UNIDADE: ","UNID."]
["MATERIAIS"]
["BASE","CÓDIGO","DISCRIMINAÇÃO","UNI","QUANT.",null,"P.UNIT.","P.TOTAL"]
["SINAPI",4823,"MASSA PLASTICA PARA MARMORE/GRANITO","kg",0.52280000000000004,null,{"$f":"I544","v":41.57},{"$f":"E544*G544","v":21.732796},41.57]
["SINAPI",11795,"GRANITO PARA BANCADA, POLIDO, TIPO ANDORINHA/ QUARTZ/ CASTELO/ CORUMBA OU OUTROS EQUIVALENTES DA REGIAO, E= *2,5* CM","m²",1.05,null,{"$f":"I545","v":445.28},{"$f":"E545*G545","v":467.54399999999998},445.28]
["SINAPI",37591,"SUPORTE MAO-FRANCESA EM ACO, ABAS IGUAIS 40 CM, CAPACIDADE MINIMA 70 KG, BRANCO","un",3,null,20.47,61.41,20.47]
["SINAPI",37329,"REJUNTE EPOXI, QUALQUER COR ","kg",0.04,null,80.38,3.2151999999999998,80.38]
["SINAPI",7568,"BUCHA DE NYLON SEM ABA S10, COM PARAFUSO DE 6,10 X 65 MM EM ACO ZINCADO COM ROSCA SOBERBA, CABECA CHATA E FENDA PHILLIPS","un",6,null,0.67,{"$f":"E548*G548","v":4.0200000000000005},0.67]
["SUB-TOTAL",{"$nulls":6},{"$f":"SUM(H544:H548)","v":557.92199599999992}]
["MÃO DE OBRA"]
["BASE","CÓDIGO","DISCRIMINAÇÃO","UNI","QUANT.",null,"P.UNIT.","P.TOTAL",{"$f":"$J$4","v":1.5}]
["SINAPI",88274,"MARMORISTA/GRANITEIRO COM ENCARGOS COMPLEMENTARES","h",2.1,null,{"$f":"I552*I551","v":42.884999999999998},{"$f":"E552*G552","v":90.058499999999995},28.59]
["SINAPI",88316,"SERVENTE DE OBRAS ","h",1.5,null,{"$f":"I553*I551","v":29.64},{"$f":"E553*G553","v":44.46},19.760000000000002]
["SUB-TOTAL",{"$nulls":6},{"$f":"SUM(H552:H553)","v":134.51849999999999}]
["PRODUÇÃO DA EQUIPE",null,null,{"$f":"$J$5","v":0.85},"CUSTO ",null,null,{"$f":"H549+H554","v":692.44049599999994}]
["TOTAL - R$",{"$nulls":6},{"$f":"H555/D555","v":814.63587764705881}]
["BDI                %",{"$nulls":6},1]
["TOTAL DO SERVIÇO - R$",{"$nulls":6},{"$f":"H556*H557","v":814.63587764705881}]
[]
[" COMPOSIÇÃO DE PREÇO UNITÁRIO",{"$nulls":6},"CPU031"]
["DESCRIÇÃO DO SERVIÇO",{"$nulls":5},"DATA BASE: ","2023-09-01"]
["BANCADA DE GRANITO BRANCO 3,07 X 0,5 M BD3, CONFORME PROJETO - FORNECIMENTO E INSTALAÇÃO",{"$nulls":5},"UNIDADE: ","UNID."]
["MATERIAIS"]
["BASE","CÓDIGO","DISCRIMINAÇÃO","UNI","QUANT.",null,"P.UNIT.","P.TOTAL"]
["SINAPI",4823,"MASSA PLASTICA PARA MARMORE/GRANITO","kg",0.52280000000000004,null,{"$f":"I565","v":41.57},{"$f":"E565*G565","v":21.732796},41.57]
["SINAPI",11795,"GRANITO PARA BANCADA, POLIDO, TIPO ANDORINHA/ QUARTZ/ CASTELO/ CORUMBA OU OUTROS EQUIVALENTES DA REGIAO, E= *2,5* CM","m²",1.635,null,{"$f":"I566","v":445.28},{"$f":"E566*G566","v":728.03279999999995},445.28]
["SINAPI",37591,"SUPORTE MAO-FRANCESA EM ACO, ABAS IGUAIS 40 CM, CAPACIDADE MINIMA 70 KG, BRANCO","un",4,null,20.47,81.88,20.47]
["SINAPI",37329,"REJUNTE EPOXI, QUALQUER COR ","kg",0.06,null,80.38,4.8228,80.38]
["SINAPI",7568,"BUCHA DE NYLON SEM ABA S10, COM PARAFUSO DE 6,10 X 65 MM EM ACO ZINCADO COM ROSCA SOBERBA, CABECA CHATA E FENDA PHILLIPS","un",6,null,0.67,4.0200000000000005,0.67]
["SUB-TOTAL",{"$nulls":6},{"$f":"SUM(H565:H569)","v":840.48839599999997}]
["MÃO DE OBRA"]
["BASE","CÓDIGO","DISCRIMINAÇÃO","UNI","QUANT.",null,"P.UNIT.","P.TOTAL",{"$f":"$J$4","v":1.5}]
["SINAPI",88274,"MARMORISTA/GRANITEIRO COM ENCARGOS COMPLEMENTARES","h",3.278,null,{"$f":"I573*I572","v":42.884999999999998},{"$f":"E573*G573","v":140.57703000000001},28.59]
["SINAPI",88316,"SERVENTE DE OBRAS ","h",2.1560000000000001,null,{"$f":"I574*I572","v":29.64},{"$f":"E574*G574","v":63.903840000000002},19.760000000000002]
["SUB-TOTAL",{"$nulls":6},{"$f":"SUM(H573:H574)","v":204.48087000000001}]
["PRODUÇÃO DA EQUIPE",null,null,{"$f":"$J$5","v":0.85},"CUSTO ",null,null,{"$f":"H570+H575","v":1044.9692660000001}]
["TOTAL - R$",{"$nulls":6},{"$f":"H576/D576","v":1229.3756070588236}]
["BDI                %",{"$nulls":6},1]
["TOTAL DO SERVIÇO - R$",{"$nulls":6},{"$f":"H577*H578","v":1229.3756070588236}]
[]
[" COMPOSIÇÃO DE PREÇO UNITÁRIO",{"$nulls":6},"CPU032"]
["DESCRIÇÃO DO SERVIÇO",{"$nulls":5},"DATA BASE: ","2023-09-01"]
["BANCADA DE GRANITO BRANCO 2,56 X 0,5 M BD4, CONFORME PROJETO - FORNECIMENTO E INSTALAÇÃO",{"$nulls":5},"UNIDADE: ","UNID."]
["MATERIAIS"]
["BASE","CÓDIGO","DISCRIMINAÇÃO","UNI","QUANT.",null,"P.UNIT.","P.TOTAL"]
["SINAPI",4823,"MASSA PLASTICA PARA MARMORE/GRANITO","kg",0.52280000000000004,null,{"$f":"I586","v":41.57},{"$f":"E586*G586","v":21.732796},41.57]
["SINAPI",11795,"GRANITO PARA BANCADA, POLIDO, TIPO ANDORINHA/ QUARTZ/ CASTELO/ CORUMBA OU OUTROS EQUIVALENTES DA REGIAO, E= *2,5* CM","m²",1.38,null,{"$f":"I587","v":445.28},{"$f":"E587*G587","v":614.48639999999989},445.28]
["SINAPI",37591,"SUPORTE MAO-FRANCESA EM ACO, ABAS IGUAIS 40 CM, CAPACIDADE MINIMA 70 KG, BRANCO","un",3,null,{"$f":"I588","v":20.47},61.41,20.47]
["SINAPI",37329,"REJUNTE EPOXI, QUALQUER COR ","kg",0.06,null,{"$f":"I589","v":80.38},4.8228,80.38]
["SINAPI",7568,"BUCHA DE NYLON SEM ABA S10, COM PARAFUSO DE 6,10 X 65 MM EM ACO ZINCADO COM ROSCA SOBERBA, CABECA CHATA E FENDA PHILLIPS","un",6,null,{"$f":"I590","v":0.67},4.0200000000000005,0.67]
["SUB-TOTAL",{"$nulls":6},{"$f":"SUM(H586:H590)","v":706.47199599999988}]
["MÃO DE OBRA"]
["BASE","CÓDIGO","DISCRIMINAÇÃO","UNI","QUANT.",null,"P.UNIT.","P.TOTAL",{"$f":"$J$4","v":1.5}]
["SINAPI",88274,"MARMORISTA/GRANITEIRO COM ENCARGOS COMPLEMENTARES","h",3.278,null,{"$f":"I594*I593","v":42.884999999999998},{"$f":"E594*G594","v":140.57703000000001},28.59]
["SINAPI",88316,"SERVENTE DE OBRAS ","h",2.1560000000000001,null,{"$f":"I595*I593","v":29.64},{"$f":"E595*G595","v":63.903840000000002},19.760000000000002]
["SUB-TOTAL",{"$nulls":6},{"$f":"SUM(H594:H595)","v":204.48087000000001}]
["PRODUÇÃO DA EQUIPE",null,null,{"$f":"$J$5","v":0.85},"CUSTO ",null,null,{"$f":"H591+H596","v":910.95286599999986}]
["TOTAL - R$",{"$nulls":6},{"$f":"H597/D597","v":1071.7092541176469}]
["BDI                %",{"$nulls":6},1]
["TOTAL DO SERVIÇO - R$",{"$nulls":6},{"$f":"H598*H599","v":1071.7092541176469}]
[]
[" COMPOSIÇÃO DE PREÇO UNITÁRIO",{"$nulls":6},"CPU033"]
["DESCRIÇÃO DO SERVIÇO",{"$nulls":5},"DATA BASE: ","2023-09-01"]
["BANCADA DE GRANITO BRANCO 1,00 X 0,5 M BD5, CONFORME PROJETO - FORNECIMENTO E INSTALAÇÃO",{"$nulls":5},"UNIDADE: ","UNID."]
["MATERIAIS"]
["BASE","CÓDIGO","DISCRIMINAÇÃO","UNI","QUANT.",null,"P.UNIT.","P.TOTAL"]
["SINAPI",4823,"MASSA PLASTICA PARA MARMORE/GRANITO","kg",0.52280000000000004,null,{"$f":"I607","v":41.57},{"$f":"E607*G607","v":21.732796},41.57]
["SINAPI",11795,"GRANITO PARA BANCADA, POLIDO, TIPO ANDORINHA/ QUARTZ/ CASTELO/ CORUMBA OU OUTROS EQUIVALENTES DA REGIAO, E= *2,5* CM","m²",0.6,null,{"$f":"I608","v":445.28},{"$f":"E608*G608","v":267.16799999999995},445.28]
["SINAPI",37591,"SUPORTE MAO-FRANCESA EM ACO, ABAS IGUAIS 40 CM, CAPACIDADE MINIMA 70 KG, BRANCO","un",2,null,{"$f":"I609","v":20.47},40.94,20.47]
["SINAPI",37329,"REJUNTE EPOXI, QUALQUER COR ","kg",2.1100000000000001E-2,null,{"$f":"I610","v":80.38},1.696018,80.38]
["SINAPI",7568,"BUCHA DE NYLON SEM ABA S10, COM PARAFUSO DE 6,10 X 65 MM EM ACO ZINCADO COM ROSCA SOBERBA, CABECA CHATA E FENDA PHILLIPS","un",6,null,{"$f":"I611","v":0.67},4.0200000000000005,0.67]
["SUB-TOTAL",{"$nulls":6},{"$f":"SUM(H607:H611)","v":335.55681399999992}]
["MÃO DE OBRA"]
["BASE","CÓDIGO","DISCRIMINAÇÃO","UNI","QUANT.",null,"P.UNIT.","P.TOTAL",{"$f":"$J$4","v":1.5}]
["SINAPI",88274,"MARMORISTA/GRANITEIRO COM ENCARGOS COMPLEMENTARES","h",2,null,{"$f":"I615*I614","v":42.884999999999998},{"$f":"E615*G615","v":85.77},28.59]
["SINAPI",88316,"SERVENTE DE OBRAS ","h",1.5,null,{"$f":"I616*I614","v":29.64},{"$f":"E616*G616","v":44.46},19.760000000000002]
["SUB-TOTAL",{"$nulls":6},{"$f":"SUM(H615:H616)","v":130.22999999999999}]
["PRODUÇÃO DA EQUIPE",null,null,{"$f":"$J$5","v":0.85},"CUSTO ",null,null,{"$f":"H612+H617","v":465.78681399999994}]
["TOTAL - R$",{"$nulls":6},{"$f":"H618/D618","v":547.98448705882345}]
["BDI                %",{"$nulls":6},1]
["TOTAL DO SERVIÇO - R$",{"$nulls":6},{"$f":"H619*H620","v":547.98448705882345}]
[]
[" COMPOSIÇÃO DE PREÇO UNITÁRIO",{"$nulls":6},"CPU034"]
["DESCRIÇÃO DO SERVIÇO",{"$nulls":5},"DATA BASE: ","2023-09-01"]
["BANCADA DE GRANITO BRANCO 1,10 X 0,5 M BD5, CONFORME PROJETO - FORNECIMENTO E INSTALAÇÃO",{"$nulls":5},"UNIDADE: ","UNID."]
["MATERIAIS"]
["BASE","CÓDIGO","DISCRIMINAÇÃO","UNI","QUANT.",null,"P.UNIT.","P.TOTAL"]
["SINAPI",4823,"MASSA PLASTICA PARA MARMORE/GRANITO","kg",0.52280000000000004,null,{"$f":"I628","v":41.57},{"$f":"E628*G628","v":21.732796},41.57]
["SINAPI",11795,"GRANITO PARA BANCADA, POLIDO, TIPO ANDORINHA/ QUARTZ/ CASTELO/ CORUMBA OU OUTROS EQUIVALENTES DA REGIAO, E= *2,5* CM","m²",0.65,null,{"$f":"I629","v":445.28},{"$f":"E629*G629","v":289.43200000000002},445.28]
["SINAPI",37591,"SUPORTE MAO-FRANCESA EM ACO, ABAS IGUAIS 40 CM, CAPACIDADE MINIMA 70 KG, BRANCO","un",2,null,{"$f":"I630","v":20.47},40.94,20.47]
["SINAPI",37329,"REJUNTE EPOXI, QUALQUER COR ","kg",2.1100000000000001E-2,null,{"$f":"I631","v":80.38},1.696018,80.38]
["SINAPI",7568,"BUCHA DE NYLON SEM ABA S10, COM PARAFUSO DE 6,10 X 65 MM EM ACO ZINCADO COM ROSCA SOBERBA, CABECA CHATA E FENDA PHILLIPS","un",6,null,{"$f":"I632","v":0.67},4.0200000000000005,0.67]
["SUB-TOTAL",{"$nulls":6},{"$f":"SUM(H628:H632)","v":357.82081399999998}]
["MÃO DE OBRA"]
["BASE","CÓDIGO","DISCRIMINAÇÃO","UNI","QUANT.",null,"P.UNIT.","P.TOTAL",{"$f":"$J$4","v":1.5}]
["SINAPI",88274,"MARMORISTA/GRANITEIRO COM ENCARGOS COMPLEMENTARES","h",2,null,{"$f":"I636*I635","v":42.884999999999998},{"$f":"E636*G636","v":85.77},28.59]
["SINAPI",88316,"SERVENTE DE OBRAS ","h",1.5,null,{"$f":"I637*I635","v":29.64},{"$f":"E637*G637","v":44.46},19.760000000000002]
["SUB-TOTAL",{"$nulls":6},{"$f":"SUM(H636:H637)","v":130.22999999999999}]
["PRODUÇÃO DA EQUIPE",null,null,{"$f":"$J$5","v":0.85},"CUSTO ",null,null,{"$f":"H633+H638","v":488.05081399999995}]
["TOTAL - R$",{"$nulls":6},{"$f":"H639/D639","v":574.17742823529409}]
["BDI                %",{"$nulls":6},1]
["TOTAL DO SERVIÇO - R$",{"$nulls":6},{"$f":"H640*H641","v":574.17742823529409}]
[]
[" COMPOSIÇÃO DE PREÇO UNITÁRIO",{"$nulls":6},"CPU035"]
["DESCRIÇÃO DO SERVIÇO",{"$nulls":5},"DATA BASE: ","2023-09-01"]
["QUADRO ILUSTRATIVO COM FOTOGRAFIAS IMPRESSAS EM ADESIVO APLICADOS SOBRE PLACA DE ACRÍLICO 1,00 X 1,50 M CONFORME PROJETO - FORNECIMENTO E INSTALAÇÃO",{"$nulls":5},"UNIDADE: ","UNID."]
["MATERIAIS"]
["BASE","CÓDIGO","DISCRIMINAÇÃO","UNI","QUANT.",null,"P.UNIT.","P.TOTAL",1]
["SINAPI",4334,"PARAFUSO FRANCES ZINCADO, DIAMETRO 1/2\", COMPRIMENTO 15\", COM PORCA E ARRUELA LISA MEDIA","un",4,null,{"$f":"I649*I648","v":25.75},{"$f":"E649*G649","v":103},{"$f":"I667","v":25.75}]
["Mercado",null,"IMPRESSÃO DE FOTOGRAFIA EM ADESIVO A SER APLICADA EM PLACA DE ACRÍLICO ","m²",{"$f":"1.5","v":1.5},null,{"$f":"I650*I648","v":52},{"$f":"E650*G650","v":78},{"$f":"I668","v":52}]
["Mercado",null,"PLACA DE ACRÍLICO 6MM INCOLOR DE 100 x 150 CM","un",1,null,{"$f":"I651*I648","v":735.63},735.63,735.63]
["SUB-TOTAL",{"$nulls":6},{"$f":"SUM(H649:H651)","v":916.63}]
["MÃO DE OBRA"]
["BASE","CÓDIGO","DISCRIMINAÇÃO","UNI","QUANT.",null,"P.UNIT.","P.TOTAL",{"$f":"$J$4","v":1.5}]
["SINAPI",88316,"SERVENTE DE OBRAS ","h",1,null,{"$f":"I655*I654","v":29.64},{"$f":"E655*G655","v":29.64},19.760000000000002]
["SUB-TOTAL",{"$nulls":6},{"$f":"SUM(H655:H655)","v":29.64}]
["PRODUÇÃO DA EQUIPE",null,null,{"$f":"$J$5","v":0.85},"CUSTO ",null,null,{"$f":"H652+H656","v":946.27}]
["TOTAL - R$",{"$nulls":6},{"$f":"H657/D657","v":1113.2588235294118}]
["BDI                %",{"$nulls":6},1]
["TOTAL DO SERVIÇO - R$",{"$nulls":6},{"$f":"H658*H659","v":1113.2588235294118}]
[]
[" COMPOSIÇÃO DE PREÇO UNITÁRIO",{"$nulls":6},"CPU036"]
["DESCRIÇÃO DO SERVIÇO",{"$nulls":5},"DATA BASE: ","2023-09-01"]
["QUADRO ILUSTRATIVO COM FOTOGRAFIAS IMPRESSAS EM ADESIVO APLICADOS SOBRE PLACA DE ACRÍLICO 2,30 X 1,50 M CONFORME PROJETO - FORNECIMENTO E INSTALAÇÃO",{"$nulls":5},"UNIDADE: ","UNID."]
["MATERIAIS"]
["BASE","CÓDIGO","DISCRIMINAÇÃO","UNI","QUANT.",null,"P.UNIT.","P.TOTAL",1]
["SINAPI",4334,"PARAFUSO FRANCES ZINCADO, DIAMETRO 1/2\", COMPRIMENTO 15\", COM PORCA E ARRUELA LISA MEDIA","un",6,null,{"$f":"I667*I666","v":25.75},{"$f":"E667*G667","v":154.5},{"$f":"I685","v":25.75}]
["Mercado",null,"IMPRESSÃO DE FOTOGRAFIA EM ADESIVO A SER APLICADA EM PLACA DE ACRÍLICO ","m²",{"$f":"2.3*1.5","v":3.4499999999999997},null,{"$f":"I668*I666","v":52},{"$f":"E668*G668","v":179.39999999999998},{"$f":"I686","v":52}]
["Mercado",null,"PLACA DE ACRÍLICO 6MM INCOLOR DE 230 x 150 CM","un",1,null,{"$f":"I669*I666","v":1690.5},1690.5,1690.5]
["SUB-TOTAL",{"$nulls":6},{"$f":"SUM(H667:H669)","v":2024.4}]
["MÃO DE OBRA"]
["BASE","CÓDIGO","DISCRIMINAÇÃO","UNI","QUANT.",null,"P.UNIT.","P.TOTAL",{"$f":"$J$4","v":1.5}]
["SINAPI",88316,"SERVENTE DE OBRAS ","h",1,null,{"$f":"I673*I672","v":29.64},{"$f":"E673*G673","v":29.64},19.760000000000002]
["SUB-TOTAL",{"$nulls":6},{"$f":"SUM(H673:H673)","v":29.64}]
["PRODUÇÃO DA EQUIPE",null,null,{"$f":"$J$5","v":0.85},"CUSTO ",null,null,{"$f":"H670+H674","v":2054.04}]
["TOTAL - R$",{"$nulls":6},{"$f":"H675/D675","v":2416.5176470588235}]
["BDI                %",{"$nulls":6},1]
["TOTAL DO SERVIÇO - R$",{"$nulls":6},{"$f":"H676*H677","v":2416.5176470588235}]
[]
[" COMPOSIÇÃO DE PREÇO UNITÁRIO",{"$nulls":6},"CPU037"]
["DESCRIÇÃO DO SERVIÇO",{"$nulls":5},"DATA BASE: ","2023-09-01"]
["QUADRO ILUSTRATIVO COM FOTOGRAFIAS IMPRESSAS EM ADESIVO APLICADOS SOBRE PLACA DE ACRÍLICO 2,60 X 1,60 M CONFORME PROJETO - FORNECIMENTO E INSTALAÇÃO",{"$nulls":5},"UNIDADE: ","UNID."]
["MATERIAIS"]
["BASE","CÓDIGO","DISCRIMINAÇÃO","UNI","QUANT.",null,"P.UNIT.","P.TOTAL",1]
["SINAPI",4334,"PARAFUSO FRANCES ZINCADO, DIAMETRO 1/2\", COMPRIMENTO 15\", COM PORCA E ARRUELA LISA MEDIA","un",6,null,{"$f":"I685*I684","v":25.75},{"$f":"E685*G685","v":154.5},25.75]
["Mercado",null,"IMPRESSÃO DE FOTOGRAFIA EM ADESIVO A SER APLICADA EM PLACA DE ACRÍLICO ","m²",{"$f":"2.6*1.6","v":4.16},null,{"$f":"I686*I684","v":52},{"$f":"E686*G686","v":216.32},52]
["Mercado",null,"PLACA DE ACRÍLICO 6MM INCOLOR DE 260 x 160 CM","un",1,null,{"$f":"I687*I684","v":2045.31},2045.31,2045.31]
["SUB-TOTAL",{"$nulls":6},{"$f":"SUM(H685:H687)","v":2416.13}]
["MÃO DE OBRA"]
["BASE","CÓDIGO","DISCRIMINAÇÃO","UNI","QUANT.",null,"P.UNIT.","P.TOTAL",{"$f":"$J$4","v":1.5}]
["SINAPI",88316,"SERVENTE DE OBRAS ","h",1,null,{"$f":"I691*I690","v":29.64},{"$f":"E691*G691","v":29.64},19.760000000000002]
["SUB-TOTAL",{"$nulls":6},{"$f":"SUM(H691:H691)","v":29.64}]
["PRODUÇÃO DA EQUIPE",null,null,{"$f":"$J$5","v":0.85},"CUSTO ",null,null,{"$f":"H688+H692","v":2445.77}]
["TOTAL - R$",{"$nulls":6},{"$f":"H693/D693","v":2877.3764705882354}]
["BDI                %",{"$nulls":6},1]
["TOTAL DO SERVIÇO - R$",{"$nulls":6},{"$f":"H694*H695","v":2877.3764705882354}]
[]
[" COMPOSIÇÃO DE PREÇO UNITÁRIO",{"$nulls":6},"CPU038"]
["DESCRIÇÃO DO SERVIÇO",{"$nulls":5},"DATA BASE: ","2023-09-01"]
["EXECUÇÃO DE INSTALAÇÕES ELÉTRICAS, EXCLUSIVE EQUIPAMENTOS",{"$nulls":5},"UNIDADE: ","CJ."]
["MÃO DE OBRA"]
["BASE","CÓDIGO","DISCRIMINAÇÃO","UNI","QUANT.",null,"P.UNIT.","P.TOTAL",{"$f":"$J$4","v":1.5}]
["SINAPI",88247,"AJUDANTE DE ELETRICISTA","h",220,null,{"$f":"I703*I702","v":33.51},{"$f":"E703*G703","v":7372.2},22.34]
["SINAPI",88264,"ELETRICISTA","h",110,null,{"$f":"I704*I702","v":41.7},{"$f":"E704*G704","v":4587},27.8]
["SUB-TOTAL",{"$nulls":6},{"$f":"SUM(H703:H704)","v":11959.2}]
["PRODUÇÃO DA EQUIPE",null,null,{"$f":"$J$5","v":0.85},"CUSTO ",null,null,{"$f":"SUM(H705)","v":11959.2}]
["TOTAL - R$",{"$nulls":6},{"$f":"H706/D706","v":14069.64705882353}]
["BDI                %",{"$nulls":6},1]
["TOTAL DO SERVIÇO - R$",{"$nulls":6},{"$f":"H707*H708","v":14069.64705882353}]
[]
[" COMPOSIÇÃO DE PREÇO UNITÁRIO",{"$nulls":6},"CPU039"]
["DESCRIÇÃO DO SERVIÇO",{"$nulls":5},"DATA BASE: ","2023-09-01"]
["REMOÇÃO DE APARELHOS SANITÁRIOS, DE FORMA MANUAL, SEM REAPROVEITAMENTO",{"$nulls":5},"UNIDADE: ","UNID."]
["MÃO DE OBRA"]
["BASE","CÓDIGO","DISCRIMINAÇÃO","UNI","QUANT.",null,"P.UNIT.","P.TOTAL",{"$f":"$J$4","v":1.5}]
["SINAPI",88267,"ENCANADOR OU BOMBEIRO HIDRÁULICO COM ENCARGOS COMPLEMENTARES","h",1.6,null,{"$f":"I716*I715","v":40.049999999999997},{"$f":"E716*G716","v":64.08},26.7]
["SINAPI",88316,"SERVENTE COM ENCARGOS COMPLEMENTARES","h",1.6,null,{"$f":"I717*I715","v":29.64},{"$f":"E717*G717","v":47.424000000000007},19.760000000000002]
["SUB-TOTAL",{"$nulls":6},{"$f":"SUM(H716:H717)","v":111.504}]
["PRODUÇÃO DA EQUIPE",null,null,{"$f":"$J$5","v":0.85},"CUSTO ",null,null,{"$f":"SUM(H718)","v":111.504}]
["TOTAL - R$",{"$nulls":6},{"$f":"H719/D719","v":131.18117647058824}]
["BDI                %",{"$nulls":6},1]
["TOTAL DO SERVIÇO - R$",{"$nulls":6},{"$f":"H720*H721","v":131.18117647058824}]
[]
[" COMPOSIÇÃO DE PREÇO UNITÁRIO",{"$nulls":6},"CPU040"]
["DESCRIÇÃO DO SERVIÇO",{"$nulls":5},"DATA BASE: ","2023-09-01"]
["LIMPEZA DIÁRIA DAS ÁREAS DE ACESSO, CONSIDERANDO AS ÁREAS INTERNAS COMUNS A OBRA E TRABALHO INTERNO E AS ÁREAS COMUNS DO PRÉDIO QUE SERÃO UTILIZADAS ",{"$nulls":5},"UNIDADE: ","UNID."]
["MÃO DE OBRA"]
["BASE","CÓDIGO","DISCRIMINAÇÃO","UNI","QUANT.",null,"P.UNIT.","P.TOTAL",{"$f":"$J$4","v":1.5}]
["SINAPI",6121,"AUXILIAR DE SERVICOS GERAIS ","h",4,null,{"$f":"I729*I728","v":20.984999999999999},{"$f":"E729*G729","v":83.94},13.99]
["SUB-TOTAL",{"$nulls":6},{"$f":"SUM(H729:H729)","v":83.94}]
["PRODUÇÃO DA EQUIPE",null,null,{"$f":"$J$5","v":0.85},"CUSTO ",null,null,{"$f":"SUM(H730)","v":83.94}]
["TOTAL - R$",{"$nulls":6},{"$f":"H731/D731","v":98.752941176470586}]
["BDI                %",{"$nulls":6},1]
["TOTAL DO SERVIÇO - R$",{"$nulls":6},{"$f":"H732*H733","v":98.752941176470586}]
[]
[" COMPOSIÇÃO DE PREÇO UNITÁRIO",{"$nulls":6},"CPU041"]
["DESCRIÇÃO DO SERVIÇO",{"$nulls":5},"DATA BASE: ","2023-09-01"]
["ADICIONAL HORAS EXTRAS PARA TRABALHO EM FINAIS DE SEMANA ",{"$nulls":5},"UNIDADE: ","MÊS"]
["MÃO DE OBRA"]
["BASE","CÓDIGO","DISCRIMINAÇÃO","UNI","QUANT.",null,"P.UNIT.","P.TOTAL",0.5]
["SINAPI",2706,"ENGENHEIRO DE OBRA ","h",8,null,{"$f":"I741*I740","v":55.24},{"$f":"E741*G741","v":441.92},110.48]
["SINAPI",4083,"ENCARREGADO GERAL DE OBRAS","h",24,null,{"$f":"I742*I740","v":23.555},{"$f":"E742*G742","v":565.31999999999994},47.11]
["SINAPI",2350,"AUXILIAR DE ESCRITORIO COM ENCARGOS COMPLEMENTARES CONSIDERANDO HORA EXTRA","h",4,null,{"$f":"I743*I740","v":10.31},{"$f":"E743*G743","v":41.24},20.62]
["SUB-TOTAL",{"$nulls":6},{"$f":"SUM(H741:H743)","v":1048.48}]
["PRODUÇÃO DA EQUIPE",null,null,{"$f":"$K$4","v":1},"CUSTO ",null,null,{"$f":"H744","v":1048.48}]
["TOTAL - R$",{"$nulls":6},{"$f":"H745/D745","v":1048.48}]
["BDI                %",{"$nulls":6},1]
["TOTAL DO SERVIÇO - R$",{"$nulls":6},{"$f":"H746*H747","v":1048.48}]
[]
[" COMPOSIÇÃO DE PREÇO UNITÁRIO",{"$nulls":6},"CPU042"]
["DESCRIÇÃO DO SERVIÇO",{"$nulls":5},"DATA BASE: ","2023-09-01"]
["TRANSPORTE MANUAL (TERRA, AREIA, ENTULHO) PARA RETIRADA DA ÁREA INTERNA DA REFORMA, TRANSPORTE PELO ELEVADOR E DESCARGA MANUAL EM CAÇAMBA A ATÉ 30 M DO EDIFÍCIO - FINAL SEMANA",{"$nulls":5},"UNIDADE: ","M3"]
["MÃO DE OBRA"]
["BASE","CÓDIGO","DISCRIMINAÇÃO","UNI","QUANT.",null,"P.UNIT.","P.TOTAL",{"$f":"$J$4","v":1.5}]
["SINAPI",88316,"SERVENTE COM ENCARGOS COMPLEMENTARES CONSIDERANDO HORA EXTRA","h",4,null,{"$f":"I755*I754","v":29.64},{"$f":"E755*G755","v":118.56},19.760000000000002]
["SUB-TOTAL",{"$nulls":6},{"$f":"SUM(H755:H755)","v":118.56}]
["PRODUÇÃO DA EQUIPE",null,null,{"$f":"$J$5","v":0.85},"CUSTO ",null,null,{"$f":"H756","v":118.56}]
["TOTAL - R$",{"$nulls":6},{"$f":"H757/D757","v":139.48235294117649}]
["BDI                %",{"$nulls":6},1]
["TOTAL DO SERVIÇO - R$",{"$nulls":6},{"$f":"H758*H759","v":139.48235294117649}]
[]
[" COMPOSIÇÃO DE PREÇO UNITÁRIO",{"$nulls":6},"CPU043"]
["DESCRIÇÃO DO SERVIÇO",{"$nulls":5},"DATA BASE: ","2023-09-01"]
["TRANSPORTE MANUAL DE MATERIAIS NOVOS, RECEBENDO A DESCARGA A ATÉ 30 M DO EDIFÍCIO, TRANSPORTE PELO ELEVADOR E DESCARGA NA ÁREA INTERNA DA REFORMA  - FINAL DE SEMANA",{"$nulls":5},"UNIDADE: ","M3"]
["MÃO DE OBRA"]
["BASE","CÓDIGO","DISCRIMINAÇÃO","UNI","QUANT.",null,"P.UNIT.","P.TOTAL",{"$f":"$J$4","v":1.5}]
["SINAPI",88316,"SERVENTE COM ENCARGOS COMPLEMENTARES CONSIDERANDO HORA EXTRA","h",4,null,{"$f":"I767*I766","v":29.64},{"$f":"E767*G767","v":118.56},19.760000000000002]
["SUB-TOTAL",{"$nulls":6},{"$f":"SUM(H767:H767)","v":118.56}]
["PRODUÇÃO DA EQUIPE",null,null,{"$f":"$J$5","v":0.85},"CUSTO ",null,null,{"$f":"H768","v":118.56}]
["TOTAL - R$",{"$nulls":6},{"$f":"H769/D769","v":139.48235294117649}]
["BDI                %",{"$nulls":6},1]
["TOTAL DO SERVIÇO - R$",{"$nulls":6},{"$f":"H770*H771","v":139.48235294117649}]
[]
[" COMPOSIÇÃO DE PREÇO UNITÁRIO",{"$nulls":6},"CPU044"]
["DESCRIÇÃO DO SERVIÇO",{"$nulls":5},"DATA BASE: ","2023-09-01"]
["REVESTIMENTO CERÂMICO PARA PAREDES TIPO ELIANE METRO WHITE 10x20cm OU PORTINARI BORDA BOLD DECORA MATTE WHITE 8x25 OU INCEPA RV GLACIAL SNOW 33x60 OU SIMILAR A CRITÉRIO DA FISCALIZAÇÃO, ASSENTADO COM ARGAMASSA INDUSTRIALIZADA COM ADITIVO IMPERMEABILIZANTE",{"$nulls":5},"UNIDADE: ","M2"]
["MATERIAIS"]
["BASE","CÓDIGO","DISCRIMINAÇÃO","UNI","QUANT.",null,"P.UNIT.","P.TOTAL"]
["Cotação",null,"REVESTIMENTO CERÂMICO PARA PAREDES TIPO ELIANE METRO WHITE 10x20cm OU PORTINARI BORDA BOLD DECORA MATTE WHITE 8x25 OU INCEPA RV GLACIAL SNOW 33x60 OU SIMILAR A CRITÉRIO DA FISCALIZAÇÃO","m²",1.05,null,{"$f":"I779","v":82.59},{"$f":"E779*G779","v":86.719500000000011},82.59]
["SINAPI",123,"ADITIVO IMPERMEABILIZANTE DE PEGA NORMAL PARA ARGAMASSAS E CONCRETOS, LIQUIDO E ISENTO DE CLORETOS","L",0.38700000000000001,null,{"$f":"I780","v":6.1},{"$f":"E780*G780","v":2.3607},6.1]
["SINAPI",34357,"REJUNTE CIMENTICIO, QUALQUER COR ","kg",0.42,null,{"$f":"I781","v":3.81},{"$f":"E781*G781","v":1.6002000000000001},3.81]
["SUB-TOTAL",{"$nulls":6},{"$f":"SUM(H779:H781)","v":90.680400000000006}]
["SERVIÇOS - COMPOSIÇÕES AUXILIARES"]
["BASE","CÓDIGO","DISCRIMINAÇÃO","UNI","QUANT.",null,"P.UNIT.","P.TOTAL",1.35]
["SINAPI",87561,"MASSA ÚNICA, PARA RECEBIMENTO DE PINTURA OU CERÂMICA, EM ARGAMASSA INDUSTRIALIZADA, PREPARO MECÂNICO, APLICADO COM EQUIPAMENTO DE MISTURA E PROJEÇÃO DE 1,5 M3/H DE ARGAMASSA EM FACES INTERNAS DE PAREDES ","m²",1,null,{"$f":"I785*I784","v":53.8245},{"$f":"E785*G785","v":53.8245},39.869999999999997]
["SUB-TOTAL",{"$nulls":6},{"$f":"SUM(H785:H785)","v":53.8245}]
["MÃO DE OBRA"]
["BASE","CÓDIGO","DISCRIMINAÇÃO","UNI","QUANT.",null,"P.UNIT.","P.TOTAL",{"$f":"$J$4","v":1.5}]
["SINAPI",88256,"AZULEJISTA OU LADRILHISTA COM ENCARGOS COMPLEMENTARES","h",0.49,null,{"$f":"I789*I788","v":43.695},{"$f":"E789*G789","v":21.410550000000001},29.13]
["SINAPI",88316,"SERVENTE DE OBRAS ","h",0.28999999999999998,null,{"$f":"I790*I788","v":29.64},{"$f":"E790*G790","v":8.5955999999999992},19.760000000000002]
["SUB-TOTAL",{"$nulls":6},{"$f":"SUM(H789:H790)","v":30.006149999999998}]
["PRODUÇÃO DA EQUIPE",null,null,{"$f":"$J$5","v":0.85},"CUSTO ",null,null,{"$f":"H782+H791+H786","v":174.51105000000001}]
["TOTAL - R$",{"$nulls":6},{"$f":"H792/D792","v":205.30711764705885}]
["BDI                %",{"$nulls":6},1]
["TOTAL DO SERVIÇO - R$",{"$nulls":6},{"$f":"H793*H794","v":205.30711764705885},null,199.03]
[]
[" COMPOSIÇÃO DE PREÇO UNITÁRIO",{"$nulls":6},"CPU045"]
["DESCRIÇÃO DO SERVIÇO",{"$nulls":5},"DATA BASE: ","2023-09-01"]
["REVESTIMENTO COM PORCELANATO TIPO ELIANE PALLADIO CINZA 90x90 OU BIANCOGRES CEMENTO AVORIO 90x90 APLICADO EM PISO ELAINE PALLADIO ACETINADO 90x90cm OU SIMILAR A CRITÉRIO DA FISCALIZAÇÃO, ASSENTADO COM ARGAMASSA INDUSTRIALIZADA COM ADITIVO IMPERMEABILIZANTE",{"$nulls":5},"UNIDADE: ","M2"]
["MATERIAIS"]
["BASE","CÓDIGO","DISCRIMINAÇÃO","UNI","QUANT.",null,"P.UNIT.","P.TOTAL"]
["Cotação",null,"REVESTIMENTO COM PORCELANATO TIPO ELIANE PALLADIO CINZA 90x90 OU BIANCOGRES CEMENTO AVORIO 90x90 APLICADO EM PISO ELAINE PALLADIO ACETINADO 90x90cm OU SIMILAR A CRITÉRIO DA FISCALIZAÇÃO","m²",1.05,null,{"$f":"I802","v":153.21},{"$f":"E802*G802","v":160.87050000000002},153.21]
["SINAPI",123,"ADITIVO IMPERMEABILIZANTE DE PEGA NORMAL PARA ARGAMASSAS E CONCRETOS, LIQUIDO E ISENTO DE CLORETOS","L",0.38700000000000001,null,6.99,{"$f":"E803*G803","v":2.70513},6.1]
["SINAPI",34357,"REJUNTE CIMENTICIO, QUALQUER COR ","kg",0.14000000000000001,null,3.81,{"$f":"E804*G804","v":0.5334000000000001},3.81]
["SUB-TOTAL",{"$nulls":6},{"$f":"SUM(H802:H804)","v":164.10903000000002}]
["SERVIÇOS - COMPOSIÇÕES AUXILIARES"]
["BASE","CÓDIGO","DISCRIMINAÇÃO","UNI","QUANT.",null,"P.UNIT.","P.TOTAL",1.35]
["SINAPI",87561,"MASSA ÚNICA, PARA RECEBIMENTO DE PINTURA OU CERÂMICA, EM ARGAMASSA INDUSTRIALIZADA, PREPARO MECÂNICO, APLICADO COM EQUIPAMENTO DE MISTURA E PROJEÇÃO DE 1,5 M3/H DE ARGAMASSA EM FACES INTERNAS DE PAREDES ","m²",1,null,{"$f":"I808*I807","v":53.8245},{"$f":"E808*G808","v":53.8245},39.869999999999997]
["SUB-TOTAL",{"$nulls":6},{"$f":"SUM(H808:H808)","v":53.8245}]
["MÃO DE OBRA"]
["BASE","CÓDIGO","DISCRIMINAÇÃO","UNI","QUANT.",null,"P.UNIT.","P.TOTAL",{"$f":"$J$4","v":1.5}]
["SINAPI",88256,"AZULEJISTA OU LADRILHISTA COM ENCARGOS COMPLEMENTARES","h",0.44,null,{"$f":"I812*I811","v":43.695},{"$f":"E812*G812","v":19.2258},29.13]
["SINAPI",88316,"SERVENTE DE OBRAS ","h",0.2,null,{"$f":"I813*I811","v":29.64},{"$f":"E813*G813","v":5.9280000000000008},19.760000000000002]
["SUB-TOTAL",{"$nulls":6},{"$f":"SUM(H812:H813)","v":25.1538}]
["PRODUÇÃO DA EQUIPE",null,null,{"$f":"$J$5","v":0.85},"CUSTO ",null,null,{"$f":"H805+H814+H809","v":243.08733000000001}]
["TOTAL - R$",{"$nulls":6},{"$f":"H815/D815","v":285.98509411764707}]
["BDI                %",{"$nulls":6},1]
["TOTAL DO SERVIÇO - R$",{"$nulls":6},{"$f":"H816*H817","v":285.98509411764707}]
[]
[" COMPOSIÇÃO DE PREÇO UNITÁRIO",{"$nulls":6},"CPU046"]
["DESCRIÇÃO DO SERVIÇO",{"$nulls":5},"DATA BASE: ","2023-09-01"]
["REVESTIMENTO VINILICO APLICADO EM PISO TIPO DURAFLOOR BUZIOS 24x134cm OU DURAFLOOR ACETINADO LIGURIA 23x152 OU EUCATEX DAKOTA LVT 12x228 OU SIMILAR A CRITÉRIO DA FISCALIZAÇÃO",{"$nulls":5},"UNIDADE: ","M2"]
["MATERIAIS"]
["BASE","CÓDIGO","DISCRIMINAÇÃO","UNI","QUANT.",null,"P.UNIT.","P.TOTAL",{"$f":"$J$7","v":1.1000000000000001}]
["Cotação",null,"REVESTIMENTO VINILICO APLICADO EM PISO TIPO DURAFLOOR BUZIOS 24x134cm OU DURAFLOOR ACETINADO LIGURIA 23x152 OU EUCATEX DAKOTA LVT 12x228 OU SIMILAR A CRITÉRIO DA FISCALIZAÇÃO","m²",1.1100000000000001,null,{"$f":"I825*I824","v":207.71300000000002},{"$f":"E825*G825","v":230.56143000000006},188.83]
["SINAPI",4791,"ADESIVO ACRILICO DE BASE AQUOSA / COLA DE CONTATO","kg",9.5000000000000001E-2,null,47,{"$f":"E826*G826","v":4.4649999999999999}]
["SUB-TOTAL",{"$nulls":6},{"$f":"SUM(H825:H826)","v":235.02643000000006}]
["MÃO DE OBRA"]
["BASE","CÓDIGO","DISCRIMINAÇÃO","UNI","QUANT.",null,"P.UNIT.","P.TOTAL",{"$f":"$J$4","v":1.5}]
["SINAPI",88309,"PEDREIRO","h",0.17100000000000001,null,{"$f":"I830*I829","v":41.174999999999997},{"$f":"E830*G830","v":7.0409249999999997},27.45]
["SINAPI",88316,"SERVENTE DE OBRAS ","h",8.5000000000000006E-2,null,{"$f":"I831*I829","v":29.64},{"$f":"E831*G831","v":2.5194000000000001},19.760000000000002]
["SUB-TOTAL",{"$nulls":6},{"$f":"SUM(H830:H831)","v":9.5603249999999989}]
["PRODUÇÃO DA EQUIPE",null,null,{"$f":"$J$5","v":0.85},"CUSTO ",null,null,{"$f":"H827+H832","v":244.58675500000007}]
["TOTAL - R$",{"$nulls":6},{"$f":"H833/D833","v":287.74912352941186}]
["BDI                %",{"$nulls":6},1]
["TOTAL DO SERVIÇO - R$",{"$nulls":6},{"$f":"H834*H835","v":287.74912352941186}]
[]
[" COMPOSIÇÃO DE PREÇO UNITÁRIO",{"$nulls":6},"CPU047"]
["DESCRIÇÃO DO SERVIÇO",{"$nulls":5},"DATA BASE: ","2023-09-01"]
["DEMOLIÇÃO DE ALVENARIA DE BLOCO FURADO, DE FORMA MANUAL, SEM REAPROVEITAMENTO, CONSIDERANDO HORA EXTRA",{"$nulls":5},"UNIDADE: ","M3"]
["MÃO DE OBRA"]
["BASE","CÓDIGO","DISCRIMINAÇÃO","UNI","QUANT.",null,"P.UNIT.","P.TOTAL",{"$f":"$J$4","v":1.5}]
["SINAPI",88309,"PEDREIRO COM ENCARGOS COMPLEMENTARES CONSIDERANDO HORA EXTRA","h",0.22500000000000001,null,{"$f":"I843*I842","v":41.174999999999997},{"$f":"E843*G843","v":9.2643749999999994},27.45]
["SINAPI",88316,"SERVENTE COM ENCARGOS COMPLEMENTARES CONSIDERANDO HORA EXTRA","h",2.3248000000000002,null,{"$f":"I844*I842","v":29.64},{"$f":"E844*G844","v":68.907072000000014},19.760000000000002]
["SUB-TOTAL",{"$nulls":6},{"$f":"SUM(H843:H844)","v":78.171447000000015}]
["PRODUÇÃO DA EQUIPE",null,null,{"$f":"$J$5","v":0.85},"CUSTO ",null,null,{"$f":"H845","v":78.171447000000015}]
["TOTAL - R$",{"$nulls":6},{"$f":"H846/D846","v":91.966408235294139}]
["BDI                %",{"$nulls":6},1]
["TOTAL DO SERVIÇO - R$",{"$nulls":6},{"$f":"H847*H848","v":91.966408235294139}]
[]
[" COMPOSIÇÃO DE PREÇO UNITÁRIO",{"$nulls":6},"CPU048"]
["DESCRIÇÃO DO SERVIÇO",{"$nulls":5},"DATA BASE: ","2023-09-01"]
["DEMOLIÇÃO DE LAJES, DE FORMA MANUAL, SEM REAPROVEITAMENTO, CONSIDERANDO HORA EXTRA",{"$nulls":5},"UNIDADE: ","M3"]
["MÃO DE OBRA"]
["BASE","CÓDIGO","DISCRIMINAÇÃO","UNI","QUANT.",null,"P.UNIT.","P.TOTAL",{"$f":"$J$4","v":1.5}]
["SINAPI",88309,"PEDREIRO COM ENCARGOS COMPLEMENTARES CONSIDERANDO HORA EXTRA","h",{"$f":"1.1118*1.5","v":1.6677},null,{"$f":"I856*I855","v":41.174999999999997},{"$f":"E856*G856","v":68.667547499999998},27.45]
["SINAPI",88316,"SERVENTE COM ENCARGOS COMPLEMENTARES CONSIDERANDO HORA EXTRA","h",{"$f":"11.4882*1.5","v":17.232300000000002},null,{"$f":"I857*I855","v":29.64},{"$f":"E857*G857","v":510.76537200000007},19.760000000000002]
["SUB-TOTAL",{"$nulls":6},{"$f":"SUM(H856:H857)","v":579.43291950000003}]
["PRODUÇÃO DA EQUIPE",null,null,{"$f":"$J$5","v":0.85},"CUSTO ",null,null,{"$f":"H858","v":579.43291950000003}]
["TOTAL - R$",{"$nulls":6},{"$f":"H859/D859","v":681.68578764705887}]
["BDI                %",{"$nulls":6},1]
["TOTAL DO SERVIÇO - R$",{"$nulls":6},{"$f":"H860*H861","v":681.68578764705887}]
[]
[" COMPOSIÇÃO DE PREÇO UNITÁRIO",{"$nulls":6},"CPU049"]
["DESCRIÇÃO DO SERVIÇO",{"$nulls":5},"DATA BASE: ","2023-09-01"]
["DEMOLIÇÃO DE FORRO DE GESSO INCLUSIVE AFASTAMENTO E EMPILHAMENTO, CONSIDERANDO HORA EXTRA",{"$nulls":5},"UNIDADE: ","M2"]
["MÃO DE OBRA"]
["BASE","CÓDIGO","DISCRIMINAÇÃO","UNI","QUANT.",null,"P.UNIT.","P.TOTAL",{"$f":"$J$4","v":1.5}]
["SINAPI",88309,"PEDREIRO COM ENCARGOS COMPLEMENTARES CONSIDERANDO HORA EXTRA/ADICIONAL NOTURNO","h",{"$f":"0.085*1.5","v":0.1275},null,{"$f":"I869*I868","v":41.174999999999997},{"$f":"E869*G869","v":5.2498125},27.45]
["SINAPI",88316,"SERVENTE COM ENCARGOS COMPLEMENTARES CONSIDERANDO HORA EXTRA/ADICIONAL NOTURNO","h",{"$f":"E869*2","v":0.255},null,{"$f":"I870*I868","v":29.64},{"$f":"E870*G870","v":7.5582000000000003},19.760000000000002]
["SUB-TOTAL",{"$nulls":6},{"$f":"SUM(H869:H870)","v":12.8080125}]
["PRODUÇÃO DA EQUIPE",null,null,{"$f":"$J$5","v":0.85},"CUSTO ",null,null,{"$f":"H871","v":12.8080125}]
["TOTAL - R$",{"$nulls":6},{"$f":"H872/D872","v":15.068250000000001}]
["BDI                %",{"$nulls":6},1]
["TOTAL DO SERVIÇO - R$",{"$nulls":6},{"$f":"H873*H874","v":15.068250000000001}]
[]
[" COMPOSIÇÃO DE PREÇO UNITÁRIO",{"$nulls":6},"CPU050"]
["DESCRIÇÃO DO SERVIÇO",{"$nulls":5},"DATA BASE: ","2023-09-01"]
["DEMOLIÇÃO DE PISO DE TACO DE MADEIRA, INCLUSIVE AFASTAMENTO, CONSIDERANDO HORA EXTRA",{"$nulls":5},"UNIDADE: ","M2"]
["MÃO DE OBRA"]
["BASE","CÓDIGO","DISCRIMINAÇÃO","UNI","QUANT.",null,"P.UNIT.","P.TOTAL",{"$f":"$J$4","v":1.5}]
["SINAPI",88309,"PEDREIRO COM ENCARGOS COMPLEMENTARES CONSIDERANDO HORA EXTRA","h",0.1,null,{"$f":"I882*I881","v":41.174999999999997},{"$f":"E882*G882","v":4.1174999999999997},27.45]
["SINAPI",88316,"SERVENTE COM ENCARGOS COMPLEMENTARES CONSIDERANDO HORA EXTRA","h",1,null,{"$f":"I883*I881","v":29.64},{"$f":"E883*G883","v":29.64},19.760000000000002]
["SUB-TOTAL",{"$nulls":6},{"$f":"SUM(H882:H883)","v":33.7575}]
["PRODUÇÃO DA EQUIPE",null,null,{"$f":"$J$5","v":0.85},"CUSTO ",null,null,{"$f":"H884","v":33.7575}]
["TOTAL - R$",{"$nulls":6},{"$f":"H885/D885","v":39.714705882352945}]
["BDI                %",{"$nulls":6},1]
["TOTAL DO SERVIÇO - R$",{"$nulls":6},{"$f":"H886*H887","v":39.714705882352945}]
[]
[" COMPOSIÇÃO DE PREÇO UNITÁRIO",{"$nulls":6},"CPU051"]
["DESCRIÇÃO DO SERVIÇO",{"$nulls":5},"DATA BASE: ","2023-09-01"]
["DEMOLIÇÃO DE PISO VINÍLICO, INCLUSIVE AFASTAMENTO, CONSIDERANDO HORA EXTRA",{"$nulls":5},"UNIDADE: ","M2"]
["MÃO DE OBRA"]
["BASE","CÓDIGO","DISCRIMINAÇÃO","UNI","QUANT.",null,"P.UNIT.","P.TOTAL",{"$f":"$J$4","v":1.5}]
["SINAPI",88309,"PEDREIRO COM ENCARGOS COMPLEMENTARES CONSIDERANDO HORA EXTRA","h",0.04,null,{"$f":"I895*I894","v":41.174999999999997},{"$f":"E895*G895","v":1.647},27.45]
["SINAPI",88316,"SERVENTE COM ENCARGOS COMPLEMENTARES CONSIDERANDO HORA EXTRA","h",0.4,null,{"$f":"I896*I894","v":29.64},{"$f":"E896*G896","v":11.856000000000002},19.760000000000002]
["SUB-TOTAL",{"$nulls":6},{"$f":"SUM(H895:H896)","v":13.503000000000002}]
["PRODUÇÃO DA EQUIPE",null,null,{"$f":"$J$5","v":0.85},"CUSTO ",null,null,{"$f":"H897","v":13.503000000000002}]
["TOTAL - R$",{"$nulls":6},{"$f":"H898/D898","v":15.885882352941179}]
["BDI                %",{"$nulls":6},1]
["TOTAL DO SERVIÇO - R$",{"$nulls":6},{"$f":"H899*H900","v":15.885882352941179}]
[]
[" COMPOSIÇÃO DE PREÇO UNITÁRIO",{"$nulls":6},"CPU052"]
["DESCRIÇÃO DO SERVIÇO",{"$nulls":5},"DATA BASE: ","2023-09-01"]
["DEMOLIÇÃO DE PISO CERÂMICO OU LADRILHO HIDRÁULICO, INCLUSIVE AFASTAMENTO, CONSIDERANDO HORA EXTRA",{"$nulls":5},"UNIDADE: ","M2"]
["MÃO DE OBRA"]
["BASE","CÓDIGO","DISCRIMINAÇÃO","UNI","QUANT.",null,"P.UNIT.","P.TOTAL",{"$f":"$J$4","v":1.5}]
["SINAPI",88309,"PEDREIRO COM ENCARGOS COMPLEMENTARES CONSIDERANDO HORA EXTRA","h",7.8E-2,null,{"$f":"I908*I907","v":41.174999999999997},{"$f":"E908*G908","v":3.2116499999999997},27.45]
["SINAPI",88316,"SERVENTE COM ENCARGOS COMPLEMENTARES CONSIDERANDO HORA EXTRA","h",0.7,null,{"$f":"I909*I907","v":29.64},{"$f":"E909*G909","v":20.747999999999998},19.760000000000002]
["SUB-TOTAL",{"$nulls":6},{"$f":"SUM(H908:H909)","v":23.959649999999996}]
["PRODUÇÃO DA EQUIPE",null,null,{"$f":"$J$5","v":0.85},"CUSTO ",null,null,{"$f":"H910","v":23.959649999999996}]
["TOTAL - R$",{"$nulls":6},{"$f":"H911/D911","v":28.187823529411762}]
["BDI                %",{"$nulls":6},1]
["TOTAL DO SERVIÇO - R$",{"$nulls":6},{"$f":"H912*H913","v":28.187823529411762}]
[]
[" COMPOSIÇÃO DE PREÇO UNITÁRIO",{"$nulls":6},"CPU053"]
["DESCRIÇÃO DO SERVIÇO",{"$nulls":5},"DATA BASE: ","2023-09-01"]
["REMOÇÃO DE PORTA OU JANELA INCLUSIVE MARCO E ALIZAR, INCLUSIVE AFASTAMENTO E EMPILHAMENTO, CONSIDERANDO HORA EXTRA",{"$nulls":5},"UNIDADE: ","M2"]
["MÃO DE OBRA"]
["BASE","CÓDIGO","DISCRIMINAÇÃO","UNI","QUANT.",null,"P.UNIT.","P.TOTAL",{"$f":"$J$4","v":1.5}]
["SINAPI",88309,"PEDREIRO COM ENCARGOS COMPLEMENTARES CONSIDERANDO HORA EXTRA","h",0.06,null,{"$f":"I921*I920","v":41.174999999999997},{"$f":"E921*G921","v":2.4704999999999999},27.45]
["SINAPI",88316,"SERVENTE COM ENCARGOS COMPLEMENTARES CONSIDERANDO HORA EXTRA","h",0.6,null,{"$f":"I922*I920","v":29.64},{"$f":"E922*G922","v":17.783999999999999},19.760000000000002]
["SUB-TOTAL",{"$nulls":6},{"$f":"SUM(H921:H922)","v":20.2545}]
["PRODUÇÃO DA EQUIPE",null,null,{"$f":"$J$5","v":0.85},"CUSTO ",null,null,{"$f":"H923","v":20.2545}]
["TOTAL - R$",{"$nulls":6},{"$f":"H924/D924","v":23.828823529411764}]
["BDI                %",{"$nulls":6},1]
["TOTAL DO SERVIÇO - R$",{"$nulls":6},{"$f":"H925*H926","v":23.828823529411764}]
[]
[" COMPOSIÇÃO DE PREÇO UNITÁRIO",{"$nulls":6},"CPU054"]
["DESCRIÇÃO DO SERVIÇO",{"$nulls":5},"DATA BASE: ","2023-09-01"]
["DEMOLIÇÃO DE REVESTIMENTO CERÂMICO, DE FORMA MANUAL, SEM REAPROVEITAMENTO, CONSIDERANDO HORA EXTRA",{"$nulls":5},"UNIDADE: ","M2"]
["MÃO DE OBRA"]
["BASE","CÓDIGO","DISCRIMINAÇÃO","UNI","QUANT.",null,"P.UNIT.","P.TOTAL",{"$f":"$J$4","v":1.5}]
["SINAPI",88309,"PEDREIRO COM ENCARGOS COMPLEMENTARES CONSIDERANDO HORA EXTRA","h",0.25530000000000003,null,{"$f":"I934*I933","v":41.174999999999997},{"$f":"E934*G934","v":10.5119775},27.45]
["SINAPI",88316,"SERVENTE COM ENCARGOS COMPLEMENTARES CONSIDERANDO HORA EXTRA","h",0.71950000000000003,null,{"$f":"I935*I933","v":29.64},{"$f":"E935*G935","v":21.325980000000001},19.760000000000002]
["SUB-TOTAL",{"$nulls":6},{"$f":"SUM(H934:H935)","v":31.837957500000002}]
["PRODUÇÃO DA EQUIPE",null,null,{"$f":"$J$5","v":0.85},"CUSTO ",null,null,{"$f":"H936","v":31.837957500000002}]
["TOTAL - R$",{"$nulls":6},{"$f":"H937/D937","v":37.456420588235297}]
["BDI                %",{"$nulls":6},1]
["TOTAL DO SERVIÇO - R$",{"$nulls":6},{"$f":"H938*H939","v":37.456420588235297}]
[]
[" COMPOSIÇÃO DE PREÇO UNITÁRIO",{"$nulls":6},"CPU055"]
["DESCRIÇÃO DO SERVIÇO",{"$nulls":5},"DATA BASE: ","2023-09-01"]
["REMOÇÃO DE VIDRO LISO COMUM DE ESQUADRIA COM BAGUETE DE MADEIRA, CONSIDERANDO HORA EXTRA",{"$nulls":5},"UNIDADE: ","M2"]
["MÃO DE OBRA"]
["BASE","CÓDIGO","DISCRIMINAÇÃO","UNI","QUANT.",null,"P.UNIT.","P.TOTAL",{"$f":"$J$4","v":1.5}]
["SINAPI",88309,"PEDREIRO COM ENCARGOS COMPLEMENTARES CONSIDERANDO HORA EXTRA","h",0.40100000000000002,null,{"$f":"I947*I946","v":41.174999999999997},{"$f":"E947*G947","v":16.511175000000001},27.45]
["SINAPI",88316,"SERVENTE COM ENCARGOS COMPLEMENTARES CONSIDERANDO HORA EXTRA","h",0.39,null,{"$f":"I948*I946","v":29.64},{"$f":"E948*G948","v":11.559600000000001},19.760000000000002]
["SUB-TOTAL",{"$nulls":6},{"$f":"SUM(H947:H948)","v":28.070775000000005}]
["PRODUÇÃO DA EQUIPE",null,null,{"$f":"$J$5","v":0.85},"CUSTO ",null,null,{"$f":"H949","v":28.070775000000005}]
["TOTAL - R$",{"$nulls":6},{"$f":"H950/D950","v":33.024441176470596}]
["BDI                %",{"$nulls":6},1]
["TOTAL DO SERVIÇO - R$",{"$nulls":6},{"$f":"H951*H952","v":33.024441176470596}]
[]
[" COMPOSIÇÃO DE PREÇO UNITÁRIO",{"$nulls":6},"CPU056"]
["DESCRIÇÃO DO SERVIÇO",{"$nulls":5},"DATA BASE: ","2023-09-01"]
["RESTAURAÇÃO DE ESQUADRIAS CONTEMPLANDO TROCA DE MADEIRA, CONSIDERANDO HORA EXTRA",{"$nulls":5},"UNIDADE: ","M2"]
["MATERIAIS"]
["BASE","CÓDIGO","DISCRIMINAÇÃO","UNI","QUANT.",null,"P.UNIT.","P.TOTAL"]
["SINAPI",3429,"JANELA BASCULANTE EM MADEIRA PINUS/ EUCALIPTO/ TAUARI/ VIROLA OU EQUIVALENTE, PARA VIDRO, COM FERRAGENS (SEM VIDRO, SEM GUARNICAO/ALIZAR E SEM ACABAMENTO)","m²",1,null,{"$f":"I960","v":821.11},{"$f":"E960*G960","v":821.11},821.11]
["SINAPI",142,"SELANTE ELASTICO MONOCOMPONENTE A BASE DE POLIURETANO (PU) PARA JUNTAS DIVERSAS","310ML",0.43,null,{"$f":"I961","v":29.25},{"$f":"E961*G961","v":12.577500000000001},29.25]
["SINAPI",4430,"CAIBRO NAO APARELHADO *5 X 6* CM, EM MACARANDUBA, ANGELIM OU EQUIVALENTE - BRUTA","m",0.89,null,19.600000000000001,{"$f":"E962*G962","v":17.444000000000003},19.600000000000001]
["SUB-TOTAL",{"$nulls":6},{"$f":"SUM(H960:H962)","v":851.13149999999996}]
["MÃO DE OBRA"]
["BASE","CÓDIGO","DISCRIMINAÇÃO","UNI","QUANT.",null,"P.UNIT.","P.TOTAL",{"$f":"$J$4","v":1.5}]
["SINAPI",88273,"MARCENEIRO COM ENCARGOS COMPLEMENTARES CONSIDERANDO HORA EXTRA","h",1.5,null,{"$f":"I966*I965","v":40.74},{"$f":"E966*G966","v":61.11},27.16]
["SINAPI",88316,"SERVENTE COM ENCARGOS COMPLEMENTARES CONSIDERANDO HORA EXTRA","h",0.75,null,{"$f":"I967*I965","v":29.64},{"$f":"E967*G967","v":22.23},19.760000000000002]
["SUB-TOTAL",{"$nulls":6},{"$f":"SUM(H966:H967)","v":83.34}]
["PRODUÇÃO DA EQUIPE",null,null,{"$f":"$J$5","v":0.85},"CUSTO ",null,null,{"$f":"H963+H968","v":934.47149999999999}]
["TOTAL - R$",{"$nulls":6},{"$f":"H969/D969","v":1099.3782352941178}]
["BDI                %",{"$nulls":6},1]
["TOTAL DO SERVIÇO - R$",{"$nulls":6},{"$f":"H970*H971","v":1099.3782352941178}]
[]
[" COMPOSIÇÃO DE PREÇO UNITÁRIO",{"$nulls":6},"CPU057"]
["DESCRIÇÃO DO SERVIÇO",{"$nulls":5},"DATA BASE: ","2023-09-01"]
["RASPAGEM, CALAFETAÇÃO E APLICAÇÃO DE VERNIZ EM PISO DE TACO",{"$nulls":5},"UNIDADE: ","M2",0.4]
["SERVIÇOS",{"$nulls":7},{"$f":"1-I976","v":0.6}]
["BASE","CÓDIGO","DISCRIMINAÇÃO","UNI","QUANT.",null,"P.UNIT.","P.TOTAL",{"$f":"1.2*I976+1.5*I977","v":1.38}]
["SETOP",17867,"APLICAÇÃO DE VERNIZ, COM ACABAMENTO BRILHANTE, EM PISO DE MADEIRA TIPO TACO, DUAS (2) DEMÃOS, INCLUSIVE RASPAGEM E CALAFETAÇÃO, CONSIDERANDO ADICIONAL NOTURNO E HORA EXTRA","m²",1,null,{"$f":"I979*I978","v":69.772800000000004},{"$f":"E979*G979","v":69.772800000000004},50.56]
["SUB-TOTAL",{"$nulls":6},{"$f":"SUM(H979:H979)","v":69.772800000000004}]
["MÃO DE OBRA"]
["BASE","CÓDIGO","DISCRIMINAÇÃO","UNI","QUANT.",null,"P.UNIT.","P.TOTAL",{"$f":"$J$4","v":1.5}]
["SINAPI",88273,"MARCENEIRO COM ENCARGOS COMPLEMENTARES CONSIDERANDO HORA EXTRA","h",0.185,null,{"$f":"I983*I982","v":40.74},{"$f":"E983*G983","v":7.5369000000000002},27.16]
["SINAPI",88316,"SERVENTE COM ENCARGOS COMPLEMENTARES CONSIDERANDO HORA EXTRA","h",{"$f":"E983","v":0.185},null,{"$f":"I984*I982","v":29.64},{"$f":"E984*G984","v":5.4833999999999996},19.760000000000002]
["SUB-TOTAL",{"$nulls":6},{"$f":"SUM(H983:H984)","v":13.020299999999999}]
["PRODUÇÃO DA EQUIPE",null,null,0.8,"CUSTO ",null,null,{"$f":"H980+H985","v":82.79310000000001}]
["TOTAL - R$",{"$nulls":6},{"$f":"H986/D986","v":103.49137500000001}]
["BDI                %",{"$nulls":6},1]
["TOTAL DO SERVIÇO - R$",{"$nulls":6},{"$f":"H987*H988","v":103.49137500000001}]

{"sheet":"CRON.","index":2,"n_rows":28,"n_cols":14,"rows_kept":28,"cut":false,"hidden":false,"merged":[[5,0,5,13],[6,0,6,1],[6,2,6,3],[6,4,6,13],[0,0,0,13],[1,0,1,13],[2,0,2,13],[3,0,3,13],[4,0,4,13],[8,0,9,0],[8,1,9,1],[10,0,11,0],[10,1,11,1],[12,0,13,0],[12,1,13,1],[26,0,27,1],[14,0,15,0],[14,1,15,1],[16,0,17,0],[16,1,17,1],[18,0,19,0],[18,1,19,1],[20,0,21,0],[20,1,21,1],[22,0,23,0],[22,1,23,1],[24,0,25,1]]}
["MINISTÉRIO DA INTEGRAÇÃO E DESENVOLVIMENTO REGIONAL - MDR"]
["COMPANHIA DE DESENVOLVIMENTO DOS VALES DO SÃO FRANCISCO E DO PARNAÍBA"]
["1ª SUPERINTENDÊNCIA REGIONAL"]
["BELO HORIZONTE - MG"]
["PROJETO DE REFORMA DO ESCRITÓRIO DA CODEVASF (16ª SR)"]
["CRONOGRAMA FÍSICO FINANCEIRO"]
["VALOR TOTAL:",null,{"$f":"D26","v":1299451.98}]
["ITEM","DESCRIÇÃO",null,"VALOR ETAPAS (R$)","MÊS 1","MÊS 2","MÊS 3","MÊS 4","MÊS 5","MÊS 6","MÊS 7","MÊS 8","MÊS 9","MÊS 10"]
[1,{"$f":"PO!D8","v":"ITENS DE RATEIO"},"FÍSICO: ",{"$f":"SUM(E9:N9)","v":0.99999999999999989},{"$f":"1/10","v":0.1},{"$f":"E9","v":0.1},{"$f":"E9","v":0.1},{"$f":"E9","v":0.1},{"$f":"E9","v":0.1},{"$f":"E9","v":0.1},{"$f":"F9","v":0.1},0.1,0.1,0.1]
[null,null,"FINANCEIRO: ",{"$f":"PO!I8","v":298088.89},{"$f":"$D10*E9","v":29808.889000000003},{"$f":"$D10*F9","v":29808.889000000003},29808.889000000003,29808.889000000003,29808.889000000003,29808.889000000003,29808.889000000003,29808.889000000003,29808.889000000003,29808.889000000003]
[2,{"$f":"PO!D13","v":"INST. PRELIMINARES E LIMPEZA"},"FÍSICO: ",{"$f":"SUM(E11:N11)","v":0.99999999999999989},0.1,0.1,0.1,0.1,0.1,0.1,0.1,0.1,0.1,0.1]
[null,null,"FINANCEIRO: ",{"$f":"PO!I13","v":32866.33},{"$f":"$D12*E11","v":3286.6330000000003},{"$f":"$D12*F11","v":3286.6330000000003},3286.6330000000003,3286.6330000000003,3286.6330000000003,3286.6330000000003,3286.6330000000003,3286.6330000000003,3286.6330000000003,3286.6330000000003]
[3,{"$f":"PO!D17","v":"DEMOLIÇÕES E REMOÇÕES"},"FÍSICO: ",{"$f":"SUM(E13:N13)","v":1},0.25,0.25,0.25,0.25,0,0,0,0,0,0]
[null,null,"FINANCEIRO: ",{"$f":"PO!I17","v":91647.430000000008},{"$f":"E13*$D14","v":22911.857500000002},{"$f":"F13*$D14","v":22911.857500000002},22911.857500000002,22911.857500000002,0,0,0,0,0,0]
[4,{"$f":"PO!D32","v":"CONSTRUÇÃO CIVIL"},"FÍSICO: ",{"$f":"SUM(E15:N15)","v":1.0000000000000002},null,{"$f":"1/9","v":0.1111111111111111},{"$f":"1/9","v":0.1111111111111111},0.1111111111111111,0.1111111111111111,0.1111111111111111,0.1111111111111111,0.1111111111111111,0.1111111111111111,0.1111111111111111]
[null,null,"FINANCEIRO: ",{"$f":"PO!I32","v":471569.65000000008},{"$f":"$D16*E15","v":0},{"$f":"$D16*F15","v":52396.627777777787},52396.627777777787,52396.627777777787,52396.627777777787,52396.627777777787,52396.627777777787,52396.627777777787,52396.627777777787,52396.627777777787]
[5,{"$f":"PO!D58","v":"ESQUADRIAS"},"FÍSICO: ",{"$f":"SUM(E17:N17)","v":1},0.2,0.2,0.2,0.2,0.2,"0,00%","0,00%","0,00%","0,00%","0,00%"]
[null,null,"FINANCEIRO: ",{"$f":"PO!I58","v":137355.38},{"$f":"E17*$D18","v":27471.076000000001},{"$f":"F17*$D18","v":27471.076000000001},27471.076000000001,27471.076000000001,27471.076000000001,{"$f":"J17*D18","v":0},{"$f":"K17*E18","v":0},0,0,0]
[6,{"$f":"PO!D73","v":"MÓVEIS PLANEJADOS"},"FÍSICO: ",{"$f":"SUM(E19:N19)","v":1},null,{"$f":"1/8","v":0.125},{"$f":"1/8","v":0.125},0.125,0.125,0.125,0.125,0.125,0.125,0]
[null,null,"FINANCEIRO: ",{"$f":"PO!I73","v":118496.45000000001},{"$f":"E19*$D20","v":0},{"$f":"F19*$D20","v":14812.056250000001},14812.056250000001,14812.056250000001,14812.056250000001,14812.056250000001,14812.056250000001,14812.056250000001,14812.056250000001,0]
[7,{"$f":"PO!D91","v":"INSTALAÇÕES PREDIAIS"},"FÍSICO: ",{"$f":"SUM(E21:N21)","v":0.99999999999999989},null,null,{"$f":"1/6","v":0.16666666666666666},{"$f":"1/6","v":0.16666666666666666},0.16666666666666666,0.16666666666666666,0.16666666666666666,0.16666666666666666,0,0]
[null,null,"FINANCEIRO: ",{"$f":"PO!I91","v":34763.369999999995},{"$f":"E21*D22","v":0},{"$f":"F21*E22","v":0},{"$f":"$D22*G21","v":5793.8949999999986},{"$f":"$D22*H21","v":5793.8949999999986},{"$f":"$D22*I21","v":5793.8949999999986},5793.8949999999986,{"$f":"$D22*K21","v":5793.8949999999986},{"$f":"$D22*L21","v":5793.8949999999986},{"$f":"M21*G22","v":0},0]
[8,{"$f":"PO!D94","v":"MATERIAIS"},"FÍSICO: ",{"$f":"SUM(E23:N23)","v":0.99999999999999978},null,{"$f":"1/7","v":0.14285714285714285},{"$f":"1/7","v":0.14285714285714285},0.14285714285714285,0.14285714285714285,0.14285714285714285,0.14285714285714285,0.14285714285714285,0,0]
[null,null,"FINANCEIRO: ",{"$f":"PO!I94","v":114664.48},{"$f":"E23*D24","v":0},{"$f":"F23*$D$24","v":16380.64},{"$f":"G23*$D$24","v":16380.64},16380.64,16380.64,{"$f":"J23*$D$24","v":16380.64},16380.64,{"$f":"L23*$D$24","v":16380.64},{"$f":"M23*G24","v":0},0]
["TOTAL ",null,"FÍSICO",1,{"$f":"E26/$D$26","v":6.4241277696156202E-2},{"$f":"F26/$D$26","v":0.12856787484196053},0.1330265967410183,0.1330265967410183,0.11539465816026367,9.425414937439841E-2,9.425414937439841E-2,9.425414937439841E-2,7.7189621141504419E-2,{"$f":"N26/$D$26","v":6.5790926554883375E-2}]
[null,null,"FINANCEIRO",{"$f":"D10+D12+D14+D16+D18+D20+D22+D24","v":1299451.98},{"$f":"E10+E12+E14+E16+E18+E20+E22+E24","v":83478.455500000011},{"$f":"F10+F12+F14+F16+F18+F20+F22+F24","v":167067.77952777781},172861.67452777777,172861.67452777777,149949.81702777778,122478.74102777778,122478.74102777778,122478.74102777778,100304.20602777778,85492.149777777784]
["TOTAL ACUMULADO",null,"FÍSICO",1,{"$f":"E25","v":6.4241277696156202E-2},{"$f":"E27+F25","v":0.19280915253811673},{"$f":"F27+G25","v":0.32583574927913506},{"$f":"G27+H25","v":0.45886234602015336},0.57425700418041703,0.66851115355481538,0.76276530292921385,0.85701945230361232,0.93420907344511672,1]
[null,null,"FINANCEIRO",{"$f":"D26","v":1299451.98},{"$f":"E26","v":83478.455500000011},{"$f":"E28+F26","v":250546.23502777782},{"$f":"F28+G26","v":423407.90955555555},596269.58408333338,746219.40111111116,868698.14213888894,991176.88316666672,1113655.6241944446,1213959.8302222225,1299451.9800000002]

{"sheet":"BDI-SERV.","index":3,"n_rows":31,"n_cols":8,"rows_kept":31,"cut":false,"hidden":false,"merged":[[10,1,10,2],[9,1,9,2],[0,0,0,1],[0,2,0,3],[1,0,1,1],[1,2,1,6],[2,0,2,7],[3,0,4,7],[5,0,5,3],[7,0,8,0],[7,1,8,2],[7,3,8,3],[8,4,8,7],[29,0,29,1],[18,1,18,2],[11,1,11,2],[11,4,11,7],[12,1,12,2],[13,1,13,2],[13,4,13,7],[14,1,14,2],[14,4,14,7],[15,1,15,2],[16,1,16,2],[17,1,17,2],[19,1,19,2],[20,1,20,2],[21,1,21,2],[22,1,22,2],[25,0,25,3]]}
["LOCALIDADE:",null,"OBRA/SERVIÇO:",{"$nulls":4},"DATA:"]
["BELO HORIZONTE - MG",null,"ESCRITÓRIO CODEVASF",{"$nulls":4},"2023-12-01"]
[]
["DETALHAMENTO DO BDI - SERVIÇOS"]
[]
[]
[]
["ITEM","DESCRIÇÃO",null,"%"]
[]
[]
[1,"ADMINISTRAÇÃO CENTRAL",null,4,"a =","Administração Central"]
[" "," ",null," "]
[2,"IMPOSTOS E TAXAS",null,{"$f":"SUM(D14:D16)","v":8.65},"i =","Impostos"]
["2.1","ISS",null,5]
["2.2","PIS",null,0.65]
["2.3","Cofins",null,3," "," "," "," "]
[]
[3,"SEGUROS, RISCOS E GARANTIAS",null,{"$f":"0.8+1.27","v":2.0700000000000003},"r =","Seguros, Riscos e Garantias"]
[{"$nulls":4}," "," ",null," "]
[4,"DESPESAS FINANCEIRAS",null,1.23,"df  =","Despesas financeiras"]
[]
[5,"LUCRO",null,7.4,"l =","Lucro"]
[]
[]
[]
["BDI = (((1+a+r)*(1+df)*(1+l))/(1-i))-1"]
[]
["BDI =",{"$f":"((((1+D11/100+D18/100)*(1+D20/100)*(1+D22/100))/(1-D13/100))-1)*100","v":26.240159730706083},"calculado"]
["BDI =",26.24,"adotado"]
[" "]
["*Fórmula BDI conforme Acórdão 2622/2013"]

{"sheet":"BD MAT.","index":4,"n_rows":31,"n_cols":8,"rows_kept":31,"cut":false,"hidden":false,"merged":[[10,1,10,2],[9,1,9,2],[0,0,0,1],[0,2,0,3],[1,0,1,1],[1,2,1,6],[2,0,2,7],[3,0,4,7],[5,0,5,3],[7,0,8,0],[7,1,8,2],[7,3,8,3],[8,4,8,7],[29,0,29,1],[18,1,18,2],[11,1,11,2],[11,4,11,7],[12,1,12,2],[13,1,13,2],[13,4,13,7],[14,1,14,2],[14,4,14,7],[15,1,15,2],[16,1,16,2],[17,1,17,2],[19,1,19,2],[20,1,20,2],[21,1,21,2],[22,1,22,2],[25,0,25,3]]}
["LOCALIDADE:",null,"OBRA/SERVIÇO:",{"$nulls":4},"DATA:"]
["BELO HORIZONTE - MG ",null,"ESCRITÓRIO CODEVASF",{"$nulls":4},"2023-12-01"]
[]
["DETALHAMENTO DO BDI - MATERIAIS"]
[]
[]
[]
["ITEM","DESCRIÇÃO",null,"%"]
[]
[]
[1,"ADMINISTRAÇÃO CENTRAL",null,3.45,"a =","Administração Central"]
[" "," ",null," "]
[2,"IMPOSTOS E TAXAS",null,{"$f":"SUM(D14:D16)","v":3.65},"i =","Impostos"]
["2.1","ISS",null,0]
["2.2","PIS",null,0.65]
["2.3","Cofins",null,3," "," "," "," "]
[]
[3,"SEGUROS, RISCOS E GARANTIAS",null,{"$f":"0.48+0.85","v":1.33},"r =","Seguros, Riscos e Garantias"]
[{"$nulls":4}," "," ",null," "]
[4,"DESPESAS FINANCEIRAS",null,0.85,"df  =","Despesas financeiras"]
[]
[5,"LUCRO",null,5.1100000000000003,"l =","Lucro"]
[]
[]
[]
["BDI = (((1+a+r)*(1+df)*(1+l))/(1-i))-1"]
[]
["BDI =",{"$f":"((((1+D11/100+D18/100)*(1+D20/100)*(1+D22/100))/(1-D13/100))-1)*100","v":15.278047942916428},"calculado"]
["BDI =",15.28,"adotado"]
[" "]
["*Fórmula BDI conforme Acórdão 2622/2013"]