{"text_format":"2","workbook":"xlsx","n_sheets":4,"sheets":["Custo por trabalhador","Vigilância Diurna","Vigilância Noturna","PROPOSTA"],"not_rendered":{"charts":0,"images":0,"macros":0,"external_links":0,"defined_names":0,"comments":1,"pivot_tables":0},"unopened":[],"bounds":{"document_bytes":16777216,"sheet_cells":100000,"run_cost":"one","rows_first":2000,"rows_last":500,"rows_between":2000,"halvings":0,"cell_chars":16384,"cell_head_chars":4096},"cells_cut":0,"cells_raw":0,"read":"whole","date_system":"1900"}

{"sheet":"Custo por trabalhador","index":0,"n_rows":535,"n_cols":7,"rows_kept":535,"cut":false,"hidden":false,"merged":[[71,0,71,7],[181,0,181,5],[232,0,232,5],[57,0,57,7],[58,0,58,7],[69,0,69,7],[210,0,210,7],[221,0,221,7],[183,0,183,3],[192,0,192,3],[201,0,201,3],[152,0,152,5],[163,0,163,4],[150,0,150,7],[132,0,132,3],[82,0,82,3],[412,0,412,3],[372,0,372,3],[373,0,374,0],[373,1,373,3],[392,0,392,3],[401,0,401,4],[390,0,390,7],[410,0,410,7],[521,0,521,3],[502,0,502,3],[513,0,513,3],[486,0,486,3],[511,0,511,7],[519,0,519,7],[356,2,357,2],[241,0,241,7],[252,0,252,7],[341,0,341,7],[352,0,352,7],[294,0,294,3],[303,0,303,3],[312,0,312,3],[332,0,332,3],[323,0,323,4],[292,0,292,7],[321,0,321,7],[343,0,343,4],[254,0,254,1],[354,0,354,6],[355,0,355,6],[265,0,265,3],[274,0,274,3],[243,0,243,4],[263,0,263,7],[172,0,172,3],[223,0,223,4],[212,0,212,3],[0,0,0,7],[3,0,3,7],[7,0,7,1],[20,0,20,3],[41,0,41,3],[1,0,1,7],[5,0,5,7],[11,0,11,7],[154,0,154,4],[13,0,13,3],[32,0,32,4],[18,0,18,7],[30,0,30,7],[36,0,36,4],[73,0,73,3],[111,0,111,1],[123,0,123,3],[109,0,109,7],[141,0,141,3],[46,0,46,3],[60,0,60,6],[48,0,48,3],[91,0,91,4],[100,0,100,4],[283,0,283,3],[418,0,418,3],[496,0,496,5],[497,0,497,1],[437,0,437,3],[448,0,448,2],[450,0,450,2],[459,0,459,5],[475,0,475,3],[477,0,477,3],[424,0,424,7],[435,0,435,7],[495,0,495,7],[426,0,426,3],[356,0,357,0],[356,1,357,1]]}
["PLANILHA DE CUSTOS E FORMAÇÃO DE PREÇOS"]
["MODELO DE FORMAÇÃO DE CUSTO MENSAL PARA UM EMPREGADO "]
[]
["MÓDULO 1 - REMUNERAÇÃO"]
[]
["SALÁRIO BASE"]
[]
["SALÁRIO BASE"]
["Cargo A: Vigilante (12x36h)"]
["Cargo B"]
[]
["GRATIFICAÇÃO DE FUNÇÃO"]
[]
["GRATIFICAÇÃO DE FUNÇÃO"]
["Categoria","Base de cálculo","Percentual","Valor da Gratificação"]
["Cargo A",{"$f":"B9","v":0},null,{"$f":"B16*C16","v":0}]
["Cargo B",{"$f":"B10","v":0},null,{"$f":"B17*C17","v":0}]
[]
["ADICIONAIS (periculosidade ou insalubridade, se houver)"]
[]
["ADICIONAL DE PERICULOSIDADE"]
["Categoria","Base de cálculo","Percentual","Valor"]
["Cargo A (12x36 Diurno)",{"$f":"B9","v":0},0.3,{"$f":"B23*C23","v":0}]
["Cargo A (12x36 Noturno)",{"$f":"B23","v":0},{"$f":"C23","v":0.3},0]
["Cargo A Cargo A (44h semanais)",{"$f":"B23","v":0},{"$f":"C24","v":0.3},0]
["Cargo B (12x36 Diurno)",null,{"$f":"C25","v":0.3},0]
["Cargo B (12x36 Noturno)",null,{"$f":"C26","v":0.3},0]
["Cargo B (44h semanais)",null,{"$f":"C27","v":0.3},0]
[]
[]
["ADICIONAL NOTURNO"]
[]
["ADICIONAL NOTURNO"]
["Categoria","Base de Cálculo","Proporção","Percentual","Valor"]
["Cargo A (12x36 Noturno)",{"$f":"B9+D24","v":0},{"$f":"7/12","v":0.58333333333333337},0.4,{"$f":"B35*C35*D35","v":0}]
["Cargo B (12x36 Noturno)",{"$f":"B10+D27","v":0},{"$f":"7/12","v":0.58333333333333337},{"$f":"D35","v":0.4},{"$f":"B36*C36*D36","v":0}]
["HORA NOTURNA REDUZIDA"]
["Categoria","Base de Cálculo","Proporção","Percentual","Valor"]
["Cargo A (12x36 Noturno)",{"$f":"B9+D24","v":0},{"$f":"1/12","v":8.3333333333333329E-2},0,{"$f":"B39*C39*D39","v":0}]
["Cargo B (12x36 Noturno)",{"$f":"B10+D27","v":0},{"$f":"1/12","v":8.3333333333333329E-2},{"$f":"1+D36","v":1.4},{"$f":"B40*C40*D40","v":0}]
[]
["ADICIONAL POR TRABALHO NOTURNO"]
["Categoria","Adicional Noturno","Hora Noturna\nReduzida","Valor"]
["Cargo A (12x36 Noturno)",{"$f":"E35","v":0},{"$f":"E39","v":0},{"$f":"SUM(B44:C44)","v":0}]
["Cargo B (12x36 Noturno)",{"$f":"E36","v":0},{"$f":"E40","v":0},{"$f":"SUM(B45:C45)","v":0}]
[]
["ADICIONAL XXX"]
[]
["ADICIONAL XXX"]
["Categoria","Base de cálculo","Percentual","Valor"]
["Cargo A (12x36 Diurno)"]
["Cargo A (12x36 Noturno)"]
["Cargo A (44h semanais)"]
["Cargo B (12x36 Diurno)"]
["Cargo B (12x36 Noturno)"]
["Cargo B (44h semanais)"]
[]
["MÓDULO 1 - REMUNERAÇÃO"]
["Este quadro totaliza a remuneração devida ao trabalhador, conforme previsão da Consolidação das Leis do Trabalho e valores disponíveis na Convenção Coletiva para a categoria"]
[]
["MÓDULO 1 - REMUNERAÇÃO"]
["Categoria","Salário Base","Gratificação de função","Adicional de Periculosidade ou Insalubridade","Adicional Noturno","Adicional XXX","Total"]
["Cargo A (12x36 Diurno)",{"$f":"B9","v":0},{"$f":"D16","v":0},{"$f":"D23","v":0},null,{"$f":"D51","v":0},{"$f":"SUM(B63:F63)","v":0}]
["Cargo A (12x36 Noturno)",{"$f":"B9","v":0},{"$f":"D16","v":0},0,{"$f":"D44","v":0},0,{"$f":"SUM(B64:F64)","v":0}]
["Cargo A (44h semanais)",{"$f":"B9","v":0},{"$f":"D16","v":0},0,null,0,0]
["Cargo B (12x36 Diurno)",{"$f":"B10","v":0},{"$f":"D17","v":0},0,null,0,0]
["Cargo B (12x36 Noturno)",{"$f":"B10","v":0},{"$f":"D17","v":0},0,{"$f":"D45","v":0},0,0]
["Cargo B (44h semanais)",{"$f":"B10","v":0},{"$f":"D17","v":0},0,null,0,0]
[]
["MÓDULO 2 - ENCARGOS E BENEFÍCIOS (ANUAIS, MENSAIS E DIÁRIOS)"]
[]
["SUBMÓDULO 2.1 – 13° SALÁRIO, FÉRIAS E ADICIONAL DE FÉRIAS"]
[]
["13° SALÁRIO\nPrevisto no Decreto 57.155, de 1965."]
["Categoria","Base de cálculo","Provisionamento Mensal","Valor"]
["Cargo A (12x36 Diurno)",{"$f":"G63","v":0},{"$f":"1/12","v":8.3333333333333329E-2},{"$f":"B76*C76","v":0}]
["Cargo A (12x36 Noturno)",0,{"$f":"1/12","v":8.3333333333333329E-2},{"$f":"B77*C77","v":0}]
["Cargo A (44h semanais)",0,8.3333333333333329E-2,0]
["Cargo B (12x36 Diurno)",0,8.3333333333333329E-2,0]
["Cargo B (12x36 Noturno)",0,8.3333333333333329E-2,0]
["Cargo B (44h semanais)",0,8.3333333333333329E-2,0]
[]
["FÉRIAS\nPrevisto no art. 7° da Constituição Federal"]
["Categoria","Base de cálculo","Provisionamento Mensal","Valor"]
["Cargo A (12x36 Diurno)",{"$f":"G63","v":0},{"$f":"1/12","v":8.3333333333333329E-2},{"$f":"B85*C85","v":0}]
["Cargo A (12x36 Noturno)",0,{"$f":"1/12","v":8.3333333333333329E-2},{"$f":"B86*C86","v":0}]
["Cargo A (44h semanais)",0,8.3333333333333329E-2,0]
["Cargo B (12x36 Diurno)",0,8.3333333333333329E-2,0]
["Cargo B (12x36 Noturno)",0,8.3333333333333329E-2,0]
["Cargo B (44h semanais)",0,8.3333333333333329E-2,0]
[]
["ADICIONAL DE FÉRIAS - 1/3 CONSTITUCIONAL"]
["Categoria","Base de cálculo","Alíquota Adicional","Provisionamento Mensal","Valor"]
["Cargo A (12x36 Diurno)",{"$f":"G63","v":0},{"$f":"1/3","v":0.33333333333333331},{"$f":"1/12","v":8.3333333333333329E-2},{"$f":"B94*C94*D94","v":0}]
["Cargo A (12x36 Noturno)",0,{"$f":"1/3","v":0.33333333333333331},{"$f":"1/12","v":8.3333333333333329E-2},0]
["Cargo A (44h semanais)",0,0.33333333333333331,8.3333333333333329E-2,0]
["Cargo B (12x36 Diurno)",0,0.33333333333333331,8.3333333333333329E-2,0]
["Cargo B (12x36 Noturno)",0,0.33333333333333331,8.3333333333333329E-2,0]
["Cargo B (44h semanais)",0,0.33333333333333331,8.3333333333333329E-2,0]
[]
["SUBMÓDULO 2.1 – 13° SALÁRIO, FÉRIAS E ADICIONAL DE FÉRIAS"]
["Categoria","13° Salário","Férias ","1/3 Constitucional","Total"]
["Cargo A (12x36 Diurno)",{"$f":"D76","v":0},{"$f":"D85","v":0},{"$f":"E94","v":0},{"$f":"SUM(B103:D103)","v":0}]
["Cargo A (12x36 Noturno)",0,0,0,0]
["Cargo A (44h semanais)",0,0,0,0]
["Cargo B (12x36 Diurno)",0,0,0,0]
["Cargo B (12x36 Noturno)",0,0,0,0]
["Cargo B (44h semanais)",0,0,0,0]
[]
["SUBMÓDULO 2.2 - ENCARGOS PREVIDENCIÁRIOS E FGTS"]
[]
["COMPOSIÇÃO DO GPS E FGTS"]
["Encargos","Percentual"]
["INSS - empregador",0.2]
["Salário-Educação",2.5000000000000001E-2]
["SAT- GIL/RAT",0.03]
["SESC",1.4999999999999999E-2]
["SENAC",0.01]
["SEBRAE",6.0000000000000001E-3]
["INCRA",2E-3]
["FGTS",0.08]
["TOTAL",{"$f":"SUM(B114:B121)","v":0.36800000000000005}]
[]
["GPS - GUIA DA PREVIDÊNCIA SOCIAL"]
["Categoria","Base de cálculo","Percentual","Valor"]
["Cargo A (12x36 Diurno)",{"$f":"G63+E103","v":0},{"$f":"SUM($B$114:$B$120)","v":0.28800000000000003},{"$f":"B126*C126","v":0}]
["Cargo A (12x36 Noturno)",0,{"$f":"SUM($B$114:$B$120)","v":0.28800000000000003},{"$f":"B127*C127","v":0}]
["Cargo A (44h semanais)",0,0.28800000000000003,0]
["Cargo B (12x36 Diurno)",0,0.28800000000000003,0]
["Cargo B (12x36 Noturno)",0,0.28800000000000003,0]
["Cargo B (44h semanais)",0,0.28800000000000003,0]
[]
["FGTS - FUNDO DE GARANTIA POR TEMPO DE SERVIÇO"]
["Categoria","Base de cálculo","Percentual","Valor"]
["Cargo A (12x36 Diurno)",{"$f":"G63+E103","v":0},{"$f":"$B$121","v":0.08},{"$f":"B135*C135","v":0}]
["Cargo A (12x36 Noturno)",0,{"$f":"$B$121","v":0.08},{"$f":"B136*C136","v":0}]
["Cargo A (44h semanais)",0,0.08,0]
["Cargo B (12x36 Diurno)",0,0.08,0]
["Cargo B (12x36 Noturno)",0,0.08,0]
["Cargo B (44h semanais)",0,0.08,0]
[]
["SUBMÓDULO 2.2 - ENCARGOS PREVIDENCIÁRIOS E FGTS"]
["Categoria","GPS","FGTS","Total"]
["Cargo A (12x36 Diurno)",{"$f":"D126","v":0},{"$f":"D135","v":0},{"$f":"B144+C144","v":0}]
["Cargo A (12x36 Noturno)",{"$f":"D127","v":0},{"$f":"D136","v":0},{"$f":"B145+C145","v":0}]
["Cargo A (44h semanais)",0,0,0]
["Cargo B (12x36 Diurno)",0,0,0]
["Cargo B (12x36 Noturno)",0,0,0]
["Cargo B (44h semanais)",0,0,0]
[]
["SUBMÓDULO 2.3 - BENEFÍCIOS MENSAIS E DIÁRIOS"]
[]
["VALE TRANSPORTE"]
[]
["CUSTO DA PASSAGEM"]
["Categoria","Vr. Unitário","Vales por dia ","Dias efetivamente trabalhados","Custo total"]
["Cargo A (12x36 Diurno)",0,2,15,{"$f":"B157*C157*D157","v":0}]
["Cargo A (12x36 Noturno)",{"$f":"B157","v":0},{"$f":"C157","v":2},15,0]
["Cargo A (44h semanais)",{"$f":"B158","v":0},2,22,0]
["Cargo B (12x36 Diurno)",0,2,15,0]
["Cargo B (12x36 Noturno)",{"$f":"B160","v":0},2,15,0]
["Cargo B (44h semanais)",{"$f":"B161","v":0},2,22,0]
[]
["DESCONTO DO VALE TRANSPORTE"]
["Categoria","Base de cálculo","Proporcionalidade","Percentual","Desconto"]
["Cargo A (12x36 Diurno)",{"$f":"B9","v":0},0.5,0.06,{"$f":"B166*C166*D166","v":0}]
["Cargo A (12x36 Noturno)",{"$f":"B9","v":0},0.5,0.06,0]
["Cargo A (44h semanais)",{"$f":"B9","v":0},1,0.06,0]
["Cargo B (12x36 Diurno)",{"$f":"B10","v":0},0.5,0.06,0]
["Cargo B (12x36 Noturno)",{"$f":"B10","v":0},0.5,0.06,0]
["Cargo B (44h semanais)",{"$f":"B10","v":0},1,0.06,0]
[]
["CUSTO EFETIVO DO VALE TRANSPORTE"]
["Categoria","Custo total","Valor do desconto","Custo efetivo"]
["Cargo A (12x36 Diurno)",{"$f":"E157","v":0},{"$f":"E166","v":0},{"$f":"B175-C175","v":0}]
["Cargo A (12x36 Noturno)",0,0,{"$f":"B176-C176","v":0}]
["Cargo A (44h semanais)",0,0,0]
["Cargo B (12x36 Diurno)",0,0,0]
["Cargo B (12x36 Noturno)",0,0,0]
["Cargo B (44h semanais)",0,0,0]
[]
["VALE ALIMENTAÇÃO/REFEIÇÃO"]
[]
["VALE ALIMENTAÇÃO/REFEIÇÃO"]
["Categoria","Valor diário","Dias efetivamente trabalhados","Valor"]
["Cargo A (12x36 Diurno)",0,{"$f":"D157","v":15},{"$f":"B186*C186","v":0}]
["Cargo A (12x36 Noturno)",{"$f":"B186","v":0},{"$f":"D158","v":15},{"$f":"B187*C187","v":0}]
["Cargo A (44h semanais)",{"$f":"B187","v":0},22,0]
["Cargo B (12x36 Diurno)",0,15,0]
["Cargo B (12x36 Noturno)",{"$f":"B189","v":0},15,0]
["Cargo B (44h semanais)",{"$f":"B190","v":0},22,0]
[]
["DESCONTO DO VALE ALIMENTAÇÃO/REFEIÇÃO"]
["Categoria","Base de cálculo","Percentual","Desconto"]
["Cargo A (12x36 Diurno)",{"$f":"D186","v":0},0.1,{"$f":"B195*C195","v":0}]
["Cargo A (12x36 Noturno)",{"$f":"D187","v":0},{"$f":"C195","v":0.1},{"$f":"B196*C196","v":0}]
["Cargo A (44h semanais)",0,{"$f":"C196","v":0.1},0]
["Cargo B (12x36 Diurno)",0,{"$f":"C197","v":0.1},0]
["Cargo B (12x36 Noturno)",0,{"$f":"C198","v":0.1},0]
["Cargo B (44h semanais)",0,{"$f":"C199","v":0.1},0]
[]
["CUSTO EFETIVO DO VALE ALIMENTAÇÃO/REFEIÇÃO"]
["Categoria","Custo total","Desconto","Custo efetivo"]
["Cargo A (12x36 Diurno)",{"$f":"D186","v":0},{"$f":"D195","v":0},{"$f":"B204-C204","v":0}]
["Cargo A (12x36 Noturno)",{"$f":"D187","v":0},{"$f":"D196","v":0},{"$f":"B205-C205","v":0}]
["Cargo A (44h semanais)",0,0,0]
["Cargo B (12x36 Diurno)",0,0,0]
["Cargo B (12x36 Noturno)",0,0,0]
["Cargo B (44h semanais)",0,0,0]
[]
["BENEFÍCIO CESTA BÁSICA\nUtilizar este campo em caso de outros benefícios previstos em Convenção Coletiva, sempre especificando o tipo, finalidade e previsão legal do mesmo."]
[]
["Cesta Básica"]
["Categoria","Cesta Básica","Benefício XXX","Valor efetivo"]
["Cargo A (12x36 Diurno)",0,0,{"$f":"SUM(B215:C215)","v":0}]
["Cargo A (12x36 Noturno)",{"$f":"B215","v":0},{"$f":"C215","v":0},{"$f":"SUM(B216:C216)","v":0}]
["Cargo A (44h semanais)",{"$f":"B215","v":0},{"$f":"C215","v":0},{"$f":"SUM(B217:C217)","v":0}]
["Cargo B (12x36 Diurno)"]
["Cargo B (12x36 Noturno)"]
["Cargo B (44h semanais)"]
[]
["BENEFÍCIO ASSISTÊNCIA MÉDICA, ODONTOLÓGICA E SEGURO DE VIDA\nUtilizar este campo em caso de outros benefícios previstos em Convenção Coletiva, sempre especificando o tipo, finalidade e previsão legal do mesmo."]
[]
["Assistência Médica, Odontológica e Seguro de Vida"]
["Categoria","Plano de saúde","Odontológica","Seguro de Vida","Valor efetivo"]
["Cargo A (12x36 Diurno)",0,0,0,{"$f":"SUM(B226:D226)","v":0}]
["Cargo A (12x36 Noturno)",{"$f":"B226","v":0},{"$f":"C226","v":0},{"$f":"D226","v":0},{"$f":"SUM(B227:D227)","v":0}]
["Cargo A (44h semanais)",{"$f":"B226","v":0},{"$f":"C226","v":0},{"$f":"D226","v":0},{"$f":"SUM(B228:D228)","v":0}]
["Cargo B (12x36 Diurno)"]
["Cargo B (12x36 Noturno)"]
["Cargo B (44h semanais)"]
[]
["SUBMÓDULO 2.3 - BENEFÍCIOS MENSAIS E DIÁRIOS"]
["Categoria","Vale Transporte","Vale Refeição",{"$f":"A213","v":"Cesta Básica"},{"$f":"A224","v":"Assistência Médica, Odontológica e Seguro de Vida"},"Total"]
["Cargo A (12x36 Diurno)",{"$f":"D175","v":0},{"$f":"D204","v":0},{"$f":"D215","v":0},{"$f":"E226","v":0},{"$f":"SUM(B235:E235)","v":0}]
["Cargo A (12x36 Noturno)",{"$f":"D176","v":0},{"$f":"D205","v":0},0,0,{"$f":"SUM(B236:E236)","v":0}]
["Cargo A (44h semanais)",0,0,0,0,0]
["Cargo B (12x36 Diurno)",0,0,0,0,0]
["Cargo B (12x36 Noturno)",0,0,0,0,0]
["Cargo B (44h semanais)",0,0,0,0,0]
[]
["MÓDULO 2 - ENCARGOS E BENEFÍCIOS (ANUAIS, MENSAIS E DIÁRIOS)"]
[]
["MÓDULO 2 - ENCARGOS E BENEFÍCIOS (ANUAIS, MENSAIS E DIÁRIOS)"]
["Categoria","Submódulo 2.1","Submódulo 2.2","Submódulo 2.3","Total"]
["Cargo A (12x36 Diurno)",{"$f":"E103","v":0},{"$f":"D144","v":0},{"$f":"F235","v":0},{"$f":"SUM(B246:D246)","v":0}]
["Cargo A (12x36 Noturno)",0,0,{"$f":"F236","v":0},0]
["Cargo A (44h semanais)",0,0,0,0]
["Cargo B (12x36 Diurno)",0,0,0,0]
["Cargo B (12x36 Noturno)",0,0,0,0]
["Cargo B (44h semanais)",0,0,0,0]
[]
["MÓDULO 3 - PROVISÃO PARA RESCISÃO"]
[]
["PERCENTUAIS POR TIPO DE\n DESLIGAMENTO"]
["Tipos","Percentual"]
["Demissão \nSEM  justa Causa"]
["SEM justa Causa\nAP INDENIZADO",0]
["SEM justa Causa \nAP TRABALHADO",0]
["Demissão\n COM  justa Causa"]
["Desligamentos \nOUTROS TIPOS"]
["TOTAL",{"$f":"SUM(B258:B261)","v":0}]
[]
["SUBMÓDULO 3.1 - AVISO PRÉVIO INDENIZADO"]
[]
["AVISO PRÉVIO INDENIZADO"]
["Categoria","Base de cálculo","Provisionamento Mensal","Valor"]
["Cargo A (12x36 Diurno)",{"$f":"G63+(E246-D126)","v":0},12,{"$f":"B268/C268","v":0}]
["Cargo A (12x36 Noturno)",0,{"$f":"C268","v":12},{"$f":"B269/C269","v":0}]
["Cargo A (44h semanais)",0,{"$f":"C269","v":12},0]
["Cargo B (12x36 Diurno)",0,{"$f":"C270","v":12},0]
["Cargo B (12x36 Noturno)",0,{"$f":"C271","v":12},0]
["Cargo B (44h semanais)",0,{"$f":"C272","v":12},0]
[]
["MULTA DO FGTS E CONTRIBUIÇÃO SOCIAL SOBRE O AVISO PRÉVIO INDENIZADO"]
["Categoria","Base de cálculo","Percentual da \nMulta","Valor"]
["Cargo A (12x36 Diurno)",{"$f":"D135","v":0},0.5,{"$f":"B277*C277","v":0}]
["Cargo A (12x36 Noturno)",0,0.5,{"$f":"B278*C278","v":0}]
["Cargo A (44h semanais)",0,0.5,0]
["Cargo B (12x36 Diurno)",0,0.5,0]
["Cargo B (12x36 Noturno)",0,0.5,0]
["Cargo B (44h semanais)",0,0.5,0]
[]
["SUBMÓDULO 3.1 - CUSTO DO AVISO PRÉVIO INDENIZADO"]
["Categoria","Base de cálculo","Percentual","Valor"]
["Cargo A (12x36 Diurno)",{"$f":"D268+D277","v":0},{"$f":"$B$258","v":0},{"$f":"B286*C286","v":0}]
["Cargo A (12x36 Noturno)",{"$f":"D269+D278","v":0},{"$f":"$B$258","v":0},{"$f":"B287*C287","v":0}]
["Cargo A (44h semanais)",0,0,0]
["Cargo B (12x36 Diurno)",0,0,0]
["Cargo B (12x36 Noturno)",0,0,0]
["Cargo B (44h semanais)",0,0,0]
[]
["SUBMÓDULO 3.2 - AVISO PRÉVIO TRABALHADO"]
[]
["AVISO PRÉVIO TRABALHADO"]
["Categoria","Base de cálculo","Provisionamento Mensal","Valor"]
["Cargo A (12x36 Diurno)",{"$f":"G63+E246","v":0},12,{"$f":"B297/C297","v":0}]
["Cargo A (12x36 Noturno)",0,12,{"$f":"B298/C298","v":0}]
["Cargo A (44h semanais)",0,12,0]
["Cargo B (12x36 Diurno)",0,12,0]
["Cargo B (12x36 Noturno)",0,12,0]
["Cargo B (44h semanais)",0,12,0]
[]
["MULTA DO FGTS E CONTRIBUIÇÃO SOCIAL SOBRE O AVISO PRÉVIO TRABALHADO"]
["Categoria","Base de cálculo","Percentual da \nMulta","Valor"]
["Cargo A (12x36 Diurno)",{"$f":"D135","v":0},0.5,{"$f":"B306*C306","v":0}]
["Cargo A (12x36 Noturno)",0,0.5,{"$f":"B307*C307","v":0}]
["Cargo A (44h semanais)",0,0.5,0]
["Cargo B (12x36 Diurno)",0,0.5,0]
["Cargo B (12x36 Noturno)",0,0.5,0]
["Cargo B (44h semanais)",0,0.5,0]
[]
["SUBMÓDULO 3.2 - CUSTO DO AVISO PRÉVIO TRABALHADO"]
["Categoria","Base de cálculo","Percentual","Valor"]
["Cargo A (12x36 Diurno)",{"$f":"D297+D306","v":0},{"$f":"$B$259","v":0},{"$f":"B315*C315","v":0}]
["Cargo A (12x36 Noturno)",{"$f":"D298+D307","v":0},{"$f":"$B$259","v":0},{"$f":"B316*C316","v":0}]
["Cargo A (44h semanais)",0,0,0]
["Cargo B (12x36 Diurno)",0,0,0]
["Cargo B (12x36 Noturno)",0,0,0]
["Cargo B (44h semanais)",0,0,0]
[]
["SUBMÓDULO 3.3 - DEMISSÃO POR JUSTA CAUSA"]
[]
["BASE DE CÁLCULO PARA DEMISSÃO POR JUSTA CAUSA"]
["Categoria","Valor provisionado do 13º Salário","Valor provisionado das Férias","Valor provisionado do Adicional de Férias","Valor"]
["Cargo A (12x36 Diurno)",{"$f":"-D76","v":0},{"$f":"-D85","v":0},{"$f":"-E94","v":0},{"$f":"SUM(B326:D326)","v":0}]
["Cargo A (12x36 Noturno)",0,0,0,0]
["Cargo A (44h semanais)",0,0,0,0]
["Cargo B (12x36 Diurno)",0,0,0,0]
["Cargo B (12x36 Noturno)",0,0,0,0]
["Cargo B (44h semanais)",0,0,0,0]
[]
["SUBMÓDULO 3.3 - CUSTO DA DEMISSÃO COM JUSTA CAUSA"]
["Categoria","Base de Cálculo","Percentual","Valor"]
["Cargo A (12x36 Diurno)",{"$f":"E326","v":0},{"$f":"$B$260","v":0},{"$f":"B335*C335","v":0}]
["Cargo A (12x36 Noturno)",0,{"$f":"$B$260","v":0},{"$f":"B336*C336","v":0}]
["Cargo A (44h semanais)",0,0,0]
["Cargo B (12x36 Diurno)",0,0,0]
["Cargo B (12x36 Noturno)",0,0,0]
["Cargo B (44h semanais)",0,0,0]
[]
["MÓDULO 3 - PROVISÃO PARA RESCISÃO"]
[]
["MÓDULO 3 - PROVISÃO PARA RESCISÃO"]
["Categoria","Submódulo 3.1","Submódulo 3.2","Submódulo 3.3","Total"]
["Cargo A (12x36 Diurno)",{"$f":"D286","v":0},{"$f":"D315","v":0},0,{"$f":"SUM(B346:D346)","v":0}]
["Cargo A (12x36 Noturno)",0,0,0,0]
["Cargo A (44h semanais)",0,0,0,0]
["Cargo B (12x36 Diurno)",0,0,{"$f":"D338","v":0},0]
["Cargo B (12x36 Noturno)",0,0,0,0]
["Cargo B (44h semanais)",0,0,0,0]
[]
["MÓDULO 4 - CUSTO DE REPOSIÇÃO DO PROFISSIONAL AUSENTE"]
[]
["Porobabilidade de ocorrência de ausências legais, conforme previsão do art. 473 da Consolidação das Leis do Trabalho."]
["Memória de Cálculo - número de dias de reposição do profissional ausente para cada evento "]
["Categoria","Incidencia anual","Duração Legal  \nda Ausência","12x36",null,"44h"]
[null,null,null,"Proporção dias afetados","Dias de reposição","Proporção dias afetados","Dias de reposição"]
["Férias",null,30,0.5,{"$f":"(B359*C359)*D359","v":0},{"$f":"(252/365)","v":0.69041095890410964},{"$f":"(B359*C359)*F359","v":0}]
["Ausência justificada",null,1,1,0,1,0]
["Curso de Reciclagem",null,5,0.5,0,1,0]
["Acidente trabalho",null,15,0.5,0,{"$f":"(252/365)","v":0.69041095890410964},0]
["Afastamento por doença",null,5,0.5,0,{"$f":"(252/365)","v":0.69041095890410964},0]
["Consulta médica filho",null,2,1,0,1,0]
["Óbitos na família",null,2,0.5,0,{"$f":"(252/365)","v":0.69041095890410964},0]
["Casamento",null,3,0.5,0,1,0]
["Doação de sangue",null,1,1,0,1,0]
["Testemunho",null,1,1,0,1,0]
["Paternidade",null,20,0.5,0,{"$f":"(252/365)","v":0.69041095890410964},0]
["Maternidade",null,180,0.5,0,{"$f":"(252/365)","v":0.69041095890410964},0]
["Consulta pré-natal",null,6,1,0,1,0]
[]
["ESTIMATIVA DA NECESSIDADE DE REPOSIÇÃO DE PROFISSIONAL"]
["Composição","ESCALAS -  Cargo A"]
[null," 12 x 36 D","12 x 36 N","44 SEM"]
["Férias",{"$f":"E359","v":0},{"$f":"E359","v":0},{"$f":"G359","v":0}]
["Ausência justificada",0,0,{"$f":"G360","v":0}]
["Curso de reciclagem",0,0,{"$f":"G361","v":0}]
["Acidente trabalho",0,0,{"$f":"G362","v":0}]
["Afastamento por doença",0,0,0]
["Consulta médica filho",0,0,0]
["Óbitos na família",0,0,0]
["Casamento",0,0,0]
["Doação de sangue",0,0,0]
["Testemunho",0,0,0]
["Paternidade",0,0,0]
["Maternidade",0,0,0]
["Consulta pré-natal",0,0,0]
["Total Para reposição",{"$f":"SUM(B376:B388)","v":0},{"$f":"SUM(C376:C388)","v":0},{"$f":"SUM(D376:D388)","v":0}]
[]
["SUBMÓDULO 4.1 - AUSÊNCIAS LEGAIS"]
[]
["CUSTO DIÁRIO PARA O REPOSITOR"]
["Categoria","Base de cálculo","Divisor do dia","Custo diário"]
["Cargo A (12x36 Diurno)",{"$f":"G63+E246+E346","v":0},30,{"$f":"B395/C395","v":0}]
["Cargo A (12x36 Noturno)",0,{"$f":"C395","v":30},{"$f":"B396/C396","v":0}]
["Cargo A (44h semanais)",0,{"$f":"C396","v":30},0]
["Cargo B (12x36 Diurno)",0,{"$f":"C397","v":30},0]
["Cargo B (12x36 Noturno)",0,{"$f":"C398","v":30},0]
["Cargo B (44h semanais)",0,{"$f":"C399","v":30},0]
[]
["SUBMÓDULO 4.1 - AUSÊNCIAS LEGAIS"]
["Categoria","Custo diário","Necessidade de Reposição","Custo anual","Custo mensal"]
["Cargo A (12x36 Diurno)",{"$f":"D395","v":0},{"$f":"B389","v":0},{"$f":"B404*C404","v":0},{"$f":"D404/12","v":0}]
["Cargo A (12x36 Noturno)",{"$f":"D396","v":0},{"$f":"C389","v":0},{"$f":"B405*C405","v":0},0]
["Cargo A (44h semanais)",0,{"$f":"D389","v":0},0,0]
["Cargo B (12x36 Diurno)",0,{"$f":"B389","v":0},0,0]
["Cargo B (12x36 Noturno)",0,{"$f":"C389","v":0},0,0]
["Cargo B (44h semanais)",0,{"$f":"D389","v":0},0,0]
[]
["SUBMÓDULO 4.2 - INTRAJORNADA"]
[]
["CUSTO POR HORA DO REPOSITOR"]
["Categoria","Base de cálculo","divisor de hora","Valor"]
["Cargo A (12x36 Diurno)",{"$f":"G63+E246+E346","v":0},220,{"$f":"B415/C415","v":0}]
["Cargo A (12x36 Noturno)",{"$f":"G64+E247+E347","v":0},{"$f":"C415","v":220},{"$f":"B416/C416","v":0}]
["Cargo A (44h semanais)",{"$f":"G65+E248+E348","v":0},{"$f":"C416","v":220},0]
[]
["SUBMÓDULO 4.2 - INTRAJORNADA"]
["Categoria","Valor da hora","Necessidade de Reposição (horas)","Valor"]
["Cargo A (12x36 Diurno)",{"$f":"D415","v":0},15,{"$f":"B421*C421","v":0}]
["Cargo A (12x36 Noturno)",{"$f":"D416","v":0},{"$f":"C421","v":15},{"$f":"B422*C422","v":0}]
["Cargo A (44h semanais)",0,22,{"$f":"B423*C423","v":0}]
[]
["MÓDULO 4 - CUSTO DE REPOSIÇÃO DO PROFISSIONAL AUSENTE"]
[]
["MÓDULO 4 - CUSTO DE REPOSIÇÃO DO PROFISSIONAL AUSENTE"]
["Categoria","Submódulo 4.1","Submódulo 4.2","Total"]
["Cargo A (12x36 Diurno)",{"$f":"E404","v":0},{"$f":"D421","v":0},{"$f":"B429+C429","v":0}]
["Cargo A (12x36 Noturno)",0,{"$f":"D422","v":0},{"$f":"B430+C430","v":0}]
["Cargo A (44h semanais)",0,{"$f":"D423","v":0},0]
["Cargo B (12x36 Diurno)",0,null,0]
["Cargo B (12x36 Noturno)",0,null,0]
["Cargo B (44h semanais)",0,null,0]
[]
["MÓDULO 5 - INSUMOS DE MÃO DE OBRA"]
[]
["UNIFORMES - COMPOSIÇÃO - VALOR ANUAL "]
["Item","qte","Vr. Unitario","Valor"]
["Calça",2,0,{"$f":"B440*C440","v":0}]
["Camisa",2,0,{"$f":"B441*C441","v":0}]
["Quepe / Boina / Boné (com emblema)",1,0,{"$f":"B442*C442","v":0}]
["Bota / Cotunrno",1,0,0]
["Blusa de frio / Japona",1,0,0]
["Capa de colete",1,0,0]
["Crachá",1,0,0]
["Cinto de Nylon",1,0,0]
["Par de meias",2,0,0]
["Custo anual por Pessoa  ",null,null,{"$f":"SUM(D440:D448)","v":0}]
[]
["UNIFORMES"]
["Categoria","Custo anual","Custo mensal "]
["Cargo A (12x36 Diurno)",{"$f":"D449","v":0},{"$f":"B453/12","v":0}]
["Cargo A (12x36 Noturno)",{"$f":"B453","v":0},{"$f":"B454/12","v":0}]
["Cargo A (44h semanais)",{"$f":"B454","v":0},{"$f":"B455/12","v":0}]
["Cargo B (12x36 Diurno)"]
["Cargo B (12x36 Noturno)"]
["Cargo B (44h semanais)"]
[]
["Materiais e Equipamentos  "]
["Descrição","Cotação","qte","Duração dos itens \n(vida útil)","12x36 h","44 horas"]
[" Livro de ocorrência e caneta;",0,1,1,{"$f":"B462*C462/D462","v":0},{"$f":"E462","v":0}]
["Distintivo tipo broche",0,4,1,{"$f":"B463*C463/D463","v":0},{"$f":"E463","v":0}]
["Revólver calibre 38;",0,1,5,0,0]
["Cinto com coldre e baleiro;",0,1,1,0,0]
["Munições calibre 38 (seis por posto);",0,12,1,0,0]
["Apitos com cordão",0,4,1,0,0]
["Lanterna Led recarregável;",0,1,1,0,0]
["Capas de chuva (uma por posto);",0,2,1,0,0]
["Colete a prova de balas",0,1,5,0,0]
["Cofre",0,1,5,0,0]
[]
[]
[]
[]
["Valor total ",null,null,null,{"$f":"SUM(E462:E471)","v":0},{"$f":"SUM(F462:F471)","v":0}]
[]
["CUSTO MENSAL DOS MATERIAIS E EQUIPAMENTOS"]
["Categoria","Custo anual","Custo mensal","Valor por empregado"]
["Cargo A (12x36 Diurno)",{"$f":"(E476-B468)","v":0},{"$f":"B480/12","v":0},{"$f":"C480/4","v":0}]
["Cargo A (12x36 Noturno)",{"$f":"E476","v":0},{"$f":"B481/12","v":0},{"$f":"C481/4","v":0}]
["Cargo A (44h semanais)",{"$f":"F476","v":0},{"$f":"B482/12","v":0},{"$f":"C482/4","v":0}]
["Cargo B (12x36 Diurno)"]
["Cargo B (12x36 Noturno)"]
["Cargo B (44h semanais)"]
[]
["MÓDULO 5 - INSUMOS DE MÃO DE OBRA"]
["Categoria","Custo com Uniformes","Custo com Equipamentos","Valor"]
["Cargo A (12x36 Diurno)",{"$f":"C453","v":0},{"$f":"D480","v":0},{"$f":"SUM(B489:C489)","v":0}]
["Cargo A (12x36 Noturno)",0,{"$f":"D481","v":0},{"$f":"SUM(B490:C490)","v":0}]
["Cargo A (44h semanais)",0,{"$f":"C489","v":0},0]
["Cargo B (12x36 Diurno)",0,{"$f":"D483","v":0},0]
["Cargo B (12x36 Noturno)",0,0,0]
["Cargo B (44h semanais)",0,0,0]
[]
["MÓDULO 6 - CUSTOS INDIRETOS, TRIBUTOS E LUCRO"]
[]
["INFORMAÇÃO DE PERCENTUAIS ESTIMADOS DE CITL"]
["Custos Indiretos",0.06]
["Tributos",6.6500000000000004E-2]
["Lucro",0]
[]
["MÓDULO 6 - CUSTOS INDIRETOS, TRIBUTOS E LUCRO"]
["Categoria","Base de cálculo","Percentual","Valor"]
["Cargo A (12x36 Diurno)",{"$f":"G63+E246+E346+D429+D489","v":0},{"$f":"((1+$B$499)/(1-$B$500-$B$501))-1","v":0.13551151580074983},{"$f":"B505*C505","v":0}]
["Cargo A (12x36 Noturno)",0,{"$f":"((1+$B$499)/(1-$B$500-$B$501))-1","v":0.13551151580074983},{"$f":"B506*C506","v":0}]
["Cargo A (44h semanais)",0,0.13551151580074983,0]
["Cargo B (12x36 Diurno)",0,0.13551151580074983,0]
["Cargo B (12x36 Noturno)",0,0.13551151580074983,0]
["Cargo B (44h semanais)",0,0.13551151580074983,0]
[]
["RATEIO DO Cargo B"]
[]
["RATEIO DA CHEFIA DE CAMPO"]
["Categoria","Base de cálculo","Subordinados","Valor"]
["Cargo B (12x36 Diurno)",{"$f":"G66+E249+E349+D432+D492+D508","v":0},40,{"$f":"B516/C516","v":0}]
["Cargo B (12x36 Noturno)",{"$f":"G67+E250+E350+D433+D493+D509","v":0},{"$f":"C516","v":40},{"$f":"B517/C517","v":0}]
["Cargo B (44h semanais)",{"$f":"G68+E251+E351+D434+D494+D510","v":0},{"$f":"C517","v":40},0]
[]
["CUSTO DO TRABALHADOR"]
[]
["CUSTO TOTAL POR TRABALHADOR"]
["Módulo","12x36 Diurno","12x36 Noturno","44h Semanais"]
["Remuneração",{"$f":"G63","v":0},{"$f":"G64","v":0},{"$f":"G65","v":0}]
["Encargos e Benefícios",{"$f":"E246","v":0},{"$f":"E247","v":0},{"$f":"E248","v":0}]
["Rescisão",{"$f":"E346","v":0},{"$f":"E347","v":0},{"$f":"E348","v":0}]
["Reposição do Profissional Ausente",{"$f":"D429","v":0},{"$f":"D430","v":0},{"$f":"D431","v":0}]
["Insumos Diversos",{"$f":"D489","v":0},{"$f":"D490","v":0},{"$f":"D491","v":0}]
["Custos Indiretos, Tributos e Lucro",{"$f":"D505","v":0},{"$f":"D506","v":0},{"$f":"D507","v":0}]
["Rateio da Chefia de Campo",{"$f":"D516","v":0},{"$f":"D517","v":0},{"$f":"D518","v":0}]
["Valor por Empregado",{"$f":"SUM(B524:B530)","v":0},{"$f":"SUM(C524:C530)","v":0},{"$f":"SUM(D524:D530)","v":0}]
["Quantidade de Postos",1,1,0]
["Valor por Posto",{"$f":"B531*2","v":0},{"$f":"C531*2","v":0}]
["Total Mensal",{"$f":"(B533+C533)","v":0}]
["Total Anual",{"$f":"B534*12","v":0}]

{"sheet":"Vigilância Diurna","index":1,"n_rows":140,"n_cols":4,"rows_kept":140,"cut":false,"hidden":false,"merged":[[18,0,18,2],[0,0,0,3],[1,0,1,3],[2,0,2,3],[5,0,5,2],[15,0,15,1],[80,0,80,2],[20,0,20,2],[25,0,25,1],[28,0,28,3],[39,0,39,1],[42,0,42,2],[53,0,53,1],[56,0,56,2],[62,0,62,1],[65,0,65,2],[74,0,74,1],[77,0,77,2],[139,0,139,1],[89,0,89,1],[92,0,92,2],[96,0,96,1],[99,0,99,2],[104,0,104,1],[107,0,107,2],[114,0,114,1],[117,0,117,2],[126,0,126,1],[129,0,129,2],[137,0,137,1]]}
["PLANILHA DE CUSTOS E FORMAÇÃO DE PREÇOS"]
["MODELO PARA A CONSOLIDAÇÃO E APRESENTAÇÃO DE PROPOSTAS"]
["Com ajustes após publicação da Lei n° 13.467, de 2017."]
["ANEXO  II","1a CIT - Três Marias"]
[]
["Módulo 1 - Composição da Remuneração"]
[]
[1,"Composição da Remuneração","Valor (R$)"]
["A","Salário-Base",{"$f":"'Custo por trabalhador'!B9","v":0}]
["B","Adicional de Periculosidade",{"$f":"'Custo por trabalhador'!D24","v":0}]
["C","Adicional de Insalubridade",0]
["D","Adicional Noturno",0]
["E","Adicional de Hora Noturna Reduzida",0]
[]
["G","Outros (especificar)",0]
["Total",null,{"$f":"'Custo por trabalhador'!G63","v":0}]
[]
[]
["Módulo 2 - Encargos e Benefícios Anuais, Mensais e Diários"]
[]
["Submódulo 2.1 - 13º (décimo terceiro) Salário, Férias e Adicional de Férias"]
[]
["2.1","13º (décimo terceiro) Salário, Férias e Adicional de Férias","Valor (R$)"]
["A","13º (décimo terceiro) Salário",{"$f":"'Custo por trabalhador'!B103","v":0}]
["B","Férias e Adicional de Férias",{"$f":"SUM('Custo por trabalhador'!C103:D103)","v":0}]
["Total",null,{"$f":"'Custo por trabalhador'!E103","v":0}]
[]
[]
["Submódulo 2.2 - Encargos Previdenciários (GPS), Fundo de Garantia por Tempo de Serviço (FGTS) e outras contribuições."]
[]
["2.2","GPS, FGTS e outras contribuições","Percentual (%)","Valor (R$)"]
["A","INSS",0.2,{"$f":"C32*'Custo por trabalhador'!$B$126","v":0}]
["B","Salário Educação",2.5000000000000001E-2,{"$f":"C33*'Custo por trabalhador'!$B$126","v":0}]
["C","SAT",{"$f":"'Custo por trabalhador'!B116","v":0.03},{"$f":"C34*'Custo por trabalhador'!$B$126","v":0}]
["D","SESC ou SESI",1.4999999999999999E-2,{"$f":"C35*'Custo por trabalhador'!$B$126","v":0}]
["E","SENAI - SENAC",0.01,{"$f":"C36*'Custo por trabalhador'!$B$126","v":0}]
["F","SEBRAE",6.0000000000000001E-3,{"$f":"C37*'Custo por trabalhador'!$B$126","v":0}]
["G","INCRA",2E-3,{"$f":"C38*'Custo por trabalhador'!$B$126","v":0}]
["H","FGTS",0.08,{"$f":"'Custo por trabalhador'!D135","v":0}]
["Total ",null,{"$f":"SUM(C32:C39)","v":0.36800000000000005},{"$f":"SUM(D32:D39)","v":0}]
[]
[]
["Submódulo 2.3 - Benefícios Mensais e Diários."]
[]
["2.3","Benefícios Mensais e Diários","Valor (R$)"]
["A","Transporte",{"$f":"'Custo por trabalhador'!D175","v":0}]
["B","Auxílio-Refeição/Alimentação",{"$f":"'Custo por trabalhador'!D204","v":0}]
["C","Cesta Básica",{"$f":"'Custo por trabalhador'!B215","v":0}]
["D","Plano de Saúde",{"$f":"'Custo por trabalhador'!B226","v":0}]
["E","Plano odontológico",{"$f":"'Custo por trabalhador'!C226","v":0}]
["F","Seguro de vida",{"$f":"'Custo por trabalhador'!D226","v":0}]
["G","P.C.V.C.",{"$f":"'Custo por trabalhador'!C215","v":0}]
["H","Outros (especificar)"]
["Total",null,{"$f":"'Custo por trabalhador'!F236","v":0}]
[]
[]
["Quadro-Resumo do Módulo 2 - Encargos e Benefícios anuais, mensais e diários"]
[]
[2,"Encargos e Benefícios Anuais, Mensais e Diários","Valor (R$)"]
["2.1","13º (décimo terceiro) Salário, Férias e Adicional de Férias",{"$f":"'Custo por trabalhador'!B246","v":0}]
["2.2","GPS, FGTS e outras contribuições",{"$f":"'Custo por trabalhador'!C246","v":0}]
["2.3","Benefícios Mensais e Diários",{"$f":"'Custo por trabalhador'!D246","v":0}]
["Total",null,{"$f":"SUM(C60:C62)","v":0}]
[]
[]
["Módulo 3 - Provisão para Rescisão"]
[]
[3,"Provisão para Rescisão","Valor (R$)"]
["A","Aviso Prévio Indenizado",{"$f":"'Custo por trabalhador'!D268*'Custo por trabalhador'!C286","v":0}]
["B","Incidência do FGTS sobre o Aviso Prévio Indenizado"]
["C","Multa do FGTS e contribuição social sobre o Aviso Prévio Indenizado",{"$f":"'Custo por trabalhador'!D277*'Custo por trabalhador'!C286","v":0}]
["D","Aviso Prévio Trabalhado",{"$f":"'Custo por trabalhador'!D297*'Custo por trabalhador'!C315","v":0}]
["E","Incidência dos encargos do submódulo 2.2 sobre o Aviso Prévio Trabalhado"]
["F","Multa do FGTS e contribuição social sobre o Aviso Prévio Trabalhado",{"$f":"'Custo por trabalhador'!D306*'Custo por trabalhador'!C315","v":0}]
["Total",null,{"$f":"SUM(C69:C74)","v":0}]
[]
[]
["Módulo 4 - Custo de Reposição do Profissional Ausente"]
[]
[]
["Submódulo 4.1 - Ausências Legais"]
[]
["4.1","Ausências Legais","Valor (R$)"]
["A","Férias"]
["B","Ausências Legais",{"$f":"'Custo por trabalhador'!E404","v":0}]
["C","Licença-Paternidade"]
["D","Ausência por acidente de trabalho"]
["E","Afastamento Maternidade"]
["F","Outros (especificar)"]
["Total ",null,{"$f":"SUM(C84:C89)","v":0}]
[]
[]
["Submódulo 4.2 - Intrajornada"]
[]
["4.2","Intrajornada","Valor (R$)"]
["A","Intervalo para repouso e alimentação",{"$f":"'Custo por trabalhador'!D421","v":0}]
["Total",null,{"$f":"C96","v":0}]
[]
[]
["Quadro-Resumo do Módulo 4 - Custo de Reposição do Profissional Ausente"]
[]
[4,"Custo de Reposição do Profissional Ausente","Valor (R$)"]
["4.1","Ausências Legais",{"$f":"C90","v":0}]
["4.2","Intrajornada",{"$f":"C96","v":0}]
["Total",null,{"$f":"SUM(C103:C104)","v":0}]
[]
[]
["Módulo 5 - Insumos Diversos"]
[]
[5,"Insumos Diversos","Valor (R$)"]
["A","Uniformes",{"$f":"'Custo por trabalhador'!C453","v":0}]
["B","Materiais e Equipamentos",{"$f":"'Custo por trabalhador'!D480","v":0}]
["C"]
["D","Outros (especificar)"]
["Total ",null,{"$f":"SUM(C111:C112)","v":0}]
[]
[]
["Módulo 6 - Custos Indiretos, Tributos e Lucro"]
[]
[6,"Custos Indiretos, Tributos e Lucro","Percentual (%)","Valor (R$)"]
["A","Custos Indiretos",0.06]
["B","Lucro",{"$f":"'Custo por trabalhador'!B501","v":0}]
["C","Tributos",6.6500000000000004E-2]
[null,"C.1. Tributos Federais (PIS, COFINS)",3.6499999999999998E-2]
[null,"C.2. Tributos Estaduais (especificar)"]
[null,"C.3. Tributos Municipais (ISS)",0.03]
["Total ",null,{"$f":"'Custo por trabalhador'!C505","v":0.13551151580074983},{"$f":"'Custo por trabalhador'!D505","v":0}]
[]
[]
["2. QUADRO-RESUMO DO CUSTO POR EMPREGADO"]
[]
[null,"Mão de obra vinculada à execução contratual (valor por empregado)","Valor (R$)"]
["A","Módulo 1 - Composição da Remuneração",{"$f":"C16","v":0}]
["B","Módulo 2 - Encargos e Benefícios Anuais, Mensais e Diários",{"$f":"C63","v":0}]
["C","Módulo 3 - Provisão para Rescisão",{"$f":"C75","v":0}]
["D","Módulo 4 - Custo de Reposição do Profissional Ausente",{"$f":"C105","v":0}]
["E","Módulo 5 - Insumos Diversos",{"$f":"C115","v":0}]
["Subtotal (A + B +C+ D+E)",null,{"$f":"SUM(C133:C137)","v":0}]
["F","Módulo 6 – Custos Indiretos, Tributos e Lucro",{"$f":"D127","v":0}]
["Valor Total por Empregado ",null,{"$f":"SUM(C138:C139)","v":0}]

{"sheet":"Vigilância Noturna","index":2,"n_rows":140,"n_cols":4,"rows_kept":140,"cut":false,"hidden":false,"merged":[[2,0,2,3],[20,0,20,2],[39,0,39,1],[28,0,28,3],[137,0,137,1],[139,0,139,1],[129,0,129,2],[77,0,77,2],[89,0,89,1],[80,0,80,2],[96,0,96,1],[92,0,92,2],[104,0,104,1],[99,0,99,2],[0,0,0,3],[1,0,1,3],[114,0,114,1],[107,0,107,2],[126,0,126,1],[117,0,117,2],[53,0,53,1],[42,0,42,2],[62,0,62,1],[56,0,56,2],[74,0,74,1],[65,0,65,2],[15,0,15,1],[5,0,5,2],[25,0,25,1],[18,0,18,2]]}
["PLANILHA DE CUSTOS E FORMAÇÃO DE PREÇOS"]
["MODELO PARA A CONSOLIDAÇÃO E APRESENTAÇÃO DE PROPOSTAS"]
["Com ajustes após publicação da Lei n° 13.467, de 2017."]
["ANEXO  II","1a CIT - Três Marias"]
[]
["Módulo 1 - Composição da Remuneração"]
[]
[1,"Composição da Remuneração","Valor (R$)"]
["A","Salário-Base",{"$f":"'Custo por trabalhador'!B9","v":0}]
["B","Adicional de Periculosidade",{"$f":"'Custo por trabalhador'!D24","v":0}]
["C","Adicional de Insalubridade",0]
["D","Adicional Noturno",{"$f":"'Custo por trabalhador'!D44","v":0}]
["E","Adicional de Hora Noturna Reduzida",0]
[]
["G","Outros (especificar)",0]
["Total",null,{"$f":"'Custo por trabalhador'!G64","v":0}]
[]
[]
["Módulo 2 - Encargos e Benefícios Anuais, Mensais e Diários"]
[]
["Submódulo 2.1 - 13º (décimo terceiro) Salário, Férias e Adicional de Férias"]
[]
["2.1","13º (décimo terceiro) Salário, Férias e Adicional de Férias","Valor (R$)"]
["A","13º (décimo terceiro) Salário",{"$f":"'Custo por trabalhador'!B104","v":0}]
["B","Férias e Adicional de Férias",{"$f":"SUM('Custo por trabalhador'!C104:D104)","v":0}]
["Total",null,{"$f":"'Custo por trabalhador'!E104","v":0}]
[]
[]
["Submódulo 2.2 - Encargos Previdenciários (GPS), Fundo de Garantia por Tempo de Serviço (FGTS) e outras contribuições."]
[]
["2.2","GPS, FGTS e outras contribuições","Percentual (%)","Valor (R$)"]
["A","INSS",0.2,{"$f":"C32*'Custo por trabalhador'!$B$127","v":0}]
["B","Salário Educação",2.5000000000000001E-2,{"$f":"C33*'Custo por trabalhador'!$B$127","v":0}]
["C","SAT",{"$f":"'Custo por trabalhador'!B116","v":0.03},{"$f":"C34*'Custo por trabalhador'!$B$127","v":0}]
["D","SESC ou SESI",1.4999999999999999E-2,{"$f":"C35*'Custo por trabalhador'!$B$127","v":0}]
["E","SENAI - SENAC",0.01,{"$f":"C36*'Custo por trabalhador'!$B$127","v":0}]
["F","SEBRAE",6.0000000000000001E-3,{"$f":"C37*'Custo por trabalhador'!$B$127","v":0}]
["G","INCRA",2E-3,{"$f":"C38*'Custo por trabalhador'!$B$127","v":0}]
["H","FGTS",0.08,{"$f":"'Custo por trabalhador'!D136","v":0}]
["Total ",null,{"$f":"SUM(C32:C39)","v":0.36800000000000005},{"$f":"SUM(D32:D39)","v":0}]
[]
[]
["Submódulo 2.3 - Benefícios Mensais e Diários."]
[]
["2.3","Benefícios Mensais e Diários","Valor (R$)"]
["A","Transporte",{"$f":"'Custo por trabalhador'!D176","v":0}]
["B","Auxílio-Refeição/Alimentação",{"$f":"'Custo por trabalhador'!D205","v":0}]
["C","Cesta Básica",{"$f":"'Custo por trabalhador'!B216","v":0}]
["D","Plano de Saúde",{"$f":"'Custo por trabalhador'!B227","v":0}]
["E","Plano odontológico",{"$f":"'Custo por trabalhador'!C227","v":0}]
["F","Seguro de vida",{"$f":"'Custo por trabalhador'!D227","v":0}]
["G","P.C.V.C.",{"$f":"'Custo por trabalhador'!C216","v":0}]
["H","Outros (especificar)"]
["Total",null,{"$f":"'Custo por trabalhador'!F236","v":0}]
[]
[]
["Quadro-Resumo do Módulo 2 - Encargos e Benefícios anuais, mensais e diários"]
[]
[2,"Encargos e Benefícios Anuais, Mensais e Diários","Valor (R$)"]
["2.1","13º (décimo terceiro) Salário, Férias e Adicional de Férias",{"$f":"'Custo por trabalhador'!B247","v":0}]
["2.2","GPS, FGTS e outras contribuições",{"$f":"'Custo por trabalhador'!C247","v":0}]
["2.3","Benefícios Mensais e Diários",{"$f":"'Custo por trabalhador'!D247","v":0}]
["Total",null,{"$f":"SUM(C60:C62)","v":0}]
[]
[]
["Módulo 3 - Provisão para Rescisão"]
[]
[3,"Provisão para Rescisão","Valor (R$)"]
["A","Aviso Prévio Indenizado",{"$f":"'Custo por trabalhador'!D269*'Custo por trabalhador'!C287","v":0}]
["B","Incidência do FGTS sobre o Aviso Prévio Indenizado"]
["C","Multa do FGTS e contribuição social sobre o Aviso Prévio Indenizado",{"$f":"'Custo por trabalhador'!D278*'Custo por trabalhador'!C287","v":0}]
["D","Aviso Prévio Trabalhado",{"$f":"'Custo por trabalhador'!D298*'Custo por trabalhador'!C316","v":0}]
["E","Incidência dos encargos do submódulo 2.2 sobre o Aviso Prévio Trabalhado"]
["F","Multa do FGTS e contribuição social sobre o Aviso Prévio Trabalhado",{"$f":"'Custo por trabalhador'!D307*'Custo por trabalhador'!C316","v":0}]
["Total",null,{"$f":"SUM(C69:C74)","v":0}]
[]
[]
["Módulo 4 - Custo de Reposição do Profissional Ausente"]
[]
[]
["Submódulo 4.1 - Ausências Legais"]
[]
["4.1","Ausências Legais","Valor (R$)"]
["A","Férias"]
["B","Ausências Legais",{"$f":"'Custo por trabalhador'!E405","v":0}]
["C","Licença-Paternidade"]
["D","Ausência por acidente de trabalho"]
["E","Afastamento Maternidade"]
["F","Outros (especificar)"]
["Total ",null,{"$f":"SUM(C84:C89)","v":0}]
[]
[]
["Submódulo 4.2 - Intrajornada"]
[]
["4.2","Intrajornada","Valor (R$)"]
["A","Intervalo para repouso e alimentação",{"$f":"'Custo por trabalhador'!D422","v":0}]
["Total",null,{"$f":"C96","v":0}]
[]
[]
["Quadro-Resumo do Módulo 4 - Custo de Reposição do Profissional Ausente"]
[]
[4,"Custo de Reposição do Profissional Ausente","Valor (R$)"]
["4.1","Ausências Legais",{"$f":"C90","v":0}]
["4.2","Intrajornada",{"$f":"C96","v":0}]
["Total",null,{"$f":"SUM(C103:C104)","v":0}]
[]
[]
["Módulo 5 - Insumos Diversos"]
[]
[5,"Insumos Diversos","Valor (R$)"]
["A","Uniformes",{"$f":"'Custo por trabalhador'!C454","v":0}]
["B","Materiais e Equipamentos",{"$f":"'Custo por trabalhador'!D481","v":0}]
["C"]
["D","Outros (especificar)"]
["Total ",null,{"$f":"SUM(C111:C112)","v":0}]
[]
[]
["Módulo 6 - Custos Indiretos, Tributos e Lucro"]
[]
[6,"Custos Indiretos, Tributos e Lucro","Percentual (%)","Valor (R$)"]
["A","Custos Indiretos",0.06]
["B","Lucro",{"$f":"'Custo por trabalhador'!B501","v":0}]
["C","Tributos",6.6500000000000004E-2]
[null,"C.1. Tributos Federais (PIS, COFINS)",3.6499999999999998E-2]
[null,"C.2. Tributos Estaduais (especificar)"]
[null,"C.3. Tributos Municipais (ISS)",0.03]
["Total ",null,{"$f":"'Custo por trabalhador'!C506","v":0.13551151580074983},{"$f":"'Custo por trabalhador'!D506","v":0}]
[]
[]
["2. QUADRO-RESUMO DO CUSTO POR EMPREGADO"]
[]
[null,"Mão de obra vinculada à execução contratual (valor por empregado)","Valor (R$)"]
["A","Módulo 1 - Composição da Remuneração",{"$f":"C16","v":0}]
["B","Módulo 2 - Encargos e Benefícios Anuais, Mensais e Diários",{"$f":"C63","v":0}]
["C","Módulo 3 - Provisão para Rescisão",{"$f":"C75","v":0}]
["D","Módulo 4 - Custo de Reposição do Profissional Ausente",{"$f":"C105","v":0}]
["E","Módulo 5 - Insumos Diversos",{"$f":"C115","v":0}]
["Subtotal (A + B +C+ D+E)",null,{"$f":"SUM(C133:C137)","v":0}]
["F","Módulo 6 – Custos Indiretos, Tributos e Lucro",{"$f":"D127","v":0}]
["Valor Total por Empregado ",null,{"$f":"SUM(C138:C139)","v":0}]

{"sheet":"PROPOSTA","index":3,"n_rows":26,"n_cols":8,"rows_kept":26,"cut":false,"hidden":false,"merged":[[7,1,7,2],[1,2,1,6],[2,1,2,7],[4,1,4,2],[5,1,5,2],[6,1,6,2],[22,1,23,1],[22,5,23,7],[24,1,24,7],[13,1,13,6],[14,1,14,7],[16,1,16,7],[19,1,19,7],[20,5,20,7],[21,5,21,7]]}
[]
[null,null,"ANEXO II - PLANILHA VALOR GLOBAL DA PROPOSTA"]
[null,"Quadro-resumo – VALOR MENSAL DOS SERVIÇOS"]
[]
[null,null,null,"Valor proposto por empregado","Qtde de empregados por posto","Valor proposto por posto","Qtde","Valor total do serviço"]
[null,"Tipo de serviço",null,"(B)","(C)","(D) = (B x C)","de postos"]
[{"$nulls":6},"(E)","(F) = (D x E)"]
[null,"(A)"]
[null,"I","VIGILÂNCIA DIURNO",{"$f":"'Custo por trabalhador'!B531","v":0},2,{"$f":"D9*E9","v":0},1,{"$f":"F9*G9","v":0}]
[null,"II","VIGILÂNCIA NOTURNO",{"$f":"'Custo por trabalhador'!C531","v":0},2,{"$f":"D10*E10","v":0},1,{"$f":"F10*G10","v":0}]
[null,"III",null,null,1,{"$f":"D11*E11","v":0},1,{"$f":"F11*G11","v":0}]
[null,"IV",null,null,1,{"$f":"D12*E12","v":0},1,{"$f":"F12*G12","v":0}]
[null,"V",null,null,1,0,1,0]
[null,"VALOR MENSAL DOS SERVIÇOS (I + II + III + IV + V.)",{"$nulls":5},{"$f":"SUM(H9:H13)","v":0}]
[]
[]
[null,"Quadro - demonstrativo - VALOR GLOBAL DA PROPOSTA"]
[]
[]
[null,"Valor Global da Proposta"]
[null,null,"Descrição",null,null,"Valor (R$)"]
[null,"A","Valor mensal do serviço",null,null,{"$f":"H14","v":0}]
[null,"B","Valor global da proposta",null,null,{"$f":"F22*12","v":0}]
[null,null,"(valor mensal do serviço X Nº meses do contrato)."]
[]
[null,"Nota (1): Informar o valor da unidade de medida por tipo de serviço."]