{"text_format":"2","workbook":"xlsx","n_sheets":11,"sheets":["Resumo postos","Planilha ","Planilha1","Recepcionista","Aux. Adm.","Ass. Adm. I","Analista","Ass. Com","Assist. Condução","Assist. Condução - Hora Extra","Despesas com Viagens - Diárias"],"not_rendered":{"charts":0,"images":3,"macros":0,"external_links":0,"defined_names":25,"comments":0,"pivot_tables":0},"unopened":[],"bounds":{"document_bytes":16777216,"sheet_cells":100000,"run_cost":"one","rows_first":2000,"rows_last":500,"rows_between":2000,"halvings":0,"cell_chars":16384,"cell_head_chars":4096},"cells_cut":0,"cells_raw":0,"read":"whole","date_system":"1900"}

{"sheet":"Resumo postos","index":0,"n_rows":40,"n_cols":12,"rows_kept":40,"cut":false,"hidden":false,"merged":[[5,0,5,9],[8,0,8,7],[12,0,12,7],[15,0,15,7],[19,0,19,7],[22,0,22,7],[25,0,25,7],[28,0,28,7],[29,0,29,9],[31,0,31,7],[34,2,34,7],[36,2,36,8],[10,0,11,0],[17,0,18,0]]}
[]
[]
[]
[]
[]
[" RESUMO - PLANILHA DE CUSTOS E FORMAÇÃO DE PREÇOS "]
["Categoria","Subitem","Tipo de serviço (A)","Jornada de trabalho","Valor Estimado por empregado (B)","Qtde de empregados por posto(C )","Valor Estimado por posto (D) = (B x C)*","Qtde de postos\n(E)","Valor total  do serviço mensal (F) = (D x E)","Valor total  do serviço p/12 meses: (G) = (Fx12)","Salário "]
["RECEPCIONISTA","Recepcionista","Atendente \n(CBO Vinculado 4221-05).","8hs/dia",{"$f":"Recepcionista!G141","v":4141.47},1,{"$f":"E8*F8","v":4141.47},1,{"$f":"G8*H8","v":4141.47},{"$f":"I8*12","v":49697.64},{"$f":"Recepcionista!G30","v":1424.79}]
["Total Recepcionista",{"$nulls":7},{"$f":"SUM(I8)","v":4141.47},{"$f":"SUM(J8)","v":49697.64}]
[]
["ASSISTENTE ADMINISTRATIVO","Auxiliar Administrativo","Assistente Administrativo \n(CBO Vinculado 4110-10).","8hs/dia",{"$f":"'Aux. Adm.'!G141","v":3880.22},1,{"$f":"E11*F11","v":3880.22},3,{"$f":"G11*H11","v":11640.66},{"$f":"I11*12","v":139687.92},{"$f":"'Aux. Adm.'!G30","v":1328.3}]
[null,"Administrativo - Nível I","Assistente Administrativo (CBO Vinculado 4110-10).","8hs/dia",{"$f":"'Ass. Adm. I'!G141","v":5552.03},1,{"$f":"E12*F12","v":5552.03},2,{"$f":"G12*H12","v":11104.06},{"$f":"I12*12","v":133248.72},{"$f":"'Ass. Adm. I'!G39","v":2127.02}]
["Total Assistente Administrativo",{"$nulls":7},{"$f":"SUM(I11:I12)","v":22744.72},{"$f":"SUM(J11:J12)","v":272936.64}]
[]
["GABINETE","Analista Sênior","Assistente Administrativo (CBO Vinculado 4110-10).","8hs/dia",{"$f":"Analista!G141","v":17528.34},1,{"$f":"E15*F15","v":17528.34},1,{"$f":"G15*H15","v":17528.34},{"$f":"I15*12","v":210340.08}]
["Total Assistente de Gabinete",{"$nulls":7},{"$f":"SUM(I15:I15)","v":17528.34},{"$f":"SUM(J15:J15)","v":210340.08}]
[]
["SUPERINTENDÊNCIA","Auxiliar Administrativo","Assistente Administrativo \n(CBO Vinculado 4110-10).","8hs/dia",{"$f":"'Aux. Adm.'!G141","v":3880.22},1,{"$f":"E18*F18","v":3880.22},1,{"$f":"G18*H18","v":3880.22},{"$f":"I18*12","v":46562.64},{"$f":"'Ass. Adm. I'!G39","v":2127.02}]
[null,"Analista Sênior","Assistente Administrativo (CBO Vinculado 4110-10).","8hs/dia",{"$f":"Analista!G141","v":17528.34},1,{"$f":"E19*F19","v":17528.34},2,{"$f":"G19*H19","v":35056.68},{"$f":"I19*12","v":420680.16},{"$f":"Analista!G30","v":7134.75}]
["Total Assistente Superintendência",{"$nulls":7},{"$f":"SUM(I18:I19)","v":38936.9},{"$f":"SUM(J18:J19)","v":467242.8}]
[]
["ASSISTENTE DE COMUNICAÇÃO","Assistente de Comunicação","Assistente Editorial (CBO Vinculado 2611-25).","6hs/dia",{"$f":"'Ass. Com'!G141","v":9400.06},1,{"$f":"E22*F22","v":9400.06},1,{"$f":"G22*H22","v":9400.06},{"$f":"I22*12","v":112800.72},{"$f":"'Ass. Com'!G30","v":3754.25}]
["Total Assistente de Comunicação",{"$nulls":7},{"$f":"SUM(I22:I22)","v":9400.06},{"$f":"SUM(J22:J22)","v":112800.72}]
[]
["ASSISTENTE DE CONDUÇÃO","Assistente de Condução","Assistente de Condução (CBO Vinculado 3421-25).","8hs/dia",{"$f":"'Assist. Condução'!G141","v":6822.04},1,{"$f":"E25*F25","v":6822.04},2,{"$f":"G25*H25","v":13644.08},{"$f":"I25*12","v":163728.96},{"$f":"'Assist. Condução'!G38","v":2658.79}]
["Total Assistente de Condução",{"$nulls":7},{"$f":"SUM(I25:I25)","v":13644.08},{"$f":"SUM(J25:J25)","v":163728.96}]
[]
["DIÁRIAS - ASSISTENTE DE CONDUÇÃO","Assistente de Condução","Despesas com Viagens","10diárias/mês",{"$f":"'Despesas com Viagens - Diárias'!E15","v":1820.35},1,{"$f":"E28*F28","v":1820.35},1,{"$f":"G28*H28","v":1820.35},{"$f":"I28*12","v":21844.2},{"$f":"'Assist. Condução'!G30","v":2658.79}]
["Total Diárias - Assistente de Condução",{"$nulls":7},{"$f":"SUM(I28:I28)","v":1820.35},{"$f":"SUM(J28:J28)","v":21844.2}]
[]
["H. EXTRA - ASSISTENTE DE CONDUÇÃO","Assistente de Condução","Hora extra a 50%","30h/mês",{"$f":"'Assist. Condução - Hora Extra'!G141*30","v":1307.7},1,{"$f":"E31*F31","v":1307.7},1,{"$f":"G31*H31","v":1307.7},{"$f":"I31*12","v":15692.4}]
["Total Horas Extras a 50% - Assistente de Condução",{"$nulls":7},{"$f":"SUM(I31:I31)","v":1307.7},{"$f":"SUM(J31:J31)","v":15692.4}]
[]
[]
[null,null,"Valor Total Mensal dos Serviços ",{"$nulls":5},{"$f":"I9+I13+I16+I20+I23+I26+I29+I32","v":109523.62}]
[]
[null,null,"Valor Global para 12 meses",{"$nulls":6},{"$f":"J9+J13+J16+J20+J23+J26+J29+J32","v":1314283.44},1170380.28,{"$f":"J37-K37","v":143903.16}]
[]
[]
[{"$nulls":9},{"$f":"I35*12","v":1314283.44}]

{"sheet":"Planilha ","index":1,"n_rows":25,"n_cols":9,"rows_kept":25,"cut":false,"hidden":false,"merged":[[1,1,1,8],[2,1,2,8],[4,3,4,8],[24,1,24,7],[5,1,6,1],[5,2,6,2],[5,3,6,3],[5,4,6,4],[5,5,6,5],[5,6,6,6],[5,7,6,7],[5,8,6,8]]}
[]
[null,"Processo nº 59530.001128/2023-40"]
[null,"Objeto: CONTRATAÇÃO DE EMPRESA NA PRESTAÇÃO, DE FORMA CONTÍNUA, DOS SERVIÇOS DE APOIO ADMINISTRATIVO, EM REGIME DE DEDICAÇÃO EXCLUSIVA DE MÃO DE OBRA, A SER EXECUTADO NAS DEPENDÊNCIAS DA CODEVASF - RECIFE/PE"]
[]
[null,null,null,"\n"]
[null,"ITEM","DISCRIMINAÇÃO","UNIDADE","Nº DE MESES","Nº DE POSTOS/MÊS","QUANT.","PREÇO UNITÁRIO","TOTAL"]
[]
[]
[null,"I.A","EQUIPE"]
[null,"1.0","ASSISTENTE ADMINISTRATIVO"]
[null,"1.1",{"$f":"'Resumo postos'!B11","v":"Auxiliar Administrativo"},"mês",12,{"$f":"'Resumo postos'!H11","v":3},{"$f":"E11*F11","v":36},{"$f":"'Resumo postos'!E11","v":3880.22},{"$f":"ROUND(G11*H11,2)","v":139687.92}]
[null,"1.2",{"$f":"'Resumo postos'!B12","v":"Administrativo - Nível I"},"mês",12,{"$f":"'Resumo postos'!H12","v":2},{"$f":"E12*F12","v":24},{"$f":"'Resumo postos'!E12","v":5552.03},{"$f":"ROUND(G12*H12,2)","v":133248.72}]
[null,"1.3","Recepcionista","mês",12,{"$f":"'Resumo postos'!H8","v":1},{"$f":"E13*F13","v":12},{"$f":"'Resumo postos'!E8","v":4141.47},{"$f":"ROUND(G13*H13,2)","v":49697.64}]
[null,"2.0","ASSISTENTE DE GABINETE"]
[null,"2.2",{"$f":"'Resumo postos'!B15","v":"Analista Sênior"},"mês",12,{"$f":"'Resumo postos'!H15","v":1},{"$f":"E15*F15","v":12},{"$f":"'Resumo postos'!E15","v":17528.34},{"$f":"ROUND(G15*H15,2)","v":210340.08}]
[null,"3.0","ASSISTENTE SUPERINTENDÊNCIA"]
[null,"3.1",{"$f":"'Resumo postos'!B18","v":"Auxiliar Administrativo"},"mês",12,{"$f":"'Resumo postos'!H18","v":1},{"$f":"E17*F17","v":12},{"$f":"'Resumo postos'!E18","v":3880.22},46562.64]
[null,"3.2",{"$f":"'Resumo postos'!B19","v":"Analista Sênior"},"mês",12,{"$f":"'Resumo postos'!H19","v":2},{"$f":"E18*F18","v":24},{"$f":"'Resumo postos'!E19","v":17528.34},{"$f":"ROUND(G18*H18,2)","v":420680.16}]
[null,"4.0","ASSISTENTE DE COMUNICAÇÃO"]
[null,"4.2",{"$f":"'Resumo postos'!B22","v":"Assistente de Comunicação"},"mês",12,{"$f":"'Resumo postos'!H22","v":1},{"$f":"E20*F20","v":12},{"$f":"'Resumo postos'!E22","v":9400.06},112800.72]
[null,"5.0","ASSISTENTE DE CONDUÇÃO"]
[null,"5.1",{"$f":"'Resumo postos'!B25","v":"Assistente de Condução"},"mês",12,2,{"$f":"E22*F22","v":24},{"$f":"'Resumo postos'!E25","v":6822.04},{"$f":"ROUND(G22*H22,2)","v":163728.96}]
[null,"5.2","Diárias","mês",12,{"$f":"'Resumo postos'!H28","v":1},{"$f":"E23*F23","v":12},{"$f":"'Resumo postos'!E28","v":1820.35},21844.2]
[null,"5.3","Horas Extras","mês",12,{"$f":"'Resumo postos'!H31","v":1},12,{"$f":"'Resumo postos'!E31","v":1307.7},15692.4]
[null,"TOTAL GERAL:",{"$nulls":6},{"$f":"SUM(I11:I24)","v":1314283.44}]

{"sheet":"Planilha1","index":2,"n_rows":18,"n_cols":6,"rows_kept":18,"cut":false,"hidden":false,"merged":[[0,1,1,1],[0,2,1,2],[0,3,1,3],[0,4,1,4],[0,5,1,5]]}
[null,"ITEM","DISCRIMINAÇÃO","UNIDADE","Nº DE MESES","Nº DE POSTOS/MÊS"]
[]
[]
[null,"1.0","ASSISTENTE ADMINISTRATIVO"]
[null,"1.1",{"$f":"'Resumo postos'!B11","v":"Auxiliar Administrativo"},"mês",12,{"$f":"'Resumo postos'!H11","v":3}]
[null,"1.2",{"$f":"'Resumo postos'!B12","v":"Administrativo - Nível I"},"mês",12,{"$f":"'Resumo postos'!H12","v":2}]
[null,"1.3","Recepcionista","mês",12,{"$f":"'Resumo postos'!H8","v":1}]
[null,"2.0","ASSISTENTE DE GABINETE"]
[null,"2.2",{"$f":"'Resumo postos'!B15","v":"Analista Sênior"},"mês",12,{"$f":"'Resumo postos'!H15","v":1}]
[null,"3.0","ASSISTENTE SUPERINTENDÊNCIA"]
[null,"3.1",{"$f":"'Resumo postos'!B18","v":"Auxiliar Administrativo"},"mês",12,{"$f":"'Resumo postos'!H18","v":1}]
[null,"3.2",{"$f":"'Resumo postos'!B19","v":"Analista Sênior"},"mês",12,{"$f":"'Resumo postos'!H19","v":2}]
[null,"4.0","ASSISTENTE DE COMUNICAÇÃO"]
[null,"4.2",{"$f":"'Resumo postos'!B22","v":"Assistente de Comunicação"},"mês",12,{"$f":"'Resumo postos'!H22","v":1}]
[null,"5.0","ASSISTENTE DE CONDUÇÃO"]
[null,"5.1",{"$f":"'Resumo postos'!B25","v":"Assistente de Condução"},"mês",12,2]
[null,"5.2","Diárias","mês",12,{"$f":"'Resumo postos'!H28","v":1}]
[null,"5.3","Horas Extras","mês",12,{"$f":"'Resumo postos'!H31","v":1}]

{"sheet":"Recepcionista","index":3,"n_rows":148,"n_cols":11,"rows_kept":148,"cut":false,"hidden":false,"merged":[[4,0,4,6],[5,0,5,6],[7,1,7,3],[7,4,7,6],[8,1,8,3],[8,4,8,6],[9,0,9,6],[11,1,11,4],[11,5,11,6],[12,1,12,4],[12,5,12,6],[13,1,13,4],[13,5,13,6],[14,1,14,4],[14,5,14,6],[16,0,16,6],[18,0,18,1],[18,2,18,3],[18,4,18,6],[19,0,19,1],[19,2,19,3],[19,4,19,6],[21,0,21,6],[23,0,23,6],[24,0,24,6],[26,0,26,6],[34,0,34,6],[40,0,40,6],[65,1,65,3],[67,1,67,4],[70,0,70,6],[78,0,78,6],[88,0,88,6],[107,0,107,6],[113,0,113,6],[119,0,119,6],[130,0,130,6],[140,0,140,5],[142,0,142,2],[143,0,143,2],[144,0,144,2],[145,0,145,2],[146,0,146,2],[147,0,147,2],[133,10,134,11]]}
[]
[]
[]
[]
[]
[" PLANILHA DE CUSTOS E FORMAÇÃO DE PREÇOS "]
[]
[null,"Nº Processo",null,null,"59530.001128/2023-40"]
[null,"Licitação nº"]
["DISCRIMINAÇÃO DOS SERVIÇOS (dados referentes à contratação)"]
[]
["A","Ano do Acordo, Convenção ou  Dissídio Coletivo",null,null,null,"2023 - PE000108/2023"]
["B","Município/UF",null,null,null,"Recife/PE"]
["C","Data de Registro no MTE",null,null,null,"15/02/2023"]
["D","Nº de meses de execução contratual",null,null,null,"12 (doze) meses"]
[]
["IDENTIFICAÇÃO DO SERVIÇO"]
[]
["Tipo de Serviço",null,"Unidade de Medida",null,"Quantidade total a contratar (em função da unidade de medida)"]
["Recepcionista",null,"Posto de serviço",null,1]
[]
["1. MÓDULOS"]
[]
["MÃO DE OBRA"]
["Mão de obra vinculada à execução contratual"]
[]
["Dados para composição dos custos referente à mão de obra"]
[1,"Tipo de serviço ",{"$nulls":4},"Recepcionista"]
[2,"Classificação Brasileira de Ocupações (CBO)",{"$nulls":4},"4221-05"]
[3,"Salário Normativo da Categoria Profissional",{"$nulls":4},1424.79]
[4,"Categoria profissional  (vinculada à execução contratual)",{"$nulls":4},"Apoio Administrativo"]
[5,"Data-Base da categoria (dia/mês/ano)",{"$nulls":4},"1º/01/2023"]
[]
[]
["MÓDULO  1: COMPOSIÇÃO DA REMUNERAÇÃO"]
[]
[1,"Composição da Remuneração",{"$nulls":4},"Valor (R$)"]
["A","Salário Base",{"$nulls":4},{"$f":"G30","v":1424.79}]
[null,"Total ",{"$nulls":4},{"$f":"G38","v":1424.79}]
[]
["MÓDULO 2: ENCARGOS E BENEFÍCIOS ANUAIS, MENSAIS E DIÁRIOS"]
[]
["Submódulo 2.1 - 13º (décimo terceiro) Salário, Férias e Adicional de Férias"]
[]
["2.1"," 13º (décimo terceiro) Salário, Férias e Adicional de Férias",null,null,null,"%","Valor (R$)"]
["A","13º (décimo terceiro) Salário",null,null,null,0.0833,{"$f":"G39*F46","v":118.69}]
["B","Férias e Adicional de Férias",null,null,null,0.1111,{"$f":"G39*F47","v":158.29}]
["TOTAL",{"$nulls":4},{"$f":"SUM(F46:F47)","v":0.1944},{"$f":"SUM(G46:G47)","v":276.98}]
[]
["Submódulo 2.2 - Encargos previdenciários (GPS), Fundo de Garantia por tempo de Serviço (FGTS) e outras contribuições:"]
[]
["2.2","GPS, FGTS e outras contribuiçoes",null,null,null,"%","Valor (R$)"]
["A","INSS",null,null,null,0.2,{"$f":"($G$39+$G$48)*F53","v":340.35}]
["B","Salário Educação",null,null,null,0.025,{"$f":"($G$39+$G$48)*F54","v":42.54}]
["C","Seguro Acidente do Trabalho/SAT/INSS",null,null,null,0.03,51.05]
["D","SESI/SESC",null,null,null,0.015,25.53]
["E","SENAI/SENAC",null,null,null,0.01,17.02]
["F","INCRA",null,null,null,0.002,3.4]
["G","FGTS",null,null,null,0.08,136.14]
["H","SEBRAE",null,null,null,0.006,10.21]
["TOTAL",{"$nulls":4},{"$f":"SUM(F53:F60)","v":0.368},{"$f":"SUM(G53:G60)","v":626.24}]
[]
["Submódulo 2.3 - Benefícios Mensais e Diários"]
[]
["2.3","Benefícios Mensais e Diários",{"$nulls":4},"Valor (R$)"]
["A","Transporte ",{"$nulls":4},{"$f":"IF((4.1*2*21)-(6%*G38)>0,(4.1*2*21)-(6%*G38),0)","v":86.71},null,{"$f":"6%*G38","v":85.49},"= 6% do salario base"]
["B","Auxílio alimentação (Cláusula 11ª CCT 2023)",{"$nulls":4},{"$f":"(8.91*21)","v":187.11},null,"4,1*2*21 =",{"$f":"4.1*2*21","v":172.2}]
["C","Outros (Cesta Básica - Cláusula 13ª CCT 2023 + Cobertura Social - Cláusula 15ª CCT 2023) ",{"$nulls":4},{"$f":"123.5+69.98","v":193.48},null,"172,2-85,49 = ",{"$f":"J67-I66","v":86.71}]
[null,"Total de Benefícios mensais e diários",{"$nulls":4},{"$f":"SUM(G66:G68)","v":467.3}]
[]
["QUADRO RESUMO DO MÓDULO 2 - Encargos e Benefícios anuais, mensais e diários"]
[]
[2,"Encargos e Benefícios anuais, mensais e diários",{"$nulls":4},"Valor (R$)"]
["2.1","13º (décimo terceiro) Salário, Férias e Adicional de Férias",{"$nulls":4},{"$f":"G48","v":276.98}]
["2.2","GPS, FGTS e outras contribuiçoes",{"$nulls":4},{"$f":"G61","v":626.24}]
["2.3","Benefícios Mensais e Diários",{"$nulls":4},{"$f":"G69","v":467.3}]
["TOTAL",{"$nulls":5},{"$f":"SUM(G74:G76)","v":1370.52}]
[]
["MÓDULO 3 - PROVISÃO PARA RESCISÃO"]
[{"$nulls":8},"GPS"]
[3,"Provisão para Rescisão",{"$nulls":4},"Valor (R$)"]
["A","Aviso prévio indenizado",{"$nulls":4},{"$f":"J82","v":78.88},{"$f":"G39+G77-I82","v":2305.2},{"$f":"(G39+G48)*0.288","v":490.11},{"$f":"H82/12*0.4106","v":78.88}]
["B","Multa do FGTS e contribuição social sobre o Aviso Prévio Indenizado",{"$nulls":4},{"$f":"I83","v":27.95},{"$f":"G59","v":136.14},{"$f":"(H83*0.4+H83*0.1)*0.4106","v":27.95},{"$f":"H83*0.5*0.4106","v":27.95}]
["C","Aviso Prévio Trabalhado",{"$nulls":4},{"$f":"I84","v":95.65},{"$f":"G39+G77","v":2795.31},{"$f":"H84/12*0.4106","v":95.65}]
["D","Multa do FGTS e contribuição social sobre o Aviso Prévio Trabalhado",{"$nulls":4},{"$f":"I85","v":27.95},{"$f":"G59","v":136.14},{"$f":"(H85*0.4+H85*0.1)*0.4106","v":27.95},{"$f":"H85*0.5*0.4106","v":27.95}]
["E","Demissão com Justa Causa",{"$nulls":4},{"$f":"K86","v":-3.46},{"$f":"G46","v":118.69},{"$f":"G47","v":158.29},{"$f":"H86+I86","v":276.98},{"$f":"-J86*0.0125","v":-3.46}]
["TOTAL",{"$nulls":5},{"$f":"SUM(G82:G86)","v":226.97}]
[]
["MÓDULO 4 - CUSTO DE REPOSIÇÃO DO PROFISSIONAL AUSENTE"]
[]
["Submódulo 4.1 - Ausências Legais"]
["4.1","Ausências legais",null,null,null,"Dias/Ano","Valor (R$)"]
["A","Férias ",null,null,null,20.9589,{"$f":"$I$93*F93/12-0.01","v":175.94},{"$f":"G39+G77+G87","v":3022.28},{"$f":"H93/30","v":100.74},{"$f":"I93*F105","v":2969.19},{"$f":"J93/12","v":247.43}]
["B","Ausência justificada",null,null,null,1,{"$f":"$I$93*F94/12","v":8.4}]
["C","Acidente de trabalho",null,null,null,0.9659,8.11]
["D","Afastamento por doença",null,null,null,3.4932,{"$f":"$I$93*F96/12-0.01","v":29.32}]
["E","Consulta médica filho",null,null,null,0.2688,2.26]
["F","Óbitos na família",null,null,null,0.0427,0.36]
["G","Casamento",null,null,null,0.0355,0.3]
["H","Doação de Sangue",null,null,null,0.02,0.17]
["I","Testemunho",null,null,null,0.004,0.03]
["J","Paternidade",null,null,null,0.1997,1.68]
["K","Maternidade",null,null,null,2.4753,20.78]
["L","Consulta pré-natal",null,null,null,0.0098,0.08]
["TOTAL",{"$nulls":4},{"$f":"SUM(F93:F104)","v":29.4738},{"$f":"SUM(G93:G104)","v":247.43}]
[]
[]
["QUADRO RESUMO DO MÓDULO 4 - Custo de Reposição do Profissional Ausente"]
[]
[4,"Custo de Reposição do Profissional Ausente",{"$nulls":4},"Valor (R$)"]
["4.1","Ausências legais",{"$nulls":4},{"$f":"G105","v":247.43}]
["TOTAL",{"$nulls":5},{"$f":"G111","v":247.43}]
[]
["MÓDULO 5 - INSUMOS DIVERSOS"]
[]
[5,"Insumos Diversos",{"$nulls":4},"Valor (R$)"]
["A","Uniformes",{"$nulls":4},30]
[null,"Total ",{"$nulls":4},{"$f":"SUM(G117)","v":30}]
[]
["MÓDULO 6 - CUSTOS INDIRETOS, TRIBUTOS E LUCRO"]
[]
[6,"Custos Indiretos, Tributos e Lucro",null,null,null,"%","Valor (R$)"]
["A","Custos Indiretos",null,null,null,0.025,{"$f":"G139*F123","v":82.49}]
["B","Lucro",null,null,null,0.05,{"$f":"(G139+G123)*F124","v":169.11}]
["C","Tributos"]
["c.1","COFINS",null,null,null,0.076,{"$f":"E146","v":314.75}]
["c.2","PIS",null,null,null,0.0165,{"$f":"E147","v":68.33}]
["c.3","ISSQN",null,null,null,0.05,{"$f":"E148","v":207.08}]
[null,"Total",null,null,null,{"$f":"SUM(F123:F128)","v":0.2175},{"$f":"SUM(G123:G128)","v":841.76}]
[]
["2.  QUADRO -  RESUMO DO CUSTO POR EMPREGADO"]
[]
[null,"Mão de obra vinculada à execução contratual (valor por empregado)",{"$nulls":4},"Valor (R$)"]
["A","Módulo 1 - Composição da Remuneração",{"$nulls":4},{"$f":"G39","v":1424.79}]
["B","Módulo 2 - Encargos e Benefícios Anuais, Mensais e Diários",{"$nulls":4},{"$f":"G77","v":1370.52}]
["C","Módulo 3 - Provisão para recisão",{"$nulls":4},{"$f":"G87","v":226.97}]
["D","Módulo 4 - Custo de Reposição do Profissional Ausente",{"$nulls":4},{"$f":"G112","v":247.43}]
["E","Módulo 5 - Insumos diversos",{"$nulls":4},{"$f":"G118","v":30}]
["Subtotal ( A + B +C + D + E)",{"$nulls":5},{"$f":"SUM(G134:G138)","v":3299.71}]
["E","Módulo 6  - Custos indiretos, Tributos e lucro",{"$nulls":4},{"$f":"G129","v":841.76}]
["Valor total por empregado",{"$nulls":5},{"$f":"G139+G140","v":4141.47}]
[]
["P0 = (MÓD 1+MÓD 2+MÓD 3+MÓD 4+MÓD 5) + (CI) + (L)",null,null,null,{"$f":"G39+G77+G87+G112+G118+G123+G124","v":3551.31}]
["P1 = P0/(1 - (pis+confins+iss))",null,null,null,{"$f":"E143/(1-(F126+F127+F128))","v":4141.47}]
["T = P1 - P0",null,null,null,{"$f":"E144-E143","v":590.16}]
["COFINS = ((cofins)/(pis+cofins+iss) x T",null,null,null,{"$f":"((F126)/(F126+F127+F128))*E145","v":314.75}]
["PIS = ((pis)/(pis+cofins+iss) x T",null,null,null,{"$f":"((F127)/(F126+F127+F128))*E145","v":68.33}]
["ISS = (iss/(pis+cofins+iss)) x T",null,null,null,{"$f":"((F128/(F126+F127+F128))*E145)+0.01","v":207.08}]

{"sheet":"Aux. Adm.","index":4,"n_rows":148,"n_cols":11,"rows_kept":148,"cut":false,"hidden":false,"merged":[[4,0,4,6],[5,0,5,6],[7,1,7,3],[7,4,7,6],[8,1,8,3],[8,4,8,6],[9,0,9,6],[11,1,11,4],[11,5,11,6],[12,1,12,4],[12,5,12,6],[13,1,13,4],[13,5,13,6],[14,1,14,4],[14,5,14,6],[16,0,16,6],[18,0,18,1],[18,2,18,3],[18,4,18,6],[19,0,19,1],[19,2,19,3],[19,4,19,6],[21,0,21,6],[23,0,23,6],[24,0,24,6],[26,0,26,6],[34,0,34,6],[40,0,40,6],[65,1,65,3],[67,1,67,4],[70,0,70,6],[78,0,78,6],[88,0,88,6],[107,0,107,6],[113,0,113,6],[119,0,119,6],[130,0,130,6],[140,0,140,5],[142,0,142,2],[143,0,143,2],[144,0,144,2],[145,0,145,2],[146,0,146,2],[147,0,147,2],[133,10,134,11]]}
[]
[]
[]
[]
[]
[" PLANILHA DE CUSTOS E FORMAÇÃO DE PREÇOS "]
[]
[null,"Nº Processo",null,null,{"$f":"Recepcionista!E8","v":"59530.001128/2023-40"}]
[null,"Licitação nº"]
["DISCRIMINAÇÃO DOS SERVIÇOS (dados referentes à contratação)"]
[]
["A","Ano do Acordo, Convenção ou  Dissídio Coletivo",null,null,null,"2023 - PE000108/2023"]
["B","Município/UF",null,null,null,"Recife/PE"]
["C","Data de Registro no MTE",null,null,null,"15/02/2023"]
["D","Nº de meses de execução contratual",null,null,null,"12 (doze) meses"]
[]
["IDENTIFICAÇÃO DO SERVIÇO"]
[]
["Tipo de Serviço",null,"Unidade de Medida",null,"Quantidade total a contratar (em função da unidade de medida)"]
["Auxiliar Administrativo",null,"Posto de serviço",null,1]
[]
["1. MÓDULOS"]
[]
["MÃO DE OBRA"]
["Mão de obra vinculada à execução contratual"]
[]
["Dados para composição dos custos referente à mão de obra"]
[1,"Tipo de serviço ",{"$nulls":4},"Auxiliar Administrativo (A4)"]
[2,"Classificação Brasileira de Ocupações (CBO)",{"$nulls":4},"4110-10 "]
[3,"Salário Normativo da Categoria Profissional",{"$nulls":4},1328.3]
[4,"Categoria profissional  (vinculada à execução contratual)",{"$nulls":4},"Apoio Administrativo"]
[5,"Data-Base da categoria (dia/mês/ano)",{"$nulls":4},{"$f":"Recepcionista!G32","v":"1º/01/2023"}]
[]
[]
["MÓDULO  1: COMPOSIÇÃO DA REMUNERAÇÃO"]
[]
[1,"Composição da Remuneração",{"$nulls":4},"Valor (R$)"]
["A","Salário Base",{"$nulls":4},{"$f":"G30","v":1328.3}]
[null,"Total ",{"$nulls":4},{"$f":"G38","v":1328.3}]
[]
["MÓDULO 2: ENCARGOS E BENEFÍCIOS ANUAIS, MENSAIS E DIÁRIOS"]
[]
["Submódulo 2.1 - 13º (décimo terceiro) Salário, Férias e Adicional de Férias"]
[]
["2.1"," 13º (décimo terceiro) Salário, Férias e Adicional de Férias",null,null,null,"%","Valor (R$)"]
["A","13º (décimo terceiro) Salário",null,null,null,{"$f":"Recepcionista!F46","v":0.0833},{"$f":"G39*F46","v":110.65}]
["B","Férias e Adicional de Férias",null,null,null,{"$f":"Recepcionista!F47","v":0.1111},{"$f":"G39*F47","v":147.57}]
["TOTAL",{"$nulls":4},{"$f":"Recepcionista!F48","v":0.1944},{"$f":"SUM(G46:G47)","v":258.22}]
[]
["Submódulo 2.2 - Encargos previdenciários (GPS), Fundo de Garantia por tempo de Serviço (FGTS) e outras contribuições:"]
[]
["2.2","GPS, FGTS e outras contribuiçoes",null,null,null,"%","Valor (R$)"]
["A","INSS",null,null,null,{"$f":"Recepcionista!F53","v":0.2},{"$f":"($G$39+$G$48)*F53","v":317.3}]
["B","Salário Educação",null,null,null,{"$f":"Recepcionista!F54","v":0.025},{"$f":"($G$39+$G$48)*F54","v":39.66}]
["C","Seguro Acidente do Trabalho/SAT/INSS",null,null,null,{"$f":"Recepcionista!F55","v":0.03},47.6]
["D","SESI/SESC",null,null,null,{"$f":"Recepcionista!F56","v":0.015},23.8]
["E","SENAI/SENAC",null,null,null,{"$f":"Recepcionista!F57","v":0.01},15.87]
["F","INCRA",null,null,null,{"$f":"Recepcionista!F58","v":0.002},3.17]
["G","FGTS",null,null,null,{"$f":"Recepcionista!F59","v":0.08},126.92]
["H","SEBRAE",null,null,null,{"$f":"Recepcionista!F60","v":0.006},9.52]
["TOTAL",{"$nulls":4},{"$f":"Recepcionista!F61","v":0.368},{"$f":"SUM(G53:G60)","v":583.84}]
[]
["Submódulo 2.3 - Benefícios Mensais e Diários"]
[]
["2.3","Benefícios Mensais e Diários",{"$nulls":4},"Valor (R$)"]
["A","Transporte ",{"$nulls":4},{"$f":"IF((4.1*2*21)-(6%*G38)>0,(4.1*2*21)-(6%*G38),0)","v":92.5},null,{"$f":"6%*G38","v":79.7},"= 6% do salario base"]
["B","Auxílio alimentação (Cláusula 11ª CCT 2023)",{"$nulls":4},{"$f":"(8.91*21)","v":187.11},null,"4,1*2*21 =",{"$f":"4.1*2*21","v":172.2}]
["C","Outros (Cesta Básica - Cláusula 13ª CCT 2023 + Cobertura Social - Cláusula 15ª CCT 2023) ",{"$nulls":4},{"$f":"69.98+123.5","v":193.48},null,"172,2-79,7 = ",{"$f":"J67-I66","v":92.5}]
[null,"Total de Benefícios mensais e diários",{"$nulls":4},{"$f":"SUM(G66:G68)","v":473.09}]
[]
["QUADRO RESUMO DO MÓDULO 2 - Encargos e Benefícios anuais, mensais e diários"]
[]
[2,"Encargos e Benefícios anuais, mensais e diários",{"$nulls":4},"Valor (R$)"]
["2.1","13º (décimo terceiro) Salário, Férias e Adicional de Férias",{"$nulls":4},{"$f":"G48","v":258.22}]
["2.2","GPS, FGTS e outras contribuiçoes",{"$nulls":4},{"$f":"G61","v":583.84}]
["2.3","Benefícios Mensais e Diários",{"$nulls":4},{"$f":"G69","v":473.09}]
["TOTAL",{"$nulls":5},{"$f":"SUM(G74:G76)","v":1315.15}]
[]
["MÓDULO 3 - PROVISÃO PARA RESCISÃO"]
[{"$nulls":8},"GPS"]
[3,"Provisão para Rescisão",{"$nulls":4},"Valor (R$)"]
["A","Aviso prévio indenizado",{"$nulls":4},{"$f":"J82","v":74.82},{"$f":"G39+G77-I82","v":2186.53},{"$f":"(G39+G48)*0.288","v":456.92},{"$f":"H82/12*0.4106","v":74.82}]
["B","Multa do FGTS e contribuição social sobre o Aviso Prévio Indenizado",{"$nulls":4},{"$f":"I83","v":26.06},{"$f":"G59","v":126.92},{"$f":"(H83*0.4+H83*0.1)*0.4106","v":26.06},{"$f":"H83*0.5*0.4106","v":26.06}]
["C","Aviso Prévio Trabalhado",{"$nulls":4},90.45,{"$f":"G39+G77","v":2643.45},{"$f":"H84/12*0.4106","v":90.45}]
["D","Multa do FGTS e contribuição social sobre o Aviso Prévio Trabalhado",{"$nulls":4},26.06,{"$f":"G59","v":126.92},{"$f":"(H85*0.4+H85*0.1)*0.4106","v":26.06},{"$f":"H85*0.5*0.4106","v":26.06}]
["E","Demissão com Justa Causa",{"$nulls":4},{"$f":"K86","v":-3.23},{"$f":"G46","v":110.65},{"$f":"G47","v":147.57},{"$f":"H86+I86","v":258.22},{"$f":"-J86*0.0125","v":-3.23}]
["TOTAL",{"$nulls":5},{"$f":"SUM(G82:G86)","v":214.16}]
[]
["MÓDULO 4 - CUSTO DE REPOSIÇÃO DO PROFISSIONAL AUSENTE"]
[]
["Submódulo 4.1 - Ausências Legais"]
["4.1","Ausências legais",null,null,null,"Dias/Ano","Valor (R$)"]
["A","Férias ",null,null,null,{"$f":"Recepcionista!F93","v":20.9589},{"$f":"$I$93*F93/12-0.01","v":166.35},{"$f":"G39+G77+G87","v":2857.61},{"$f":"H93/30","v":95.25},{"$f":"I93*F105","v":2807.38},{"$f":"J93/12","v":233.95}]
["B","Ausência justificada",null,null,null,{"$f":"Recepcionista!F94","v":1},{"$f":"$I$93*F94/12","v":7.94}]
["C","Acidente de trabalho",null,null,null,{"$f":"Recepcionista!F95","v":0.9659},7.67]
["D","Afastamento por doença",null,null,null,{"$f":"Recepcionista!F96","v":3.4932},{"$f":"$I$93*F96/12","v":27.73}]
["E","Consulta médica filho",null,null,null,{"$f":"Recepcionista!F97","v":0.2688},2.13]
["F","Óbitos na família",null,null,null,{"$f":"Recepcionista!F98","v":0.0427},0.34]
["G","Casamento",null,null,null,{"$f":"Recepcionista!F99","v":0.0355},0.28]
["H","Doação de Sangue",null,null,null,{"$f":"Recepcionista!F100","v":0.02},0.16]
["I","Testemunho",null,null,null,{"$f":"Recepcionista!F101","v":0.004},0.03]
["J","Paternidade",null,null,null,{"$f":"Recepcionista!F102","v":0.1997},1.59]
["K","Maternidade",null,null,null,{"$f":"Recepcionista!F103","v":2.4753},19.65]
["L","Consulta pré-natal",null,null,null,{"$f":"Recepcionista!F104","v":0.0098},0.08]
["TOTAL",{"$nulls":4},{"$f":"Recepcionista!F105","v":29.4738},{"$f":"SUM(G93:G104)","v":233.95}]
[]
[]
["QUADRO RESUMO DO MÓDULO 4 - Custo de Reposição do Profissional Ausente"]
[]
[4,"Custo de Reposição do Profissional Ausente",{"$nulls":4},"Valor (R$)"]
["4.1","Ausências legais",{"$nulls":4},{"$f":"G105","v":233.95}]
["TOTAL",{"$nulls":5},{"$f":"G111","v":233.95}]
[]
["MÓDULO 5 - INSUMOS DIVERSOS"]
[]
[5,"Insumos Diversos",{"$nulls":4},"Valor (R$)"]
["A","Uniformes",{"$nulls":4},0]
[null,"Total ",{"$nulls":4},{"$f":"SUM(G117)","v":0}]
[]
["MÓDULO 6 - CUSTOS INDIRETOS, TRIBUTOS E LUCRO"]
[]
[6,"Custos Indiretos, Tributos e Lucro",null,null,null,"%","Valor (R$)"]
["A","Custos Indiretos",null,null,null,{"$f":"Recepcionista!F123","v":0.025},{"$f":"G139*F123","v":77.29}]
["B","Lucro",null,null,null,{"$f":"Recepcionista!F124","v":0.05},{"$f":"(G139+G123)*F124","v":158.44}]
["C","Tributos"]
["c.1","COFINS",null,null,null,{"$f":"Recepcionista!F126","v":0.076},{"$f":"E146","v":294.9}]
["c.2","PIS",null,null,null,{"$f":"Recepcionista!F127","v":0.0165},{"$f":"E147","v":64.02}]
["c.3","ISSQN",null,null,null,{"$f":"Recepcionista!F128","v":0.05},{"$f":"E148","v":194.01}]
[null,"Total",null,null,null,{"$f":"Recepcionista!F129","v":0.2175},{"$f":"SUM(G123:G128)","v":788.66}]
[]
["2.  QUADRO -  RESUMO DO CUSTO POR EMPREGADO"]
[]
[null,"Mão de obra vinculada à execução contratual (valor por empregado)",{"$nulls":4},"Valor (R$)"]
["A","Módulo 1 - Composição da Remuneração",{"$nulls":4},{"$f":"G39","v":1328.3}]
["B","Módulo 2 - Encargos e Benefícios Anuais, Mensais e Diários",{"$nulls":4},{"$f":"G77","v":1315.15}]
["C","Módulo 3 - Provisão para recisão",{"$nulls":4},{"$f":"G87","v":214.16}]
["D","Módulo 4 - Custo de Reposição do Profissional Ausente",{"$nulls":4},{"$f":"G112","v":233.95}]
["E","Módulo 5 - Insumos diversos",{"$nulls":4},{"$f":"G118","v":0}]
["Subtotal ( A + B +C + D + E)",{"$nulls":5},{"$f":"SUM(G134:G138)","v":3091.56}]
["E","Módulo 6  - Custos indiretos, Tributos e lucro",{"$nulls":4},{"$f":"G129","v":788.66}]
["Valor total por empregado",{"$nulls":5},{"$f":"G139+G140","v":3880.22}]
[]
["P0 = (MÓD 1+MÓD 2+MÓD 3+MÓD 4+MÓD 5) + (CI) + (L)",null,null,null,{"$f":"G39+G77+G87+G112+G118+G123+G124","v":3327.29}]
["P1 = P0/(1 - (pis+confins+iss))",null,null,null,{"$f":"E143/(1-(F126+F127+F128))","v":3880.22}]
["T = P1 - P0",null,null,null,{"$f":"E144-E143","v":552.93}]
["COFINS = ((cofins)/(pis+cofins+iss) x T",null,null,null,{"$f":"((F126)/(F126+F127+F128))*E145","v":294.9}]
["PIS = ((pis)/(pis+cofins+iss) x T",null,null,null,{"$f":"((F127)/(F126+F127+F128))*E145","v":64.02}]
["ISS = (iss/(pis+cofins+iss)) x T",null,null,null,{"$f":"((F128/(F126+F127+F128))*E145)","v":194.01}]

{"sheet":"Ass. Adm. I","index":5,"n_rows":148,"n_cols":11,"rows_kept":148,"cut":false,"hidden":false,"merged":[[5,0,5,6],[7,1,7,3],[7,4,7,6],[8,1,8,3],[8,4,8,6],[9,0,9,6],[11,1,11,4],[11,5,11,6],[12,1,12,4],[12,5,12,6],[13,1,13,4],[13,5,13,6],[14,1,14,4],[14,5,14,6],[16,0,16,6],[18,0,18,1],[18,2,18,3],[18,4,18,6],[19,0,19,1],[19,2,19,3],[19,4,19,6],[21,0,21,6],[23,0,23,6],[24,0,24,6],[26,0,26,6],[34,0,34,6],[40,0,40,6],[65,1,65,3],[67,1,67,4],[70,0,70,6],[78,0,78,6],[88,0,88,6],[107,0,107,6],[113,0,113,6],[119,0,119,6],[130,0,130,6],[140,0,140,5],[142,0,142,2],[143,0,143,2],[144,0,144,2],[145,0,145,2],[146,0,146,2],[147,0,147,2],[133,10,134,11]]}
[]
[]
[]
[]
[]
[" PLANILHA DE CUSTOS E FORMAÇÃO DE PREÇOS "]
[]
[null,{"$f":"'Aux. Adm.'!B8","v":"Nº Processo"},null,null,{"$f":"'Aux. Adm.'!E8","v":"59530.001128/2023-40"}]
[null,{"$f":"'Aux. Adm.'!B9","v":"Licitação nº"}]
["DISCRIMINAÇÃO DOS SERVIÇOS (dados referentes à contratação)"]
[]
["A","Ano do Acordo, Convenção ou  Dissídio Coletivo",null,null,null,{"$f":"'Aux. Adm.'!F12","v":"2023 - PE000108/2023"}]
["B","Município/UF",null,null,null,{"$f":"'Aux. Adm.'!F13","v":"Recife/PE"}]
["C","Data de Registro no MTE",null,null,null,{"$f":"'Aux. Adm.'!F14","v":"15/02/2023"}]
["D","Nº de meses de execução contratual",null,null,null,{"$f":"'Aux. Adm.'!F15","v":"12 (doze) meses"}]
[]
["IDENTIFICAÇÃO DO SERVIÇO"]
[]
["Tipo de Serviço",null,"Unidade de Medida",null,"Quantidade total a contratar (em função da unidade de medida)"]
["Assistente Administrativo-Nivel I",null,"Posto de serviço",null,1]
[]
["1. MÓDULOS"]
[]
["MÃO DE OBRA"]
["Mão de obra vinculada à execução contratual"]
[]
["Dados para composição dos custos referente à mão de obra"]
[1,"Tipo de serviço ",{"$nulls":4},"Administrativo - Nível I (A3)"]
[2,"Classificação Brasileira de Ocupações (CBO)",{"$nulls":4},"4110-10 "]
[3,"Salário Normativo da Categoria Profissional",{"$nulls":4},2127.02]
[4,"Categoria profissional  (vinculada à execução contratual)",{"$nulls":4},"Administrativo I"]
[5,"Data-Base da categoria (dia/mês/ano)",{"$nulls":4},{"$f":"Recepcionista!G32","v":"1º/01/2023"}]
[]
[]
["MÓDULO  1: COMPOSIÇÃO DA REMUNERAÇÃO"]
[]
[1,"Composição da Remuneração",{"$nulls":4},"Valor (R$)"]
["A","Salário Base",{"$nulls":4},{"$f":"G30","v":2127.02}]
[null,"Total ",{"$nulls":4},{"$f":"G38","v":2127.02}]
[]
["MÓDULO 2: ENCARGOS E BENEFÍCIOS ANUAIS, MENSAIS E DIÁRIOS"]
[]
["Submódulo 2.1 - 13º (décimo terceiro) Salário, Férias e Adicional de Férias"]
[]
["2.1"," 13º (décimo terceiro) Salário, Férias e Adicional de Férias",null,null,null,"%","Valor (R$)"]
["A","13º (décimo terceiro) Salário",null,null,null,{"$f":"'Aux. Adm.'!F46","v":0.0833},{"$f":"G39*F46","v":177.18}]
["B","Férias e Adicional de Férias",null,null,null,{"$f":"'Aux. Adm.'!F47","v":0.1111},{"$f":"G39*F47","v":236.31}]
["TOTAL",{"$nulls":4},{"$f":"SUM(F46:F47)","v":0.1944},{"$f":"SUM(G46:G47)","v":413.49}]
[]
["Submódulo 2.2 - Encargos previdenciários (GPS), Fundo de Garantia por tempo de Serviço (FGTS) e outras contribuições:"]
[]
["2.2","GPS, FGTS e outras contribuiçoes",null,null,null,"%","Valor (R$)"]
["A","INSS",null,null,null,{"$f":"'Aux. Adm.'!F53","v":0.2},{"$f":"($G$39+$G$48)*F53","v":508.1}]
["B","Salário Educação",null,null,null,{"$f":"'Aux. Adm.'!F54","v":0.025},{"$f":"($G$39+$G$48)*F54","v":63.51}]
["C","Seguro Acidente do Trabalho/SAT/INSS",null,null,null,{"$f":"'Aux. Adm.'!F55","v":0.03},76.22]
["D","SESI/SESC",null,null,null,{"$f":"'Aux. Adm.'!F56","v":0.015},38.11]
["E","SENAI/SENAC",null,null,null,{"$f":"'Aux. Adm.'!F57","v":0.01},25.41]
["F","INCRA",null,null,null,{"$f":"'Aux. Adm.'!F58","v":0.002},5.08]
["G","FGTS",null,null,null,{"$f":"'Aux. Adm.'!F59","v":0.08},203.24]
["H","SEBRAE",null,null,null,{"$f":"'Aux. Adm.'!F60","v":0.006},15.24]
["TOTAL",{"$nulls":4},{"$f":"'Aux. Adm.'!F61","v":0.368},{"$f":"SUM(G53:G60)","v":934.91}]
[]
["Submódulo 2.3 - Benefícios Mensais e Diários"]
[]
["2.3","Benefícios Mensais e Diários",{"$nulls":4},"Valor (R$)"]
["A","Transporte ",{"$nulls":4},{"$f":"IF((4.1*2*21)-(6%*G38)>0,(4.1*2*21)-(6%*G38),0)","v":44.58},null,{"$f":"6%*G38","v":127.62},"= 6% do salario base"]
["B","Auxílio alimentação (Cláusula 11ª CCT 2023)",{"$nulls":4},{"$f":"(8.91*21)","v":187.11},null,"4,1*2*21 =",{"$f":"4.1*2*21","v":172.2}]
["C","Outros (Cobertura Social - Cláusula 15ª CCT 2023) ",{"$nulls":4},{"$f":"69.98","v":69.98},null,"172,2-127,62 = ",{"$f":"J67-I66","v":44.58}]
[null,"Total de Benefícios mensais e diários",{"$nulls":4},{"$f":"SUM(G66:G68)","v":301.67}]
[]
["QUADRO RESUMO DO MÓDULO 2 - Encargos e Benefícios anuais, mensais e diários"]
[]
[2,"Encargos e Benefícios anuais, mensais e diários",{"$nulls":4},"Valor (R$)"]
["2.1","13º (décimo terceiro) Salário, Férias e Adicional de Férias",{"$nulls":4},{"$f":"G48","v":413.49}]
["2.2","GPS, FGTS e outras contribuiçoes",{"$nulls":4},{"$f":"G61","v":934.91}]
["2.3","Benefícios Mensais e Diários",{"$nulls":4},{"$f":"G69","v":301.67}]
["TOTAL",{"$nulls":5},{"$f":"SUM(G74:G76)","v":1650.07}]
[]
["MÓDULO 3 - PROVISÃO PARA RESCISÃO"]
[{"$nulls":8},"GPS"]
[3,"Provisão para Rescisão",{"$nulls":4},"Valor (R$)"]
["A","Aviso prévio indenizado",{"$nulls":4},{"$f":"J82","v":104.2},{"$f":"G39+G77-I82","v":3045.42},{"$f":"(G39+G48)*0.288","v":731.67},{"$f":"H82/12*0.4106","v":104.2}]
["B","Multa do FGTS e contribuição social sobre o Aviso Prévio Indenizado",{"$nulls":4},{"$f":"I83","v":41.73},{"$f":"G59","v":203.24},{"$f":"(H83*0.4+H83*0.1)*0.4106","v":41.73},{"$f":"H83*0.5*0.4106","v":41.73}]
["C","Aviso Prévio Trabalhado",{"$nulls":4},129.24,{"$f":"G39+G77","v":3777.09},{"$f":"H84/12*0.4106","v":129.24}]
["D","Multa do FGTS e contribuição social sobre o Aviso Prévio Trabalhado",{"$nulls":4},41.73,{"$f":"G59","v":203.24},{"$f":"(H85*0.4+H85*0.1)*0.4106","v":41.73},{"$f":"H85*0.5*0.4106","v":41.73}]
["E","Demissão com Justa Causa",{"$nulls":4},{"$f":"K86","v":-5.17},{"$f":"G46","v":177.18},{"$f":"G47","v":236.31},{"$f":"H86+I86","v":413.49},{"$f":"-J86*0.0125","v":-5.17}]
["TOTAL",{"$nulls":5},{"$f":"SUM(G82:G86)","v":311.73}]
[]
["MÓDULO 4 - CUSTO DE REPOSIÇÃO DO PROFISSIONAL AUSENTE"]
[]
["Submódulo 4.1 - Ausências Legais"]
["4.1","Ausências legais",null,null,null,"Dias/Ano","Valor (R$)"]
["A","Férias ",null,null,null,{"$f":"'Aux. Adm.'!F93","v":20.9589},{"$f":"$I$93*F93/12+0.01","v":238.05},{"$f":"G39+G77+G87","v":4088.82},{"$f":"H93/30","v":136.29},{"$f":"I93*F105","v":4016.98},{"$f":"J93/12","v":334.75}]
["B","Ausência justificada",null,null,null,{"$f":"'Aux. Adm.'!F94","v":1},{"$f":"$I$93*F94/12","v":11.36}]
["C","Acidente de trabalho",null,null,null,{"$f":"'Aux. Adm.'!F95","v":0.9659},10.97]
["D","Afastamento por doença",null,null,null,{"$f":"'Aux. Adm.'!F96","v":3.4932},{"$f":"$I$93*F96/12","v":39.67}]
["E","Consulta médica filho",null,null,null,{"$f":"'Aux. Adm.'!F97","v":0.2688},3.05]
["F","Óbitos na família",null,null,null,{"$f":"'Aux. Adm.'!F98","v":0.0427},0.48]
["G","Casamento",null,null,null,{"$f":"'Aux. Adm.'!F99","v":0.0355},0.4]
["H","Doação de Sangue",null,null,null,{"$f":"'Aux. Adm.'!F100","v":0.02},0.23]
["I","Testemunho",null,null,null,{"$f":"'Aux. Adm.'!F101","v":0.004},0.05]
["J","Paternidade",null,null,null,{"$f":"'Aux. Adm.'!F102","v":0.1997},2.27]
["K","Maternidade",null,null,null,{"$f":"'Aux. Adm.'!F103","v":2.4753},28.11]
["L","Consulta pré-natal",null,null,null,{"$f":"'Aux. Adm.'!F104","v":0.0098},0.11]
["TOTAL",{"$nulls":4},{"$f":"'Aux. Adm.'!F105","v":29.4738},{"$f":"SUM(G93:G104)","v":334.75}]
[]
[]
["QUADRO RESUMO DO MÓDULO 4 - Custo de Reposição do Profissional Ausente"]
[]
[4,"Custo de Reposição do Profissional Ausente",{"$nulls":4},"Valor (R$)"]
["4.1","Ausências legais",{"$nulls":4},{"$f":"G105","v":334.75}]
["TOTAL",{"$nulls":5},{"$f":"G111","v":334.75}]
[]
["MÓDULO 5 - INSUMOS DIVERSOS"]
[]
[5,"Insumos Diversos",{"$nulls":4},"Valor (R$)"]
["A","Uniformes"]
[null,"Total ",{"$nulls":4},{"$f":"SUM(G117)","v":0}]
[]
["MÓDULO 6 - CUSTOS INDIRETOS, TRIBUTOS E LUCRO"]
[]
[6,"Custos Indiretos, Tributos e Lucro",null,null,null,"%","Valor (R$)"]
["A","Custos Indiretos",null,null,null,{"$f":"'Aux. Adm.'!F123","v":0.025},{"$f":"G139*F123","v":110.59}]
["B","Lucro",null,null,null,{"$f":"'Aux. Adm.'!F124","v":0.05},{"$f":"(G139+G123)*F124","v":226.71}]
["C","Tributos"]
["c.1","COFINS",null,null,null,{"$f":"'Aux. Adm.'!F126","v":0.076},{"$f":"E146","v":421.95}]
["c.2","PIS",null,null,null,{"$f":"'Aux. Adm.'!F127","v":0.0165},{"$f":"E147","v":91.61}]
["c.3","ISSQN",null,null,null,{"$f":"'Aux. Adm.'!F128","v":0.05},{"$f":"E148","v":277.6}]
[null,"Total",null,null,null,{"$f":"'Aux. Adm.'!F129","v":0.2175},{"$f":"SUM(G123:G128)","v":1128.46}]
[]
["2.  QUADRO -  RESUMO DO CUSTO POR EMPREGADO"]
[]
[null,"Mão de obra vinculada à execução contratual (valor por empregado)",{"$nulls":4},"Valor (R$)"]
["A","Módulo 1 - Composição da Remuneração",{"$nulls":4},{"$f":"G39","v":2127.02}]
["B","Módulo 2 - Encargos e Benefícios Anuais, Mensais e Diários",{"$nulls":4},{"$f":"G77","v":1650.07}]
["C","Módulo 3 - Provisão para recisão",{"$nulls":4},{"$f":"G87","v":311.73}]
["D","Módulo 4 - Custo de Reposição do Profissional Ausente",{"$nulls":4},{"$f":"G112","v":334.75}]
["E","Módulo 5 - Insumos diversos",{"$nulls":4},{"$f":"G118","v":0}]
["Subtotal ( A + B +C + D + E)",{"$nulls":5},{"$f":"SUM(G134:G138)","v":4423.57}]
["E","Módulo 6  - Custos indiretos, Tributos e lucro",{"$nulls":4},{"$f":"G129","v":1128.46}]
["Valor total por empregado",{"$nulls":5},{"$f":"G139+G140","v":5552.03}]
[]
["P0 = (MÓD 1+MÓD 2+MÓD 3+MÓD 4+MÓD 5) + (CI) + (L)",null,null,null,{"$f":"G39+G77+G87+G112+G118+G123+G124","v":4760.87}]
["P1 = P0/(1 - (pis+confins+iss))",null,null,null,{"$f":"E143/(1-(F126+F127+F128))","v":5552.03}]
["T = P1 - P0",null,null,null,{"$f":"E144-E143","v":791.16}]
["COFINS = ((cofins)/(pis+cofins+iss) x T",null,null,null,{"$f":"((F126)/(F126+F127+F128))*E145","v":421.95}]
["PIS = ((pis)/(pis+cofins+iss) x T",null,null,null,{"$f":"((F127)/(F126+F127+F128))*E145","v":91.61}]
["ISS = (iss/(pis+cofins+iss)) x T",null,null,null,{"$f":"((F128/(F126+F127+F128))*E145)","v":277.6}]

{"sheet":"Analista","index":6,"n_rows":148,"n_cols":11,"rows_kept":148,"cut":false,"hidden":false,"merged":[[4,0,4,6],[5,0,5,6],[7,1,7,3],[7,4,7,6],[8,1,8,3],[8,4,8,6],[9,0,9,6],[11,1,11,4],[11,5,11,6],[12,1,12,4],[12,5,12,6],[13,1,13,4],[13,5,13,6],[14,1,14,4],[14,5,14,6],[16,0,16,6],[18,0,18,1],[18,2,18,3],[18,4,18,6],[19,0,19,1],[19,2,19,3],[19,4,19,6],[21,0,21,6],[23,0,23,6],[24,0,24,6],[26,0,26,6],[34,0,34,6],[40,0,40,6],[65,1,65,3],[67,1,67,4],[70,0,70,6],[78,0,78,6],[88,0,88,6],[107,0,107,6],[113,0,113,6],[119,0,119,6],[130,0,130,6],[140,0,140,5],[142,0,142,2],[143,0,143,2],[144,0,144,2],[145,0,145,2],[146,0,146,2],[147,0,147,2]]}
[]
[]
[]
[]
[]
[" PLANILHA DE CUSTOS E FORMAÇÃO DE PREÇOS "]
[]
[null,{"$f":"'Aux. Adm.'!B8","v":"Nº Processo"},null,null,{"$f":"'Aux. Adm.'!E8","v":"59530.001128/2023-40"}]
[null,{"$f":"'Aux. Adm.'!B9","v":"Licitação nº"}]
["DISCRIMINAÇÃO DOS SERVIÇOS (dados referentes à contratação)"]
[]
["A","Ano do Acordo, Convenção ou  Dissídio Coletivo",null,null,null,{"$f":"'Aux. Adm.'!F12","v":"2023 - PE000108/2023"}]
["B","Município/UF",null,null,null,{"$f":"'Aux. Adm.'!F13","v":"Recife/PE"}]
["C","Data de Registro no MTE",null,null,null,{"$f":"'Aux. Adm.'!F14","v":"15/02/2023"}]
["D","Nº de meses de execução contratual",null,null,null,{"$f":"'Aux. Adm.'!F15","v":"12 (doze) meses"}]
[]
["IDENTIFICAÇÃO DO SERVIÇO"]
[]
["Tipo de Serviço",null,"Unidade de Medida",null,"Quantidade total a contratar (em função da unidade de medida)"]
["Analista Sênior",null,"Posto de serviço",null,1]
[]
["1. MÓDULOS"]
[]
["MÃO DE OBRA"]
["Mão de obra vinculada à execução contratual"]
[]
["Dados para composição dos custos referente à mão de obra"]
[1,"Tipo de serviço ",{"$nulls":4},"Analista Sênior"]
[2,"Classificação Brasileira de Ocupações (CBO)",{"$nulls":4},"4110-10 "]
[3,"Salário Normativo da Categoria Profissional",{"$nulls":4},7134.75]
[4,"Categoria profissional  (vinculada à execução contratual)",{"$nulls":4},"Analista Sênior"]
[5,"Data-Base da categoria (dia/mês/ano)",{"$nulls":4},{"$f":"Recepcionista!G32","v":"1º/01/2023"}]
[]
[]
["MÓDULO  1: COMPOSIÇÃO DA REMUNERAÇÃO"]
[]
[1,"Composição da Remuneração",{"$nulls":4},"Valor (R$)"]
["A","Salário Base",{"$nulls":4},{"$f":"G30","v":7134.75}]
[null,"Total ",{"$nulls":4},{"$f":"G38","v":7134.75}]
[]
["MÓDULO 2: ENCARGOS E BENEFÍCIOS ANUAIS, MENSAIS E DIÁRIOS"]
[]
["Submódulo 2.1 - 13º (décimo terceiro) Salário, Férias e Adicional de Férias"]
[]
["2.1"," 13º (décimo terceiro) Salário, Férias e Adicional de Férias",null,null,null,"%","Valor (R$)"]
["A","13º (décimo terceiro) Salário",null,null,null,{"$f":"'Ass. Adm. I'!F46","v":0.0833},{"$f":"G39*F46","v":594.32}]
["B","Férias e Adicional de Férias",null,null,null,{"$f":"'Ass. Adm. I'!F47","v":0.1111},{"$f":"G39*F47","v":792.67}]
["TOTAL",{"$nulls":4},{"$f":"'Ass. Adm. I'!F48","v":0.1944},{"$f":"SUM(G46:G47)","v":1386.99}]
[]
["Submódulo 2.2 - Encargos previdenciários (GPS), Fundo de Garantia por tempo de Serviço (FGTS) e outras contribuições:"]
[]
["2.2","GPS, FGTS e outras contribuiçoes",null,null,null,"%","Valor (R$)"]
["A","INSS",null,null,null,{"$f":"'Ass. Adm. I'!F53","v":0.2},{"$f":"($G$39+$G$48)*F53","v":1704.35}]
["B","Salário Educação",null,null,null,{"$f":"'Ass. Adm. I'!F54","v":0.025},{"$f":"($G$39+$G$48)*F54","v":213.04}]
["C","Seguro Acidente do Trabalho/SAT/INSS",null,null,null,{"$f":"'Ass. Adm. I'!F55","v":0.03},255.65]
["D","SESI/SESC",null,null,null,{"$f":"'Ass. Adm. I'!F56","v":0.015},127.83]
["E","SENAI/SENAC",null,null,null,{"$f":"'Ass. Adm. I'!F57","v":0.01},85.22]
["F","INCRA",null,null,null,{"$f":"'Ass. Adm. I'!F58","v":0.002},17.04]
["G","FGTS",null,null,null,{"$f":"'Ass. Adm. I'!F59","v":0.08},681.74]
["H","SEBRAE",null,null,null,{"$f":"'Ass. Adm. I'!F60","v":0.006},51.13]
["TOTAL",{"$nulls":4},{"$f":"SUM(F53:F60)","v":0.368},{"$f":"SUM(G53:G60)","v":3136}]
[]
["Submódulo 2.3 - Benefícios Mensais e Diários"]
[]
["2.3","Benefícios Mensais e Diários",{"$nulls":4},"Valor (R$)"]
["A","Transporte ",{"$nulls":4},{"$f":"IF((4.1*2*21)-(6%*G38)>0,(4.1*2*21)-(6%*G38),0)","v":0},null,{"$f":"6%*G38","v":428.09},"= 6% do salario base"]
["B","Auxílio alimentação (Cláusula 11ª CCT 2023)",{"$nulls":4},{"$f":"(8.91*21)","v":187.11},null,"4,1*2*21 =",{"$f":"4.1*2*21","v":172.2}]
["C","Outros (Cobertura Social - Cláusula 15ª CCT 2023) ",{"$nulls":4},{"$f":"69.98","v":69.98},null,"172,2-428,09 = ",{"$f":"J67-I66","v":-255.89}]
[null,"Total de Benefícios mensais e diários",{"$nulls":4},{"$f":"SUM(G66:G68)","v":257.09}]
[]
["QUADRO RESUMO DO MÓDULO 2 - Encargos e Benefícios anuais, mensais e diários"]
[]
[2,"Encargos e Benefícios anuais, mensais e diários",{"$nulls":4},"Valor (R$)"]
["2.1","13º (décimo terceiro) Salário, Férias e Adicional de Férias",{"$nulls":4},{"$f":"G48","v":1386.99}]
["2.2","GPS, FGTS e outras contribuiçoes",{"$nulls":4},{"$f":"G61","v":3136}]
["2.3","Benefícios Mensais e Diários",{"$nulls":4},{"$f":"G69","v":257.09}]
["TOTAL",{"$nulls":5},{"$f":"SUM(G74:G76)","v":4780.08}]
[]
["MÓDULO 3 - PROVISÃO PARA RESCISÃO"]
[{"$nulls":8},"GPS"]
[3,"Provisão para Rescisão",{"$nulls":4},"Valor (R$)"]
["A","Aviso prévio indenizado",{"$nulls":4},{"$f":"J82","v":323.71},{"$f":"G39+G77-I82","v":9460.57},{"$f":"(G39+G48)*0.288","v":2454.26},{"$f":"H82/12*0.4106","v":323.71}]
["B","Multa do FGTS e contribuição social sobre o Aviso Prévio Indenizado",{"$nulls":4},{"$f":"I83","v":139.96},{"$f":"G59","v":681.74},{"$f":"(H83*0.4+H83*0.1)*0.4106","v":139.96},{"$f":"H83*0.5*0.4106","v":139.96}]
["C","Aviso Prévio Trabalhado",{"$nulls":4},407.69,{"$f":"G39+G77","v":11914.83},{"$f":"H84/12*0.4106","v":407.69}]
["D","Multa do FGTS e contribuição social sobre o Aviso Prévio Trabalhado",{"$nulls":4},139.96,{"$f":"G59","v":681.74},{"$f":"(H85*0.4+H85*0.1)*0.4106","v":139.96},{"$f":"H85*0.5*0.4106","v":139.96}]
["E","Demissão com Justa Causa",{"$nulls":4},{"$f":"K86","v":-17.34},{"$f":"G46","v":594.32},{"$f":"G47","v":792.67},{"$f":"H86+I86","v":1386.99},{"$f":"-J86*0.0125","v":-17.34}]
["TOTAL",{"$nulls":5},{"$f":"SUM(G82:G86)","v":993.98}]
[]
["MÓDULO 4 - CUSTO DE REPOSIÇÃO DO PROFISSIONAL AUSENTE"]
[]
["Submódulo 4.1 - Ausências Legais"]
["4.1","Ausências legais",null,null,null,"Dias/Ano","Valor (R$)"]
["A","Férias ",null,null,null,{"$f":"'Ass. Adm. I'!F93","v":20.9589},{"$f":"$I$93*F93/12+0.01","v":751.54},{"$f":"G39+G77+G87","v":12908.81},{"$f":"H93/30","v":430.29},{"$f":"I93*F105","v":12682.28},{"$f":"J93/12","v":1056.86}]
["B","Ausência justificada",null,null,null,{"$f":"'Ass. Adm. I'!F94","v":1},{"$f":"$I$93*F94/12","v":35.86}]
["C","Acidente de trabalho",null,null,null,{"$f":"'Ass. Adm. I'!F95","v":0.9659},34.63]
["D","Afastamento por doença",null,null,null,{"$f":"'Ass. Adm. I'!F96","v":3.4932},{"$f":"$I$93*F96/12","v":125.26}]
["E","Consulta médica filho",null,null,null,{"$f":"'Ass. Adm. I'!F97","v":0.2688},9.64]
["F","Óbitos na família",null,null,null,{"$f":"'Ass. Adm. I'!F98","v":0.0427},1.53]
["G","Casamento",null,null,null,{"$f":"'Ass. Adm. I'!F99","v":0.0355},1.27]
["H","Doação de Sangue",null,null,null,{"$f":"'Ass. Adm. I'!F100","v":0.02},0.72]
["I","Testemunho",null,null,null,{"$f":"'Ass. Adm. I'!F101","v":0.004},0.14]
["J","Paternidade",null,null,null,{"$f":"'Ass. Adm. I'!F102","v":0.1997},7.16]
["K","Maternidade",null,null,null,{"$f":"'Ass. Adm. I'!F103","v":2.4753},88.76]
["L","Consulta pré-natal",null,null,null,{"$f":"'Ass. Adm. I'!F104","v":0.0098},0.35]
["TOTAL",{"$nulls":4},{"$f":"'Ass. Adm. I'!F105","v":29.4738},{"$f":"SUM(G93:G104)","v":1056.86}]
[]
[]
["QUADRO RESUMO DO MÓDULO 4 - Custo de Reposição do Profissional Ausente"]
[]
[4,"Custo de Reposição do Profissional Ausente",{"$nulls":4},"Valor (R$)"]
["4.1","Ausências legais",{"$nulls":4},{"$f":"G105","v":1056.86}]
["TOTAL",{"$nulls":5},{"$f":"G111","v":1056.86}]
[]
["MÓDULO 5 - INSUMOS DIVERSOS"]
[]
[5,"Insumos Diversos",{"$nulls":4},"Valor (R$)"]
["A","Uniformes"]
[null,"Total ",{"$nulls":4},{"$f":"SUM(G117)","v":0}]
[]
["MÓDULO 6 - CUSTOS INDIRETOS, TRIBUTOS E LUCRO"]
[]
[6,"Custos Indiretos, Tributos e Lucro",null,null,null,"%","Valor (R$)"]
["A","Custos Indiretos",null,null,null,{"$f":"'Ass. Adm. I'!F123","v":0.025},{"$f":"G139*F123","v":349.14}]
["B","Lucro",null,null,null,{"$f":"'Ass. Adm. I'!F124","v":0.05},{"$f":"(G139+G123)*F124","v":715.74}]
["C","Tributos"]
["c.1","COFINS",null,null,null,{"$f":"'Ass. Adm. I'!F126","v":0.076},{"$f":"E146","v":1332.15}]
["c.2","PIS",null,null,null,{"$f":"'Ass. Adm. I'!F127","v":0.0165},{"$f":"E147","v":289.22}]
["c.3","ISSQN",null,null,null,{"$f":"'Ass. Adm. I'!F128","v":0.05},{"$f":"E148","v":876.42}]
[null,"Total",null,null,null,{"$f":"'Ass. Adm. I'!F129","v":0.2175},{"$f":"SUM(G123:G128)","v":3562.67}]
[]
["2.  QUADRO -  RESUMO DO CUSTO POR EMPREGADO"]
[]
[null,"Mão de obra vinculada à execução contratual (valor por empregado)",{"$nulls":4},"Valor (R$)"]
["A","Módulo 1 - Composição da Remuneração",{"$nulls":4},{"$f":"G39","v":7134.75}]
["B","Módulo 2 - Encargos e Benefícios Anuais, Mensais e Diários",{"$nulls":4},{"$f":"G77","v":4780.08}]
["C","Módulo 3 - Provisão para recisão",{"$nulls":4},{"$f":"G87","v":993.98}]
["D","Módulo 4 - Custo de Reposição do Profissional Ausente",{"$nulls":4},{"$f":"G112","v":1056.86}]
["E","Módulo 5 - Insumos diversos",{"$nulls":4},{"$f":"G118","v":0}]
["Subtotal ( A + B +C + D + E)",{"$nulls":5},{"$f":"SUM(G134:G138)","v":13965.67}]
["E","Módulo 6  - Custos indiretos, Tributos e lucro",{"$nulls":4},{"$f":"G129","v":3562.67}]
["Valor total por empregado",{"$nulls":5},{"$f":"G139+G140","v":17528.34}]
[]
["P0 = (MÓD 1+MÓD 2+MÓD 3+MÓD 4+MÓD 5) + (CI) + (L)",null,null,null,{"$f":"G39+G77+G87+G112+G118+G123+G124","v":15030.55}]
["P1 = P0/(1 - (pis+confins+iss))",null,null,null,{"$f":"E143/(1-(F126+F127+F128))","v":17528.34}]
["T = P1 - P0",null,null,null,{"$f":"E144-E143","v":2497.79}]
["COFINS = ((cofins)/(pis+cofins+iss) x T",null,null,null,{"$f":"((F126)/(F126+F127+F128))*E145","v":1332.15}]
["PIS = ((pis)/(pis+cofins+iss) x T",null,null,null,{"$f":"((F127)/(F126+F127+F128))*E145","v":289.22}]
["ISS = (iss/(pis+cofins+iss)) x T",null,null,null,{"$f":"((F128/(F126+F127+F128))*E145)","v":876.42}]

{"sheet":"Ass. Com","index":7,"n_rows":148,"n_cols":11,"rows_kept":148,"cut":false,"hidden":false,"merged":[[4,0,4,6],[5,0,5,6],[7,1,7,3],[7,4,7,6],[8,1,8,3],[8,4,8,6],[9,0,9,6],[11,1,11,4],[11,5,11,6],[12,1,12,4],[12,5,12,6],[13,1,13,4],[13,5,13,6],[14,1,14,4],[14,5,14,6],[16,0,16,6],[18,0,18,1],[18,2,18,3],[18,4,18,6],[19,0,19,1],[19,2,19,3],[19,4,19,6],[21,0,21,6],[23,0,23,6],[24,0,24,6],[26,0,26,6],[34,0,34,6],[40,0,40,6],[65,1,65,3],[67,1,67,4],[70,0,70,6],[78,0,78,6],[88,0,88,6],[107,0,107,6],[113,0,113,6],[119,0,119,6],[130,0,130,6],[140,0,140,5],[142,0,142,2],[143,0,143,2],[144,0,144,2],[145,0,145,2],[146,0,146,2],[147,0,147,2]]}
[]
[]
[]
[]
[]
[" PLANILHA DE CUSTOS E FORMAÇÃO DE PREÇOS "]
[]
[null,{"$f":"'Aux. Adm.'!B8","v":"Nº Processo"},null,null,{"$f":"'Aux. Adm.'!E8","v":"59530.001128/2023-40"}]
[null,{"$f":"'Aux. Adm.'!B9","v":"Licitação nº"}]
["DISCRIMINAÇÃO DOS SERVIÇOS (dados referentes à contratação)"]
[]
["A","Ano do Acordo, Convenção ou  Dissídio Coletivo",null,null,null,{"$f":"'Aux. Adm.'!F12","v":"2023 - PE000108/2023"}]
["B","Município/UF",null,null,null,{"$f":"'Aux. Adm.'!F13","v":"Recife/PE"}]
["C","Data de Registro no MTE",null,null,null,{"$f":"'Aux. Adm.'!F14","v":"15/02/2023"}]
["D","Nº de meses de execução contratual",null,null,null,{"$f":"'Aux. Adm.'!F15","v":"12 (doze) meses"}]
[]
["IDENTIFICAÇÃO DO SERVIÇO"]
[]
["Tipo de Serviço",null,"Unidade de Medida",null,"Quantidade total a contratar (em função da unidade de medida)"]
["Assistente de Comunicação",null,"Posto de serviço",null,1]
[]
["1. MÓDULOS"]
[]
["MÃO DE OBRA"]
["Mão de obra vinculada à execução contratual"]
[]
["Dados para composição dos custos referente à mão de obra"]
[1,"Tipo de serviço ",{"$nulls":4},"Assistente de Comunicação"]
[2,"Classificação Brasileira de Ocupações (CBO)",{"$nulls":4},2611]
[3,"Salário Normativo da Categoria Profissional",{"$nulls":4},3754.25]
[4,"Categoria profissional  (vinculada à execução contratual)",{"$nulls":4},"Profissional Nivel II"]
[5,"Data-Base da categoria (dia/mês/ano)",{"$nulls":4},"01° de janeiro"]
[]
[]
["MÓDULO  1: COMPOSIÇÃO DA REMUNERAÇÃO"]
[]
[1,"Composição da Remuneração",{"$nulls":4},"Valor (R$)"]
["A","Salário Base",{"$nulls":4},{"$f":"G30","v":3754.25}]
[null,"Total ",{"$nulls":4},{"$f":"G38","v":3754.25}]
[]
["MÓDULO 2: ENCARGOS E BENEFÍCIOS ANUAIS, MENSAIS E DIÁRIOS"]
[]
["Submódulo 2.1 - 13º (décimo terceiro) Salário, Férias e Adicional de Férias"]
[]
["2.1"," 13º (décimo terceiro) Salário, Férias e Adicional de Férias",null,null,null,"%","Valor (R$)"]
["A","13º (décimo terceiro) Salário",null,null,null,{"$f":"'Ass. Adm. I'!F46","v":0.0833},{"$f":"G39*F46","v":312.73}]
["B","Férias e Adicional de Férias",null,null,null,{"$f":"'Ass. Adm. I'!F47","v":0.1111},{"$f":"G39*F47","v":417.1}]
["TOTAL",{"$nulls":4},{"$f":"'Ass. Adm. I'!F48","v":0.1944},{"$f":"SUM(G46:G47)","v":729.83}]
[]
["Submódulo 2.2 - Encargos previdenciários (GPS), Fundo de Garantia por tempo de Serviço (FGTS) e outras contribuições:"]
[]
["2.2","GPS, FGTS e outras contribuiçoes",null,null,null,"%","Valor (R$)"]
["A","INSS",null,null,null,{"$f":"'Ass. Adm. I'!F53","v":0.2},{"$f":"($G$39+$G$48)*F53","v":896.82}]
["B","Salário Educação",null,null,null,{"$f":"'Ass. Adm. I'!F54","v":0.025},{"$f":"($G$39+$G$48)*F54","v":112.1}]
["C","Seguro Acidente do Trabalho/SAT/INSS",null,null,null,{"$f":"'Ass. Adm. I'!F55","v":0.03},134.52]
["D","SESI/SESC",null,null,null,{"$f":"'Ass. Adm. I'!F56","v":0.015},67.26]
["E","SENAI/SENAC",null,null,null,{"$f":"'Ass. Adm. I'!F57","v":0.01},44.84]
["F","INCRA",null,null,null,{"$f":"'Ass. Adm. I'!F58","v":0.002},8.97]
["G","FGTS",null,null,null,{"$f":"'Ass. Adm. I'!F59","v":0.08},358.73]
["H","SEBRAE",null,null,null,{"$f":"'Ass. Adm. I'!F60","v":0.006},26.9]
["TOTAL",{"$nulls":4},{"$f":"'Ass. Adm. I'!F61","v":0.368},{"$f":"SUM(G53:G60)","v":1650.14}]
[]
["Submódulo 2.3 - Benefícios Mensais e Diários"]
[]
["2.3","Benefícios Mensais e Diários",{"$nulls":4},"Valor (R$)",null,{"$f":"6%*G38","v":225.26},"= 6% do salario base"]
["A","Transporte ",{"$nulls":4},{"$f":"IF((4.1*2*21)-(6%*G38)>0,(4.1*2*21)-(6%*G38),0)","v":0},null,"4,1*2*21 =",{"$f":"4.1*2*21","v":172.2}]
["B","Auxílio alimentação (Cláusula 11ª CCT 2023)",{"$nulls":4},{"$f":"(8.91*21)","v":187.11},null,"172,2-225,26 = ",{"$f":"J66-I65","v":-53.06}]
["C","Outros (Cobertura Social - Cláusula 15ª CCT 2023) ",{"$nulls":4},{"$f":"69.98","v":69.98}]
[null,"Total de Benefícios mensais e diários",{"$nulls":4},{"$f":"SUM(G66:G68)","v":257.09}]
[]
["QUADRO RESUMO DO MÓDULO 2 - Encargos e Benefícios anuais, mensais e diários"]
[]
[2,"Encargos e Benefícios anuais, mensais e diários",{"$nulls":4},"Valor (R$)"]
["2.1","13º (décimo terceiro) Salário, Férias e Adicional de Férias",{"$nulls":4},{"$f":"G48","v":729.83}]
["2.2","GPS, FGTS e outras contribuiçoes",{"$nulls":4},{"$f":"G61","v":1650.14}]
["2.3","Benefícios Mensais e Diários",{"$nulls":4},{"$f":"G69","v":257.09}]
["TOTAL",{"$nulls":5},{"$f":"SUM(G74:G76)","v":2637.06}]
[]
["MÓDULO 3 - PROVISÃO PARA RESCISÃO"]
[{"$nulls":8},"GPS"]
[3,"Provisão para Rescisão",{"$nulls":4},"Valor (R$)"]
["A","Aviso prévio indenizado",{"$nulls":4},{"$f":"J82","v":174.5},{"$f":"G39+G77-I82","v":5099.89},{"$f":"(G39+G48)*0.288","v":1291.42},{"$f":"H82/12*0.4106","v":174.5}]
["B","Multa do FGTS e contribuição social sobre o Aviso Prévio Indenizado",{"$nulls":4},{"$f":"I83","v":73.65},{"$f":"G59","v":358.73},{"$f":"(H83*0.4+H83*0.1)*0.4106","v":73.65},{"$f":"H83*0.5*0.4106","v":73.65}]
["C","Aviso Prévio Trabalhado",{"$nulls":4},218.69,{"$f":"G39+G77","v":6391.31},{"$f":"H84/12*0.4106","v":218.69}]
["D","Multa do FGTS e contribuição social sobre o Aviso Prévio Trabalhado",{"$nulls":4},73.65,{"$f":"G59","v":358.73},{"$f":"(H85*0.4+H85*0.1)*0.4106","v":73.65},{"$f":"H85*0.5*0.4106","v":73.65}]
["E","Demissão com Justa Causa",{"$nulls":4},{"$f":"K86","v":-9.12},{"$f":"G46","v":312.73},{"$f":"G47","v":417.1},{"$f":"H86+I86","v":729.83},{"$f":"-J86*0.0125","v":-9.12}]
["TOTAL",{"$nulls":5},{"$f":"SUM(G82:G86)","v":531.37}]
[]
["MÓDULO 4 - CUSTO DE REPOSIÇÃO DO PROFISSIONAL AUSENTE"]
[]
["Submódulo 4.1 - Ausências Legais"]
["4.1","Ausências legais",null,null,null,"Dias/Ano","Valor (R$)"]
["A","Férias ",null,null,null,{"$f":"'Ass. Adm. I'!F93","v":20.9589},{"$f":"$I$93*F93/12+0.01","v":403.05},{"$f":"G39+G77+G87","v":6922.68},{"$f":"H93/30","v":230.76},{"$f":"I93*F105","v":6801.37},{"$f":"J93/12","v":566.78}]
["B","Ausência justificada",null,null,null,{"$f":"'Ass. Adm. I'!F94","v":1},{"$f":"$I$93*F94/12","v":19.23}]
["C","Acidente de trabalho",null,null,null,{"$f":"'Ass. Adm. I'!F95","v":0.9659},18.57]
["D","Afastamento por doença",null,null,null,{"$f":"'Ass. Adm. I'!F96","v":3.4932},{"$f":"$I$93*F96/12+0.01","v":67.18}]
["E","Consulta médica filho",null,null,null,{"$f":"'Ass. Adm. I'!F97","v":0.2688},5.17]
["F","Óbitos na família",null,null,null,{"$f":"'Ass. Adm. I'!F98","v":0.0427},0.82]
["G","Casamento",null,null,null,{"$f":"'Ass. Adm. I'!F99","v":0.0355},0.68]
["H","Doação de Sangue",null,null,null,{"$f":"'Ass. Adm. I'!F100","v":0.02},0.38]
["I","Testemunho",null,null,null,{"$f":"'Ass. Adm. I'!F101","v":0.004},0.08]
["J","Paternidade",null,null,null,{"$f":"'Ass. Adm. I'!F102","v":0.1997},3.84]
["K","Maternidade",null,null,null,{"$f":"'Ass. Adm. I'!F103","v":2.4753},47.6]
["L","Consulta pré-natal",null,null,null,{"$f":"'Ass. Adm. I'!F104","v":0.0098},0.19]
["TOTAL",{"$nulls":4},{"$f":"'Ass. Adm. I'!F105","v":29.4738},{"$f":"SUM(G93:G104)","v":566.79}]
[]
[]
["QUADRO RESUMO DO MÓDULO 4 - Custo de Reposição do Profissional Ausente"]
[]
[4,"Custo de Reposição do Profissional Ausente",{"$nulls":4},"Valor (R$)"]
["4.1","Ausências legais",{"$nulls":4},{"$f":"G105","v":566.79}]
["TOTAL",{"$nulls":5},{"$f":"G111","v":566.79}]
[]
["MÓDULO 5 - INSUMOS DIVERSOS"]
[]
[5,"Insumos Diversos",{"$nulls":4},"Valor (R$)"]
["A","Uniformes",{"$nulls":4},0]
[null,"Total ",{"$nulls":4},{"$f":"SUM(G117)","v":0}]
[]
["MÓDULO 6 - CUSTOS INDIRETOS, TRIBUTOS E LUCRO"]
[]
[6,"Custos Indiretos, Tributos e Lucro",null,null,null,"%","Valor (R$)"]
["A","Custos Indiretos",null,null,null,{"$f":"'Ass. Adm. I'!F123","v":0.025},{"$f":"G139*F123","v":187.24}]
["B","Lucro",null,null,null,{"$f":"'Ass. Adm. I'!F124","v":0.05},{"$f":"(G139+G123)*F124","v":383.84}]
["C","Tributos"]
["c.1","COFINS",null,null,null,{"$f":"'Ass. Adm. I'!F126","v":0.076},{"$f":"E146","v":714.41}]
["c.2","PIS",null,null,null,{"$f":"'Ass. Adm. I'!F127","v":0.0165},{"$f":"E147","v":155.1}]
["c.3","ISSQN",null,null,null,{"$f":"'Ass. Adm. I'!F128","v":0.05},{"$f":"E148","v":470}]
[null,"Total",null,null,null,{"$f":"'Ass. Adm. I'!F129","v":0.2175},{"$f":"SUM(G123:G128)","v":1910.59}]
[]
["2.  QUADRO -  RESUMO DO CUSTO POR EMPREGADO"]
[]
[null,"Mão de obra vinculada à execução contratual (valor por empregado)",{"$nulls":4},"Valor (R$)"]
["A","Módulo 1 - Composição da Remuneração",{"$nulls":4},{"$f":"G39","v":3754.25}]
["B","Módulo 2 - Encargos e Benefícios Anuais, Mensais e Diários",{"$nulls":4},{"$f":"G77","v":2637.06}]
["C","Módulo 3 - Provisão para recisão",{"$nulls":4},{"$f":"G87","v":531.37}]
["D","Módulo 4 - Custo de Reposição do Profissional Ausente",{"$nulls":4},{"$f":"G112","v":566.79}]
["E","Módulo 5 - Insumos diversos",{"$nulls":4},{"$f":"G118","v":0}]
["Subtotal ( A + B +C + D + E)",{"$nulls":5},{"$f":"SUM(G134:G138)","v":7489.47}]
["E","Módulo 6  - Custos indiretos, Tributos e lucro",{"$nulls":4},{"$f":"G129","v":1910.59}]
["Valor total por empregado",{"$nulls":5},{"$f":"G139+G140","v":9400.06}]
[]
["P0 = (MÓD 1+MÓD 2+MÓD 3+MÓD 4+MÓD 5) + (CI) + (L)",null,null,null,{"$f":"G39+G77+G87+G112+G118+G123+G124","v":8060.55}]
["P1 = P0/(1 - (pis+confins+iss))",null,null,null,{"$f":"E143/(1-(F126+F127+F128))","v":9400.06}]
["T = P1 - P0",null,null,null,{"$f":"E144-E143","v":1339.51}]
["COFINS = ((cofins)/(pis+cofins+iss) x T",null,null,null,{"$f":"((F126)/(F126+F127+F128))*E145","v":714.41}]
["PIS = ((pis)/(pis+cofins+iss) x T",null,null,null,{"$f":"((F127)/(F126+F127+F128))*E145","v":155.1}]
["ISS = (iss/(pis+cofins+iss)) x T",null,null,null,{"$f":"((F128/(F126+F127+F128))*E145)","v":470}]

{"sheet":"Assist. Condução","index":8,"n_rows":148,"n_cols":11,"rows_kept":148,"cut":false,"hidden":false,"merged":[[4,0,4,6],[5,0,5,6],[7,1,7,3],[7,4,7,6],[8,1,8,3],[8,4,8,6],[9,0,9,6],[11,1,11,4],[11,5,11,6],[12,1,12,4],[12,5,12,6],[13,1,13,4],[13,5,13,6],[14,1,14,4],[14,5,14,6],[16,0,16,6],[18,0,18,1],[18,2,18,3],[18,4,18,6],[19,0,19,1],[19,2,19,3],[19,4,19,6],[21,0,21,6],[23,0,23,6],[24,0,24,6],[26,0,26,6],[34,0,34,6],[40,0,40,6],[65,1,65,3],[67,1,67,4],[70,0,70,6],[78,0,78,6],[88,0,88,6],[107,0,107,6],[113,0,113,6],[119,0,119,6],[130,0,130,6],[140,0,140,5],[142,0,142,2],[143,0,143,2],[144,0,144,2],[145,0,145,2],[146,0,146,2],[147,0,147,2],[133,10,134,11]]}
[]
[]
[]
[]
[]
[" PLANILHA DE CUSTOS E FORMAÇÃO DE PREÇOS "]
[]
[null,{"$f":"'Aux. Adm.'!B8","v":"Nº Processo"},null,null,{"$f":"'Aux. Adm.'!E8","v":"59530.001128/2023-40"}]
[null,{"$f":"'Aux. Adm.'!B9","v":"Licitação nº"}]
["DISCRIMINAÇÃO DOS SERVIÇOS (dados referentes à contratação)"]
[]
["A","Ano do Acordo, Convenção ou  Dissídio Coletivo",null,null,null,{"$f":"'Aux. Adm.'!F12","v":"2023 - PE000108/2023"}]
["B","Município/UF",null,null,null,{"$f":"'Aux. Adm.'!F13","v":"Recife/PE"}]
["C","Data de Registro no MTE",null,null,null,{"$f":"'Aux. Adm.'!F14","v":"15/02/2023"}]
["D","Nº de meses de execução contratual",null,null,null,{"$f":"'Aux. Adm.'!F15","v":"12 (doze) meses"}]
[]
["IDENTIFICAÇÃO DO SERVIÇO"]
[]
["Tipo de Serviço",null,"Unidade de Medida",null,"Quantidade total a contratar (em função da unidade de medida)"]
["Assistente de Condução",null,"Posto de serviço",null,1]
[]
["1. MÓDULOS"]
[]
["MÃO DE OBRA"]
["Mão de obra vinculada à execução contratual"]
[]
["Dados para composição dos custos referente à mão de obra"]
[1,"Tipo de serviço ",{"$nulls":4},"Assistente de Condução (A3)"]
[2,"Classificação Brasileira de Ocupações (CBO)",{"$nulls":4},"3421-25"]
[3,"Salário Normativo da Categoria Profissional",{"$nulls":4},2658.79]
[4,"Categoria profissional  (vinculada à execução contratual)",{"$nulls":4},"Apoio Administrativo"]
[5,"Data-Base da categoria (dia/mês/ano)",{"$nulls":4},"01° de janeiro"]
[]
[]
["MÓDULO  1: COMPOSIÇÃO DA REMUNERAÇÃO"]
[]
[1,"Composição da Remuneração",{"$nulls":4},"Valor (R$)"]
["A","Salário Base",{"$nulls":4},{"$f":"G30","v":2658.79}]
[null,"Total ",{"$nulls":4},{"$f":"G38","v":2658.79}]
[]
["MÓDULO 2: ENCARGOS E BENEFÍCIOS ANUAIS, MENSAIS E DIÁRIOS"]
[]
["Submódulo 2.1 - 13º (décimo terceiro) Salário, Férias e Adicional de Férias"]
[]
["2.1"," 13º (décimo terceiro) Salário, Férias e Adicional de Férias",null,null,null,"%","Valor (R$)"]
["A","13º (décimo terceiro) Salário",null,null,null,{"$f":"'Ass. Adm. I'!F46","v":0.0833},{"$f":"G39*F46","v":221.48}]
["B","Férias e Adicional de Férias",null,null,null,{"$f":"'Ass. Adm. I'!F47","v":0.1111},{"$f":"G39*F47","v":295.39}]
["TOTAL",{"$nulls":4},{"$f":"'Ass. Adm. I'!F48","v":0.1944},{"$f":"SUM(G46:G47)","v":516.87}]
[]
["Submódulo 2.2 - Encargos previdenciários (GPS), Fundo de Garantia por tempo de Serviço (FGTS) e outras contribuições:"]
[]
["2.2","GPS, FGTS e outras contribuiçoes",null,null,null,"%","Valor (R$)"]
["A","INSS",null,null,null,{"$f":"'Ass. Adm. I'!F53","v":0.2},{"$f":"($G$39+$G$48)*F53","v":635.13}]
["B","Salário Educação",null,null,null,{"$f":"'Ass. Adm. I'!F54","v":0.025},{"$f":"($G$39+$G$48)*F54","v":79.39}]
["C","Seguro Acidente do Trabalho/SAT/INSS",null,null,null,{"$f":"'Ass. Adm. I'!F55","v":0.03},95.27]
["D","SESI/SESC",null,null,null,{"$f":"'Ass. Adm. I'!F56","v":0.015},47.63]
["E","SENAI/SENAC",null,null,null,{"$f":"'Ass. Adm. I'!F57","v":0.01},31.76]
["F","INCRA",null,null,null,{"$f":"'Ass. Adm. I'!F58","v":0.002},6.35]
["G","FGTS",null,null,null,{"$f":"'Ass. Adm. I'!F59","v":0.08},254.05]
["H","SEBRAE",null,null,null,{"$f":"'Ass. Adm. I'!F60","v":0.006},19.05]
["TOTAL",{"$nulls":4},{"$f":"'Ass. Adm. I'!F61","v":0.368},{"$f":"SUM(G53:G60)","v":1168.63}]
[]
["Submódulo 2.3 - Benefícios Mensais e Diários"]
[]
["2.3","Benefícios Mensais e Diários",{"$nulls":4},"Valor (R$)"]
["A","Transporte ",{"$nulls":4},{"$f":"IF((4.1*2*21)-(6%*G38)>0,(4.1*2*21)-(6%*G38),0)","v":12.67},null,{"$f":"6%*G38","v":159.53},"= 6% do salario base"]
["B","Auxílio alimentação (Cláusula 11ª CCT 2023)",{"$nulls":4},{"$f":"(8.91*21)","v":187.11},null,"4,1*2*21 =",{"$f":"4.1*2*21","v":172.2}]
["C","Outros (Cobertura Social - Cláusula 15ª CCT 2023) ",{"$nulls":4},{"$f":"69.98","v":69.98},null,"172,2-159,53 = ",{"$f":"J67-I66","v":12.67}]
[null,"Total de Benefícios mensais e diários",{"$nulls":4},{"$f":"SUM(G66:G68)","v":269.76}]
[]
["QUADRO RESUMO DO MÓDULO 2 - Encargos e Benefícios anuais, mensais e diários"]
[]
[2,"Encargos e Benefícios anuais, mensais e diários",{"$nulls":4},"Valor (R$)"]
["2.1","13º (décimo terceiro) Salário, Férias e Adicional de Férias",{"$nulls":4},{"$f":"G48","v":516.87}]
["2.2","GPS, FGTS e outras contribuiçoes",{"$nulls":4},{"$f":"G61","v":1168.63}]
["2.3","Benefícios Mensais e Diários",{"$nulls":4},{"$f":"G69","v":269.76}]
["TOTAL",{"$nulls":5},{"$f":"SUM(G74:G76)","v":1955.26}]
[]
["MÓDULO 3 - PROVISÃO PARA RESCISÃO"]
[{"$nulls":8},"GPS"]
[3,"Provisão para Rescisão",{"$nulls":4},"Valor (R$)"]
["A","Aviso prévio indenizado",{"$nulls":4},{"$f":"J82","v":126.58},{"$f":"G39+G77-I82","v":3699.46},{"$f":"(G39+G48)*0.288","v":914.59},{"$f":"H82/12*0.4106","v":126.58}]
["B","Multa do FGTS e contribuição social sobre o Aviso Prévio Indenizado",{"$nulls":4},{"$f":"I83","v":52.16},{"$f":"G59","v":254.05},{"$f":"(H83*0.4+H83*0.1)*0.4106","v":52.16},{"$f":"H83*0.5*0.4106","v":52.16}]
["C","Aviso Prévio Trabalhado",{"$nulls":4},157.88,{"$f":"G39+G77","v":4614.05},{"$f":"H84/12*0.4106","v":157.88}]
["D","Multa do FGTS e contribuição social sobre o Aviso Prévio Trabalhado",{"$nulls":4},52.16,{"$f":"G59","v":254.05},{"$f":"(H85*0.4+H85*0.1)*0.4106","v":52.16},{"$f":"H85*0.5*0.4106","v":52.16}]
["E","Demissão com Justa Causa",{"$nulls":4},{"$f":"K86","v":-6.46},{"$f":"G46","v":221.48},{"$f":"G47","v":295.39},{"$f":"H86+I86","v":516.87},{"$f":"-J86*0.0125","v":-6.46}]
["TOTAL",{"$nulls":5},{"$f":"SUM(G82:G86)","v":382.32}]
[]
["MÓDULO 4 - CUSTO DE REPOSIÇÃO DO PROFISSIONAL AUSENTE"]
[]
["Submódulo 4.1 - Ausências Legais"]
["4.1","Ausências legais",null,null,null,"Dias/Ano","Valor (R$)"]
["A","Férias ",null,null,null,{"$f":"'Ass. Adm. I'!F93","v":20.9589},{"$f":"$I$93*F93/12-0.01","v":290.88},{"$f":"G39+G77+G87","v":4996.37},{"$f":"H93/30","v":166.55},{"$f":"I93*F105","v":4908.86},{"$f":"J93/12","v":409.07}]
["B","Ausência justificada",null,null,null,{"$f":"'Ass. Adm. I'!F94","v":1},{"$f":"$I$93*F94/12","v":13.88}]
["C","Acidente de trabalho",null,null,null,{"$f":"'Ass. Adm. I'!F95","v":0.9659},13.41]
["D","Afastamento por doença",null,null,null,{"$f":"'Ass. Adm. I'!F96","v":3.4932},{"$f":"$I$93*F96/12","v":48.48}]
["E","Consulta médica filho",null,null,null,{"$f":"'Ass. Adm. I'!F97","v":0.2688},3.73]
["F","Óbitos na família",null,null,null,{"$f":"'Ass. Adm. I'!F98","v":0.0427},0.59]
["G","Casamento",null,null,null,{"$f":"'Ass. Adm. I'!F99","v":0.0355},0.49]
["H","Doação de Sangue",null,null,null,{"$f":"'Ass. Adm. I'!F100","v":0.02},0.28]
["I","Testemunho",null,null,null,{"$f":"'Ass. Adm. I'!F101","v":0.004},0.06]
["J","Paternidade",null,null,null,{"$f":"'Ass. Adm. I'!F102","v":0.1997},2.77]
["K","Maternidade",null,null,null,{"$f":"'Ass. Adm. I'!F103","v":2.4753},34.36]
["L","Consulta pré-natal",null,null,null,{"$f":"'Ass. Adm. I'!F104","v":0.0098},0.14]
["TOTAL",{"$nulls":4},{"$f":"'Ass. Adm. I'!F105","v":29.4738},{"$f":"SUM(G93:G104)","v":409.07}]
[]
[]
["QUADRO RESUMO DO MÓDULO 4 - Custo de Reposição do Profissional Ausente"]
[]
[4,"Custo de Reposição do Profissional Ausente",{"$nulls":4},"Valor (R$)"]
["4.1","Ausências legais",{"$nulls":4},{"$f":"G105","v":409.07}]
["TOTAL",{"$nulls":5},{"$f":"G111","v":409.07}]
[]
["MÓDULO 5 - INSUMOS DIVERSOS"]
[]
[5,"Insumos Diversos",{"$nulls":4},"Valor (R$)"]
["A","Uniformes",{"$nulls":4},30]
[null,"Total ",{"$nulls":4},{"$f":"SUM(G117)","v":30}]
[]
["MÓDULO 6 - CUSTOS INDIRETOS, TRIBUTOS E LUCRO"]
[]
[6,"Custos Indiretos, Tributos e Lucro",null,null,null,"%","Valor (R$)"]
["A","Custos Indiretos",null,null,null,{"$f":"'Ass. Adm. I'!F123","v":0.025},{"$f":"G139*F123","v":135.89}]
["B","Lucro",null,null,null,{"$f":"'Ass. Adm. I'!F124","v":0.05},{"$f":"(G139+G123)*F124","v":278.57}]
["C","Tributos"]
["c.1","COFINS",null,null,null,{"$f":"'Ass. Adm. I'!F126","v":0.076},{"$f":"E146","v":518.47}]
["c.2","PIS",null,null,null,{"$f":"'Ass. Adm. I'!F127","v":0.0165},{"$f":"E147","v":112.56}]
["c.3","ISSQN",null,null,null,{"$f":"'Ass. Adm. I'!F128","v":0.05},{"$f":"E148","v":341.11}]
[null,"Total",null,null,null,{"$f":"'Ass. Adm. I'!F129","v":0.2175},{"$f":"SUM(G123:G128)","v":1386.6}]
[]
["2.  QUADRO -  RESUMO DO CUSTO POR EMPREGADO"]
[]
[null,"Mão de obra vinculada à execução contratual (valor por empregado)",{"$nulls":4},"Valor (R$)"]
["A","Módulo 1 - Composição da Remuneração",{"$nulls":4},{"$f":"G39","v":2658.79}]
["B","Módulo 2 - Encargos e Benefícios Anuais, Mensais e Diários",{"$nulls":4},{"$f":"G77","v":1955.26}]
["C","Módulo 3 - Provisão para recisão",{"$nulls":4},{"$f":"G87","v":382.32}]
["D","Módulo 4 - Custo de Reposição do Profissional Ausente",{"$nulls":4},{"$f":"G112","v":409.07}]
["E","Módulo 5 - Insumos diversos",{"$nulls":4},{"$f":"G118","v":30}]
["Subtotal ( A + B +C + D + E)",{"$nulls":5},{"$f":"SUM(G134:G138)","v":5435.44}]
["E","Módulo 6  - Custos indiretos, Tributos e lucro",{"$nulls":4},{"$f":"G129","v":1386.6}]
["Valor total por empregado",{"$nulls":5},{"$f":"G139+G140","v":6822.04}]
[]
["P0 = (MÓD 1+MÓD 2+MÓD 3+MÓD 4+MÓD 5) + (CI) + (L)",null,null,null,{"$f":"G39+G77+G87+G112+G118+G123+G124","v":5849.9}]
["P1 = P0/(1 - (pis+confins+iss))",null,null,null,{"$f":"E143/(1-(F126+F127+F128))","v":6822.04}]
["T = P1 - P0",null,null,null,{"$f":"E144-E143","v":972.14}]
["COFINS = ((cofins)/(pis+cofins+iss) x T",null,null,null,{"$f":"((F126)/(F126+F127+F128))*E145","v":518.47}]
["PIS = ((pis)/(pis+cofins+iss) x T",null,null,null,{"$f":"((F127)/(F126+F127+F128))*E145","v":112.56}]
["ISS = (iss/(pis+cofins+iss)) x T",null,null,null,{"$f":"((F128/(F126+F127+F128))*E145)+0.01","v":341.11}]

{"sheet":"Assist. Condução - Hora Extra","index":9,"n_rows":148,"n_cols":11,"rows_kept":148,"cut":false,"hidden":false,"merged":[[4,0,4,6],[5,0,5,6],[7,1,7,3],[7,4,7,6],[8,1,8,3],[8,4,8,6],[9,0,9,6],[11,1,11,4],[11,5,11,6],[12,1,12,4],[12,5,12,6],[13,1,13,4],[13,5,13,6],[14,1,14,4],[14,5,14,6],[16,0,16,6],[18,0,18,1],[18,2,18,3],[18,4,18,6],[19,0,19,1],[19,2,19,3],[19,4,19,6],[21,0,21,6],[23,0,23,6],[24,0,24,6],[26,0,26,6],[34,0,34,6],[40,0,40,6],[65,1,65,3],[67,1,67,4],[70,0,70,6],[78,0,78,6],[88,0,88,6],[107,0,107,6],[113,0,113,6],[119,0,119,6],[130,0,130,6],[140,0,140,5],[142,0,142,2],[143,0,143,2],[144,0,144,2],[145,0,145,2],[146,0,146,2],[147,0,147,2],[133,10,134,11]]}
[]
[]
[]
[]
[]
[" PLANILHA DE CUSTOS E FORMAÇÃO DE PREÇOS "]
[]
[null,{"$f":"'Aux. Adm.'!B8","v":"Nº Processo"},null,null,{"$f":"'Aux. Adm.'!E8","v":"59530.001128/2023-40"}]
[null,{"$f":"'Aux. Adm.'!B9","v":"Licitação nº"}]
["DISCRIMINAÇÃO DOS SERVIÇOS (dados referentes à contratação)"]
[]
["A","Ano do Acordo, Convenção ou  Dissídio Coletivo",null,null,null,{"$f":"'Aux. Adm.'!F12","v":"2023 - PE000108/2023"}]
["B","Município/UF",null,null,null,{"$f":"'Aux. Adm.'!F13","v":"Recife/PE"}]
["C","Data de Registro no MTE",null,null,null,{"$f":"'Aux. Adm.'!F14","v":"15/02/2023"}]
["D","Nº de meses de execução contratual",null,null,null,{"$f":"'Aux. Adm.'!F15","v":"12 (doze) meses"}]
[]
["IDENTIFICAÇÃO DO SERVIÇO"]
[]
["Tipo de Serviço",null,"Unidade de Medida",null,"Quantidade total a contratar (em função da unidade de medida)"]
["Assistente de Condução - Horas Extras",null,"Hora",null,1]
[]
["1. MÓDULOS"]
[]
["MÃO DE OBRA"]
["Mão de obra vinculada à execução contratual"]
[]
["Dados para composição dos custos referente à mão de obra"]
[1,"Tipo de serviço ",{"$nulls":4},"Assistente de Condução (A3) - Horas Extras"]
[2,"Classificação Brasileira de Ocupações (CBO)",{"$nulls":4},"3421-25"]
[3,"Hora extra a 50%",{"$nulls":4},{"$f":"(H30/220)*1.5","v":18.13},2658.79]
[4,"Categoria profissional  (vinculada à execução contratual)",{"$nulls":4},"Apoio Administrativo"]
[5,"Data-Base da categoria (dia/mês/ano)",{"$nulls":4},"01° de janeiro"]
[]
[]
["MÓDULO  1: COMPOSIÇÃO DA REMUNERAÇÃO"]
[]
[1,"Composição da Remuneração",{"$nulls":4},"Valor (R$)"]
["A","Hora extra a 50% - Assistente de Condução",{"$nulls":4},{"$f":"G30","v":18.13}]
[null,"Total ",{"$nulls":4},{"$f":"G38","v":18.13}]
[]
["MÓDULO 2: ENCARGOS E BENEFÍCIOS ANUAIS, MENSAIS E DIÁRIOS"]
[]
["Submódulo 2.1 - 13º (décimo terceiro) Salário, Férias e Adicional de Férias"]
[]
["2.1"," 13º (décimo terceiro) Salário, Férias e Adicional de Férias",null,null,null,"%","Valor (R$)"]
["A","13º (décimo terceiro) Salário",null,null,null,{"$f":"'Ass. Adm. I'!F46","v":0.0833},{"$f":"G39*F46","v":1.51}]
["B","Férias e Adicional de Férias",null,null,null,{"$f":"'Ass. Adm. I'!F47","v":0.1111},{"$f":"G39*F47","v":2.01}]
["TOTAL",{"$nulls":4},{"$f":"'Ass. Adm. I'!F48","v":0.1944},{"$f":"SUM(G46:G47)","v":3.52}]
[]
["Submódulo 2.2 - Encargos previdenciários (GPS), Fundo de Garantia por tempo de Serviço (FGTS) e outras contribuições:"]
[]
["2.2","GPS, FGTS e outras contribuiçoes",null,null,null,"%","Valor (R$)"]
["A","INSS",null,null,null,{"$f":"'Ass. Adm. I'!F53","v":0.2},{"$f":"($G$39+$G$48)*F53","v":4.33}]
["B","Salário Educação",null,null,null,{"$f":"'Ass. Adm. I'!F54","v":0.025},0.54]
["C","Seguro Acidente do Trabalho/SAT/INSS",null,null,null,{"$f":"'Ass. Adm. I'!F55","v":0.03},0.65]
["D","SESI/SESC",null,null,null,{"$f":"'Ass. Adm. I'!F56","v":0.015},0.32]
["E","SENAI/SENAC",null,null,null,{"$f":"'Ass. Adm. I'!F57","v":0.01},0.22]
["F","INCRA",null,null,null,{"$f":"'Ass. Adm. I'!F58","v":0.002},0.04]
["G","FGTS",null,null,null,{"$f":"'Ass. Adm. I'!F59","v":0.08},1.73]
["H","SEBRAE",null,null,null,{"$f":"'Ass. Adm. I'!F60","v":0.006},0.13]
["TOTAL",{"$nulls":4},{"$f":"'Ass. Adm. I'!F61","v":0.368},{"$f":"SUM(G53:G60)","v":7.96}]
[]
["Submódulo 2.3 - Benefícios Mensais e Diários"]
[]
["2.3","Benefícios Mensais e Diários",{"$nulls":4},"Valor (R$)"]
["A","Transporte ",{"$nulls":4},0]
["B","Auxílio alimentação (Cláusula 11ª CCT 2023)",{"$nulls":4},0]
["C","Outros (Cesta Básica - Cláusula 13ª CCT 2023 + Cobertura Social - Cláusula 15ª CCT 2023) ",{"$nulls":4},0]
[null,"Total de Benefícios mensais e diários",{"$nulls":4},{"$f":"SUM(G66:G68)","v":0}]
[]
["QUADRO RESUMO DO MÓDULO 2 - Encargos e Benefícios anuais, mensais e diários"]
[]
[2,"Encargos e Benefícios anuais, mensais e diários",{"$nulls":4},"Valor (R$)"]
["2.1","13º (décimo terceiro) Salário, Férias e Adicional de Férias",{"$nulls":4},{"$f":"G48","v":3.52}]
["2.2","GPS, FGTS e outras contribuiçoes",{"$nulls":4},{"$f":"G61","v":7.96}]
["2.3","Benefícios Mensais e Diários",{"$nulls":4},{"$f":"G69","v":0}]
["TOTAL",{"$nulls":5},{"$f":"SUM(G74:G76)","v":11.48}]
[]
["MÓDULO 3 - PROVISÃO PARA RESCISÃO"]
[{"$nulls":8},"GPS"]
[3,"Provisão para Rescisão",{"$nulls":4},"Valor (R$)"]
["A","Aviso prévio indenizado",{"$nulls":4},{"$f":"J82","v":0.8},{"$f":"G39+G77-I82","v":23.37},{"$f":"(G39+G48)*0.288","v":6.24},{"$f":"H82/12*0.4106","v":0.8}]
["B","Multa do FGTS e contribuição social sobre o Aviso Prévio Indenizado",{"$nulls":4},{"$f":"I83","v":0.36},{"$f":"G59","v":1.73},{"$f":"(H83*0.4+H83*0.1)*0.4106","v":0.36},{"$f":"H83*0.5*0.4106","v":0.36}]
["C","Aviso Prévio Trabalhado",{"$nulls":4},1.01,{"$f":"G39+G77","v":29.61},{"$f":"H84/12*0.4106","v":1.01}]
["D","Multa do FGTS e contribuição social sobre o Aviso Prévio Trabalhado",{"$nulls":4},0.36,{"$f":"G59","v":1.73},{"$f":"(H85*0.4+H85*0.1)*0.4106","v":0.36},{"$f":"H85*0.5*0.4106","v":0.36}]
["E","Demissão com Justa Causa",{"$nulls":4},{"$f":"K86","v":-0.04},{"$f":"G46","v":1.51},{"$f":"G47","v":2.01},{"$f":"H86+I86","v":3.52},{"$f":"-J86*0.0125","v":-0.04}]
["TOTAL",{"$nulls":5},{"$f":"SUM(G82:G86)","v":2.49}]
[]
["MÓDULO 4 - CUSTO DE REPOSIÇÃO DO PROFISSIONAL AUSENTE"]
[]
["Submódulo 4.1 - Ausências Legais"]
["4.1","Ausências legais",null,null,null,"Dias/Ano","Valor (R$)"]
["A","Férias ",null,null,null,{"$f":"'Ass. Adm. I'!F93","v":20.9589},{"$f":"$I$93*F93/12+0.01","v":1.88},{"$f":"G39+G77+G87","v":32.1},{"$f":"H93/30","v":1.07},{"$f":"I93*F105","v":31.54},{"$f":"J93/12","v":2.63}]
["B","Ausência justificada",null,null,null,{"$f":"'Ass. Adm. I'!F94","v":1},{"$f":"$I$93*F94/12","v":0.09}]
["C","Acidente de trabalho",null,null,null,{"$f":"'Ass. Adm. I'!F95","v":0.9659},0.09]
["D","Afastamento por doença",null,null,null,{"$f":"'Ass. Adm. I'!F96","v":3.4932},0.31]
["E","Consulta médica filho",null,null,null,{"$f":"'Ass. Adm. I'!F97","v":0.2688},0.02]
["F","Óbitos na família",null,null,null,{"$f":"'Ass. Adm. I'!F98","v":0.0427},0]
["G","Casamento",null,null,null,{"$f":"'Ass. Adm. I'!F99","v":0.0355},0]
["H","Doação de Sangue",null,null,null,{"$f":"'Ass. Adm. I'!F100","v":0.02},0]
["I","Testemunho",null,null,null,{"$f":"'Ass. Adm. I'!F101","v":0.004},0]
["J","Paternidade",null,null,null,{"$f":"'Ass. Adm. I'!F102","v":0.1997},0.02]
["K","Maternidade",null,null,null,{"$f":"'Ass. Adm. I'!F103","v":2.4753},0.22]
["L","Consulta pré-natal",null,null,null,{"$f":"'Ass. Adm. I'!F104","v":0.0098},0]
["TOTAL",{"$nulls":4},{"$f":"'Ass. Adm. I'!F105","v":29.4738},{"$f":"SUM(G93:G104)","v":2.63}]
[]
[]
["QUADRO RESUMO DO MÓDULO 4 - Custo de Reposição do Profissional Ausente"]
[]
[4,"Custo de Reposição do Profissional Ausente",{"$nulls":4},"Valor (R$)"]
["4.1","Ausências legais",{"$nulls":4},{"$f":"G105","v":2.63}]
["TOTAL",{"$nulls":5},{"$f":"G111","v":2.63}]
[]
["MÓDULO 5 - INSUMOS DIVERSOS"]
[]
[5,"Insumos Diversos",{"$nulls":4},"Valor (R$)"]
["A","Uniformes",{"$nulls":4},0]
[null,"Total ",{"$nulls":4},{"$f":"SUM(G117)","v":0}]
[]
["MÓDULO 6 - CUSTOS INDIRETOS, TRIBUTOS E LUCRO"]
[]
[6,"Custos Indiretos, Tributos e Lucro",null,null,null,"%","Valor (R$)"]
["A","Custos Indiretos",null,null,null,{"$f":"'Ass. Adm. I'!F123","v":0.025},{"$f":"G139*F123","v":0.87}]
["B","Lucro",null,null,null,{"$f":"'Ass. Adm. I'!F124","v":0.05},{"$f":"(G139+G123)*F124","v":1.78}]
["C","Tributos"]
["c.1","COFINS",null,null,null,{"$f":"'Ass. Adm. I'!F126","v":0.076},{"$f":"E146","v":3.31}]
["c.2","PIS",null,null,null,{"$f":"'Ass. Adm. I'!F127","v":0.0165},0.72]
["c.3","ISSQN",null,null,null,{"$f":"'Ass. Adm. I'!F128","v":0.05},2.18]
[null,"Total",null,null,null,{"$f":"'Ass. Adm. I'!F129","v":0.2175},{"$f":"SUM(G123:G128)","v":8.86}]
[]
["2.  QUADRO -  RESUMO DO CUSTO POR EMPREGADO"]
[]
[null,"Mão de obra vinculada à execução contratual (valor por empregado)",{"$nulls":4},"Valor (R$)"]
["A","Módulo 1 - Composição da Remuneração",{"$nulls":4},{"$f":"G39","v":18.13}]
["B","Módulo 2 - Encargos e Benefícios Anuais, Mensais e Diários",{"$nulls":4},{"$f":"G77","v":11.48}]
["C","Módulo 3 - Provisão para recisão",{"$nulls":4},{"$f":"G87","v":2.49}]
["D","Módulo 4 - Custo de Reposição do Profissional Ausente",{"$nulls":4},{"$f":"G112","v":2.63}]
["E","Módulo 5 - Insumos diversos",{"$nulls":4},{"$f":"G118","v":0}]
["Subtotal ( A + B +C + D + E)",{"$nulls":5},{"$f":"SUM(G134:G138)","v":34.73}]
["E","Módulo 6  - Custos indiretos, Tributos e lucro",{"$nulls":4},{"$f":"G129","v":8.86}]
["Valor total por Hora Extra a 50%",{"$nulls":5},{"$f":"G139+G140","v":43.59}]
[]
["P0 = (MÓD 1+MÓD 2+MÓD 3+MÓD 4+MÓD 5) + (CI) + (L)",null,null,null,{"$f":"G39+G77+G87+G112+G118+G123+G124","v":37.38}]
["P1 = P0/(1 - (pis+confins+iss))",null,null,null,{"$f":"E143/(1-(F126+F127+F128))","v":43.59}]
["T = P1 - P0",null,null,null,{"$f":"E144-E143","v":6.21}]
["COFINS = ((cofins)/(pis+cofins+iss) x T",null,null,null,{"$f":"((F126)/(F126+F127+F128))*E145","v":3.31}]
["PIS = ((pis)/(pis+cofins+iss) x T",null,null,null,{"$f":"((F127)/(F126+F127+F128))*E145","v":0.72}]
["ISS = (iss/(pis+cofins+iss)) x T",null,null,null,{"$f":"((F128/(F126+F127+F128))*E145)","v":2.18}]

{"sheet":"Despesas com Viagens - Diárias","index":10,"n_rows":19,"n_cols":5,"rows_kept":19,"cut":false,"hidden":false,"merged":[[6,0,6,4],[7,3,7,4],[12,1,12,3],[13,1,13,3],[14,1,14,3],[16,0,16,4],[17,0,17,4],[18,0,18,4],[7,0,8,0],[7,1,8,1],[7,2,8,2]]}
[]
[]
[]
[]
[]
[]
["Despesas com Viagens"]
["ITEM","DISCRIMINAÇÃO","QUANT.","VALOR"]
[null,null,null,"UNITÁRIO","TOTAL"]
[1,"Diária (pernoite) - 10ª CCT 2023",{"$f":"10*12","v":120},89.71,{"$f":"C10*D10","v":10765.2}]
[2,"Diária (12hs) - 10ª CCT 2023",{"$f":"5*12","v":60},{"$f":"D10*(2/3)","v":59.81},{"$f":"C11*D11","v":3588.6}]
[3,"Diária (8hs) - 10ª CCT 2023",{"$f":"10*12","v":120},{"$f":"D10*(1/3)","v":29.9},{"$f":"C12*D12","v":3588}]
[2,"BDI + IMPOSTOS (21,75%)",null,null,{"$f":"(E10+E11+E12)*'Assist. Condução'!F129","v":3902.34}]
[3,"TOTAL + BDI + IMPOSTOS (21,75%)",null,null,{"$f":"SUM(E10:E13)","v":21844.14}]
[4,"TOTAL + BDI + IMPOSTOS (21,75%) P/ MÊS",null,null,{"$f":"E14/12","v":1820.35}]
[]
["Obs.: O cálculo do quantitativo de diárias (pernoite) foi baseado na estimativa de 10 diárias por mês, durante o período de 12 meses, totalizando 120 diárias."]
["Obs.: O cálculo do quantitativo de diárias (12hs) foi baseado na estimativa de 05 diárias por mês, durante o período de 12 meses, totalizando 60  diárias (12hs)."]
["Obs.: O cálculo do quantitativo de diárias (8 hs) foi baseado na estimativa de 10 diárias por mês, durante o período de 12 meses, totalizando 120  diárias (8hs)."]