{"text_format":"2","workbook":"xlsx","n_sheets":11,"sheets":["PFS","PFS_I Equipe","PFS_II Desp Gerais - Serviços","PFS_III Desp Gerais - Forneci","PFS_IV Cronog Financ","PFS_V_ Det_ Custos Adm_","PFS_VII Det_ Enc_ Soc_","PFS_VIII Det_ Desp Fiscais","ELETRICISTA","CANALEIRO","AJUDANTE COMUM"],"not_rendered":{"charts":0,"images":4,"macros":0,"external_links":3,"defined_names":116,"comments":0,"pivot_tables":0},"unopened":[],"bounds":{"document_bytes":16777216,"sheet_cells":100000,"run_cost":"one","rows_first":2000,"rows_last":500,"rows_between":2000,"halvings":0,"cell_chars":16384,"cell_head_chars":4096},"cells_cut":0,"cells_raw":0,"read":"whole","date_system":"1900"}

{"sheet":"PFS","index":0,"n_rows":39,"n_cols":17,"rows_kept":39,"cut":false,"hidden":false,"merged":[[2,13,2,14],[3,13,3,14],[4,0,4,14],[6,0,6,5],[6,6,6,13],[7,0,7,5],[7,6,7,13],[8,0,8,14],[9,0,9,12],[9,13,9,14],[10,0,10,14],[11,0,11,12],[11,13,11,14],[12,0,12,12],[12,13,12,14],[13,0,13,12],[13,13,13,14],[14,0,14,12],[14,13,14,14],[15,0,15,12],[15,13,15,14],[16,0,16,12],[16,13,16,14],[17,0,17,14],[18,0,18,12],[18,13,18,14],[19,0,19,12],[19,13,19,14],[20,0,20,12],[20,13,20,14],[21,0,21,12],[21,13,21,14],[22,0,22,12],[22,13,22,14],[23,0,23,12],[23,13,23,14],[24,0,24,12],[24,13,24,14],[31,13,31,14],[25,0,25,12],[25,13,25,14],[26,0,26,12],[26,13,26,14],[27,0,27,12],[27,13,27,14],[37,0,37,14],[38,0,38,14],[39,0,39,14],[2,0,3,12],[28,0,28,8],[28,9,28,14],[29,0,29,8],[30,0,30,12],[30,13,30,14],[31,0,31,12]]}
[]
[]
["PLANILHA DE CUSTOS DO VALOR DO ORÇAMENTO DE REFERÊNCIA DOS SERVIÇOS DE O&M",{"$nulls":12},"CODIGO:"]
[{"$nulls":13},"PFS"]
["NOME DA CONSULTORA:"]
[]
["PERÍMETRO(S):",{"$nulls":5},"OBJETO:",{"$nulls":7},"EDITAL:"]
["PPI Betume",{"$nulls":5},"O&M PPI Betume"]
["SERVIÇOS PAGOS A PREÇO GLOBAL"]
["CUSTOS DIRETOS",{"$nulls":12},{"$f":"N12+N15+N22","v":226007.58152299997}]
["MÃO-DE-OBRA"]
["A - TOTAL DE SALÁRIO DA EQUIPE ",{"$nulls":12},{"$f":"SUM(N13)","v":109464.20999999999}]
["A1 - TOTAL SALÁRIOS DA EQUIPE COM VÍNCULO (PFS-I)",{"$nulls":12},{"$f":"'PFS_I Equipe'!E23","v":109464.20999999999}]
[]
["B - TOTAL DE ENCARGOS SOCIAIS",{"$nulls":12},{"$f":"SUM(N16)","v":77314.571522999991}]
["B1 -  70,18% INCIDENTE SOBRE O ITEM  A1 (PFS_VII)",{"$nulls":12},{"$f":"'PFS_I Equipe'!G23","v":77314.571522999991}]
[]
["OUTRAS DESPESAS"]
["C - DESPESAS ",{"$nulls":12},0]
["D - DESPESAS GERAIS - FORNECIMENTOS (PFS-III)",{"$nulls":12},{"$f":"ROUND(('PFS_III Desp Gerais - Forneci'!I23),2)","v":15021.8}]
["E - DESPESAS GERAIS SERVIÇOS (PFS-II)",{"$nulls":12},{"$f":"ROUND(('PFS_II Desp Gerais - Serviços'!I28),2)","v":24207}]
["TOTAL DE OUTRAS DESPESAS",{"$nulls":12},{"$f":"SUM(N19:O21)","v":39228.800000000003}]
["CUSTOS INDIRETOS, LUCRO E TRIBUTOS - CILT",{"$nulls":12},{"$f":"SUM(N24:N27)","v":72346.86}]
["F -  CUSTO DE ADMINISTRAÇÃO (INDIRETOS) - (6,00% DOS ITENS A+B+C+D+E) - (PFS-V)",{"$nulls":12},{"$f":"'PFS_V_ Det_ Custos Adm_'!G30","v":13560.46},null,null,{"$f":"0.06*(N12+N15+N19+N20+N21)","v":13560.454891379997}]
["G - REMUNERAÇÃO DA EMPRESA (LUCRO) - (6,79% DOS ITENS A+B+C+D+E+F)",{"$nulls":12},{"$f":"ROUND(((N10+N24)*0.0679),2)","v":16266.67},null,null,{"$f":"0.0679*(N12+N15+N19+N20+N21+N24)","v":16266.670019411698}]
["H - DESPESAS FISCAIS (TRIBUTOS) - (16,62% = DF' DOS ITENS A+B+C+D+E+F+G) - (PFS VIII)",{"$nulls":12},{"$f":"'PFS_VIII Det_ Desp Fiscais'!H33","v":42519.73},null,null,{"$f":"0.1662*(N12+N15+N19+N20+N21+N24+N25)","v":42519.729055122596}]
[]
["TOTAL DA PROPOSTA",{"$nulls":12},{"$f":"ROUND((N10+N23),2)","v":298354.44}]
["NOME DO INFORMANTE:",{"$nulls":8},"QUALIFICAÇÃO:"]
[{"$nulls":13},"  "]
["ASSINATURA:",{"$nulls":12},"DATA:"]
[]
["OBSERVAÇÃO:"]
["ESTE ORÇAMENTO FOI CALCULADO COM OS SEGUINTES % MÁXIMOS DE ENCARGOS SOCIAIS E CUSTOS INDIRETOS: "]
["1. ENCARGOS SOCIAIS DA EQUIPE COM VÍNCULO COM DESONERAÇÃO = 70,63% SOBRE O SALÁRIO MENSAL"]
["2. REMUNERAÇÃO DA EMPRESA (LUCRO) = 6,79% SOBRE OS ITENS DE CUSTOS DIRETOS + CUSTO DE ADMINISTRAÇÃO"]
["3. DF' - SERVIÇOS e FORNECIMENTO = A SOMA DOS TRIBUTOS (ISS 5,00% + PIS 1,65% + COFINS 7,60% = 16,62%)"]
["4. DESPESAS ADMINISTRATIVAS 6% (AC+RISCO+SEGURO+GARANTIA+DESPESAS FINANCEIRAS)"]
["5. NÃO foram incluídos os tributos IRPJ e CSLL, em cumprimento ao Acórdão nº 325/2007 – TCU – Plenário."]

{"sheet":"PFS_I Equipe","index":1,"n_rows":33,"n_cols":12,"rows_kept":33,"cut":false,"hidden":false,"merged":[[6,0,6,7],[8,3,8,7],[9,3,9,7],[4,0,5,7]]}
[]
[]
[]
[]
["SALÁRIOS E ENCARGOS DA EQUIPE",{"$nulls":7},"CODIGO:"]
[{"$nulls":8},"PFS-I"]
["NOME DA CONSULTORA:"]
[]
["PERÍMETRO(S):",null,null,"OBJETO:",{"$nulls":4},"EDITAL:"]
["Betume",null,null,"O&M PPI Betume"]
["CATEGORIA FUNCIONAL","CBO","TOTAL DE\nEMPREGADOS","SALÁRIO\nMENSAL\n(R$)*","TOTAL CUSTO\nSALÁRIOS DE\nB1","TOTAL CUSTO\nSALÁRIOS DE\nB2","TOTAL\nCUSTO ENC.\nSOCIAIS DE\nB1","TOTAL\nCUSTO ENC.\nSOCIAIS DE\nB2","TAXA DE\nENCARGOS\nSOCIAIS\n%"]
[{"$nulls":10},{"$f":"C12/12","v":0}]
[]
[{"$nulls":10},{"$f":"C14/12","v":0}]
["Eletricista","7156-15",1,{"$f":"ELETRICISTA!F39","v":2507.0174999999995},{"$f":"D15*C15*12","v":30084.209999999992},null,{"$f":"E15*I15","v":21248.477522999994},"-",0.70630000000000004,null,{"$f":"C15/12","v":8.3333333333333329E-2}]
[]
["Operador de adutoras e canais (canaleiro)","7170-20",3,{"$f":"CANALEIRO!F39","v":1755},{"$f":"D17*C17*12","v":63180},null,{"$f":"E17*I17","v":44624.034},null,0.70630000000000004]
[]
["Ajudante Comum","7170-20",1,{"$f":"'AJUDANTE COMUM'!F39","v":1350},{"$f":"D19*C19*12","v":16200},null,{"$f":"E19*I19","v":11442.060000000001},null,0.70630000000000004]
[]
[]
[]
["TOTAIS",null,{"$f":"SUM(C12:C22)","v":5},null,{"$f":"SUM(E12:E22)","v":109464.20999999999},null,{"$f":"SUM(G12:G22)","v":77314.571522999991},0,null,null,null,{"$f":"E23+G23","v":186778.78152299998}]
["NOME DO INFORMANTE:",{"$nulls":5},"QUALIFICAÇÃO:"]
[]
["ASSINATURA:",{"$nulls":6},"DATA:"]
[]
["LEGENDA:"]
[]
[]
["OBSERVAÇÃO:"]
[]
["Salários baseados no CCT 2023/24 do SIDUSCON"]

{"sheet":"PFS_II Desp Gerais - Serviços","index":2,"n_rows":33,"n_cols":9,"rows_kept":33,"cut":false,"hidden":false,"merged":[[1,0,2,7],[7,1,8,4],[6,3,6,7],[7,7,7,8],[9,0,9,7],[9,10,10,17],[17,1,17,4],[12,1,12,8],[13,1,13,4],[16,11,16,14],[17,11,17,14],[12,11,12,18],[20,1,20,8],[13,11,13,14],[14,1,14,4],[14,11,14,14],[30,6,30,8],[22,1,22,4],[18,0,18,7],[18,10,18,17],[15,11,15,14],[31,6,31,8],[7,0,8,0],[7,5,8,5],[7,6,8,6],[15,1,15,4],[16,1,16,4],[27,1,27,7],[21,1,21,4],[23,1,23,4],[24,0,24,7]]}
[]
["DESPESAS GERAIS ",{"$nulls":7},"CODIGO:"]
[{"$nulls":8},"PFS-II"]
["NOME DA CONSULTORA:"]
[]
["PERÍMETRO(S):",null,null,"OBJETO:",{"$nulls":4},"EDITAL:"]
["Betume",null,null,"O&M PPI Betume"]
["ITEM","DISCRIMINAÇÃO",null,null,null,"UNID.","QUANT.","CUSTOS (R$)"]
[{"$nulls":7},"UNITÁRIO","TOTAL"]
[]
[]
[]
[1,"ENCARGOS COMPLEMENTARES - SERVIÇOS"]
["1.1","Transporte - (será de responsabilidade da CODEVASF)",null,null,null,"und",{"$f":"'PFS_I Equipe'!C23","v":5},{"$f":"ELETRICISTA!F43","v":0},{"$f":"G14*H14","v":0}]
["1.2","Auxílio alimentação (CCT 2023)",null,null,null,"und",{"$f":"'PFS_I Equipe'!C23","v":5},{"$f":"ELETRICISTA!F44*12","v":2100},{"$f":"G15*H15","v":10500}]
["1.3","Seguro de vida, invalidez e funeral (SINAPI 40864)",null,null,null,"und",{"$f":"'PFS_I Equipe'!C23","v":5},{"$f":"ELETRICISTA!F47*12","v":154.68},{"$f":"G16*H16","v":773.40000000000009}]
["1.4","Exames (SINAPI 40863)",null,null,null,"und",{"$f":"'PFS_I Equipe'!C23","v":5},{"$f":"ELETRICISTA!F48*12","v":2586.7200000000003},{"$f":"G17*H17","v":12933.600000000002}]
{"$rows_empty":10}
[null,"TOTAL  DE DESPESAS GERAIS",{"$nulls":6},{"$f":"SUM(I14:I17)","v":24207}]
["NOME DO INFORMANTE:",{"$nulls":5},"QUALIFICAÇÃO:"]
[]
["ASSINATURA:",{"$nulls":5},"DATA:"]
[]
["OBSERVAÇÃO:"]

{"sheet":"PFS_III Desp Gerais - Forneci","index":3,"n_rows":28,"n_cols":9,"rows_kept":28,"cut":false,"hidden":false,"merged":[[19,10,19,13],[19,14,19,15],[17,1,17,4],[18,1,18,4],[16,1,16,8],[3,0,4,7],[9,1,10,4],[11,10,12,17],[13,11,13,18],[14,11,14,14],[26,6,26,8],[9,0,10,0],[9,5,10,5],[9,6,10,6],[11,0,11,7],[13,1,13,8],[20,1,20,4],[21,1,21,4],[22,1,22,7],[8,0,8,1],[8,3,8,7],[14,1,14,4],[15,1,15,4],[9,7,9,8],[25,6,25,8],[19,1,19,4]]}
[]
[]
[]
["DESPESAS GERAIS ",{"$nulls":7},"CODIGO:"]
[{"$nulls":8},"PFS-III"]
["NOME DA CONSULTORA:"]
[]
["PERÍMETRO(S):",null,null,"OBJETO:",{"$nulls":4},"EDITAL:"]
["Betume",null,null,"O&M PPI Betume"]
["ITEM","DISCRIMINAÇÃO",null,null,null,"UNID.","QUANT.","CUSTOS (R$)"]
[{"$nulls":7},"UNITÁRIO","TOTAL"]
[]
[]
[1,"ENCARGOS COMPLEMENTARES - FORNECIMENTO"]
["1.1","EPI (SINAPI ",null,null,null,"global",1,{"$f":"12*(ELETRICISTA!F53+3*CANALEIRO!F53+'AJUDANTE COMUM'!F53)","v":13117.199999999999},{"$f":"G15*H15","v":13117.199999999999}]
["1.2","Fardamento (ORSE)",null,null,null,"global",1,{"$f":"12*(ELETRICISTA!F54+3*CANALEIRO!F54+'AJUDANTE COMUM'!F54)","v":1904.6},{"$f":"G16*H16","v":1904.6}]
[]
[]
[]
[]
[]
[]
[null,"TOTAL  DE DESPESAS GERAIS",{"$nulls":6},{"$f":"SUM(I15:I22)","v":15021.8}]
["NOME DO INFORMANTE:",{"$nulls":5},"QUALIFICAÇÃO:"]
[]
["ASSINATURA:",{"$nulls":5},"DATA:"]
[]
["OBSERVAÇÃO:"]

{"sheet":"PFS_IV Cronog Financ","index":4,"n_rows":31,"n_cols":8,"rows_kept":31,"cut":false,"hidden":false,"merged":[[8,2,8,6],[9,2,9,4],[9,6,9,7],[29,0,29,4],[29,5,29,7],[3,0,4,6],[25,0,25,5],[26,3,26,7],[27,0,27,2],[27,3,27,7],[28,0,28,4],[28,5,28,7],[5,0,5,7],[6,0,6,7],[8,0,8,1]]}
[]
[]
[]
["CRONOGRAMA FINANCEIRO",{"$nulls":6},"CODIGO:"]
[{"$nulls":7},"PFS-IV"]
["NOME DA CONSULTORA:"]
["      "]
["PERÍMETRO(S):",null,"OBJETO:",{"$nulls":4},"EDITAL:"]
["Betume",null,"O&M do PPI Betume"]
["Nº","TAREFA","RELATÓRIO/SERVIÇO DE CAMPO",null,null,"MESES\nCORRIDOS","VALOR DA PARCELA (R$)"]
[1,null,"Relatório mensal 01",null,null,1,{"$error":"#REF!"},{"$f":"PFS!$N$28/12","v":24862.87}]
[2,null,"Relatório mensal 02",null,null,2,null,{"$f":"PFS!$N$28/12","v":24862.87}]
[3,null,"Relatório mensal 03",null,null,3,null,{"$f":"PFS!$N$28/12","v":24862.87}]
[4,null,"Relatório mensal 04",null,null,4,null,{"$f":"PFS!$N$28/12","v":24862.87}]
[5,null,"Relatório mensal 05",null,null,5,null,{"$f":"PFS!$N$28/12","v":24862.87}]
[6,null,"Relatório mensal 06",null,null,6,null,{"$f":"PFS!$N$28/12","v":24862.87}]
[7,null,"Relatório mensal 07",null,null,7,null,{"$f":"PFS!$N$28/12","v":24862.87}]
[8,null,"Relatório mensal 08",null,null,8,null,{"$f":"PFS!$N$28/12","v":24862.87}]
[9,null,"Relatório mensal 09",null,null,9,null,{"$f":"PFS!$N$28/12","v":24862.87}]
[10,null,"Relatório mensal 10",null,null,10,null,{"$f":"PFS!$N$28/12","v":24862.87}]
[11,null,"Relatório mensal 11",null,null,11,null,{"$f":"PFS!$N$28/12","v":24862.87}]
[12,null,"Relatório mensal 12",null,null,12,null,{"$f":"PFS!$N$28/12","v":24862.87}]
[]
[]
[]
["TOTAL DA FOLHA",{"$nulls":5},{"$error":"#REF!"},{"$f":"SUM(H11:H25)","v":298354.44}]
["NOME DO INFORMANTE:",null,null,"QUALIFICAÇÃO:"]
[]
["ASSINATURA:",{"$nulls":4},"DATA:"]
[]
["OBSERVAÇÃO:"]

{"sheet":"PFS_V_ Det_ Custos Adm_","index":5,"n_rows":34,"n_cols":7,"rows_kept":34,"cut":false,"hidden":false,"merged":[[14,8,14,12],[29,1,29,4],[33,0,33,6],[34,0,34,6],[5,0,5,6],[9,5,9,6],[11,1,11,4],[11,9,11,12],[12,1,12,4],[12,9,12,12],[3,0,4,5],[9,0,10,4],[35,0,35,6],[36,0,36,6],[6,15,10,15],[8,13,9,14],[8,8,10,12],[6,8,7,13],[13,1,13,4],[13,9,13,12]]}
[]
[]
[]
["DETALHAMENTO DO CUSTO DE ADMINISTRAÇÃO",{"$nulls":5},"CODIGO:"]
[{"$nulls":6},"PFS-V"]
["NOME DA CONSULTORA:"]
[]
["PERÍMETRO(S):",null,"OBJETO:",null,null,null,"EDITAL:"]
["Betume",null,"O&Mdo PPI Betume"]
["DISCRIMINAÇÃO",{"$nulls":4},"VALORES"]
[{"$nulls":5},"%","R$"]
[1,"Custos da equipe de O&M                                                                                                                    (PFS-I - Salários R$ 109.464,21 + Encargos R$ 77.314,57)",null,null,null,0.06,{"$f":"ROUND((F12*('PFS_I Equipe'!E23+'PFS_I Equipe'!G23)),2)","v":11206.73}]
[2,"Despesas Gerais - Serviços                                                                                                (PFS-II Encargos Complementares  R$ 24.207,00)",null,null,null,0.06,{"$f":"ROUND(('PFS_II Desp Gerais - Serviços'!I28*F13),2)","v":1452.42}]
[3,"Despesas Gerais - Fornecimentos                                                                                                      (PFS-III Fornecimentos e Enc. Complementares. R$ 15.021,80)",null,null,null,0.06,{"$f":"ROUND(('PFS_III Desp Gerais - Forneci'!I23*F14),2)","v":901.31}]
{"$rows_empty":15}
[null,"TOTAIS DO CUSTO DE ADMINISTRAÇÃO",null,null,null,0.06,{"$f":"ROUND((SUM(G12:G29)),2)","v":13560.46}]
[]
["NOME DO INFORMANTE:",null,null,"QUALIFICAÇÃO:"]
["ASSINATURA:",{"$nulls":4},"DATA:"]
["OBSERVAÇAO:"]

{"sheet":"PFS_VII Det_ Enc_ Soc_","index":6,"n_rows":47,"n_cols":7,"rows_kept":47,"cut":false,"hidden":false,"merged":[[3,0,3,6],[7,5,7,6],[9,1,9,4],[18,0,18,4],[19,0,19,5],[20,1,20,4],[21,1,21,4],[22,1,22,4],[23,1,23,4],[24,1,24,4],[25,1,25,4],[26,1,26,4],[37,0,37,6],[38,1,38,4],[27,1,27,4],[28,0,28,4],[29,1,29,6],[30,1,30,4],[31,1,31,4],[32,1,32,4],[39,1,39,4],[40,1,40,4],[41,0,41,4],[43,0,43,4],[1,0,2,5],[7,0,8,4],[33,1,33,4],[34,1,34,4],[35,1,35,4],[36,0,36,4]]}
[]
["DETALHAMENTO DOS ENCARGOS SOCIAIS",{"$nulls":5},"CODIGO:"]
[{"$nulls":6},"PFS-VII"]
["NOME DA CONSULTORA:"]
[]
["PERÍMETRO(S):",null,"OBJETO:",null,null,null,"EDITAL:"]
["Betume",null,"O&M do PPI Betume"]
["DISCRIMINAÇÃO",{"$nulls":4},"VALORES"]
[{"$nulls":5},"%","R$"]
["A","ENCARGOS SOCIAIS BÁSICOS"]
["A1","INSS",null,null,null,0.2,{"$f":"'PFS_I Equipe'!$E$23*F11","v":21892.842000000001}]
["A2","FGTS",null,null,null,0.08,{"$f":"'PFS_I Equipe'!$E$23*F12","v":8757.1368000000002}]
["A3","Incra",null,null,null,2E-3,{"$f":"'PFS_I Equipe'!$E$23*F13","v":218.92841999999999}]
["A4","Salário Educação ",null,null,null,2.5000000000000001E-2,{"$f":"'PFS_I Equipe'!$E$23*F14","v":2736.6052500000001}]
["A5","Sebrae",null,null,null,6.0000000000000001E-3,{"$f":"'PFS_I Equipe'!$E$23*F15","v":656.78525999999999}]
["A6","Seguro contra acidente",null,null,null,0.03,{"$f":"'PFS_I Equipe'!$E$23*F16","v":3283.9262999999996}]
["A7","Senai",null,null,null,0.01,{"$f":"'PFS_I Equipe'!$E$23*F17","v":1094.6421}]
["A8","Sesi",null,null,null,1.4999999999999999E-2,{"$f":"'PFS_I Equipe'!$E$23*F18","v":1641.9631499999998}]
["SUBTOTAL DE \"A\"",{"$nulls":4},{"$f":"SUM(F11:F18)","v":0.3680000000000001},{"$f":"SUM(G11:G18)","v":40282.829279999998}]
[]
["B"," ENCARGOS SOCIAIS QUE RECEBEM INCIDÊNCIA DE \"A\""]
["B1","13º Salário  ",null,null,null,8.3299999999999999E-2,{"$f":"'PFS_I Equipe'!$E$23*F22","v":9118.3686929999985}]
["B2","Férias gozadas",null,null,null,6.2399999999999997E-2,{"$f":"'PFS_I Equipe'!$E$23*F23","v":6830.5667039999989}]
["B3","Auxílio enfermidade",null,null,null,6.8999999999999999E-3,{"$f":"'PFS_I Equipe'!$E$23*F24","v":755.30304899999999}]
["B4","Licença paternidade",null,null,null,5.9999999999999995E-4,{"$f":"'PFS_I Equipe'!$E$23*F25","v":65.678525999999991}]
["B5","Faltas justificadas",null,null,null,5.5999999999999999E-3,{"$f":"'PFS_I Equipe'!$E$23*F26","v":612.99957599999993}]
["B6","Auxílio acidente de trabalho",null,null,null,8.9999999999999998E-4,{"$f":"'PFS_I Equipe'!$E$23*F27","v":98.517788999999993}]
["B7","Salário maternidade",null,null,null,2.0000000000000001E-4,{"$f":"'PFS_I Equipe'!$E$23*F28","v":21.892841999999998}]
["SUBTOTAL DE  \"B\"",{"$nulls":4},{"$f":"SUM(F22:F28)","v":0.15989999999999999},{"$f":"SUM(G22:G28)","v":17503.327178999996}]
[]
["C"," ENCARGOS SOCIAIS QUE NÃO RECEBEM INCIDÊNCIA DE \"A\""]
["C1","Aviso prévio indenizado ",null,null,null,3.7100000000000001E-2,{"$f":"'PFS_I Equipe'!$E$23*F32","v":4061.1221909999999}]
["C2","Aviso prévio trabalhado ",null,null,null,8.9999999999999998E-4,{"$f":"'PFS_I Equipe'!$E$23*F33","v":98.517788999999993}]
["C3","Férias indenizadas + 1/3",null,null,null,3.7499999999999999E-2,{"$f":"'PFS_I Equipe'!$E$23*F34","v":4104.9078749999999}]
["C4","Depósito rescisão sem justa causa",null,null,null,3.61E-2,{"$f":"'PFS_I Equipe'!$E$23*F35","v":3951.6579809999998}]
["C5","Indenização adicional",null,null,null,3.0999999999999999E-3,{"$f":"'PFS_I Equipe'!$E$23*F36","v":339.33905099999998}]
["SUBTOTAL DE \"C\"",{"$nulls":4},{"$f":"SUM(F32:F36)","v":0.11470000000000001},{"$f":"SUM(G32:G36)","v":12555.544887000002}]
[]
["D"," REINCIDÊNCIAS"]
["D1","Reincidência de \"A\" sobre \"B\"",null,null,null,6.0400000000000002E-2,{"$f":"'PFS_I Equipe'!$E$23*F40","v":6611.6382839999997}]
["D2","Reincidência do FGTS sobre aviso prévio",null,null,null,3.3E-3,{"$f":"'PFS_I Equipe'!$E$23*F41","v":361.23189299999996}]
["SUBTOTAL DE \"D\"",{"$nulls":4},{"$f":"SUM(F40:F41)","v":6.3700000000000007E-2},{"$f":"SUM(G40:G41)","v":6972.8701769999998}]
[]
["TOTAIS DE ENCARGOS SOCIAIS",{"$nulls":4},{"$f":"F42+F37+F29+F19","v":0.70630000000000015},{"$f":"G19+G29+G37+G42","v":77314.571522999991}]
["NOME DO INFORMANTE:",null,null,"QUALIFICAÇÃO:"]
["ASSINATURA:",{"$nulls":4},"DATA:"]
["Observação:"]

{"sheet":"PFS_VIII Det_ Desp Fiscais","index":7,"n_rows":43,"n_cols":9,"rows_kept":43,"cut":false,"hidden":false,"merged":[[14,0,14,4],[25,0,25,4],[26,0,26,4],[27,0,27,4],[15,0,15,4],[24,0,24,4],[5,0,5,7],[9,5,9,7],[11,0,11,4],[12,0,12,4],[13,0,13,4],[38,0,38,7],[43,0,43,7],[3,0,4,6],[9,0,10,4],[28,0,28,4],[29,0,29,4],[30,0,30,4],[31,0,31,4],[32,0,32,4],[37,0,37,7]]}
[]
[]
[]
["DETALHAMENTO DE DESPESAS FISCAIS",{"$nulls":6},"CODIGO:"]
[{"$nulls":7},"PFS-VIII"]
["NOME DA CONSULTORA:"]
[]
["PERÍMETRO(S):",null,"OBJETO:",{"$nulls":4},"EDITAL:"]
["Betume",null,"O&M do PPI Betume"]
["DISCRIMINAÇÃO",{"$nulls":4},"VALORES"]
[{"$nulls":5},"DF %","DF' %","R$"]
["Em PFS (sobre Custos Diretos + Custos de Administração + Lucro)"]
["1 - ISS",{"$nulls":4},5,5.83,{"$f":"ROUND(((G13/100)*(PFS!N10+PFS!N24+PFS!N25)),2)","v":14915.16},{"$f":"(H13/PFS!N28)*100","v":4.999141289802826}]
["2 - PIS",{"$nulls":4},1.65,1.93,{"$f":"ROUND(((G14/100)*(PFS!N10+PFS!N24+PFS!N25)),2)","v":4937.6099999999997},{"$f":"(H14/PFS!N28)*100","v":1.6549477192295177}]
["3 - COFINS",{"$nulls":4},7.6,8.86,{"$f":"ROUND(((G15/100)*(PFS!N10+PFS!N24+PFS!N25)),2)","v":22666.959999999999},{"$f":"(H15/PFS!N28)*100","v":7.5973261869339028}]
["4 - CPRB",{"$nulls":4},0,0,{"$f":"ROUND(((G16/100)*(PFS!N10+PFS!N24+PFS!N25)),2)","v":0},{"$f":"(H16/PFS!N28)*100","v":0}]
[{"$nulls":8},{"$f":"SUM(I13:I16)","v":14.251415195966246}]
{"$rows_empty":15}
["TOTAIS DE DESPESAS FISCAIS ",{"$nulls":4},{"$f":"ROUND((SUM(F12:F32)),2)","v":14.25},{"$f":"ROUND(((1/(1-F33/100))-1)*100,2)","v":16.62},{"$f":"ROUND(((PFS!N10+PFS!N24+PFS!N25)*(G33/100)),2)","v":42519.73}]
["NOME DO INFORMANTE:",null,null,"QUALIFICAÇÃO:"]
[]
["ASSINATURA:",{"$nulls":4},"DATA:"]
[]
["Observação:"]
["As despesas fiscais - serviços e fornecimentos  (DF) incidem sobre o total da fatura e não sobre os custos incorridos. Portanto aplicar a seguinte fórmula:"]
[" DF' = { [ 1 / ( 1 - DF ) ] - 1 } x 100"]
[" ou seja, para o valor máximo de 14,25%, o valor a ser aplicado na composição dos preços será:",{"$nulls":7},{"$f":"((1/(1-0.1425))-1)*100","v":16.618075801749256}]
[" DF' = { [ 1 / ( 1 - 0,14125) ] - 1 } x 100"]
[" DF' =0,1662  ou  16,62%"]

{"sheet":"ELETRICISTA","index":8,"n_rows":152,"n_cols":9,"rows_kept":152,"cut":false,"hidden":false,"merged":[[149,1,149,4],[149,5,149,6],[150,1,150,4],[150,5,150,6],[142,0,142,5],[144,0,144,6],[146,0,146,6],[147,1,147,4],[147,5,147,6],[148,1,148,4],[148,5,148,6],[134,0,134,4],[134,5,134,6],[136,0,136,6],[138,0,138,1],[139,0,139,1],[140,0,140,1],[131,1,131,4],[131,5,131,6],[132,1,132,4],[132,5,132,6],[133,1,133,4],[133,5,133,6],[128,1,128,4],[128,5,128,6],[129,1,129,4],[129,5,129,6],[130,1,130,4],[130,5,130,6],[121,1,121,4],[122,1,122,4],[123,0,123,4],[125,0,125,6],[127,0,127,4],[127,5,127,6],[114,0,114,6],[116,1,116,4],[117,1,117,4],[118,1,118,4],[119,1,119,4],[120,1,120,4],[104,1,104,4],[105,1,105,4],[106,1,106,4],[107,1,107,4],[108,1,108,4],[109,0,109,4],[95,0,95,6],[97,1,97,4],[98,1,98,4],[99,1,99,4],[100,0,100,4],[102,0,102,6],[88,1,88,4],[89,1,89,4],[90,1,90,4],[91,1,91,4],[92,1,92,4],[93,0,93,4],[80,1,80,4],[81,1,81,4],[82,1,82,4],[83,0,83,4],[85,0,85,6],[87,1,87,4],[73,0,73,6],[75,1,75,4],[76,1,76,4],[77,1,77,4],[78,1,78,4],[79,1,79,4],[66,1,66,4],[67,1,67,4],[68,1,68,4],[69,1,69,4],[70,1,70,4],[71,0,71,4],[58,0,58,6],[60,0,60,6],[62,1,62,4],[63,1,63,4],[64,1,64,4],[65,1,65,4],[54,1,54,4],[54,5,54,6],[55,1,55,4],[55,5,55,6],[56,0,56,4],[56,5,56,6],[50,0,50,6],[51,1,51,4],[51,5,51,6],[52,1,52,4],[52,5,52,6],[53,1,53,4],[53,5,53,6],[46,1,46,4],[46,5,46,6],[47,1,47,4],[47,5,47,6],[48,0,48,4],[48,5,48,6],[43,1,43,4],[43,5,43,6],[44,1,44,4],[44,5,44,6],[45,1,45,4],[45,5,45,6],[38,0,38,4],[38,5,38,6],[40,0,40,6],[41,1,41,4],[41,5,41,6],[42,1,42,4],[42,5,42,6],[35,1,35,4],[35,5,35,6],[36,1,36,4],[36,5,36,6],[37,1,37,4],[37,5,37,6],[32,1,32,4],[32,5,32,6],[33,1,33,4],[33,5,33,6],[34,1,34,4],[34,5,34,6],[27,1,27,4],[27,5,27,6],[29,0,29,6],[30,1,30,4],[30,5,30,6],[31,1,31,4],[31,5,31,6],[24,1,24,4],[24,5,24,6],[25,1,25,4],[25,5,25,6],[26,1,26,4],[26,5,26,6],[19,1,19,2],[19,3,19,4],[19,5,19,6],[21,0,21,6],[22,0,22,6],[23,0,23,6],[13,1,13,4],[13,5,13,6],[14,1,14,4],[14,5,14,6],[16,0,16,6],[18,0,18,2],[18,3,18,4],[18,5,18,6],[5,0,5,6],[7,0,9,6],[11,1,11,4],[11,5,11,6],[12,1,12,4],[12,5,12,6],[0,0,0,6],[1,0,1,6],[3,0,3,3],[3,4,3,6],[4,0,4,3],[4,4,4,6]]}
[]
["PLANILHA DE CUSTOS E FORMAÇÃO DE PREÇOS"]
[]
["Nº Processo"]
["Licitação Nº"]
["Dia ___/___/___ às ___:___ horas"]
[]
["Contratação dos serviços de operação de escavadeira hidráulica"]
[]
[]
[]
["A","Data de apresentação da proposta (dia/mês/ano) "]
["B","Município/UF",null,null,null,"Aracaju/SE"]
["C","Ano Acordo, Convenção ou Sentença Normativa em Dissídio Coletivo",null,null,null,".2023"]
["D","Nº de meses de execução contratual",null,null,null,12]
[]
["Identificação do Serviço"]
[]
["Tipo de Seviço",null,null,"Unidade de medida",null,"Quantidade total a contratar"]
["I","Eletricista",null,1,null,1]
[]
["Anexo II - A - Mão-de Obra"]
["Mão-de-obra vincula à execução contratual"]
["Dados complementares para composição dos custos referente à mão-de-obra"]
[1,"Tipo de serviço",null,null,null,"Eletricista"]
[2,"Salário sem encargos (SINDUSCON/2023)",null,null,null,1885.62]
[3,"Categoria profissional",null,null,null,"Eletricista"]
[4,"Data-base da categoria",null,null,null,"1º de março"]
[]
["MÓDULO 1 : COMPOSIÇÃO DA REMUNERAÇÃO"]
[1,"Composição da remuneração",null,null,null,"Valor (R$)"]
["A","Salário Base",null,null,null,{"$f":"F26","v":1885.62}]
["B","Risco Profissional (30%)",null,null,null,{"$f":"F32*0.3","v":565.68599999999992}]
["C","Produtividade (6%)",null,null,null,0]
["D","Adicional Noturno (25%)",null,null,null,0]
["E","Descanso Semanal Remunerado",null,null,null,{"$f":"F37*20%","v":0}]
["F","Intervalo Intrajornada (CLT)",null,null,null,0]
["G","Hora Feriado (CLT)",null,null,null,{"$f":"(F32+F33+F34)/220*10/2","v":55.711499999999994}]
["Total da Remuneração",{"$nulls":4},{"$f":"SUM(F32:G38)","v":2507.0174999999995}]
[]
["MÓDULO 2 : BENEFÍCIOS MENSAIS E DIÁRIOS"]
[2,"Benefícios mensais e diários",null,null,null,"Valor (R$)"]
["A","Transporte (de responsabilidade da CODEVASF)",null,null,null,0]
["B","Auxílio alimentação - Cesta Básica (SINDUSCON 2023)",null,null,null,175]
["C","Assistência médica e familiar ",null,null,null,0]
["D","Auxílio creche",null,null,null,0]
["E","Seguro de vida, invalidez e funeral (SINAPI 40864)",null,null,null,12.89]
["F","Exames (SINAPI 40863)",null,null,null,215.56]
["Total de benefícios mensais e diários",{"$nulls":4},{"$f":"SUM(F43:G48)","v":403.45}]
[]
["MÓDULO 3 : INSUMOS DIVERSOS"]
[3,"Insumos Diversos",null,null,null,"Valor (R$)"]
["A","EPI (SINAPI 43496)",null,null,null,214.4]
["B","Fardamento (ORSE 00941) - (2 unid x R$ 190,46)/12= R$ 31,74",null,null,null,{"$f":"2*190.46/12","v":31.743333333333336}]
["C","Cursos",null,null,null,0]
["D","Outros (especificar)",null,null,null,0]
["Total de insumos diversos",{"$nulls":4},{"$f":"SUM(F53:G56)","v":246.14333333333335}]
[]
["MÓDULO 4: ENCARGOS SOCIAIS E TRABALHISTAS"]
[]
["Submódulo 4.1 - Encargos previdenciários e FGTS"]
[]
["4.1","Encargos Previdenciários e FGTS (GRUPO A)",null,null,null,"%","Valor (R$)"]
["A","INSS",null,null,null,0.2,{"$f":"F$39*F64","v":501.40349999999989}]
["B","SESI/SESC",null,null,null,1.4999999999999999E-2,37.605262499999988]
["C","SENAI/SENAC",null,null,null,0.01,25.070174999999995]
["D","INCRA",null,null,null,2E-3,5.0140349999999989]
["E","Salário Educação",null,null,null,2.5000000000000001E-2,62.675437499999987]
["F","FGTS",null,null,null,0.08,200.56139999999996]
["G","Seguro acidente de trabalho",null,null,null,0.03,75.210524999999976]
["H","SEBRAE",null,null,null,6.0000000000000001E-3,15.042104999999998]
["TOTAL",{"$nulls":4},{"$f":"SUM(F64:F71)","v":0.3680000000000001},{"$f":"SUM(G64:G71)","v":922.58243999999979}]
[]
["Submódulo 4.2 - 13º Salário e Adicional de Férias"]
[]
["4.2","13º Salário e Adicional de Férias (GRUPO B)",null,null,null,"%","Valor (R$)"]
["A","13º Salário ",null,null,null,8.3299999999999999E-2,{"$f":"$F$39*F77","v":208.83455774999996}]
["B","Férias gozadas",null,null,null,6.2399999999999997E-2,{"$f":"($F$39*F78)","v":156.43789199999995}]
["C","Auxílio enfermidade",null,null,null,6.8999999999999999E-3,{"$f":"$F$39*F79","v":17.298420749999995}]
["D","Licença paternidade",null,null,null,5.9999999999999995E-4,{"$f":"$F$39*F80","v":1.5042104999999995}]
["E","Faltas justificadas",null,null,null,5.5999999999999999E-3,{"$f":"$F$39*F81","v":14.039297999999997}]
["F","Auxílio acidente de trabalho",null,null,null,8.9999999999999998E-4,{"$f":"$F$39*F82","v":2.2563157499999993}]
["G","Salário maternidade",null,null,null,2.0000000000000001E-4,{"$f":"$F$39*F83","v":0.50140349999999989}]
["TOTAL",{"$nulls":4},{"$f":"SUM(F77:F83)","v":0.15989999999999999},{"$f":"SUM(G77:G83)","v":400.87209824999985}]
[]
["Submódulo 4.3 - Provisão para Rescisão"]
[]
["4.3","Provisão para Rescisão (GRUPO C)",null,null,null,"%","Valor (R$)"]
["A","Aviso prévio indenizado ",null,null,null,3.7100000000000001E-2,{"$f":"$F$39*F89","v":93.010349249999976}]
["B","Aviso prévio trabalhado ",null,null,null,8.9999999999999998E-4,{"$f":"$F$39*F90","v":2.2563157499999993}]
["C","Férias indenizadas + 1/3",null,null,null,3.7499999999999999E-2,{"$f":"$F$39*F91","v":94.01315624999998}]
["D","Depósito rescisão sem justa causa",null,null,null,3.61E-2,{"$f":"$F$39*F92","v":90.503331749999987}]
["E","Indenização adicional",null,null,null,3.0999999999999999E-3,{"$f":"$F$39*F93","v":7.7717542499999981}]
["TOTAL",{"$nulls":4},{"$f":"SUM(F89:F93)","v":0.11470000000000001},{"$f":"SUM(G89:G93)","v":287.55490724999993}]
[]
["Submódulo 4.4 - GRUPO D"]
[]
["4.4","GRUPO D",null,null,null,"%","Valor (R$)"]
["A","Reincidência do Grupo A sobre o Grupo B",null,null,null,6.0400000000000002E-2,{"$f":"F39*F99","v":151.42385699999997}]
["B","Reincidência do Grupo A sobre Aviso Prévio Trabalhado e Reincidência do FGTS sobre o Aviso Prévio Indenizado",null,null,null,3.3E-3,{"$f":"F39*F100","v":8.2731577499999975}]
["TOTAL",{"$nulls":4},{"$f":"SUM(F99:F100)","v":6.3700000000000007E-2},{"$f":"SUM(G99:G100)","v":159.69701474999997}]
[]
["Quadro - resumo - Módulo 4 - Encargos sociais e trabalhistas"]
[]
[4,"Módulo 4 - Encargos sociais e trabalhistas",null,null,null,"%","Valor (R$)"]
["4.1","Encargos Previdenciários e FGTS (GRUPO A)",null,null,null,{"$f":"F72","v":0.3680000000000001},{"$f":"ROUND(F39*F106,2)","v":922.58}]
["4.2","13º Salário e Adicional de Férias (GRUPO B)",null,null,null,{"$f":"F84","v":0.15989999999999999},{"$f":"F39*F107","v":400.87209824999991}]
["4.3","Provisão para Rescisão (GRUPO C)",null,null,null,{"$f":"F94","v":0.11470000000000001},{"$f":"F108*F39","v":287.55490724999999}]
["4.4","GRUPO D",null,null,null,{"$f":"F101","v":6.3700000000000007E-2},{"$f":"F109*F39","v":159.69701474999999}]
["TOTAL",{"$nulls":4},{"$f":"SUM(F106:F109)","v":0.70630000000000004},{"$f":"ROUND(SUM(G106:G109),2)","v":1770.7}]
[]
[]
[]
[]
["MÓDULO 5 - CUSTOS INDIRETOS, TRIBUTOS E LUCRO"]
[]
[5,"Custos Indiretos, Tributos e Lucro",null,null,null,"%","Valor (R$)"]
["A","Custos Indiretos - Despesas Administrativas",null,null,null,0.06,{"$f":"ROUND(F133*F118,2)","v":295.64}]
["B","Tributos",null,null,null,{"$f":"SUM(F120:F122)","v":0.16619999999999999},{"$f":"SUM(G120:G122)","v":926.99},{"$f":"G119/F135","v":0.14251342899925898}]
[null,"B.1 Tributos Federais (PIS: 1,65%) (COFINS: 7,60%)",null,null,null,0.1079,{"$f":"ROUND(F120*(F133+G118+G123),2)","v":601.82000000000005},{"$f":"G120/F135","v":9.2522499531099631E-2}]
[null,"B.2 Tributos Estaduais",null,null,null,"0,00%",0]
[null,"B.3 Tributos Municipais (ISS: 5,00%)",null,null,null,5.8299999999999998E-2,{"$f":"ROUND(F122*(F133+G118+G123),2)","v":325.17},{"$f":"G122/F135","v":4.9990929468159362E-2}]
["C","Lucro",null,null,null,6.7900000000000002E-2,{"$f":"ROUND(F123*(F133+G118),2)","v":354.64}]
["TOTAL",{"$nulls":4},{"$f":"G124/F133","v":0.32010772612236693},{"$f":"ROUND(G118+G119+G123,2)","v":1577.27}]
[]
["Anexo II - B - Quadro-resumo do Custo por Empregado"]
[]
["Mão-de-obra vinculada à execução contratual (valor por empregado)",{"$nulls":4},"Valor (R$)"]
["A","Módulo 1 – Composição da Remuneração",null,null,null,{"$f":"ROUND(F39,2)","v":2507.02}]
["B","Módulo 2 – Benefícios Mensais e Diários",null,null,null,{"$f":"F49","v":403.45}]
["C","Módulo 3 – Insumos Diversos (uniformes, materiais, equip. e outros)",null,null,null,{"$f":"F57","v":246.14333333333335}]
["D","Módulo 4 – Encargos Sociais e Trabalhistas",null,null,null,{"$f":"G110","v":1770.7}]
[null,"Subtotal (A + B +C+ D)",null,null,null,{"$f":"ROUND(SUM(F129:G132),2)","v":4927.3100000000004}]
["E","Módulo 5 – Custos indiretos, tributos e lucro",null,null,null,{"$f":"G124","v":1577.27}]
["Valor total por empregado",{"$nulls":4},{"$f":"F133+F134","v":6504.58}]
[]
["Anexo III - C - Quadro-resumo - VALOR MENSAL DOS SERVIÇOS"]
[]
["Tipo de",null,"Valor proposto ","Qtde de  ","Valor proposto","Qtde total de ","Valor total"]
["Serviço",null,"por ","empregados","por posto","empregados","do serviço"]
["(A)",null,"empregado (B)",null,"(D) = (B x C)","(E)","(F) = (D x E)"]
["I","Eletricista",{"$f":"F135","v":6504.58},1,{"$f":"C142","v":6504.58},1,{"$f":"E142*F142","v":6504.58}]
["Valor Mensal dos serviços",{"$nulls":5},{"$f":"G142","v":6504.58}]
[]
["Anexo III - D - Quadro - demonstrativo - VALOR GLOBAL DA PROPOSTA"]
[]
["Valor Global da Proposta"]
[null,"Descrição",null,null,null,"Valor (R$)"]
["A","Valor proposto por unidade de medida",null,null,null,{"$f":"E142","v":6504.58}]
["B","Valor mensal do serviço",null,null,null,{"$f":"G143","v":6504.58}]
["C","Valor global da proposta (valor pelo período do contrato - doze meses)",null,null,null,{"$f":"F150*12","v":78054.959999999992},null,null,{"$f":"F151+CANALEIRO!F151+'AJUDANTE COMUM'!F151","v":298354.19999999995}]
[{"$nulls":8},{"$f":"I151-PFS!N28","v":-0.24000000004889444}]

{"sheet":"CANALEIRO","index":9,"n_rows":151,"n_cols":8,"rows_kept":151,"cut":false,"hidden":false,"merged":[[149,1,149,4],[149,5,149,6],[150,1,150,4],[150,5,150,6],[142,0,142,5],[144,0,144,6],[146,0,146,6],[147,1,147,4],[147,5,147,6],[148,1,148,4],[148,5,148,6],[134,0,134,4],[134,5,134,6],[136,0,136,6],[138,0,138,1],[139,0,139,1],[140,0,140,1],[131,1,131,4],[131,5,131,6],[132,1,132,4],[132,5,132,6],[133,1,133,4],[133,5,133,6],[128,1,128,4],[128,5,128,6],[129,1,129,4],[129,5,129,6],[130,1,130,4],[130,5,130,6],[121,1,121,4],[122,1,122,4],[123,0,123,4],[125,0,125,6],[127,0,127,4],[127,5,127,6],[114,0,114,6],[116,1,116,4],[117,1,117,4],[118,1,118,4],[119,1,119,4],[120,1,120,4],[104,1,104,4],[105,1,105,4],[106,1,106,4],[107,1,107,4],[108,1,108,4],[109,0,109,4],[95,0,95,6],[97,1,97,4],[98,1,98,4],[99,1,99,4],[100,0,100,4],[102,0,102,6],[88,1,88,4],[89,1,89,4],[90,1,90,4],[91,1,91,4],[92,1,92,4],[93,0,93,4],[80,1,80,4],[81,1,81,4],[82,1,82,4],[83,0,83,4],[85,0,85,6],[87,1,87,4],[73,0,73,6],[75,1,75,4],[76,1,76,4],[77,1,77,4],[78,1,78,4],[79,1,79,4],[66,1,66,4],[67,1,67,4],[68,1,68,4],[69,1,69,4],[70,1,70,4],[71,0,71,4],[58,0,58,6],[60,0,60,6],[62,1,62,4],[63,1,63,4],[64,1,64,4],[65,1,65,4],[54,1,54,4],[54,5,54,6],[55,1,55,4],[55,5,55,6],[56,0,56,4],[56,5,56,6],[50,0,50,6],[51,1,51,4],[51,5,51,6],[52,1,52,4],[52,5,52,6],[53,1,53,4],[53,5,53,6],[46,1,46,4],[46,5,46,6],[47,1,47,4],[47,5,47,6],[48,0,48,4],[48,5,48,6],[43,1,43,4],[43,5,43,6],[44,1,44,4],[44,5,44,6],[45,1,45,4],[45,5,45,6],[38,0,38,4],[38,5,38,6],[40,0,40,6],[41,1,41,4],[41,5,41,6],[42,1,42,4],[42,5,42,6],[35,1,35,4],[35,5,35,6],[36,1,36,4],[36,5,36,6],[37,1,37,4],[37,5,37,6],[32,1,32,4],[32,5,32,6],[33,1,33,4],[33,5,33,6],[34,1,34,4],[34,5,34,6],[27,1,27,4],[27,5,27,6],[29,0,29,6],[30,1,30,4],[30,5,30,6],[31,1,31,4],[31,5,31,6],[24,1,24,4],[24,5,24,6],[25,1,25,4],[25,5,25,6],[26,1,26,4],[26,5,26,6],[19,1,19,2],[19,3,19,4],[19,5,19,6],[21,0,21,6],[22,0,22,6],[23,0,23,6],[13,1,13,4],[13,5,13,6],[14,1,14,4],[14,5,14,6],[16,0,16,6],[18,0,18,2],[18,3,18,4],[18,5,18,6],[5,0,5,6],[7,0,9,6],[11,1,11,4],[11,5,11,6],[12,1,12,4],[12,5,12,6],[0,0,0,6],[1,0,1,6],[3,0,3,3],[3,4,3,6],[4,0,4,3],[4,4,4,6]]}
[]
["PLANILHA DE CUSTOS E FORMAÇÃO DE PREÇOS"]
[]
["Nº Processo"]
["Licitação Nº"]
["Dia ___/___/___ às ___:___ horas"]
[]
["Contratação dos serviços de operação de escavadeira hidráulica"]
[]
[]
[]
["A","Data de apresentação da proposta (dia/mês/ano) "]
["B","Município/UF",null,null,null,"Aracaju/SE"]
["C","Ano Acordo, Convenção ou Sentença Normativa em Dissídio Coletivo",null,null,null,".2023"]
["D","Nº de meses de execução contratual",null,null,null,12]
[]
["Identificação do Serviço"]
[]
["Tipo de Seviço",null,null,"Unidade de medida",null,"Quantidade total a contratar"]
["I","Canaleiro",null,1,null,3]
[]
["Anexo II - A - Mão-de Obra"]
["Mão-de-obra vincula à execução contratual"]
["Dados complementares para composição dos custos referente à mão-de-obra"]
[1,"Tipo de serviço",null,null,null,"Oper. de Adutoras e Canais"]
[2,"Salário sem encargos (SINDUSCON/2023)",null,null,null,1320]
[3,"Categoria profissional",null,null,null,"Ajudante Comum"]
[4,"Data-base da categoria",null,null,null,"1º de março"]
[]
["MÓDULO 1 : COMPOSIÇÃO DA REMUNERAÇÃO"]
[1,"Composição da remuneração",null,null,null,"Valor (R$)"]
["A","Salário Base",null,null,null,{"$f":"F26","v":1320}]
["B","Risco Profissional (30%) - Uso de motocicleta no trabalho Lei nº12.997/14",null,null,null,{"$f":"F32*0.3","v":396}]
["C","Produtividade (6%)",null,null,null,0]
["D","Adicional Noturno (25%)",null,null,null,0]
["E","Descanso Semanal Remunerado",null,null,null,{"$f":"F37*20%","v":0}]
["F","Intervalo Intrajornada (CLT)",null,null,null,0]
["G","Hora Feriado (CLT)",null,null,null,{"$f":"(F32+F33+F34)/220*10/2","v":39}]
["Total da Remuneração",{"$nulls":4},{"$f":"SUM(F32:G38)","v":1755}]
[]
["MÓDULO 2 : BENEFÍCIOS MENSAIS E DIÁRIOS"]
[2,"Benefícios mensais e diários",null,null,null,"Valor (R$)"]
["A","Transporte (de responsabilidade da CODEVASF)",null,null,null,0]
["B","Auxílio alimentação - Cesta Básica (SINDUSCON 2023)",null,null,null,175]
["C","Assistência médica e familiar ",null,null,null,0]
["D","Auxílio creche",null,null,null,0]
["E","Seguro de vida, invalidez e funeral (SINAPI 40864)",null,null,null,12.89]
["F","Exames (SINAPI 40863)",null,null,null,215.56]
["Total de benefícios mensais e diários",{"$nulls":4},{"$f":"SUM(F43:G48)","v":403.45}]
[]
["MÓDULO 3 : INSUMOS DIVERSOS"]
[3,"Insumos Diversos",null,null,null,"Valor (R$)"]
["A","EPI (SINAPI 43496)",null,null,null,214.4]
["B","Fardamento (ORSE 00941) - (2 unid x R$ 190,46)/12= R$ 31,74",null,null,null,{"$f":"2*190.46/12","v":31.743333333333336}]
["C","Cursos",null,null,null,0]
["D","Outros (especificar)",null,null,null,0]
["Total de insumos diversos",{"$nulls":4},{"$f":"SUM(F53:G56)","v":246.14333333333335}]
[]
["MÓDULO 4: ENCARGOS SOCIAIS E TRABALHISTAS"]
[]
["Submódulo 4.1 - Encargos previdenciários e FGTS"]
[]
["4.1","Encargos Previdenciários e FGTS (GRUPO A)",null,null,null,"%","Valor (R$)"]
["A","INSS",null,null,null,0.2,{"$f":"F$39*F64","v":351}]
["B","SESI/SESC",null,null,null,1.4999999999999999E-2,26.324999999999999]
["C","SENAI/SENAC",null,null,null,0.01,17.55]
["D","INCRA",null,null,null,2E-3,3.5100000000000002]
["E","Salário Educação",null,null,null,2.5000000000000001E-2,43.875]
["F","FGTS",null,null,null,0.08,140.4]
["G","Seguro acidente de trabalho",null,null,null,0.03,52.65]
["H","SEBRAE",null,null,null,6.0000000000000001E-3,10.53]
["TOTAL",{"$nulls":4},{"$f":"SUM(F64:F71)","v":0.3680000000000001},{"$f":"SUM(G64:G71)","v":645.83999999999992}]
[]
["Submódulo 4.2 - 13º Salário e Adicional de Férias"]
[]
["4.2","13º Salário e Adicional de Férias (GRUPO B)",null,null,null,"%","Valor (R$)"]
["A","13º Salário ",null,null,null,8.3299999999999999E-2,{"$f":"$F$39*F77","v":146.19149999999999}]
["B","Férias gozadas",null,null,null,6.2399999999999997E-2,{"$f":"($F$39*F78)","v":109.512}]
["C","Auxílio enfermidade",null,null,null,6.8999999999999999E-3,{"$f":"$F$39*F79","v":12.109500000000001}]
["D","Licença paternidade",null,null,null,5.9999999999999995E-4,{"$f":"$F$39*F80","v":1.0529999999999999}]
["E","Faltas justificadas",null,null,null,5.5999999999999999E-3,{"$f":"$F$39*F81","v":9.8279999999999994}]
["F","Auxílio acidente de trabalho",null,null,null,8.9999999999999998E-4,{"$f":"$F$39*F82","v":1.5794999999999999}]
["G","Salário maternidade",null,null,null,2.0000000000000001E-4,{"$f":"$F$39*F83","v":0.35100000000000003}]
["TOTAL",{"$nulls":4},{"$f":"SUM(F77:F83)","v":0.15989999999999999},{"$f":"SUM(G77:G83)","v":280.62449999999995}]
[]
["Submódulo 4.3 - Provisão para Rescisão"]
[]
["4.3","Provisão para Rescisão (GRUPO C)",null,null,null,"%","Valor (R$)"]
["A","Aviso prévio indenizado ",null,null,null,3.7100000000000001E-2,{"$f":"$F$39*F89","v":65.110500000000002}]
["B","Aviso prévio trabalhado ",null,null,null,8.9999999999999998E-4,{"$f":"$F$39*F90","v":1.5794999999999999}]
["C","Férias indenizadas + 1/3",null,null,null,3.7499999999999999E-2,{"$f":"$F$39*F91","v":65.8125}]
["D","Depósito rescisão sem justa causa",null,null,null,3.61E-2,{"$f":"$F$39*F92","v":63.355499999999999}]
["E","Indenização adicional",null,null,null,3.0999999999999999E-3,{"$f":"$F$39*F93","v":5.4405000000000001}]
["TOTAL",{"$nulls":4},{"$f":"SUM(F89:F93)","v":0.11470000000000001},{"$f":"SUM(G89:G93)","v":201.29849999999999}]
[]
["Submódulo 4.4 - GRUPO D"]
[]
["4.4","GRUPO D",null,null,null,"%","Valor (R$)"]
["A","Reincidência do Grupo A sobre o Grupo B",null,null,null,6.0400000000000002E-2,{"$f":"F39*F99","v":106.00200000000001}]
["B","Reincidência do Grupo A sobre Aviso Prévio Trabalhado e Reincidência do FGTS sobre o Aviso Prévio Indenizado",null,null,null,3.3E-3,{"$f":"F39*F100","v":5.7915000000000001}]
["TOTAL",{"$nulls":4},{"$f":"SUM(F99:F100)","v":6.3700000000000007E-2},{"$f":"SUM(G99:G100)","v":111.79350000000001}]
[]
["Quadro - resumo - Módulo 4 - Encargos sociais e trabalhistas"]
[]
[4,"Módulo 4 - Encargos sociais e trabalhistas",null,null,null,"%","Valor (R$)"]
["4.1","Encargos Previdenciários e FGTS (GRUPO A)",null,null,null,{"$f":"F72","v":0.3680000000000001},{"$f":"ROUND(F39*F106,2)","v":645.84}]
["4.2","13º Salário e Adicional de Férias (GRUPO B)",null,null,null,{"$f":"F84","v":0.15989999999999999},{"$f":"F39*F107","v":280.62449999999995}]
["4.3","Provisão para Rescisão (GRUPO C)",null,null,null,{"$f":"F94","v":0.11470000000000001},{"$f":"F108*F39","v":201.29850000000002}]
["4.4","GRUPO D",null,null,null,{"$f":"F101","v":6.3700000000000007E-2},{"$f":"F109*F39","v":111.79350000000001}]
["TOTAL",{"$nulls":4},{"$f":"SUM(F106:F109)","v":0.70630000000000004},{"$f":"ROUND(SUM(G106:G109),2)","v":1239.56}]
[]
[]
[]
[]
["MÓDULO 5 - CUSTOS INDIRETOS, TRIBUTOS E LUCRO"]
[]
[5,"Custos Indiretos, Tributos e Lucro",null,null,null,"%","Valor (R$)"]
["A","Custos Indiretos - Despesas Administrativas",null,null,null,0.06,{"$f":"ROUND(F133*F118,2)","v":218.65}]
["B","Tributos",null,null,null,{"$f":"SUM(F120:F122)","v":0.16619999999999999},{"$f":"SUM(G120:G122)","v":685.59},{"$f":"G119/F135","v":0.14251445224885514}]
[null,"B.1 Tributos Federais (PIS: 1,65%) (COFINS: 7,60%)",null,null,null,0.1079,{"$f":"ROUND(F120*(F133+G118+G123),2)","v":445.1},{"$f":"G120/F135","v":9.2523494648354604E-2}]
[null,"B.2 Tributos Estaduais",null,null,null,"0,00%",0]
[null,"B.3 Tributos Municipais (ISS: 5,00%)",null,null,null,5.8299999999999998E-2,{"$f":"ROUND(F122*(F133+G118+G123),2)","v":240.49},{"$f":"G122/F135","v":4.9990957600500555E-2}]
["C","Lucro",null,null,null,6.7900000000000002E-2,{"$f":"ROUND(F123*(F133+G118),2)","v":262.27999999999997}]
["TOTAL",{"$nulls":4},{"$f":"G124/F133","v":0.32010756966645171},{"$f":"ROUND(G118+G119+G123,2)","v":1166.52}]
[]
["Anexo II - B - Quadro-resumo do Custo por Empregado"]
[]
["Mão-de-obra vinculada à execução contratual (valor por empregado)",{"$nulls":4},"Valor (R$)"]
["A","Módulo 1 – Composição da Remuneração",null,null,null,{"$f":"ROUND(F39,2)","v":1755}]
["B","Módulo 2 – Benefícios Mensais e Diários",null,null,null,{"$f":"F49","v":403.45}]
["C","Módulo 3 – Insumos Diversos (uniformes, materiais, equip. e outros)",null,null,null,{"$f":"F57","v":246.14333333333335}]
["D","Módulo 4 – Encargos Sociais e Trabalhistas",null,null,null,{"$f":"G110","v":1239.56}]
[null,"Subtotal (A + B +C+ D)",null,null,null,{"$f":"ROUND(SUM(F129:G132),2)","v":3644.15}]
["E","Módulo 5 – Custos indiretos, tributos e lucro",null,null,null,{"$f":"G124","v":1166.52}]
["Valor total por empregado",{"$nulls":4},{"$f":"F133+F134","v":4810.67}]
[]
["Anexo III - C - Quadro-resumo - VALOR MENSAL DOS SERVIÇOS"]
[]
["Tipo de",null,"Valor proposto ","Qtde de  ","Valor proposto","Qtde total de ","Valor total"]
["Serviço",null,"por ","empregados","por posto","empregados","do serviço"]
["(A)",null,"empregado (B)",null,"(D) = (B x C)","(E)","(F) = (D x E)"]
["I","Canaleiro",{"$f":"F135","v":4810.67},3,{"$f":"C142","v":4810.67},3,{"$f":"E142*F142","v":14432.01}]
["Valor Mensal dos serviços",{"$nulls":5},{"$f":"G142","v":14432.01}]
[]
["Anexo III - D - Quadro - demonstrativo - VALOR GLOBAL DA PROPOSTA"]
[]
["Valor Global da Proposta"]
[null,"Descrição",null,null,null,"Valor (R$)"]
["A","Valor proposto por unidade de medida",null,null,null,{"$f":"E142","v":4810.67}]
["B","Valor mensal do serviço",null,null,null,{"$f":"G143","v":14432.01}]
["C","Valor global da proposta (valor pelo período do contrato - doze meses)",null,null,null,{"$f":"F150*12","v":173184.12}]

{"sheet":"AJUDANTE COMUM","index":10,"n_rows":151,"n_cols":8,"rows_kept":151,"cut":false,"hidden":false,"merged":[[149,1,149,4],[149,5,149,6],[150,1,150,4],[150,5,150,6],[142,0,142,5],[144,0,144,6],[146,0,146,6],[147,1,147,4],[147,5,147,6],[148,1,148,4],[148,5,148,6],[134,0,134,4],[134,5,134,6],[136,0,136,6],[138,0,138,1],[139,0,139,1],[140,0,140,1],[131,1,131,4],[131,5,131,6],[132,1,132,4],[132,5,132,6],[133,1,133,4],[133,5,133,6],[128,1,128,4],[128,5,128,6],[129,1,129,4],[129,5,129,6],[130,1,130,4],[130,5,130,6],[121,1,121,4],[122,1,122,4],[123,0,123,4],[125,0,125,6],[127,0,127,4],[127,5,127,6],[114,0,114,6],[116,1,116,4],[117,1,117,4],[118,1,118,4],[119,1,119,4],[120,1,120,4],[104,1,104,4],[105,1,105,4],[106,1,106,4],[107,1,107,4],[108,1,108,4],[109,0,109,4],[95,0,95,6],[97,1,97,4],[98,1,98,4],[99,1,99,4],[100,0,100,4],[102,0,102,6],[88,1,88,4],[89,1,89,4],[90,1,90,4],[91,1,91,4],[92,1,92,4],[93,0,93,4],[80,1,80,4],[81,1,81,4],[82,1,82,4],[83,0,83,4],[85,0,85,6],[87,1,87,4],[73,0,73,6],[75,1,75,4],[76,1,76,4],[77,1,77,4],[78,1,78,4],[79,1,79,4],[66,1,66,4],[67,1,67,4],[68,1,68,4],[69,1,69,4],[70,1,70,4],[71,0,71,4],[58,0,58,6],[60,0,60,6],[62,1,62,4],[63,1,63,4],[64,1,64,4],[65,1,65,4],[54,1,54,4],[54,5,54,6],[55,1,55,4],[55,5,55,6],[56,0,56,4],[56,5,56,6],[50,0,50,6],[51,1,51,4],[51,5,51,6],[52,1,52,4],[52,5,52,6],[53,1,53,4],[53,5,53,6],[46,1,46,4],[46,5,46,6],[47,1,47,4],[47,5,47,6],[48,0,48,4],[48,5,48,6],[43,1,43,4],[43,5,43,6],[44,1,44,4],[44,5,44,6],[45,1,45,4],[45,5,45,6],[38,0,38,4],[38,5,38,6],[40,0,40,6],[41,1,41,4],[41,5,41,6],[42,1,42,4],[42,5,42,6],[35,1,35,4],[35,5,35,6],[36,1,36,4],[36,5,36,6],[37,1,37,4],[37,5,37,6],[32,1,32,4],[32,5,32,6],[33,1,33,4],[33,5,33,6],[34,1,34,4],[34,5,34,6],[27,1,27,4],[27,5,27,6],[29,0,29,6],[30,1,30,4],[30,5,30,6],[31,1,31,4],[31,5,31,6],[24,1,24,4],[24,5,24,6],[25,1,25,4],[25,5,25,6],[26,1,26,4],[26,5,26,6],[19,1,19,2],[19,3,19,4],[19,5,19,6],[21,0,21,6],[22,0,22,6],[23,0,23,6],[13,1,13,4],[13,5,13,6],[14,1,14,4],[14,5,14,6],[16,0,16,6],[18,0,18,2],[18,3,18,4],[18,5,18,6],[5,0,5,6],[7,0,9,6],[11,1,11,4],[11,5,11,6],[12,1,12,4],[12,5,12,6],[0,0,0,6],[1,0,1,6],[3,0,3,3],[3,4,3,6],[4,0,4,3],[4,4,4,6]]}
[]
["PLANILHA DE CUSTOS E FORMAÇÃO DE PREÇOS"]
[]
["Nº Processo"]
["Licitação Nº"]
["Dia ___/___/___ às ___:___ horas"]
[]
["Contratação dos serviços de operação de escavadeira hidráulica"]
[]
[]
[]
["A","Data de apresentação da proposta (dia/mês/ano) "]
["B","Município/UF",null,null,null,"Aracaju/SE"]
["C","Ano Acordo, Convenção ou Sentença Normativa em Dissídio Coletivo",null,null,null,".2023"]
["D","Nº de meses de execução contratual",null,null,null,1]
[]
["Identificação do Serviço"]
[]
["Tipo de Seviço",null,null,"Unidade de medida",null,"Quantidade total a contratar"]
["I","Ajudante Comum",null,1,null,1]
[]
["Anexo II - A - Mão-de Obra"]
["Mão-de-obra vincula à execução contratual"]
["Dados complementares para composição dos custos referente à mão-de-obra"]
[1,"Tipo de serviço",null,null,null,"Ajudante Comum"]
[2,"Salário sem encargos (SINDUSCON/2023)",null,null,null,1320]
[3,"Categoria profissional",null,null,null,"Ajudante Comum"]
[4,"Data-base da categoria",null,null,null,"1º de março"]
[]
["MÓDULO 1 : COMPOSIÇÃO DA REMUNERAÇÃO"]
[1,"Composição da remuneração",null,null,null,"Valor (R$)"]
["A","Salário Base",null,null,null,{"$f":"F26","v":1320}]
["B","Risco Profissional (30%)",null,null,null,0]
["C","Produtividade (6%)",null,null,null,0]
["D","Adicional Noturno (25%)",null,null,null,0]
["E","Descanso Semanal Remunerado",null,null,null,{"$f":"F37*20%","v":0}]
["F","Intervalo Intrajornada (CLT)",null,null,null,0]
["G","Hora Feriado (CLT)",null,null,null,{"$f":"(F32+F33+F34)/220*10/2","v":30}]
["Total da Remuneração",{"$nulls":4},{"$f":"SUM(F32:G38)","v":1350}]
[]
["MÓDULO 2 : BENEFÍCIOS MENSAIS E DIÁRIOS"]
[2,"Benefícios mensais e diários",null,null,null,"Valor (R$)"]
["A","Transporte (de responsabilidade da CODEVASF)",null,null,null,0]
["B","Auxílio alimentação - Cesta Básica (SINDUSCON 2023)",null,null,null,175]
["C","Assistência médica e familiar ",null,null,null,0]
["D","Auxílio creche",null,null,null,0]
["E","Seguro de vida, invalidez e funeral (SINAPI 40864)",null,null,null,12.89]
["F","Exames (SINAPI 40863)",null,null,null,215.56]
["Total de benefícios mensais e diários",{"$nulls":4},{"$f":"SUM(F43:G48)","v":403.45}]
[]
["MÓDULO 3 : INSUMOS DIVERSOS"]
[3,"Insumos Diversos",null,null,null,"Valor (R$)"]
["A","EPI (SINAPI 43503)",null,null,null,235.5]
["B","Fardamento (ORSE 00941) - (2 unid x R$ 190,46)/12= R$ 31,74",null,null,null,{"$f":"2*190.46/12","v":31.743333333333336}]
["C","Cursos",null,null,null,0]
["D","Outros (especificar)",null,null,null,0]
["Total de insumos diversos",{"$nulls":4},{"$f":"SUM(F53:G56)","v":267.24333333333334}]
[]
["MÓDULO 4: ENCARGOS SOCIAIS E TRABALHISTAS"]
[]
["Submódulo 4.1 - Encargos previdenciários e FGTS"]
[]
["4.1","Encargos Previdenciários e FGTS (GRUPO A)",null,null,null,"%","Valor (R$)"]
["A","INSS",null,null,null,0.2,{"$f":"F$39*F64","v":270}]
["B","SESI/SESC",null,null,null,1.4999999999999999E-2,20.25]
["C","SENAI/SENAC",null,null,null,0.01,13.5]
["D","INCRA",null,null,null,2E-3,2.7]
["E","Salário Educação",null,null,null,2.5000000000000001E-2,33.75]
["F","FGTS",null,null,null,0.08,108]
["G","Seguro acidente de trabalho",null,null,null,0.03,40.5]
["H","SEBRAE",null,null,null,6.0000000000000001E-3,8.1]
["TOTAL",{"$nulls":4},{"$f":"SUM(F64:F71)","v":0.3680000000000001},{"$f":"SUM(G64:G71)","v":496.8}]
[]
["Submódulo 4.2 - 13º Salário e Adicional de Férias"]
[]
["4.2","13º Salário e Adicional de Férias (GRUPO B)",null,null,null,"%","Valor (R$)"]
["A","13º Salário ",null,null,null,8.3299999999999999E-2,{"$f":"$F$39*F77","v":112.455}]
["B","Férias gozadas",null,null,null,6.2399999999999997E-2,{"$f":"($F$39*F78)","v":84.24}]
["C","Auxílio enfermidade",null,null,null,6.8999999999999999E-3,{"$f":"$F$39*F79","v":9.3149999999999995}]
["D","Licença paternidade",null,null,null,5.9999999999999995E-4,{"$f":"$F$39*F80","v":0.80999999999999994}]
["E","Faltas justificadas",null,null,null,5.5999999999999999E-3,{"$f":"$F$39*F81","v":7.56}]
["F","Auxílio acidente de trabalho",null,null,null,8.9999999999999998E-4,{"$f":"$F$39*F82","v":1.2149999999999999}]
["G","Salário maternidade",null,null,null,2.0000000000000001E-4,{"$f":"$F$39*F83","v":0.27}]
["TOTAL",{"$nulls":4},{"$f":"SUM(F77:F83)","v":0.15989999999999999},{"$f":"SUM(G77:G83)","v":215.86500000000001}]
[]
["Submódulo 4.3 - Provisão para Rescisão"]
[]
["4.3","Provisão para Rescisão (GRUPO C)",null,null,null,"%","Valor (R$)"]
["A","Aviso prévio indenizado ",null,null,null,3.7100000000000001E-2,{"$f":"$F$39*F89","v":50.085000000000001}]
["B","Aviso prévio trabalhado ",null,null,null,8.9999999999999998E-4,{"$f":"$F$39*F90","v":1.2149999999999999}]
["C","Férias indenizadas + 1/3",null,null,null,3.7499999999999999E-2,{"$f":"$F$39*F91","v":50.625}]
["D","Depósito rescisão sem justa causa",null,null,null,3.61E-2,{"$f":"$F$39*F92","v":48.734999999999999}]
["E","Indenização adicional",null,null,null,3.0999999999999999E-3,{"$f":"$F$39*F93","v":4.1849999999999996}]
["TOTAL",{"$nulls":4},{"$f":"SUM(F89:F93)","v":0.11470000000000001},{"$f":"SUM(G89:G93)","v":154.845}]
[]
["Submódulo 4.4 - GRUPO D"]
[]
["4.4","GRUPO D",null,null,null,"%","Valor (R$)"]
["A","Reincidência do Grupo A sobre o Grupo B",null,null,null,6.0400000000000002E-2,{"$f":"F39*F99","v":81.540000000000006}]
["B","Reincidência do Grupo A sobre Aviso Prévio Trabalhado e Reincidência do FGTS sobre o Aviso Prévio Indenizado",null,null,null,3.3E-3,{"$f":"F39*F100","v":4.4550000000000001}]
["TOTAL",{"$nulls":4},{"$f":"SUM(F99:F100)","v":6.3700000000000007E-2},{"$f":"SUM(G99:G100)","v":85.995000000000005}]
[]
["Quadro - resumo - Módulo 4 - Encargos sociais e trabalhistas"]
[]
[4,"Módulo 4 - Encargos sociais e trabalhistas",null,null,null,"%","Valor (R$)"]
["4.1","Encargos Previdenciários e FGTS (GRUPO A)",null,null,null,{"$f":"F72","v":0.3680000000000001},{"$f":"ROUND(F39*F106,2)","v":496.8}]
["4.2","13º Salário e Adicional de Férias (GRUPO B)",null,null,null,{"$f":"F84","v":0.15989999999999999},{"$f":"F39*F107","v":215.86499999999998}]
["4.3","Provisão para Rescisão (GRUPO C)",null,null,null,{"$f":"F94","v":0.11470000000000001},{"$f":"F108*F39","v":154.84500000000003}]
["4.4","GRUPO D",null,null,null,{"$f":"F101","v":6.3700000000000007E-2},{"$f":"F109*F39","v":85.995000000000005}]
["TOTAL",{"$nulls":4},{"$f":"SUM(F106:F109)","v":0.70630000000000004},{"$f":"ROUND(SUM(G106:G109),2)","v":953.51}]
[]
[]
[]
[]
["MÓDULO 5 - CUSTOS INDIRETOS, TRIBUTOS E LUCRO"]
[]
[5,"Custos Indiretos, Tributos e Lucro",null,null,null,"%","Valor (R$)"]
["A","Custos Indiretos - Despesas Administrativas",null,null,null,0.06,{"$f":"ROUND(F133*F118,2)","v":178.45}]
["B","Tributos",null,null,null,{"$f":"SUM(F120:F122)","v":0.16619999999999999},{"$f":"SUM(G120:G122)","v":559.54999999999995},{"$f":"G119/F135","v":0.14251475959309878}]
[null,"B.1 Tributos Federais (PIS: 1,65%) (COFINS: 7,60%)",null,null,null,0.1079,{"$f":"ROUND(F120*(F133+G118+G123),2)","v":363.27},{"$f":"G120/F135","v":9.2523164538262884E-2}]
[null,"B.2 Tributos Estaduais",null,null,null,"0,00%",0]
[null,"B.3 Tributos Municipais (ISS: 5,00%)",null,null,null,5.8299999999999998E-2,{"$f":"ROUND(F122*(F133+G118+G123),2)","v":196.28},{"$f":"G122/F135","v":4.9991595054835906E-2}]
["C","Lucro",null,null,null,6.7900000000000002E-2,{"$f":"ROUND(F123*(F133+G118),2)","v":214.06}]
["TOTAL",{"$nulls":4},{"$f":"G124/F133","v":0.32010624705803242},{"$f":"ROUND(G118+G119+G123,2)","v":952.06}]
[]
["Anexo II - B - Quadro-resumo do Custo por Empregado"]
[]
["Mão-de-obra vinculada à execução contratual (valor por empregado)",{"$nulls":4},"Valor (R$)"]
["A","Módulo 1 – Composição da Remuneração",null,null,null,{"$f":"ROUND(F39,2)","v":1350}]
["B","Módulo 2 – Benefícios Mensais e Diários",null,null,null,{"$f":"F49","v":403.45}]
["C","Módulo 3 – Insumos Diversos (uniformes, materiais, equip. e outros)",null,null,null,{"$f":"F57","v":267.24333333333334}]
["D","Módulo 4 – Encargos Sociais e Trabalhistas",null,null,null,{"$f":"G110","v":953.51}]
[null,"Subtotal (A + B +C+ D)",null,null,null,{"$f":"ROUND(SUM(F129:G132),2)","v":2974.2}]
["E","Módulo 5 – Custos indiretos, tributos e lucro",null,null,null,{"$f":"G124","v":952.06}]
["Valor total por empregado",{"$nulls":4},{"$f":"F133+F134","v":3926.2599999999998}]
[]
["Anexo III - C - Quadro-resumo - VALOR MENSAL DOS SERVIÇOS"]
[]
["Tipo de",null,"Valor proposto ","Qtde de  ","Valor proposto","Qtde total de ","Valor total"]
["Serviço",null,"por ","empregados","por posto","empregados","do serviço"]
["(A)",null,"empregado (B)",null,"(D) = (B x C)","(E)","(F) = (D x E)"]
["I","Ajudante Comum",{"$f":"F135","v":3926.2599999999998},1,{"$f":"C142","v":3926.2599999999998},1,{"$f":"E142*F142","v":3926.2599999999998}]
["Valor Mensal dos serviços",{"$nulls":5},{"$f":"G142","v":3926.2599999999998}]
[]
["Anexo III - D - Quadro - demonstrativo - VALOR GLOBAL DA PROPOSTA"]
[]
["Valor Global da Proposta"]
[null,"Descrição",null,null,null,"Valor (R$)"]
["A","Valor proposto por unidade de medida",null,null,null,{"$f":"E142","v":3926.2599999999998}]
["B","Valor mensal do serviço",null,null,null,{"$f":"G143","v":3926.2599999999998}]
["C","Valor global da proposta (valor pelo período do contrato - doze meses)",null,null,null,{"$f":"F150*12","v":47115.119999999995}]