{"text_format":"2","workbook":"xlsx","n_sheets":9,"sheets":["Memória","PFP","PFP2.1_FatorKa","PFP2.2_FatorKb","PFP2.3_FatorKc","PFP3_FatorKd","CRO1_Ins-Pro","Cotação ","VEÍCULO LEVE"],"not_rendered":{"charts":0,"images":4,"macros":0,"external_links":3,"defined_names":104,"comments":0,"pivot_tables":0},"unopened":[],"bounds":{"document_bytes":16777216,"sheet_cells":100000,"run_cost":"one","rows_first":2000,"rows_last":500,"rows_between":2000,"halvings":0,"cell_chars":16384,"cell_head_chars":4096},"cells_cut":0,"cells_raw":0,"read":"whole","date_system":"1900"}

{"sheet":"Memória","index":0,"n_rows":31,"n_cols":4,"rows_kept":31,"cut":false,"hidden":false,"merged":[[4,0,5,3],[6,0,6,3],[17,0,17,3],[20,0,20,3],[24,0,24,3],[9,0,9,3]]}
["Ministério da Integração e do Desenvolvimento Regional - MIDR"]
["Companhia de Desenvolvimento dos Vales do São Francisco e do Parnaíba"]
["5ª Superintendência Regional \n"]
[]
["MEMORIAL DOS SERVIÇOS"]
[]
["EQUIPE TÉCNICA"]
["Celetistas","Quantidade","Tempo \n(meses)","Total"]
["Coordenador - Engenheiro Ambiental Pleno",1,12,{"$f":"B9*C9","v":12}]
[]
["Biólogo Pleno",1,12,{"$f":"B11*C11","v":12}]
["Geógrafo Pleno",1,12,{"$f":"B12*C12","v":12}]
[]
["Autônomos","Quantidade","Horas","Total"]
["Advogado Pleno",1,40,{"$f":"B15*C15","v":40}]
["Contador Pleno",1,30,{"$f":"B16*C16","v":30}]
["Técnico Ambiental",1,1200,{"$f":"B17*C17","v":1200}]
["ALIMENTAÇÃO"]
[null,"Quantidade","Tempo \n(meses)","Total"]
["Vale-alimentação ",3,12,{"$f":"B20*C20","v":36}]
["DIÁRIAS PER NOITE"]
[null,"Quant / mês","Tempo \n(meses)","Total"]
["Diárias per noite - Hospedagem",10,12,{"$f":"B23*C23","v":120}]
["Diárias per noite - Alimentação",10,12,{"$f":"B24*C24","v":120}]
["VEÍCULOS E EQUIPAMENTOS"]
[null,"Quantidade","Tempo \n(meses)","Total"]
["Fornecimento de veículo leve 75 CV ou superior, com ar-condicionado, incluindo despesas com combustível, óleos, conservação e manutenção",1,12,{"$f":"C27*B27","v":12}]
["Data Show",1,12,{"$f":"B28*C28","v":12}]
["Telefone (celular/internet) (3 unidades)",4,12,48]
["Locação - Notebook conforme especificação (3 unidades)",4,12,48]
["Material de consumo",4,12,{"$f":"B31*C31","v":48}]

{"sheet":"PFP","index":1,"n_rows":45,"n_cols":11,"rows_kept":45,"cut":false,"hidden":false,"merged":[[39,0,39,10],[40,0,40,10],[38,0,38,10],[36,0,36,10],[29,0,29,10],[35,0,35,10],[31,0,31,10],[37,0,37,10],[32,0,32,10],[26,0,26,6],[26,7,26,10],[27,0,27,6],[27,7,27,10],[34,0,34,10],[2,4,2,9],[28,7,28,10],[33,0,33,10],[28,0,28,6],[30,0,30,10],[4,0,5,8],[8,5,8,8],[4,9,4,10],[5,9,5,10],[8,9,8,10],[6,0,6,10],[7,0,7,10],[8,0,8,4],[9,9,9,10],[9,5,9,8],[9,0,9,4]]}
[{"$nulls":4},"Ministério da Integração e do Desenvolvimento Regional - MIDR"]
[{"$nulls":4},"Companhia de Desenvolvimento dos Vales do São Francisco e do Parnaíba"]
[{"$nulls":4},"5ª Superintendência Regional \n"]
[]
["PROPOSTA FINANCEIRA DO PROJETO",{"$nulls":8},"CODIGO:"]
[{"$nulls":9},"PFP"]
["NOME DA CONSULTORA:"]
[]
["PROJETO:",{"$nulls":4},"CONTRATANTE:",null,null,null,"BASE: novembro/2023"]
["Serviços de Capacitação para formação de Entidade Gestionária",{"$nulls":4},"CODEVASF ",null,null,null,"CODE: NOV/2023\nDNIT: JULHO/2023\nORSE: SETEMBRO/2023"]
["Base","Cod1","Cod2","Categoria / Insumo","Uni","Qde","CUD","PU","FatorK","CT","PT"]
["DNIT","MO1","P8058","Coordenador - Engenheiro Ambiental Pleno","mês",{"$f":"Memória!D9","v":12},11266.87,{"$f":"ROUND(I12*G12,2)","v":26206.74},{"$f":"PFP2.1_FatorKa!$E$40","v":2.3260000000000001},{"$f":"ROUND(F12*G12,2)","v":135202.44},{"$f":"ROUND(F12*H12,2)","v":314480.88}]
["DNIT","MO1","P8033","Biólogo Pleno","mês",{"$f":"Memória!D11","v":12},4233.8,{"$f":"ROUND(I13*G13,2)","v":9847.82},{"$f":"PFP2.1_FatorKa!$E$40","v":2.3260000000000001},{"$f":"ROUND(F13*G13,2)","v":50805.599999999999},{"$f":"ROUND(F13*H13,2)","v":118173.84}]
["DNIT","MO1","P8184","Geógrafo Pleno","mês",{"$f":"Memória!D12","v":12},4555.45,{"$f":"ROUND(I14*G14,2)","v":10595.98},{"$f":"PFP2.1_FatorKa!$E$40","v":2.3260000000000001},{"$f":"ROUND(F14*G14,2)","v":54665.4},{"$f":"ROUND(F14*H14,2)","v":127151.76}]
["DNIT","MO1","P8002","Advogado Pleno com encargos complementares e adicionais","H",{"$f":"Memória!D15","v":40},{"$f":"(5709.05+702.89+3.02+287.2+9.98+24.8)/176","v":38.278068181818185},64.89,{"$f":"PFP2.2_FatorKb!E39","v":1.6953},1531.12,2595.6]
["DNIT","MO1","P8041","Contador Pleno com encargos complementares e adicionais","H",{"$f":"Memória!D16","v":30},{"$f":"(5375.95+702.89+2.61+287.2+9.98)/176","v":36.242215909090902},61.44,{"$f":"PFP2.2_FatorKb!E39","v":1.6953},1087.27,1843.2]
["DNIT","MO1","P8143","Técnico Ambiental com encargos complementares e adicionais","H",{"$f":"Memória!D17","v":1200},{"$f":"(2719.96+702.89+27.8+5.45+287.2+9.98+55.83)/176","v":21.642670454545453},{"$f":"ROUND(I17*G17,2)","v":36.69},{"$f":"PFP2.2_FatorKb!E39","v":1.6953},{"$f":"ROUND(F17*G17,2)","v":25971.200000000001},{"$f":"ROUND(F17*H17,2)","v":44028}]
["DNIT","EC","E1","Encargos Complementares e Adicionais (3 profissionais)","mês",{"$f":"SUM(F12:F14)","v":36},{"$f":"3.77+287.2+9.98+24.8","v":325.75},409.08,{"$f":"PFP3_FatorKd!$E$20","v":1.2558},{"$f":"ROUND(F18*G18,2)","v":11727},{"$f":"ROUND(F18*H18,2)","v":14726.88}]
["DNIT","DA","V1","Vale-alimentação (3 profissionais)","mês",36,702.89,{"$f":"ROUND(I19*G19,2)","v":882.69},{"$f":"PFP3_FatorKd!$E$20","v":1.2558},25304.04,31776.84]
["CODE","DP","V2","Diárias per noite - Hospedagem","dia",120,218.1,273.89,{"$f":"PFP3_FatorKd!$E$20","v":1.2558},26172,32866.800000000003]
["CODE","DA","V3","Diárias per noite - Alimentação","dia",120,{"$f":"87/2","v":43.5},{"$f":"ROUND(I21*G21,2)","v":54.63},{"$f":"PFP3_FatorKd!$E$20","v":1.2558},5220,6555.6]
["CODE",{"$f":"'VEÍCULO LEVE'!B5","v":"CCU\nVEÍCULO"},"V4","Fornecimento de veículo leve 75 CV ou superior, com ar-condicionado, incluindo despesas com combustível, óleos, conservação e manutenção ","mês",{"$f":"Memória!D27","v":12},{"$f":"'VEÍCULO LEVE'!D49","v":4569.9256946906389},{"$f":"ROUND(I22*G22,2)","v":5738.91},{"$f":"PFP3_FatorKd!$E$20","v":1.2558},54839.11,68866.92]
["COTAÇÃO","COT","LO","Locação - Data Show conforme especificação (1 unidades)","Unid. x Mês",12,{"$f":"'Cotação '!B9","v":292.60500000000002},{"$f":"ROUND(I23*G23,2)","v":367.45},{"$f":"PFP3_FatorKd!$E$20","v":1.2558},{"$f":"ROUND(F23*G23,2)","v":3511.26},{"$f":"ROUND(F23*H23,2)","v":4409.3999999999996}]
["ORSE","LO",10558,"Telefone (celular/internet) (4 unidades)","Unid. x Mês",48,89,{"$f":"ROUND(I24*G24,2)","v":111.77},{"$f":"PFP3_FatorKd!$E$20","v":1.2558},{"$f":"ROUND(F24*G24,2)","v":4272},{"$f":"ROUND(F24*H24,2)","v":5364.96}]
["COTAÇÃO","COT","LO","Locação - Notebook conforme especificação (4 unidades)","Unid. x Mês",48,{"$f":"'Cotação '!B15","v":340},{"$f":"ROUND(I25*G25,2)","v":426.97},{"$f":"PFP3_FatorKd!$E$20","v":1.2558},{"$f":"ROUND(F25*G25,2)","v":16320},{"$f":"ROUND(F25*H25,2)","v":20494.560000000001}]
["DNIT","EM","B8959","Material de Consumo","ocupante x Mês",48,132.91999999999999,166.92,{"$f":"PFP3_FatorKd!$E$20","v":1.2558},{"$f":"ROUND(F26*G26,2)","v":6380.16},{"$f":"ROUND(F26*H26,2)","v":8012.16}]
["TOTAL DOS CUSTOS DIRETOS",{"$nulls":6},{"$f":"SUM(J12:J26)","v":423008.59999999992}]
["TOTAL DOS ENCARGOS E DISPESAS DIVERSAS",{"$nulls":6},{"$f":"H29-H27","v":378338.8000000001}]
["TOTAL DA PROPOSTA",{"$nulls":6},{"$f":"SUM(K12:K26)","v":801347.4}]
["OBSERVAÇÃO:"]
["Alocar os Insumos MO, com respectivo FatorK, dentro da categoria de vínculo contratual (com ou sem) de cada tipo de profissional"]
["Uni - unidade de medição do insumo;"]
["Qde - Quantidade do Insumo (não pode ocorrer alteração pela Licitante)"]
["CUD - Custo Unitário Direto do Insumo (sem encargos, taxas e impostos, valor não pode ser maior que o Orçado pela Codevasf)"]
["CT - Custo Total (sem encargos, taxas e impostos) - CT = Qde x CUD"]
["FatorK - Taxa de Ressarcimento de Despesas e Encargos (detalhar composição nas Planilhas \"PFP2.1\", \"PFP2.2\", \"PFP2.3\", \"PFP3\")"]
["PU - Preço Unitário do Insumo (incluído encargos, taxas e impostos) - PU = CUD x FatorK"]
["PT - Preço Total do Insumo (incluído encargos, taxas e impostos) - PT = Qde x PU"]
["Profissionais devem ter experiência em Gestão Ambiental"]
["Encargos complementares e adicionais contempla: assistência médica, seguro de vida, exame ocupacional e EPI's. Preços de referência do SICRO (P8147)."]
["Os valores de diárias e alimentação foram retirados do anexo da N-201 da CODEVASF"]
["COT - Cotação de preço de mercado LO- Locação"]
["MO1 - Mão de obra sobre regime de Celetista, encargos calculados via FatorKa"]
["MO2 - Mão de obra sobre regime de Autônomo, encargos calculados via FatorKb"]
["MO3 - Mão de obra sobre regime de Societários, encargos calculados via FatorKc"]

{"sheet":"PFP2.1_FatorKa","index":2,"n_rows":45,"n_cols":6,"rows_kept":45,"cut":false,"hidden":false,"merged":[[21,1,21,3],[12,1,12,3],[17,1,17,3],[18,1,18,3],[19,1,19,3],[14,1,14,3],[15,1,15,3],[16,1,16,3],[20,1,20,3],[13,1,13,3],[36,1,36,3],[38,1,38,3],[39,1,39,3],[22,1,22,3],[23,1,23,3],[24,1,24,3],[25,1,25,3],[27,1,27,3],[28,1,28,3],[4,0,5,4],[6,0,6,5],[9,0,9,1],[9,2,9,4],[8,2,8,4],[7,0,7,5],[9,5,9,6],[10,1,10,3],[11,1,11,3],[2,2,2,7],[44,0,44,5],[43,0,43,5],[42,0,42,5],[41,0,41,5],[26,1,26,3],[33,1,33,3],[34,1,34,3],[32,1,32,3],[29,1,29,3],[30,1,30,3],[31,1,31,3],[37,1,37,3],[35,1,35,3]]}
[null,null,"Ministério da Integração e do Desenvolvimento Regional - MIDR"]
[null,null,"Companhia de Desenvolvimento dos Vales do São Francisco e do Parnaíba"]
[null,null,"5ª Superintendência Regional \n"]
[]
["DETALHAMENTO DOS ENCARGOS SOCIAIS: Ka",{"$nulls":4},"CODIGO:"]
[{"$nulls":5},"PFP-2.1"]
["NOME DA CONSULTORA:"]
[]
["PROJETO:",null,"CONTRATANTE:",null,null,{"$f":"PFP!J9","v":"BASE: novembro/2023"}]
[{"$f":"PFP!A10","v":"Serviços de Capacitação para formação de Entidade Gestionária"},null,"CODEVASF",null,null,{"$f":"PFP!J10","v":"CODE: NOV/2023\nDNIT: JULHO/2023\nORSE: SETEMBRO/2023"}]
["Cod","DESCRIÇÃO",null,null,"%","R$"]
["A","ENCARGOS SOCIAIS BÁSICOS",null,null,{"$f":"ROUND(SUM(E13:E21),4)","v":0.36799999999999999},{"$f":"ROUND(E12*SUMIF(PFP!$B$12:$B$26,\"MO1\",PFP!$J$12:$J$26),2)","v":99088.8}]
["A1","INSS",null,null,0.2,{"$f":"ROUND(E13*SUMIF(PFP!$B$12:$B$26,\"MO1\",PFP!$J$12:$J$26),2)","v":53852.61}]
["A2","SESI",null,null,1.4999999999999999E-2,{"$f":"ROUND(E14*SUMIF(PFP!$B$12:$B$26,\"MO1\",PFP!$J$12:$J$26),2)","v":4038.95}]
["A3","SENAI",null,null,0.01,{"$f":"ROUND(E15*SUMIF(PFP!$B$12:$B$26,\"MO1\",PFP!$J$12:$J$26),2)","v":2692.63}]
["A4","INCRA",null,null,2E-3,{"$f":"ROUND(E16*SUMIF(PFP!$B$12:$B$26,\"MO1\",PFP!$J$12:$J$26),2)","v":538.53}]
["A5","SEBRAE",null,null,6.0000000000000001E-3,{"$f":"ROUND(E17*SUMIF(PFP!$B$12:$B$26,\"MO1\",PFP!$J$12:$J$26),2)","v":1615.58}]
["A6","Salário Educação",null,null,2.5000000000000001E-2,{"$f":"ROUND(E18*SUMIF(PFP!$B$12:$B$26,\"MO1\",PFP!$J$12:$J$26),2)","v":6731.58}]
["A7","Seguro Contra Acidentes de Trabalho",null,null,0.03,{"$f":"ROUND(E19*SUMIF(PFP!$B$12:$B$26,\"MO1\",PFP!$J$12:$J$26),2)","v":8077.89}]
["A8","FGTS",null,null,0.08,{"$f":"ROUND(E20*SUMIF(PFP!$B$12:$B$26,\"MO1\",PFP!$J$12:$J$26),2)","v":21541.040000000001}]
["A9","SECONCI",null,null,null,{"$f":"ROUND(E21*SUMIF(PFP!$B$12:$B$26,\"MO1\",PFP!$J$12:$J$26),2)","v":0}]
["B"," ENCARGOS SOCIAIS QUE RECEBEM INCIDÊNCIA DE \"A\"",null,null,{"$f":"ROUND(SUM(E23:E29),4)","v":0.18110000000000001},{"$f":"ROUND(E22*SUMIF(PFP!$B$12:$B$26,\"MO1\",PFP!$J$12:$J$26),2)","v":48763.53}]
["B3","Auxílio Enfermidade",null,null,6.6E-3,{"$f":"ROUND(E23*SUMIF(PFP!$B$12:$B$26,\"MO1\",PFP!$J$12:$J$26),2)","v":1777.14}]
["B4","13º Salário",null,null,8.3299999999999999E-2,{"$f":"ROUND(E24*SUMIF(PFP!$B$12:$B$26,\"MO1\",PFP!$J$12:$J$26),2)","v":22429.61}]
["B5","Licença Paternidade",null,null,5.0000000000000001E-4,{"$f":"ROUND(E25*SUMIF(PFP!$B$12:$B$26,\"MO1\",PFP!$J$12:$J$26),2)","v":134.63}]
["B6","Faltas Justificadas",null,null,5.5999999999999999E-3,{"$f":"ROUND(E26*SUMIF(PFP!$B$12:$B$26,\"MO1\",PFP!$J$12:$J$26),2)","v":1507.87}]
["B8","Auxílio Acidente de Trabalho",null,null,8.0000000000000004E-4,{"$f":"ROUND(E27*SUMIF(PFP!$B$12:$B$26,\"MO1\",PFP!$J$12:$J$26),2)","v":215.41}]
["B9","Férias Gozadas",null,null,8.4000000000000005E-2,{"$f":"ROUND(E28*SUMIF(PFP!$B$12:$B$26,\"MO1\",PFP!$J$12:$J$26),2)","v":22618.09}]
["B10","Salário Maternidade",null,null,2.9999999999999997E-4,{"$f":"ROUND(E29*SUMIF(PFP!$B$12:$B$26,\"MO1\",PFP!$J$12:$J$26),2)","v":80.78}]
["C"," ENCARGOS SOCIAIS QUE NÃO RECEBEM INCIDÊNCIA DE \"A\"",null,null,{"$f":"ROUND(SUM(E31:E35),4)","v":8.3400000000000002E-2},{"$f":"ROUND(E30*SUMIF(PFP!$B$12:$B$26,\"MO1\",PFP!$J$12:$J$26),2)","v":22456.54}]
["C1","Aviso Prévio Indenizado",null,null,3.6200000000000003E-2,{"$f":"ROUND(E31*SUMIF(PFP!$B$12:$B$26,\"MO1\",PFP!$J$12:$J$26),2)","v":9747.32}]
["C2","Aviso Prévio Trabalhado",null,null,8.9999999999999998E-4,{"$f":"ROUND(E32*SUMIF(PFP!$B$12:$B$26,\"MO1\",PFP!$J$12:$J$26),2)","v":242.34}]
["C3","Férias Indenizadas",null,null,2.24E-2,{"$f":"ROUND(E33*SUMIF(PFP!$B$12:$B$26,\"MO1\",PFP!$J$12:$J$26),2)","v":6031.49}]
["C4","Depósito Rescisão Sem Justa Causa",null,null,2.0899999999999998E-2,{"$f":"ROUND(E34*SUMIF(PFP!$B$12:$B$26,\"MO1\",PFP!$J$12:$J$26),2)","v":5627.6}]
["C5","Indenização Adicional",null,null,3.0000000000000001E-3,{"$f":"ROUND(E35*SUMIF(PFP!$B$12:$B$26,\"MO1\",PFP!$J$12:$J$26),2)","v":807.79}]
["D"," REINCIDÊNCIAS",null,null,{"$f":"ROUND(SUM(E37:E38),4)","v":6.9800000000000001E-2},{"$f":"ROUND(E36*SUMIF(PFP!$B$12:$B$26,\"MO1\",PFP!$J$12:$J$26),2)","v":18794.560000000001}]
["D1","Reincidência de \"A\" sobre \"B\"",null,null,{"$f":"ROUND(E12*E22,4)","v":6.6600000000000006E-2},{"$f":"ROUND(E37*SUMIF(PFP!$B$12:$B$26,\"MO1\",PFP!$J$12:$J$26),2)","v":17932.919999999998}]
["D2","Reincidência de \"A\" sobre Aviso Prévio Trabalhado e reincidência do FGTS sobre Aviso Prévio Indenizado",null,null,{"$f":"ROUND((E32*E12)+(E31*E20),4)","v":3.2000000000000002E-3},{"$f":"ROUND(E38*SUMIF(PFP!$B$12:$B$26,\"MO1\",PFP!$J$12:$J$26),2)","v":861.64}]
["K1","ENCARGOS SOCIAIS",null,null,{"$f":"ROUND(E12+E22+E30+E36,4)","v":0.70230000000000004},{"$f":"ROUND(E39*SUMIF(PFP!$B$12:$B$26,\"MO1\",PFP!$J$12:$J$26),2)","v":189103.43}]
["Ka","TAXA DE RESSARCIMENTO DE DESPESAS E ENCARGOS SOBRE MO1",null,null,{"$f":"ROUND((1+E39+PFP3_FatorKd!E16)*(1+PFP3_FatorKd!E15)*(1+PFP3_FatorKd!E11),4)","v":2.3260000000000001}]
["OBSERVAÇÃO: MO1 CELETISTAS"]
["1 - DISCRIMINAR OS ENCARGOS SOCIAIS COM SEUS RESPECTIVOS PERCENTUAS TOTALIZANDO OS MESMOS. "]
["2 - APLICAR O  % TOTAL P/ CALCULAR OS E. SOCIAIS INCIDENTES NA MÃO-DE-OBRA - CELETISTAS"]
["Ka - Taxa de Ressarcimento de Despesas e Encargos sobre a Mão de Obra CELETISTAS (incide apenas no Insumo Codigo MO1)"]
["Ka = (1 + K1 + K2) x (1 + K3) x (1 + K4)"]

{"sheet":"PFP2.2_FatorKb","index":3,"n_rows":44,"n_cols":6,"rows_kept":44,"cut":false,"hidden":false,"merged":[[22,1,22,3],[3,0,4,4],[5,0,5,5],[6,0,6,5],[7,2,7,4],[8,0,8,1],[8,2,8,4],[10,1,10,3],[20,1,20,3],[21,1,21,3],[11,1,11,3],[12,1,12,3],[13,1,13,3],[19,1,19,3],[9,1,9,3],[15,1,15,3],[43,0,43,5],[40,0,40,5],[41,0,41,5],[42,0,42,5],[35,1,35,3],[36,1,36,3],[37,1,37,3],[38,1,38,3],[34,1,34,3],[23,1,23,3],[24,1,24,3],[25,1,25,3],[26,1,26,3],[27,1,27,3],[28,1,28,3],[29,1,29,3],[30,1,30,3],[31,1,31,3],[32,1,32,3],[33,1,33,3],[2,2,2,7],[8,5,8,6],[16,1,16,3],[17,1,17,3],[18,1,18,3],[14,1,14,3]]}
[null,null,"Ministério da Integração e do Desenvolvimento Regional - MIDR"]
[null,null,"Companhia de Desenvolvimento dos Vales do São Francisco e do Parnaíba"]
[null,null,"5ª Superintendência Regional \n"]
["DETALHAMENTO DOS ENCARGOS SOCIAIS: Kb",{"$nulls":4},"CODIGO:"]
[{"$nulls":5},"PFP-2.2"]
["NOME DA CONSULTORA:"]
[]
["PROJETO:",null,"CONTRATANTE:",null,null,{"$f":"PFP!J9","v":"BASE: novembro/2023"}]
[{"$f":"PFP!A10","v":"Serviços de Capacitação para formação de Entidade Gestionária"},null,"CODEVASF ",null,null,{"$f":"PFP!J10","v":"CODE: NOV/2023\nDNIT: JULHO/2023\nORSE: SETEMBRO/2023"}]
["Cod","DESCRIÇÃO",null,null,"%","R$"]
["A","ENCARGOS SOCIAIS BÁSICOS",null,null,{"$f":"ROUND(SUM(E12:E20),4)","v":0.2},{"$f":"ROUND(E11*SUMIF(PFP!$B$12:$B$26,\"MO2\",PFP!$J$12:$J$26),2)","v":0}]
["A1","INSS",null,null,0,{"$f":"ROUND(E12*SUMIF(PFP!$B$12:$B$26,\"MO2\",PFP!$J$12:$J$26),2)","v":0}]
["A2","SESI",null,null,0,{"$f":"ROUND(E13*SUMIF(PFP!$B$12:$B$26,\"MO2\",PFP!$J$12:$J$26),2)","v":0}]
["A3","SENAI",null,null,0,{"$f":"ROUND(E14*SUMIF(PFP!$B$12:$B$26,\"MO2\",PFP!$J$12:$J$26),2)","v":0}]
["A4","INCRA",null,null,0,{"$f":"ROUND(E15*SUMIF(PFP!$B$12:$B$26,\"MO2\",PFP!$J$12:$J$26),2)","v":0}]
["A5","SEBRAE",null,null,0,{"$f":"ROUND(E16*SUMIF(PFP!$B$12:$B$26,\"MO2\",PFP!$J$12:$J$26),2)","v":0}]
["A6","Salário Educação",null,null,0,{"$f":"ROUND(E17*SUMIF(PFP!$B$12:$B$26,\"MO2\",PFP!$J$12:$J$26),2)","v":0}]
["A7","Seguro Contra Acidentes de Trabalho",null,null,0,{"$f":"ROUND(E18*SUMIF(PFP!$B$12:$B$26,\"MO2\",PFP!$J$12:$J$26),2)","v":0}]
["A8","FGTS",null,null,0.2,{"$f":"ROUND(E19*SUMIF(PFP!$B$12:$B$26,\"MO2\",PFP!$J$12:$J$26),2)","v":0}]
["A9","SECONCI",null,null,0,{"$f":"ROUND(E20*SUMIF(PFP!$B$12:$B$26,\"MO2\",PFP!$J$12:$J$26),2)","v":0}]
["B"," ENCARGOS SOCIAIS QUE RECEBEM INCIDÊNCIA DE \"A\"",null,null,{"$f":"ROUND(SUM(E22:E28),4)","v":0},{"$f":"ROUND(E21*SUMIF(PFP!$B$12:$B$26,\"MO2\",PFP!$J$12:$J$26),2)","v":0}]
["B3","Auxílio Enfermidade",null,null,0,{"$f":"ROUND(E22*SUMIF(PFP!$B$12:$B$26,\"MO2\",PFP!$J$12:$J$26),2)","v":0}]
["B4","13º Salário",null,null,0,{"$f":"ROUND(E23*SUMIF(PFP!$B$12:$B$26,\"MO2\",PFP!$J$12:$J$26),2)","v":0}]
["B5","Licença Paternidade",null,null,0,{"$f":"ROUND(E24*SUMIF(PFP!$B$12:$B$26,\"MO2\",PFP!$J$12:$J$26),2)","v":0}]
["B6","Faltas Justificadas",null,null,0,{"$f":"ROUND(E25*SUMIF(PFP!$B$12:$B$26,\"MO2\",PFP!$J$12:$J$26),2)","v":0}]
["B8","Auxílio Acidente de Trabalho",null,null,0,{"$f":"ROUND(E26*SUMIF(PFP!$B$12:$B$26,\"MO2\",PFP!$J$12:$J$26),2)","v":0}]
["B9","Férias Gozadas",null,null,0,{"$f":"ROUND(E27*SUMIF(PFP!$B$12:$B$26,\"MO2\",PFP!$J$12:$J$26),2)","v":0}]
["B10","Salário Maternidade",null,null,0,{"$f":"ROUND(E28*SUMIF(PFP!$B$12:$B$26,\"MO2\",PFP!$J$12:$J$26),2)","v":0}]
["C"," ENCARGOS SOCIAIS QUE NÃO RECEBEM INCIDÊNCIA DE \"A\"",null,null,{"$f":"ROUND(SUM(E30:E34),4)","v":0},{"$f":"ROUND(E29*SUMIF(PFP!$B$12:$B$26,\"MO2\",PFP!$J$12:$J$26),2)","v":0}]
["C1","Aviso Prévio Indenizado",null,null,0,{"$f":"ROUND(E30*SUMIF(PFP!$B$12:$B$26,\"MO2\",PFP!$J$12:$J$26),2)","v":0}]
["C2","Aviso Prévio Trabalhado",null,null,0,{"$f":"ROUND(E31*SUMIF(PFP!$B$12:$B$26,\"MO2\",PFP!$J$12:$J$26),2)","v":0}]
["C3","Férias Indenizadas",null,null,0,{"$f":"ROUND(E32*SUMIF(PFP!$B$12:$B$26,\"MO2\",PFP!$J$12:$J$26),2)","v":0}]
["C4","Depósito Rescisão Sem Justa Causa",null,null,0,{"$f":"ROUND(E33*SUMIF(PFP!$B$12:$B$26,\"MO2\",PFP!$J$12:$J$26),2)","v":0}]
["C5","Indenização Adicional",null,null,0,{"$f":"ROUND(E34*SUMIF(PFP!$B$12:$B$26,\"MO2\",PFP!$J$12:$J$26),2)","v":0}]
["D"," REINCIDÊNCIAS",null,null,{"$f":"ROUND(SUM(E36:E37),4)","v":0},{"$f":"ROUND(E35*SUMIF(PFP!$B$12:$B$26,\"MO2\",PFP!$J$12:$J$26),2)","v":0}]
["D1","Reincidência de \"A\" sobre \"B\"",null,null,{"$f":"ROUND(E11*E21,4)","v":0},{"$f":"ROUND(E36*SUMIF(PFP!$B$12:$B$26,\"MO2\",PFP!$J$12:$J$26),2)","v":0}]
["D2","Reincidência de \"A\" sobre Aviso Prévio Trabalhado e reincidência do FGTS sobre Aviso Prévio Indenizado",null,null,{"$f":"ROUND(E11*E31,4)+ROUND(E30*E14,4)","v":0},{"$f":"ROUND(E37*SUMIF(PFP!$B$12:$B$26,\"MO2\",PFP!$J$12:$J$26),2)","v":0}]
["K1","ENCARGOS SOCIAIS",null,null,{"$f":"ROUND(E11+E21+E29+E35,4)","v":0.2},{"$f":"ROUND(E38*SUMIF(PFP!$B$12:$B$26,\"MO2\",PFP!$J$12:$J$26),2)","v":0}]
["Kb","TAXA DE RESSARCIMENTO DE DESPESAS E ENCARGOS SOBRE MO2",null,null,{"$f":"ROUND((1+E38+PFP3_FatorKd!E16)*(1+PFP3_FatorKd!E15)*(1+PFP3_FatorKd!E11),4)","v":1.6953}]
["OBSERVAÇÃO: MO2 AUTÔNOMOS"]
["1 - DISCRIMINAR OS ENCARGOS SOCIAIS COM SEUS RESPECTIVOS PERCENTUAS TOTALIZANDO OS MESMOS. "]
["2 - APLICAR O % TOTAL P/ CALCULAR OS E. SOCIAIS INCIDENTES NA MÃO-DE-OBRA - AUTÔNOMOS"]
["Kb - Taxa de Ressarcimento de Despesas e Encargos sobre a Mão de Obra AUTONOMOS (incide apenas no Insumo Codigo MO2)"]
["Kb = (1 + K1 + K2) x (1 + K3) x (1 + K4)"]

{"sheet":"PFP2.3_FatorKc","index":4,"n_rows":44,"n_cols":6,"rows_kept":44,"cut":false,"hidden":false,"merged":[[40,0,40,5],[41,0,41,5],[42,0,42,5],[43,0,43,5],[33,1,33,3],[34,1,34,3],[35,1,35,3],[36,1,36,3],[37,1,37,3],[38,1,38,3],[32,1,32,3],[21,1,21,3],[22,1,22,3],[23,1,23,3],[24,1,24,3],[25,1,25,3],[26,1,26,3],[27,1,27,3],[28,1,28,3],[29,1,29,3],[30,1,30,3],[31,1,31,3],[8,0,8,1],[8,2,8,4],[8,5,8,6],[20,1,20,3],[9,1,9,3],[10,1,10,3],[11,1,11,3],[12,1,12,3],[13,1,13,3],[14,1,14,3],[15,1,15,3],[16,1,16,3],[17,1,17,3],[18,1,18,3],[19,1,19,3],[2,2,2,7],[3,0,4,4],[5,0,5,5],[6,0,6,5],[7,2,7,4]]}
[null,null,"Ministério da Integração e do Desenvolvimento Regional - MIDR"]
[null,null,"Companhia de Desenvolvimento dos Vales do São Francisco e do Parnaíba"]
[null,null,"5ª Superintendência Regional \n"]
["DETALHAMENTO DOS ENCARGOS SOCIAIS: Kb",{"$nulls":4},"CODIGO:"]
[{"$nulls":5},"PFP-2.2"]
["NOME DA CONSULTORA:"]
[]
["PROJETO:",null,"CONTRATANTE:",null,null,{"$f":"PFP!J9","v":"BASE: novembro/2023"}]
[{"$f":"PFP!A10","v":"Serviços de Capacitação para formação de Entidade Gestionária"},null,"CODEVASF ",null,null,{"$f":"PFP!J10","v":"CODE: NOV/2023\nDNIT: JULHO/2023\nORSE: SETEMBRO/2023"}]
["Cod","DESCRIÇÃO",null,null,"%","R$"]
["A","ENCARGOS SOCIAIS BÁSICOS",null,null,{"$f":"ROUND(SUM(E12:E20),4)","v":0},{"$f":"ROUND(E11*SUMIF(PFP!$B$12:$B$26,\"MO3\",PFP!$J$12:$J$26),2)","v":0}]
["A1","INSS",null,null,0,{"$f":"ROUND(E12*SUMIF(PFP!$B$12:$B$26,\"MO3\",PFP!$J$12:$J$26),2)","v":0}]
["A2","SESI",null,null,0,{"$f":"ROUND(E13*SUMIF(PFP!$B$12:$B$26,\"MO3\",PFP!$J$12:$J$26),2)","v":0}]
["A3","SENAI",null,null,0,{"$f":"ROUND(E14*SUMIF(PFP!$B$12:$B$26,\"MO3\",PFP!$J$12:$J$26),2)","v":0}]
["A4","INCRA",null,null,0,{"$f":"ROUND(E15*SUMIF(PFP!$B$12:$B$26,\"MO3\",PFP!$J$12:$J$26),2)","v":0}]
["A5","SEBRAE",null,null,0,{"$f":"ROUND(E16*SUMIF(PFP!$B$12:$B$26,\"MO3\",PFP!$J$12:$J$26),2)","v":0}]
["A6","Salário Educação",null,null,0,{"$f":"ROUND(E17*SUMIF(PFP!$B$12:$B$26,\"MO3\",PFP!$J$12:$J$26),2)","v":0}]
["A7","Seguro Contra Acidentes de Trabalho",null,null,0,{"$f":"ROUND(E18*SUMIF(PFP!$B$12:$B$26,\"MO3\",PFP!$J$12:$J$26),2)","v":0}]
["A8","FGTS",null,null,0,{"$f":"ROUND(E19*SUMIF(PFP!$B$12:$B$26,\"MO3\",PFP!$J$12:$J$26),2)","v":0}]
["A9","SECONCI",null,null,0,{"$f":"ROUND(E20*SUMIF(PFP!$B$12:$B$26,\"MO3\",PFP!$J$12:$J$26),2)","v":0}]
["B"," ENCARGOS SOCIAIS QUE RECEBEM INCIDÊNCIA DE \"A\"",null,null,{"$f":"ROUND(SUM(E22:E28),4)","v":0},{"$f":"ROUND(E21*SUMIF(PFP!$B$12:$B$26,\"MO3\",PFP!$J$12:$J$26),2)","v":0}]
["B3","Auxílio Enfermidade",null,null,0,{"$f":"ROUND(E22*SUMIF(PFP!$B$12:$B$26,\"MO3\",PFP!$J$12:$J$26),2)","v":0}]
["B4","13º Salário",null,null,0,{"$f":"ROUND(E23*SUMIF(PFP!$B$12:$B$26,\"MO3\",PFP!$J$12:$J$26),2)","v":0}]
["B5","Licença Paternidade",null,null,0,{"$f":"ROUND(E24*SUMIF(PFP!$B$12:$B$26,\"MO3\",PFP!$J$12:$J$26),2)","v":0}]
["B6","Faltas Justificadas",null,null,0,{"$f":"ROUND(E25*SUMIF(PFP!$B$12:$B$26,\"MO3\",PFP!$J$12:$J$26),2)","v":0}]
["B8","Auxílio Acidente de Trabalho",null,null,0,{"$f":"ROUND(E26*SUMIF(PFP!$B$12:$B$26,\"MO3\",PFP!$J$12:$J$26),2)","v":0}]
["B9","Férias Gozadas",null,null,0,{"$f":"ROUND(E27*SUMIF(PFP!$B$12:$B$26,\"MO3\",PFP!$J$12:$J$26),2)","v":0}]
["B10","Salário Maternidade",null,null,0,{"$f":"ROUND(E28*SUMIF(PFP!$B$12:$B$26,\"MO3\",PFP!$J$12:$J$26),2)","v":0}]
["C"," ENCARGOS SOCIAIS QUE NÃO RECEBEM INCIDÊNCIA DE \"A\"",null,null,{"$f":"ROUND(SUM(E30:E34),4)","v":0},{"$f":"ROUND(E29*SUMIF(PFP!$B$12:$B$26,\"MO3\",PFP!$J$12:$J$26),2)","v":0}]
["C1","Aviso Prévio Indenizado",null,null,0,{"$f":"ROUND(E30*SUMIF(PFP!$B$12:$B$26,\"MO3\",PFP!$J$12:$J$26),2)","v":0}]
["C2","Aviso Prévio Trabalhado",null,null,0,{"$f":"ROUND(E31*SUMIF(PFP!$B$12:$B$26,\"MO3\",PFP!$J$12:$J$26),2)","v":0}]
["C3","Férias Indenizadas",null,null,0,{"$f":"ROUND(E32*SUMIF(PFP!$B$12:$B$26,\"MO3\",PFP!$J$12:$J$26),2)","v":0}]
["C4","Depósito Rescisão Sem Justa Causa",null,null,0,{"$f":"ROUND(E33*SUMIF(PFP!$B$12:$B$26,\"MO3\",PFP!$J$12:$J$26),2)","v":0}]
["C5","Indenização Adicional",null,null,0,{"$f":"ROUND(E34*SUMIF(PFP!$B$12:$B$26,\"MO3\",PFP!$J$12:$J$26),2)","v":0}]
["D"," REINCIDÊNCIAS",null,null,{"$f":"ROUND(SUM(E36:E37),4)","v":0},{"$f":"ROUND(E35*SUMIF(PFP!$B$12:$B$26,\"MO3\",PFP!$J$12:$J$26),2)","v":0}]
["D1","Reincidência de \"A\" sobre \"B\"",null,null,{"$f":"ROUND(E11*E21,4)","v":0},{"$f":"ROUND(E36*SUMIF(PFP!$B$12:$B$26,\"MO3\",PFP!$J$12:$J$26),2)","v":0}]
["D2","Reincidência de \"A\" sobre Aviso Prévio Trabalhado e reincidência do FGTS sobre Aviso Prévio Indenizado",null,null,{"$f":"ROUND(E11*E31,4)+ROUND(E30*E14,4)","v":0},{"$f":"ROUND(E37*SUMIF(PFP!$B$12:$B$26,\"MO3\",PFP!$J$12:$J$26),2)","v":0}]
["K1","ENCARGOS SOCIAIS",null,null,{"$f":"ROUND(E11+E21+E29+E35,4)","v":0},{"$f":"ROUND(E38*SUMIF(PFP!$B$12:$B$26,\"MO3\",PFP!$J$12:$J$26),2)","v":0}]
["Kb","TAXA DE RESSARCIMENTO DE DESPESAS E ENCARGOS SOBRE MO3",null,null,{"$f":"ROUND((1+E38+PFP3_FatorKd!E16)*(1+PFP3_FatorKd!E15)*(1+PFP3_FatorKd!E11),4)","v":1.4440999999999999}]
["OBSERVAÇÃO: MO3 SOCIETÁRIOS"]
["1 - DISCRIMINAR OS ENCARGOS SOCIAIS COM SEUS RESPECTIVOS PERCENTUAS TOTALIZANDO OS MESMOS. "]
["2 - APLICAR O % TOTAL P/ CALCULAR OS E. SOCIAIS INCIDENTES NA MÃO-DE-OBRA - SOCIETÁRIOS"]
["Kc - Taxa de Ressarcimento de Despesas e Encargos sobre a Mão de Obra SOCIETÁRIOS (incide apenas no Insumo Codigo MO3)"]
["Kc = (1 + K1 + K2) x (1 + K3) x (1 + K4)"]

{"sheet":"PFP3_FatorKd","index":5,"n_rows":38,"n_cols":6,"rows_kept":38,"cut":false,"hidden":false,"merged":[[34,0,34,5],[13,1,13,2],[36,0,36,5],[37,0,37,5],[19,1,19,3],[16,1,16,3],[17,1,17,3],[18,1,18,3],[24,0,24,5],[29,0,29,5],[30,0,30,5],[25,0,25,5],[26,0,26,5],[27,0,27,5],[31,0,31,5],[35,0,35,5],[28,0,28,5],[8,2,8,4],[32,0,32,5],[6,0,6,5],[33,0,33,5],[15,1,15,3],[14,1,14,3],[11,1,11,2],[12,1,12,2],[2,2,2,7],[10,1,10,2],[9,1,9,2],[3,0,4,4],[5,0,5,5],[8,0,8,1],[7,2,7,4],[8,5,8,6]]}
[null,null,"Ministério da Integração e do Desenvolvimento Regional - MIDR"]
[null,null,"Companhia de Desenvolvimento dos Vales do São Francisco e do Parnaíba"]
[null,null,"5ª Superintendência Regional \n"]
["DESPESAS FISCAIS E CUSTOS DIVERSOS: Kc",{"$nulls":4},"CODIGO:"]
[{"$nulls":5},"PFP-3"]
["NOME DA CONSULTORA:"]
[]
["PROJETO:",null,"CONTRATANTE:",null,null,{"$f":"PFP!J9","v":"BASE: novembro/2023"}]
[{"$f":"PFP!A10","v":"Serviços de Capacitação para formação de Entidade Gestionária"},null,"CODEVASF",null,null,{"$f":"PFP!J10","v":"CODE: NOV/2023\nDNIT: JULHO/2023\nORSE: SETEMBRO/2023"}]
["Cod","DESCRIÇÃO1",null,"% preço2","% custo4","R$"]
["K4","TAXAS E IMPOSTOS",null,{"$f":"ROUND(D12+D13+D14,4)","v":0.124},{"$f":"ROUND(E12+E13+E14,4)","v":0.1416},{"$f":"E11*SUM(SUMIF(PFP!$B$12:$B$26,\"MO1\",PFP!$J$12:$J$26)*(1+PFP2.1_FatorKa!$E$39)+SUMIF(PFP!$B$12:$B$26,\"MO2\",PFP!$J$12:$J$26)*(1+PFP2.2_FatorKb!$E$38)+SUMIF(PFP!$B$12:$B$26,\"<>MO*\",PFP!$J$12:$J$26)+$F$16+$F$15)","v":101633.62989693145}]
["K4.1","ISS",null,0.05,{"$f":"ROUND((1/(1-$D$11))*D12,4)","v":5.7099999999999998E-2},{"$f":"E12*SUM(SUMIF(PFP!$B$12:$B$26,\"MO1\",PFP!$J$12:$J$26)*(1+PFP2.1_FatorKa!$E$39)+SUMIF(PFP!$B$12:$B$26,\"MO2\",PFP!$J$12:$J$26)*(1+PFP2.2_FatorKb!$E$38)+SUMIF(PFP!$B$12:$B$26,\"<>MO*\",PFP!$J$12:$J$26)+$F$16+$F$15)","v":40983.617705612887}]
["K4.2","PIS3 - aliquota efetiva com percentual-desconto",null,{"$f":"ROUND(1.65%*0.8,4)","v":1.32E-2},{"$f":"ROUND((1/(1-$D$11))*D13,4)","v":1.5100000000000001E-2},{"$f":"E13*SUM(SUMIF(PFP!$B$12:$B$26,\"MO1\",PFP!$J$12:$J$26)*(1+PFP2.1_FatorKa!$E$39)+SUMIF(PFP!$B$12:$B$26,\"MO2\",PFP!$J$12:$J$26)*(1+PFP2.2_FatorKb!$E$38)+SUMIF(PFP!$B$12:$B$26,\"<>MO*\",PFP!$J$12:$J$26)+$F$16+$F$15)","v":10838.04951584509}]
["K4.3","COFINS3 - aliquota efetiva com percentual-desconto",null,{"$f":"ROUND(7.6%*0.8,4)","v":6.08E-2},{"$f":"ROUND((1/(1-$D$11))*D14,4)","v":6.9400000000000003E-2},{"$f":"E14*SUM(SUMIF(PFP!$B$12:$B$26,\"MO1\",PFP!$J$12:$J$26)*(1+PFP2.1_FatorKa!$E$39)+SUMIF(PFP!$B$12:$B$26,\"MO2\",PFP!$J$12:$J$26)*(1+PFP2.2_FatorKb!$E$38)+SUMIF(PFP!$B$12:$B$26,\"<>MO*\",PFP!$J$12:$J$26)+$F$16+$F$15)","v":49811.962675473464}]
["K3","REMUNERAÇÃO DA EMPRESA (LUCRO)",null,null,0.1,{"$f":"E15*SUM(SUMIF(PFP!$B$12:$B$26,\"MO1\",PFP!$J$12:$J$26)*(1+PFP2.1_FatorKa!$E$39)+SUMIF(PFP!$B$12:$B$26,\"MO2\",PFP!$J$12:$J$26)*(1+PFP2.2_FatorKb!$E$38)+SUMIF(PFP!$B$12:$B$26,\"<>MO*\",PFP!$J$12:$J$26)+$F$16)","v":65250.147596900002}]
["K2","CUSTOS DA ADMINISTRAÇÃO CENTRAL",null,null,{"$f":"ROUND(SUM(E17:E19),4)","v":0.15},{"$f":"ROUND(E16*SUMIF(PFP!$B$12:$B$26,\"MO*\",PFP!$J$12:$J$26),2)","v":40389.449999999997}]
["K2.1","Custos da administração central da empresa (diretoria, pessoal técnico de apoio e pessoal administrativo não diretamente vinculado à prestação dos serviços)",null,null,0.1,{"$f":"ROUND(E17*SUMIF(PFP!$B$12:$B$26,\"MO*\",PFP!$J$12:$J$26),2)","v":26926.3}]
["K2.2","Outras despesas que afetam o custo de produção como treinamento, biblioteca, programa de qualidade, programa de benefícios, auditoria interna e externa",null,null,0.03,{"$f":"ROUND(E18*SUMIF(PFP!$B$12:$B$26,\"MO*\",PFP!$J$12:$J$26),2)","v":8077.89}]
["K2.3","Despesas fixas e variaveis com patrimônio, aluguéis, comunicação, manutenção e transporte não diretamente relacionados com o custo direto dos serviços",null,null,0.02,{"$f":"ROUND(E19*SUMIF(PFP!$B$12:$B$26,\"MO*\",PFP!$J$12:$J$26),2)","v":5385.26}]
["Kd","TAXA RESSARCIMENTO DE DESPESAS SOBRE CUSTOS DIVERSOS",null,null,{"$f":"ROUND((1+E15)*(1+E11),4)","v":1.2558}]
["NOME DO INFORMANTE:",null,null,null,"QUALIFICAÇÃO:"]
[]
["ASSINATURA:",null,null,null,"DATA:"]
[]
["Observação:"]
["1 - RELACIONAR OS CUSTOS DE ADMINISTRAÇÃO COM RESPECTIVOS PERCENTUAIS INCIDENTES NA MÃO -DE-OBRA"]
["1 - DISCRIMINAR OS TRIBUTOS QUE INCIDEM SOBRE OS CUSTOS DA PRESTAÇÃO DOS SERVIÇOS"]
["2 - K4 = INDICAR % DE CADA TRIBUTO E A SOMA DOS MESMOS (ex: ISS 5% + PIS 1,65% + COFINS 7,60% = 14,25%)"]
["3 - PIS e COFINS, Regime de Incidencia Acumulativa (0,65% e 3,00% - sem percentual de desconto) ou em Regime de Incidencia Não Acumulativa (1,65% e 7,60% - aplicável percentual de desconto) de acordo com a forma de apuração do lucro no IRPJ. APRESENTAR COMPROVANTES de aproveitamento de créditos tributários dos últimos 12 meses em caso de aplicação de \"percentual de desconto\"."]
["4 - AS DESPESAS FISCAIS (K4) INCIDEM SOBRE O TOTAL DA FATURA E NÃO SOBRE OS CUSTOS INCORRIDOS, "]
["     DEVENDO SER CALCULADO O K4' APLICANDO-SE A SEGUINTE FÓRMULA:"]
["     K4' = { [ 1 / ( 1 - K4) ] - 1 } x 100"]
[{"$f":"CONCATENATE(\"     K4' = { [ 1 / ( 1 - \",D11,\" ) ] - 1 } x 100\")","v":"     K4' = { [ 1 / ( 1 - 0,124 ) ] - 1 } x 100"}]
["Kd - Taxa de Ressarcimento de Despesas sobre Custos Diversos (incide sobre os Insumos Codigo DP e EM)"]
["Kd = (1 + K3) x (1 + K4)"]
["K2 - Incide sobre o Custo Total (CT) da Mão de Obra (MO* = MO1 + MO2)"]
["K3 - Incide sobre o Custo Total (CT) Mão de Obra com encargos (MO1 x Ka ou MO2 x Kb), demais Custos (DP e EM), e Custos da Administração Central (K2)"]
["K4 -  Incide sobre o Custo Total (CT) Mão de Obra com encargos (MO1 x Ka ou MO2 x Kb), demais Custos (DP e EM), e Custos da Administração Central (K2) e Lucro (K3)"]

{"sheet":"CRO1_Ins-Pro","index":6,"n_rows":56,"n_cols":20,"rows_kept":56,"cut":false,"hidden":false,"merged":[[2,2,2,7],[57,7,57,14],[57,17,57,18],[3,0,4,13],[3,14,3,18],[4,14,4,18],[22,0,23,0],[22,1,23,1],[23,3,23,6],[22,3,22,6]]}
[null,null,"Ministério da Integração e do Desenvolvimento Regional - MIDR"]
[null,null,"Companhia de Desenvolvimento dos Vales do São Francisco e do Parnaíba"]
[null,null,"5ª Superintendência Regional \n"]
["INSUMOS POR ETAPA/PRODUTO",{"$nulls":13},"CODIGO:"]
[{"$nulls":14},"CRO-1"]
["Cod.","Categoria / Insumo","Uni","Qde","CUD","PU","FatorK",1,2,3,4,5,6,7,8,9,10,11,12]
[{"$nulls":6},"Meses",1,1,1,1,1,1,1,1,1,1,1,1]
["MO1","Engenheiro Ambiental Pleno - Coordenador","mês",{"$f":"PFP!F12","v":12},{"$f":"PFP!G12","v":11266.87},{"$f":"PFP!H12","v":26206.74},{"$f":"PFP!I12","v":2.3260000000000001},1,1,1,1,1,1,1,1,1,1,1,1,{"$f":"SUM(H8:S8)-D8","v":0}]
["MO1","Biólogo Pleno","mês",{"$f":"PFP!F13","v":12},{"$f":"PFP!G13","v":4233.8},{"$f":"PFP!H13","v":9847.82},{"$f":"PFP!I13","v":2.3260000000000001},1,1,1,1,1,1,1,1,1,1,1,1,{"$f":"SUM(H9:S9)-D9","v":0}]
["MO1","Geógrafo Pleno","mês",{"$f":"PFP!F14","v":12},{"$f":"PFP!G14","v":4555.45},{"$f":"PFP!H14","v":10595.98},{"$f":"PFP!I14","v":2.3260000000000001},1,1,1,1,1,1,1,1,1,1,1,1,0]
["MO1","Advogado Pleno com encargos complementares e adicionais","H",{"$f":"PFP!F15","v":40},{"$f":"PFP!G15","v":38.278068181818185},{"$f":"PFP!H15","v":64.89},{"$f":"PFP!I15","v":1.6953},40,0,0,0,0,0,0,0,0,0,0,0,0]
["MO1","Contador Pleno com encargos complementares e adicionais","H",{"$f":"PFP!F16","v":30},{"$f":"PFP!G16","v":36.242215909090902},{"$f":"PFP!H16","v":61.44},{"$f":"PFP!I16","v":1.6953},30,0,0,0,0,0,0,0,0,0,0,0,0]
["MO1","Técnico Ambiental com encargos complementares e adicionais","H",{"$f":"PFP!F17","v":1200},{"$f":"PFP!G17","v":21.642670454545453},{"$f":"PFP!H17","v":36.69},{"$f":"PFP!I17","v":1.6953},120,120,120,120,120,120,120,120,120,120,0,0,0]
["EC","Encargos Complementares e Adicionais (3 profissionais)","mês",{"$f":"PFP!F18","v":36},{"$f":"PFP!G18","v":325.75},{"$f":"PFP!H18","v":409.08},{"$f":"PFP!I18","v":1.2558},3,3,3,3,3,3,3,3,3,3,3,3,0]
["DA","Vale-alimentação (3 profissionais)","mês",{"$f":"PFP!F19","v":36},{"$f":"PFP!G19","v":702.89},{"$f":"PFP!H19","v":882.69},{"$f":"PFP!I19","v":1.2558},3,3,3,3,3,3,3,3,3,3,3,3,0]
["DP","Diárias per noite - Hospedagem","dia",120,{"$f":"PFP!G20","v":218.1},{"$f":"PFP!H20","v":273.89},{"$f":"PFP!I20","v":1.2558},10,10,10,10,10,10,10,10,10,10,10,10,0]
["DA","Diárias per noite - Alimentação","dia",120,{"$f":"PFP!G21","v":43.5},{"$f":"PFP!H21","v":54.63},{"$f":"PFP!I21","v":1.2558},10,10,10,10,10,10,10,10,10,10,10,10,0]
["CCU\nVEÍCULO","Fornecimento de veículo leve 75 CV ou superior, com ar-condicionado, incluindo despesas com combustível, óleos, conservação e manutenção ","mês",{"$f":"PFP!F22","v":12},{"$f":"PFP!G22","v":4569.9256946906389},{"$f":"PFP!H22","v":5738.91},{"$f":"PFP!I22","v":1.2558},1,1,1,1,1,1,1,1,1,1,1,1,0]
["COT","Locação - Data Show conforme especificação (1 unidade)","Unid. x Mês",{"$f":"PFP!F23","v":12},{"$f":"PFP!G23","v":292.60500000000002},{"$f":"PFP!H23","v":367.45},{"$f":"PFP!I23","v":1.2558},1,1,1,1,1,1,1,1,1,1,1,1,{"$f":"S191","v":0}]
["LO","Telefone (celular/internet) (4 unidades)","Unid. x Mês",{"$f":"PFP!F24","v":48},{"$f":"PFP!G24","v":89},{"$f":"PFP!H24","v":111.77},{"$f":"PFP!I24","v":1.2558},4,4,4,4,4,4,4,4,4,4,4,4,0]
["COT","Locação - Notebook conforme especificação (4 unidades)","Unid. x Mês",{"$f":"PFP!F25","v":48},{"$f":"PFP!G25","v":340},{"$f":"PFP!H25","v":426.97},{"$f":"PFP!I25","v":1.2558},4,4,4,4,4,4,4,4,4,4,4,4,0]
["EM","Material de Consumo","ocupante x Mês",{"$f":"PFP!F26","v":48},{"$f":"PFP!G26","v":132.91999999999999},{"$f":"PFP!H26","v":166.92},{"$f":"PFP!I26","v":1.2558},4,4,4,4,4,4,4,4,4,4,4,4,0]
["TOTAL","VALOR TOTAL POR PRODUTO","R$",{"$f":"SUM(H23:S23)","v":801347.39999999991},null,null,null,{"$f":"H49","v":71581.64999999998},{"$f":"I49","v":67142.849999999991},67142.849999999991,67142.849999999991,67142.849999999991,67142.849999999991,67142.849999999991,67142.849999999991,67142.849999999991,67142.849999999991,62740.049999999988,62740.049999999988]
[null,null,"%",{"$f":"SUM(H24:S24)","v":1.0000200000000001},null,null,null,{"$f":"ROUND(H23/$D$23,5)","v":8.9330000000000007E-2},{"$f":"ROUND(I23/$D$23,5)","v":8.3790000000000003E-2},8.3790000000000003E-2,8.3790000000000003E-2,8.3790000000000003E-2,8.3790000000000003E-2,8.3790000000000003E-2,8.3790000000000003E-2,8.3790000000000003E-2,8.3790000000000003E-2,7.8289999999999998E-2,7.8289999999999998E-2]
{"$rows_empty":7}
[{"$nulls":6},{"$f":"PFP!H29-'CRO1_Ins-Pro'!D23","v":0}]
[]
[{"$nulls":5},{"$f":"D8*F8","v":314480.88},{"$f":"SUM(H34:S34)","v":314480.87999999995},{"$f":"$F$8*H8","v":26206.74},26206.74,26206.74,26206.74,26206.74,26206.74,26206.74,26206.74,26206.74,26206.74,26206.74,26206.74]
[{"$nulls":5},118173.84,{"$f":"SUM(H35:S35)","v":118173.84000000003},{"$f":"$F$9*H9","v":9847.82},9847.82,9847.82,9847.82,9847.82,9847.82,9847.82,9847.82,9847.82,9847.82,9847.82,9847.82]
[{"$nulls":5},127151.76,127151.75999999997,{"$f":"$F$10*H10","v":10595.98},10595.98,10595.98,10595.98,10595.98,10595.98,10595.98,10595.98,10595.98,10595.98,10595.98,10595.98]
[{"$nulls":5},2595.6,2595.6,{"$f":"$F$11*H11","v":2595.6},0,0,0,0,0,0,0,0,0,0,0]
[{"$nulls":5},1843.1999999999998,1843.1999999999998,{"$f":"$F$12*H12","v":1843.1999999999998},0,0,0,0,0,0,0,0,0,0,0]
[{"$nulls":5},44028,{"$f":"F39","v":44028},{"$f":"$F$13*H13","v":4402.7999999999993},4402.7999999999993,4402.7999999999993,4402.7999999999993,4402.7999999999993,4402.7999999999993,4402.7999999999993,4402.7999999999993,4402.7999999999993,4402.7999999999993,0,0]
[{"$nulls":5},14726.88,14726.88,{"$f":"$F$14*H14","v":1227.24},1227.24,1227.24,1227.24,1227.24,1227.24,1227.24,1227.24,1227.24,1227.24,1227.24,1227.24]
[{"$nulls":5},31776.840000000004,31776.840000000004,{"$f":"$F$15*H15","v":2648.07},2648.07,2648.07,2648.07,2648.07,2648.07,2648.07,2648.07,2648.07,2648.07,2648.07,2648.07]
[{"$nulls":5},32866.799999999996,32866.799999999996,{"$f":"F16*H16","v":2738.8999999999996},{"$f":"$F$16*I16","v":2738.8999999999996},2738.8999999999996,2738.8999999999996,2738.8999999999996,2738.8999999999996,2738.8999999999996,2738.8999999999996,2738.8999999999996,2738.8999999999996,2738.8999999999996,2738.8999999999996]
[{"$nulls":5},6555.6,6555.6,{"$f":"$F$17*H17","v":546.30000000000007},546.30000000000007,546.30000000000007,546.30000000000007,546.30000000000007,546.30000000000007,546.30000000000007,546.30000000000007,546.30000000000007,546.30000000000007,546.30000000000007,546.30000000000007]
[{"$nulls":5},68866.92,68866.92,{"$f":"$F$18*H18","v":5738.91},5738.91,5738.91,5738.91,5738.91,5738.91,5738.91,5738.91,5738.91,5738.91,5738.91,5738.91]
[{"$nulls":5},4409.3999999999996,{"$f":"F45","v":4409.3999999999996},{"$f":"$F$19*H19","v":367.45},367.45,367.45,367.45,367.45,367.45,367.45,367.45,367.45,367.45,367.45,367.45]
[{"$nulls":5},5364.96,{"$f":"F46","v":5364.96},{"$f":"$F$20*H20","v":447.08},447.08,447.08,447.08,447.08,447.08,447.08,447.08,447.08,447.08,447.08,447.08]
[{"$nulls":5},20494.560000000001,{"$f":"F47","v":20494.560000000001},{"$f":"$F$21*H21","v":1707.88},1707.88,1707.88,1707.88,1707.88,1707.88,1707.88,1707.88,1707.88,1707.88,1707.88,1707.88]
[{"$nulls":5},8012.16,{"$f":"F48","v":8012.16},{"$f":"$F$22*H22","v":667.68},667.68,667.68,667.68,667.68,667.68,667.68,667.68,667.68,667.68,667.68,667.68]
[{"$nulls":6},{"$f":"SUM(G34:G48)","v":801347.4},71581.64999999998,67142.849999999991,67142.849999999991,67142.849999999991,67142.849999999991,67142.849999999991,67142.849999999991,67142.849999999991,67142.849999999991,67142.849999999991,62740.049999999988,62740.049999999988]
[]
[]
[]
[]
[]
[]
[{"$nulls":7},{"$f":"H49-H23","v":0}]

{"sheet":"Cotação ","index":7,"n_rows":19,"n_cols":2,"rows_kept":19,"cut":false,"hidden":false,"merged":[[24,0,24,1],[16,0,16,1],[0,0,0,4],[1,0,1,4],[2,0,2,4],[20,0,20,1]]}
["Ministério da Integração e do Desenvolvimento Regional - MIDR"]
["Companhia de Desenvolvimento dos Vales do São Francisco e do Parnaíba"]
["5ª Superintendência Regional \n"]
[]
["Data Show","Valor (R$)"]
[]
["Painel de Preços - Mediana",3511.26]
[]
["média mensal ",{"$f":"B7/12","v":292.60500000000002}]
[]
["Notebook","Valor (R$)"]
[]
["Painel de Preços - Mediana",4080]
[]
["média mensal ",{"$f":"B13/12","v":340}]
[]
["Pneu 175/65/R14"]
[]
["Painel de Preços - Mediana",312]

{"sheet":"VEÍCULO LEVE","index":8,"n_rows":54,"n_cols":4,"rows_kept":54,"cut":false,"hidden":false,"merged":[[0,2,0,3],[1,1,2,1],[1,2,1,3],[2,2,2,3],[4,2,4,3]]}
[null,null,"Ministério da Integração e do Desenvolvimento Regional - MIDR"]
[null,null,"Companhia de Desenvolvimento dos Vales do São Francisco e do Parnaíba"]
[null,null,"5ª Superintendência Regional"]
[]
[null,"CCU\nVEÍCULO"," FORNECIMENTO DE VEÍCULO LEVE 75 CV OU SUPERIOR,  PARA APOIO A FISCALIZAÇÃO, COM AR-CONDICIONADO, INCLUINDO DESPESAS COM COMBUSTÍVEL, ÓLEOS, CONSERVAÇÃO E MANUTENÇÃO."]
[null,null," "]
[]
[]
[null,"A","Depreciação mensal do equipamento"]
[null,"E9093/SICRO","Preço de Aquisição ",77415.349300000002]
[null,"A2","Tempo previsto de vida útil (meses)",36]
[null,"A3","Previsão de recup. na venda do bem usado",0.4]
[null,"A4","Custo mensal [A1-(A3xA1)]/A2",{"$f":"(D10-(D12*D10))/D11","v":1290.2558216666666}]
[]
[null,"B","Juros pelo Capital empregado"]
[null,"B1","Taxa mensal de Juros ",0.05]
[null,"B2","Juros s/depreciação/aluguel (B1xA4)",{"$f":"D16*D13","v":64.51279108333334}]
[]
[null,"C","Conservação e manutenção "]
[null,"C1","Taxa de gastos s/a deprec. Inc. seguros (%)",1]
[null,"C2","Incidência mensal (C1xA4)",{"$f":"D20*D13","v":1290.2558216666666}]
[null," "," "," "]
[null,"D","Combustível"]
[null,"D1","Média mensal de quilômetro por veículo",3000]
[null,"D2","Preço do litro de combustível \n(GASOLINA COMUM SINAPI/AL - 09/23 - cod4222)",5.88]
[null,"D3","Quilômetros rodados com um litro combustivel",10]
[null,"D4","Combustivel    (D1/D3)*D2",{"$f":"(D24/D26)*D25","v":1764}]
[]
[null,"E","Lubrificantes"]
[null,"E1","Quilometragem do Contrato ",36000]
[null,"E2","Franquia por troca de óleo (km)",5000]
[null,"E3","Preço do litro de óleo \n(SINAPI/AL- 09/23 cod 4227)",28.16]
[null,"E4","Quantidade de litros de óleo por troca",3.5]
[null,"E5","Quantidade de dias do Contrato",{"$f":"D42","v":365}]
[null,"E6","Lubrificantes  E = (E1*E3*E4*30)/E2*E5",{"$f":"(D30*D32*D33*30)/(D31*D34)","v":58.325917808219181}]
[]
[null,"F","Pneus"]
[null,"F1","Quilometragem do Contrato ",{"$f":"D30","v":36000}]
[null,"F2","Vida do Pneu em quilômetros",45000]
[null,"F3","Quantidade de pneus",5]
[null,"F4","Preço do Pneu",{"$f":"'Cotação '!B19","v":312}]
[null,"F5","Quantidade de dias do contrato ",365]
[null,"F6","Pneus = (F1*F3*F4*30)/(F2*F5)",{"$f":"(D38*D40*D41*30)/(D39*D42)","v":102.57534246575342}]
[]
[null,"G","Motorista"]
[null,"G1","Salário com encargos sociais"]
[]
[null,"H","Custo Mensal"," "]
[null,null,"Sem Motorista",{"$f":"D43+D35+D27+D21+D17+D13","v":4569.9256946906389}]
[null,null,"Com Motorista"]
[]
[null,"I","Custo Direto p/ km Rodado Mensal"]
[null,null,"Sem Motorista",{"$f":"D49/D24","v":1.5233085648968796}]
[null,null,"Com Motorista",{"$f":"D50/D24","v":0}]