{"text_format":"2","workbook":"xlsx","n_sheets":10,"sheets":["PFP","Plan1","PFP1.1_Topo_RioParanã","PFP1.2_Geo_RioParanã","PFP2.1_FatorKa","PFP2.2_FatorKb","PFP3_FatorKc","CRO1_Ins-Pro","CRO2_Ins-Mes","TC_Mão de obra"],"not_rendered":{"charts":0,"images":0,"macros":0,"external_links":443,"defined_names":12317,"comments":1,"pivot_tables":0},"unopened":[],"bounds":{"document_bytes":16777216,"sheet_cells":100000,"run_cost":"one","rows_first":2000,"rows_last":500,"rows_between":2000,"halvings":0,"cell_chars":16384,"cell_head_chars":4096},"cells_cut":0,"cells_raw":0,"read":"whole","date_system":"1900"}

{"sheet":"PFP","index":0,"n_rows":41,"n_cols":1033,"rows_kept":41,"cut":false,"hidden":false,"merged":[[37,0,37,10],[38,0,38,10],[40,0,40,10],[32,0,32,10],[33,0,33,10],[34,0,34,10],[35,0,35,10],[36,0,36,10],[39,0,39,10],[27,0,27,10],[28,0,28,10],[29,0,29,10],[30,0,30,10],[31,0,31,10],[24,0,24,8],[24,9,24,10],[25,0,25,6],[26,0,26,8],[26,9,26,10],[21,0,21,6],[21,7,21,10],[22,0,22,6],[22,7,22,10],[23,0,23,6],[23,9,23,10],[18,0,18,6],[18,7,18,10],[19,0,19,6],[19,7,19,10],[20,0,20,6],[20,7,20,10],[6,1029,6,1030],[0,0,1,8],[0,9,0,10],[1,9,1,10],[2,0,2,10],[3,0,3,10],[4,0,4,4],[4,5,4,8],[4,9,4,10],[5,0,5,4],[5,5,5,8],[5,9,5,10]]}
["PROPOSTA FINANCEIRA DO PROJETO",{"$nulls":8},"CODIGO:"]
[{"$nulls":9},"PFP"]
["NOME DA CONSULTORA:"]
[]
["PROJETO:",{"$nulls":4},"CONTRATANTE:",null,null,null,"BASE: Maio/2023"]
["Ponte Rio Paranã /GO",{"$nulls":4},"Codevasf (9ª SR) "]
["Base","Cod1","Cod2","Categoria / Insumo","Uni","Qde","CUD","PU","FatorK","CT","PT",{"$nulls":1014},{"$f":"'TC_Mão de obra'!$A$1","v":"Código"},{"$f":"'TC_Mão de obra'!$B$1","v":"Categoria"},{"$f":"'TC_Mão de obra'!$C$1","v":"Unid."},{"$f":"'TC_Mão de obra'!$D$1","v":"Salário"},{"$f":"'TC_Mão de obra'!$O$1","v":"Encargos Totais"},null,{"$f":"'TC_Mão de obra'!$Q$1","v":"Valor Total"}]
["SICRO","MO",{"$f":"'CRO1_Ins-Pro'!B4","v":"P8061"},{"$f":"'CRO1_Ins-Pro'!C4","v":"Engenheiro Sênior (Coordenador) "},{"$f":"'CRO1_Ins-Pro'!D4","v":"mês"},{"$f":"'CRO1_Ins-Pro'!E4","v":7},{"$f":"AMO8","v":16918.599999999999},{"$f":"ROUND(I8*G8,2)","v":43531.56},{"$f":"'PFP2.1_FatorKa'!J8","v":2.573},{"$f":"ROUND(F8*G8,2)","v":118430.2},{"$f":"ROUND(F8*H8,2)","v":304720.92},{"$nulls":1014},{"$f":"'TC_Mão de obra'!$A$42","v":"P8061"},{"$f":"'TC_Mão de obra'!$B$42","v":"Engenheiro coordenador"},{"$f":"'TC_Mão de obra'!$C$42","v":"mês"},{"$f":"'TC_Mão de obra'!$D$42","v":16918.599999999999},{"$f":"'TC_Mão de obra'!$O$42","v":0.85580000000000001},{"$f":"'TC_Mão de obra'!$P$42","v":14478.88},{"$f":"'TC_Mão de obra'!$Q$42","v":31397.479999999996},{"$f":"ROUND(F8*AMQ8,2)","v":101352.16}]
["SICRO","MO",{"$f":"'CRO1_Ins-Pro'!B5","v":"P8067"},{"$f":"'CRO1_Ins-Pro'!C5","v":"Engenheiro Sênior – Projetista Ponte"},{"$f":"'CRO1_Ins-Pro'!D5","v":"mês"},{"$f":"'CRO1_Ins-Pro'!E5","v":2},{"$f":"AMO9","v":14506.03},37516.949999999997,{"$f":"'PFP2.1_FatorKa'!J9","v":2.5863},29012.06,75033.899999999994,{"$nulls":1014},{"$f":"'TC_Mão de obra'!$A$48","v":"P8067"},{"$f":"'TC_Mão de obra'!$B$48","v":"Engenheiro de projetos sênior"},{"$f":"'TC_Mão de obra'!$C$48","v":"mês"},{"$f":"'TC_Mão de obra'!$D$48","v":14506.03},{"$f":"'TC_Mão de obra'!$O$48","v":0.86609999999999998},{"$f":"'TC_Mão de obra'!$P$48","v":12563.939999999999},{"$f":"'TC_Mão de obra'!$Q$48","v":27069.97},{"$f":"ROUND(F9*AMQ9,2)","v":25127.88}]
["SICRO","MO",{"$f":"'CRO1_Ins-Pro'!B6","v":"P8066"},{"$f":"'CRO1_Ins-Pro'!C6","v":"Engenheiro Pleno – Projetista Estrada"},{"$f":"'CRO1_Ins-Pro'!D6","v":"mês"},{"$f":"'CRO1_Ins-Pro'!E6","v":1.5},{"$f":"AMO10","v":11294.64},29503.86,{"$f":"'PFP2.1_FatorKa'!J10","v":2.6122000000000001},16941.96,44255.79,{"$nulls":1014},{"$f":"'TC_Mão de obra'!$A$47","v":"P8066"},{"$f":"'TC_Mão de obra'!$B$47","v":"Engenheiro de projetos pleno"},{"$f":"'TC_Mão de obra'!$C$47","v":"mês"},{"$f":"'TC_Mão de obra'!$D$47","v":11294.64},{"$f":"'TC_Mão de obra'!$O$47","v":0.88629999999999998},{"$f":"'TC_Mão de obra'!$P$47","v":10010.57},{"$f":"'TC_Mão de obra'!$Q$47","v":21305.21},15015.86]
["SICRO","MO",{"$f":"'CRO1_Ins-Pro'!B7","v":"P8058"},{"$f":"'CRO1_Ins-Pro'!C7","v":"Engenheiro Pleno – Ambiental"},{"$f":"'CRO1_Ins-Pro'!D7","v":"mês"},{"$f":"'CRO1_Ins-Pro'!E7","v":1.5},{"$f":"AMO11","v":12074.42},31475.599999999999,{"$f":"'PFP2.1_FatorKa'!J11","v":2.6067999999999998},18111.63,47213.4,{"$nulls":1014},{"$f":"'TC_Mão de obra'!$A$39","v":"P8058"},{"$f":"'TC_Mão de obra'!$B$39","v":"Engenheiro ambiental pleno"},{"$f":"'TC_Mão de obra'!$C$39","v":"mês"},{"$f":"'TC_Mão de obra'!$D$39","v":12074.42},{"$f":"'TC_Mão de obra'!$O$39","v":0.8821},{"$f":"'TC_Mão de obra'!$P$39","v":10651.09},{"$f":"'TC_Mão de obra'!$Q$39","v":22725.510000000002},15976.64]
["SICRO","MO",{"$f":"'CRO1_Ins-Pro'!B8","v":"P8135"},{"$f":"'CRO1_Ins-Pro'!C8","v":"Administrativo (Secretariado) "},{"$f":"'CRO1_Ins-Pro'!D8","v":"mês"},{"$f":"'CRO1_Ins-Pro'!E8","v":7},{"$f":"AMO12","v":2364.31},7892.07,{"$f":"'PFP2.1_FatorKa'!J12","v":3.3380000000000001},16550.169999999998,55244.49,{"$nulls":1014},{"$f":"'TC_Mão de obra'!$A$77","v":"P8135"},{"$f":"'TC_Mão de obra'!$B$77","v":"Secretária"},{"$f":"'TC_Mão de obra'!$C$77","v":"mês"},{"$f":"'TC_Mão de obra'!$D$77","v":2364.31},{"$f":"'TC_Mão de obra'!$O$77","v":1.4520999999999999},{"$f":"'TC_Mão de obra'!$P$77","v":3433.2799999999997},{"$f":"'TC_Mão de obra'!$Q$77","v":5797.59},24032.959999999999]
["PROP","DP",{"$f":"'CRO1_Ins-Pro'!B9","v":"V1"},{"$f":"'CRO1_Ins-Pro'!C9","v":"Diárias"},{"$f":"'CRO1_Ins-Pro'!D9","v":"dia"},{"$f":"'CRO1_Ins-Pro'!E9","v":13},268,343.79,{"$f":"PFP3_FatorKc!$E$19","v":1.2827999999999999},3484,4469.2700000000004]
["GOINFRA","LO",10202,{"$f":"'CRO1_Ins-Pro'!C10","v":"Pick-up Cab. Dupla 2.8 4x4 Diesel"},{"$f":"'CRO1_Ins-Pro'!D10","v":"dia"},{"$f":"'CRO1_Ins-Pro'!E10","v":7},322.11,413.2,{"$f":"PFP3_FatorKc!$E$19","v":1.2827999999999999},2254.77,2892.4]
["CODE","EM",{"$f":"'CRO1_Ins-Pro'!B11","v":"M4"},{"$f":"'CRO1_Ins-Pro'!C11","v":"Relatório Final"},{"$f":"'CRO1_Ins-Pro'!D11","v":"un"},{"$f":"'CRO1_Ins-Pro'!E11","v":1},1478.8,1897,{"$f":"PFP3_FatorKc!$E$19","v":1.2827999999999999},1478.8,1897]
["CODE","SG","TP","Levantamento Planialtimetrico com RPA (VANT)","ha ",1300,"-",{"$f":"'PFP1.1_Topo_RioParanã'!F18","v":47.93},"-","-",62309]
["CODE","SG",{"$f":"'CRO1_Ins-Pro'!B13","v":"TP"},{"$f":"'CRO1_Ins-Pro'!C13","v":"Serviços Topográficos (exceto LP com RPA)"},{"$f":"'CRO1_Ins-Pro'!D13","v":"un"},{"$f":"'CRO1_Ins-Pro'!E13","v":1},"-",{"$f":"('PFP1.1_Topo_RioParanã'!G23)-K16","v":100983.83999999997},"-","-",{"$f":"ROUND(F17*H17,2)","v":100983.84}]
["CODE","SG",{"$f":"'CRO1_Ins-Pro'!B14","v":"GT"},{"$f":"'CRO1_Ins-Pro'!C14","v":"Total Serviços Geotécnicos"},{"$f":"'CRO1_Ins-Pro'!D14","v":"un"},{"$f":"'CRO1_Ins-Pro'!E14","v":1},"-",{"$f":"'PFP1.2_Geo_RioParanã'!G42","v":161740.31999999998},"-","-",161740.32]
["TOTAL DOS CUSTOS DIRETOS",{"$nulls":6},{"$f":"SUM(J8:J18)","v":206263.59}]
["TOTAL DOS ENCARGOS E DISPESAS DIVERSAS",{"$nulls":6},{"$f":"H21-H19","v":329463.58000000007}]
["VALOR TOTAL DA MÃO-DE-OBRA E DESPESAS ADIMINISTRATIVAS",{"$nulls":6},{"$f":"SUM(K8:K15)","v":535727.17000000004}]
["VALOR TOTAL DOS SERVIÇOS TOPOGRÁFICOS E GEOTÉCNICOS",{"$nulls":6},{"$f":"SUM(K16:K18)","v":325033.16000000003}]
["TOTAL DA PROPOSTA",{"$nulls":6},{"$f":"H21+H22","v":860760.33000000007}]
["NOME DO INFORMANTE:",{"$nulls":8},"QUALIFICAÇÃO"]
[]
["ASSINATURA:",{"$nulls":8},"DATA:"]
[]
["OBSERVAÇÃO:"]
["Alocar os Insumos MO, com respectivo FatorK, dentro da categoria de vínculo contratual (com ou sem) de cada tipo de profissional"]
["Uni - unidade de medição do insumo;"]
["Qde - Quantidade do Insumo (não pode ocorrer alteração pela Licitante)"]
["CUD - Custo Unitário Direto do Insumo (sem encargos, taxas e impostos, valor não pode ser maior que o Orçado pela Codevasf)"]
["CT - Custo Total (sem encargos, taxas e impostos) - CT = Qde x CUD"]
["FatorK - Taxa de Ressarcimento de Despesas e Encargos (detalhar composição nas Planilhas \"PFP2.1\", \"PFP2.2\", \"PFP3\")"]
["PU - Preço Unitário do Insumo (incluído encargos, taxas e impostos) - PU = CUD x FatorK"]
["PT - Preço Total do Insumo (incluído encargos, taxas e impostos) - PT = Qde x PU"]
["P - Profissionais nível superior nas áreas de Engenharia, Química, Arquitetura, Agronomia e Veterinária, conforme disposições da Lei 4.950-A/66"]
["S - Profissionais de nível superior nas demais áreas de atuação, incluindo Arqueólogo, Biólogo, Geógrafo e Socioólogo"]
["T - Profissionais de nível médio técnico nas diversas áreas de atuação"]
["A - Profissionais de nível médio de apoio técnico-administrativo"]
["* - Os salários dos engenheiros foram alterados proporcionalmente considerando o salário mínimo vigente a partir de 01/2023.",{"$nulls":10},"o"]

{"sheet":"Plan1","index":1,"n_rows":0,"n_cols":0,"rows_kept":0,"cut":false,"hidden":true,"merged":[]}

{"sheet":"PFP1.1_Topo_RioParanã","index":2,"n_rows":32,"n_cols":7,"rows_kept":32,"cut":false,"hidden":false,"merged":[[30,0,30,6],[31,0,31,6],[25,0,25,4],[26,0,26,4],[27,0,27,6],[28,0,28,6],[29,0,29,6],[5,0,5,3],[5,4,5,5],[22,0,22,5],[23,0,23,4],[24,0,24,4],[0,0,1,5],[2,0,2,6],[3,0,3,6],[4,0,4,3],[4,4,4,5]]}
["SERVIÇOS TOPOGRÁFICOS",{"$nulls":5},"CODIGO:"]
[{"$nulls":6},"PFP-1.1"]
["NOME DA EMPRESA:"]
[]
["PROJETO:",null,null,null,"CONTRATANTE:",null,{"$f":"PFP!J5","v":"BASE: Maio/2023"}]
["Ponte Rio Paranã/GO",null,null,null,{"$f":"PFP!F6","v":"Codevasf (9ª SR) "}]
["Cod.","Base","Insumos","Uni","Qde","Preço Unitário (PU)","Preço Total (PT)"]
["TP8","CODE","Nivelamento Geométrico dos Eixos classe IIN","km",8,788.72,{"$f":"ROUND(F8*E8,2)","v":6309.76}]
["TP9","CODE","Seções Transversais (Nivelamento IIIN)","km",18,394.36,{"$f":"ROUND(F9*E9,2)","v":7098.48}]
["TP16.1","CODE","Poligonal classe IIP","km",18,1984.3,{"$f":"ROUND(F10*E10,2)","v":35717.4}]
["A.05.000.080359    ","CPOS","Pontos GPS de dupla frequencia (L1/L2)","un ",20,1162.1300000000001,{"$f":"ROUND(F11*E11,2)","v":23242.6}]
["TP23","CODE","Cadastro Físico","ha ",500,17.86,{"$f":"ROUND(F12*E12,2)","v":8930}]
["TP24","CODE","Cadastro Agrícola","ha ",500,5.95,2975]
["TP25","CODE","Cadastro Jurídico","ha ",500,11.91,5955]
["TP26","CODE","Cadastro Socioeconomico","ha ",500,3.97,1985]
["TP21","CODE","Levantamentos Topobatimétricos","km",2,1260.83,2521.66]
["TP20","CODE","Levantamentos Ecobatimétricos","ha ",2,853.31,1706.62]
["TP11","ED.5/2022/BSB","Levantamento Planialtimetrico com RPA (VANT)","ha ",1300,47.93,62309]
[4707,"ORSE","Marco de Concreto (12x18x60cm)","un ",{"$f":"E11","v":20},66,{"$f":"ROUND(F19*E19,2)","v":1320}]
["TP28","CODE","Barrote de Madeira (10x10x50cm","un ",70,28.7,2009]
["TP29","CODE","Piquete de Madeira (2x2x20cm)","un ",180,2.41,433.8]
["PD6","CODE","Picada Manual","km",4,194.88,779.52]
["TOTAL SERVIÇOS TOPOGRÁFICOS",{"$nulls":5},{"$f":"SUM(G8:G22)","v":163292.83999999997}]
["NOME DO INFORMANTE:",{"$nulls":4},"QUALIFICAÇÃO:"]
[]
["ASSINATURA:",{"$nulls":4},"DATA:"]
[]
["OBSERVAÇÃO:"]
["Uni - unidade de medição do insumo;"]
["Qde - Quantidade do Insumo (não pode ocorrer alteração pela Licitante)"]
["PU - Preço Unitário (composições padrão da Codevasf, já incluso o FatorK)"]
["PT - Preço Total (incluído encargos, taxas e impostos) - PT = Qde x PU"]

{"sheet":"PFP1.2_Geo_RioParanã","index":3,"n_rows":51,"n_cols":7,"rows_kept":51,"cut":false,"hidden":false,"merged":[[49,0,49,6],[50,0,50,6],[44,0,44,4],[45,0,45,4],[46,0,46,6],[47,0,47,6],[48,0,48,6],[43,0,43,4],[42,0,42,4],[41,0,41,5],[0,0,1,5],[2,0,2,6],[3,0,3,6],[4,0,4,3],[4,4,4,5],[5,0,5,3],[5,4,5,5]]}
["SERVIÇOS GEOLÓGICOS/GEOTÉCNICOS",{"$nulls":5},"CODIGO:"]
[{"$nulls":6},"PFP-1.2"]
["NOME DA EMPRESA:"]
[]
["PROJETO:",null,null,null,"CONTRATANTE:",null,{"$f":"PFP!J5","v":"BASE: Maio/2023"}]
[{"$f":"'PFP1.1_Topo_RioParanã'!A6","v":"Ponte Rio Paranã/GO"},null,null,null,{"$f":"PFP!F6","v":"Codevasf (9ª SR) "}]
["Cod.","Base","Insumos","Uni","Qde","Preço Unitário (PU)","Preço Total (PT)"]
["A.07.000.020350    ","CPOS","Sondagem Rotativa: (Des)Mobilização","un",1,6685.52,{"$f":"ROUND(F8*E8,2)","v":6685.52}]
["01.002.0015-0      ","EMOP","Sondagem Rotativa: Ø N em rochas","m",40,320.02999999999997,12801.2]
["01.002.0003-A      ","EMOP","Sondagem Rotativa: em solo","m",60,125.15,7509]
["GT1.4.1","CODE","Sondagem Rotativa: Desloc/Instalação 0-200 m","un",7,"Já incluso*","-"]
["GT1.4.2","CODE","Sondagem Rotativa: Desloc/Instalação 201-500 m","un",1,"Já incluso*","-"]
["A.07.000.020476    ","CPOS","Sondagem Percussão: (Des)Mobilização","un",1,1234.48,1234.48]
["A.07.000.020483    ","CPOS","Sondagem Percussão: com SPT - Terrestre","m",70,97.2,6804]
["02.02.05","SIURB","Sondagem Percussão: Desloc/Instalação 0-200 m","un",9,180.52,1624.68]
["02.02.06","SIURB","Sondagem Percussão: Desloc/Instalação 201-500 m","un",1,270.79000000000002,270.79000000000002]
["A.07.000.020486    ","CPOS","Sondagem a Trado","m",40,89.58,3583.2]
["GT5","CODE","Poços de Inspeção","m",20,190.68,3813.6]
["E200340122","EMBASA","Ensaio: Umidade Natural ","un",25,68.87,1721.75]
["01.001.0091-A ","EMOP","Ensaio: Densidade Natural","un",25,48.94,1223.5]
[11451,"DER-ES","Ensaio de Limites de Liquidez e Plasticidade - por amostra ","un",25,166,4150]
[4682,"ORSE","Ensaio: Granulometria por Peneiramento","un",25,150,3750]
["01.07.07U","COMPESA","Ensaio: Granulometria por Sedimentação","un",25,124.27,3106.75]
["E200340125","EMBASA","Ensaio: Compactação Proctor Normal","un",25,163.57,4089.25]
["E200340116","EMBASA","Ensaio: Massa Especifica Real dos Grãos","un",25,65.78,1644.5]
["97.01.18","SUDECAP","Ensaio: Adensamento Oedométrico","un",10,165,{"$f":"ROUND(F26*E26,2)","v":1650}]
["GT6.1.10","CODE","Ensaio: Triaxial UU ñ consolidado ñ drenado","un",5,822.95,4114.75]
["GT6.1.11","CODE","Ensaio: Triaxial CU consolidado ñ drenado","un",5,1129.48,5647.4]
["GT6.1.12.1","CODE","Ensaio: Expansão colapsividade em anéis de adensamento","un",15,380.8,5712]
["GT6.1.12.2","CODE","Ensaio: Determinação da pressão de expansão","un",15,300.93,4513.95]
["E200320120","EMBASA","Ensaio: Dispersão Granulometria Comparativa","un",10,287.39999999999998,2874]
["E200320121","EMBASA","Ensaio: Dispersão Crumb Test","un",10,122.19,1221.9000000000001]
["GT6.1.15","CODE","Ensaio: Perda de Água 5 estágios","un",10,361.18,3611.8]
["GT6.1.16.1","CODE","Ensaio: Análise Quimica da Areia","un",10,459.82,{"$f":"ROUND(F34*E34,2)","v":4598.2}]
["GT6.1.16.2","CODE","Ensaio: Mineralogia da Areia","un",10,529.20000000000005,{"$f":"ROUND(F35*E35,2)","v":5292}]
["GT6.1.17","CODE","Ensaio: Análise Petrográfica/Mineralogia","un",10,529.20000000000005,{"$f":"ROUND(F36*E36,2)","v":5292}]
["GT6.1.18","CODE","Ensaio: Abrasão “LOS ANGELES”","un",10,414.19,4141.8999999999996]
["GT6.1.19","CODE","Ensaio: Reatividade Potencial","un",10,1382.66,13826.6]
["97.01.20","SUDECAP","Ensaio: Permeabilidade Vertical de Carga Variável","un",20,500,{"$f":"ROUND(F39*E39,2)","v":10000}]
["95.08.02","SUDECAP","Ensaio: Retirada de Amostra Indeformada","un",15,1000,{"$f":"ROUND(F40*E40,2)","v":15000}]
["GT6.1.22","CODE","Ensaio de Permeabilidade \"in situ\"","un",20,511.58,10231.6]
["TOTAL SERVIÇOS GEOTÉCNICOS",{"$nulls":5},{"$f":"SUM(G8:G41)","v":161740.31999999998}]
["NOME DO INFORMANTE:",{"$nulls":4},"QUALIFICAÇÃO:"]
[]
["ASSINATURA:",{"$nulls":4},"DATA:"]
[]
["LEGENDA:"]
["Uni - unidade de medição do insumo;"]
["Qde - Quantidade do Insumo (não pode ocorrer alteração pela Licitante)"]
["PU - Preço Unitário (composições padrão da Codevasf, já incluso o FatorK)"]
["PT - Preço Total (incluído encargos, taxas e impostos) - PT = Qde x PU"]

{"sheet":"PFP2.1_FatorKa","index":4,"n_rows":26,"n_cols":19,"rows_kept":26,"cut":false,"hidden":false,"merged":[[23,0,23,10],[24,0,24,10],[25,0,25,10],[17,0,17,10],[18,0,18,10],[21,0,21,10],[22,0,22,10],[19,0,20,10],[14,0,14,8],[14,9,14,10],[15,0,15,6],[16,0,16,8],[16,9,16,10],[10,9,10,10],[11,9,11,10],[12,0,12,10],[13,0,13,6],[13,9,13,10],[7,9,7,10],[8,9,8,10],[9,9,9,10],[4,0,4,4],[4,5,4,8],[4,9,4,10],[5,0,5,4],[5,5,5,8],[5,9,5,10],[6,16,6,17],[0,0,1,8],[0,9,0,10],[1,9,1,10],[2,0,2,10],[3,0,3,10],[6,9,6,10]]}
["DETALHAMENTO DOS ENCARGOS SOCIAIS: Ka",{"$nulls":8},"CODIGO:"]
[{"$nulls":9},"PFP-2.1"]
["NOME DA CONSULTORA:"]
[]
["PROJETO:",{"$nulls":4},"CONTRATANTE:",null,null,null,"BASE: Maio/2023"]
[{"$f":"PFP!A6","v":"Ponte Rio Paranã /GO"},{"$nulls":4},"Codevasf (Sede)"]
["Base","Cod Sicro","Cod1","Cod2","Categoria / Insumo","K1","K2","K3","K4","Ka",null,null,{"$f":"'TC_Mão de obra'!$A$1","v":"Código"},{"$f":"'TC_Mão de obra'!$B$1","v":"Categoria"},{"$f":"'TC_Mão de obra'!$C$1","v":"Unid."},{"$f":"'TC_Mão de obra'!$D$1","v":"Salário"},{"$f":"'TC_Mão de obra'!$O$1","v":"Encargos Totais"},null,{"$f":"'TC_Mão de obra'!$Q$1","v":"Valor Total"}]
["SICRO",{"$f":"'CRO1_Ins-Pro'!B4","v":"P8061"},"MO","P0",{"$f":"'CRO1_Ins-Pro'!C4","v":"Engenheiro Sênior (Coordenador) "},{"$f":"Q8","v":0.85580000000000001},{"$f":"PFP3_FatorKc!$E$15","v":0.15},{"$f":"PFP3_FatorKc!$E$10","v":0.16618075801749271},{"$f":"PFP3_FatorKc!$E$14","v":0.1},{"$f":"ROUND((1+F8+G8)*(1+H8)*(1+I8),4)","v":2.573},null,null,{"$f":"'TC_Mão de obra'!$A$42","v":"P8061"},{"$f":"'TC_Mão de obra'!$B$42","v":"Engenheiro coordenador"},{"$f":"'TC_Mão de obra'!$C$42","v":"mês"},{"$f":"'TC_Mão de obra'!$D$42","v":16918.599999999999},{"$f":"'TC_Mão de obra'!$O$42","v":0.85580000000000001},{"$f":"'TC_Mão de obra'!$P$42","v":14478.88},{"$f":"'TC_Mão de obra'!$Q$42","v":31397.479999999996}]
["SICRO",{"$f":"'CRO1_Ins-Pro'!B5","v":"P8067"},"MO","P1",{"$f":"'CRO1_Ins-Pro'!C5","v":"Engenheiro Sênior – Projetista Ponte"},{"$f":"Q9","v":0.86609999999999998},{"$f":"PFP3_FatorKc!$E$15","v":0.15},{"$f":"PFP3_FatorKc!$E$10","v":0.16618075801749271},{"$f":"PFP3_FatorKc!$E$14","v":0.1},2.5863,null,null,{"$f":"'TC_Mão de obra'!$A$48","v":"P8067"},{"$f":"'TC_Mão de obra'!$B$48","v":"Engenheiro de projetos sênior"},{"$f":"'TC_Mão de obra'!$C$48","v":"mês"},{"$f":"'TC_Mão de obra'!$D$48","v":14506.03},{"$f":"'TC_Mão de obra'!$O$48","v":0.86609999999999998},{"$f":"'TC_Mão de obra'!$P$48","v":12563.939999999999},{"$f":"'TC_Mão de obra'!$Q$48","v":27069.97}]
["SICRO",{"$f":"'CRO1_Ins-Pro'!B6","v":"P8066"},"MO","P2",{"$f":"'CRO1_Ins-Pro'!C6","v":"Engenheiro Pleno – Projetista Estrada"},0.88629999999999998,{"$f":"PFP3_FatorKc!$E$15","v":0.15},{"$f":"PFP3_FatorKc!$E$10","v":0.16618075801749271},{"$f":"PFP3_FatorKc!$E$14","v":0.1},2.6122000000000001,null,null,{"$f":"'TC_Mão de obra'!$A$47","v":"P8066"},{"$f":"'TC_Mão de obra'!$B$47","v":"Engenheiro de projetos pleno"},{"$f":"'TC_Mão de obra'!$C$47","v":"mês"},{"$f":"'TC_Mão de obra'!$D$47","v":11294.64},{"$f":"'TC_Mão de obra'!$O$47","v":0.88629999999999998},{"$f":"'TC_Mão de obra'!$P$47","v":10010.57},{"$f":"'TC_Mão de obra'!$Q$47","v":21305.21}]
["SICRO",{"$f":"'CRO1_Ins-Pro'!B7","v":"P8058"},"MO","P2",{"$f":"'CRO1_Ins-Pro'!C7","v":"Engenheiro Pleno – Ambiental"},0.8821,{"$f":"PFP3_FatorKc!$E$15","v":0.15},{"$f":"PFP3_FatorKc!$E$10","v":0.16618075801749271},{"$f":"PFP3_FatorKc!$E$14","v":0.1},2.6067999999999998,null,null,{"$f":"'TC_Mão de obra'!$A$39","v":"P8058"},{"$f":"'TC_Mão de obra'!$B$39","v":"Engenheiro ambiental pleno"},{"$f":"'TC_Mão de obra'!$C$39","v":"mês"},{"$f":"'TC_Mão de obra'!$D$39","v":12074.42},{"$f":"'TC_Mão de obra'!$O$39","v":0.8821},{"$f":"'TC_Mão de obra'!$P$39","v":10651.09},{"$f":"'TC_Mão de obra'!$Q$39","v":22725.510000000002}]
["SICRO",{"$f":"'CRO1_Ins-Pro'!B8","v":"P8135"},"MO","A1",{"$f":"'CRO1_Ins-Pro'!C8","v":"Administrativo (Secretariado) "},1.4520999999999999,{"$f":"PFP3_FatorKc!$E$15","v":0.15},{"$f":"PFP3_FatorKc!$E$10","v":0.16618075801749271},{"$f":"PFP3_FatorKc!$E$14","v":0.1},3.3380000000000001,null,null,{"$f":"'TC_Mão de obra'!$A$77","v":"P8135"},{"$f":"'TC_Mão de obra'!$B$77","v":"Secretária"},{"$f":"'TC_Mão de obra'!$C$77","v":"mês"},{"$f":"'TC_Mão de obra'!$D$77","v":2364.31},{"$f":"'TC_Mão de obra'!$O$77","v":1.4520999999999999},{"$f":"'TC_Mão de obra'!$P$77","v":3433.2799999999997},{"$f":"'TC_Mão de obra'!$Q$77","v":5797.59}]
[]
["NOME DO INFORMANTE:",{"$nulls":8},"QUALIFICAÇÃO"]
[]
["ASSINATURA:",{"$nulls":8},"DATA:"]
[]
["OBSERVAÇÃO:"]
["Alocar os Insumos MO, com respectivo FatorK, dentro da categoria de vínculo contratual (com ou sem) de cada tipo de profissional"]
["K1 - Encargos Sociais - Valores obtidos do Relatório de Consolidação dos Custos de Mão de obra do SICRO (Tabela 1 - Consolidação dos custos de mão de obra - Tabela de Preços de Consultoria - mês de referência: janeiro 2023"]
[]
["K2 - Custos da Administração Central"]
["K3 - Despesas Fiscais - 16,62"]
["K4 - Remuneração da empresa (LUCRO)"]
["Ka - Taxa de Ressarcimento de Despesas e Encargos sobre a Mão de Obra COM VINCULO (incide apenas no Insumo Codigo M.O.)"]
["Ka = (1 + K1 + K2) x (1 + K3) x (1 + K4)"]

{"sheet":"PFP2.2_FatorKb","index":5,"n_rows":46,"n_cols":6,"rows_kept":46,"cut":false,"hidden":true,"merged":[[42,0,42,5],[43,0,43,5],[44,0,44,5],[45,0,45,5],[35,1,35,3],[36,1,36,3],[37,4,37,5],[38,4,38,5],[40,0,40,3],[30,1,30,3],[31,1,31,3],[32,1,32,3],[33,1,33,3],[34,1,34,3],[25,1,25,3],[26,1,26,3],[27,1,27,3],[28,1,28,3],[29,1,29,3],[20,1,20,3],[21,1,21,3],[22,1,22,3],[23,1,23,3],[24,1,24,3],[6,0,7,3],[6,4,6,5],[8,1,8,3],[18,1,18,3],[19,1,19,3],[0,0,1,4],[2,0,2,5],[3,0,3,5],[4,2,4,4],[5,0,5,1],[5,2,5,4]]}
["DETALHAMENTO DOS ENCARGOS SOCIAIS: Kb",{"$nulls":4},"CODIGO:"]
[{"$nulls":5},"PFP-3"]
["NOME DA CONSULTORA:"]
[]
["PROJETO:",null,"CONTRATANTE:",null,null,{"$f":"'PFP2.1_FatorKa'!J5","v":"BASE: Maio/2023"}]
[{"$f":"PFP!A6","v":"Ponte Rio Paranã /GO"},null,{"$f":"PFP!F6","v":"Codevasf (9ª SR) "}]
["DISCRIMINAÇÃO",null,null,null,"VALORES"]
[{"$nulls":4},"%","R$"]
["A","ENCARGOS SOCIAIS BÁSICOS",null,null,{"$f":"ROUND(SUM(E10:E18),4)","v":0.2},{"$f":"ROUND(E9*PFP!$H$19,2)","v":41252.720000000001}]
["A1","Seconci",null,null,0,{"$f":"ROUND(E10*PFP!$H$19,2)","v":0}]
["A2","INSS",null,null,0.2,{"$f":"ROUND(E11*PFP!$H$19,2)","v":41252.720000000001}]
["A3","FGTS",null,null,0,{"$f":"ROUND(E12*PFP!$H$19,2)","v":0}]
["A4","Incra",null,null,0,{"$f":"ROUND(E13*PFP!$H$19,2)","v":0}]
["A5","Salário Educação ",null,null,0,{"$f":"ROUND(E14*PFP!$H$19,2)","v":0}]
["A6","Sebrae",null,null,0,{"$f":"ROUND(E15*PFP!$H$19,2)","v":0}]
["A7","Seguro contra acidente",null,null,0,{"$f":"ROUND(E16*PFP!$H$19,2)","v":0}]
["A8","Senai",null,null,0,{"$f":"ROUND(E17*PFP!$H$19,2)","v":0}]
["A9","Sesi",null,null,0,{"$f":"ROUND(E18*PFP!$H$19,2)","v":0}]
["B"," ENCARGOS SOCIAIS QUE RECEBEM INCIDÊNCIA DE \"A\"",null,null,{"$f":"ROUND(SUM(E20:E26),4)","v":0},{"$f":"ROUND(E19*PFP!$H$19,2)","v":0}]
["B1","13º Salário  ",null,null,0,{"$f":"ROUND(E20*PFP!$H$19,2)","v":0}]
["B2","Auxilio Enfermidade",null,null,0,{"$f":"ROUND(E21*PFP!$H$19,2)","v":0}]
["B3","Licença Paternidade",null,null,0,{"$f":"ROUND(E22*PFP!$H$19,2)","v":0}]
["B4","Faltas Justificadas",null,null,0,{"$f":"ROUND(E23*PFP!$H$19,2)","v":0}]
["B5","Auxílio Acidente de Trabalho",null,null,0,{"$f":"ROUND(E24*PFP!$H$19,2)","v":0}]
["B6","Férias Gozadas",null,null,0,{"$f":"ROUND(E25*PFP!$H$19,2)","v":0}]
["B7","Salário Maternidade",null,null,0,{"$f":"ROUND(E26*PFP!$H$19,2)","v":0}]
["C"," ENCARGOS SOCIAIS QUE NÃO RECEBEM INCIDÊNCIA DE \"A\"",null,null,{"$f":"ROUND(SUM(E28:E32),4)","v":0},{"$f":"ROUND(E27*PFP!$H$19,2)","v":0}]
["C1","Aviso Prévio Indenizado",null,null,0,{"$f":"ROUND(E28*PFP!$H$19,2)","v":0}]
["C2","Aviso Prévio Trabalhado",null,null,0,{"$f":"ROUND(E29*PFP!$H$19,2)","v":0}]
["C3","Férias Indenizadas",null,null,0,{"$f":"ROUND(E30*PFP!$H$19,2)","v":0}]
["C4","Depósito Rescisão Sem Justa Causa",null,null,0,{"$f":"ROUND(E31*PFP!$H$19,2)","v":0}]
["C5","Indenização Adicional",null,null,0,{"$f":"ROUND(E32*PFP!$H$19,2)","v":0}]
["D"," REINCIDÊNCIAS",null,null,{"$f":"ROUND(SUM(E34:E35),4)","v":0},{"$f":"ROUND(E33*PFP!$H$19,2)","v":0}]
["D1","Reincidência de \"A\" sobre \"B\"",null,null,{"$f":"ROUND(E9*E19,4)","v":0},{"$f":"ROUND(E34*PFP!$H$19,2)","v":0}]
["D2","Reincidência de \"A\" sobre Aviso Prévio Trabalhado e reincidência do FGTS sobre Aviso Prévio Indenizado",null,null,{"$f":"ROUND(E9*E29,4)+ROUND(E28*E12,4)","v":0},{"$f":"ROUND(E35*PFP!$H$19,2)","v":0}]
["K1","ENCARGOS SOCIAIS",null,null,{"$f":"ROUND(E9+E19+E27+E33,4)","v":0.2},{"$f":"ROUND(E36*PFP!$H$19,2)","v":41252.720000000001}]
["Kb","TAXA DE RESSARCIMENTO DE DESPESAS E ENCARGOS SOBRE MO SV",null,null,{"$f":"ROUND((1+E36+PFP3_FatorKc!E15)*(1+PFP3_FatorKc!E14)*(1+PFP3_FatorKc!E10),4)","v":1.7318}]
["NOME DO INFORMANTE:",null,null,null,"QUALIFICAÇÃO"]
[]
["ASSINATURA:",null,null,null,"DATA:"]
[]
["OBSERVAÇÃO:"]
["1 - DISCRIMINAR OS ENCARGOS SOCIAIS COM SEUS RESPECTIVOS PERCENTUAS TOTALIZANDO OS MESMOS. "]
["2 - APLICAR O % TOTAL P/ CALCULAR OS E. SOCIAIS INCIDENTES NA MÃO-DE-OBRA SEM VÍNCULO PERMANENTE"]
["Kb - Taxa de Ressarcimento de Despesas e Encargos sobre a Mão de Obra SEM VINCULO (incide apenas no Insumo Codigo M.O.)"]
["Kb = (1 + K1 + K2) x (1 + K3) x (1 + K4)"]

{"sheet":"PFP3_FatorKc","index":6,"n_rows":1048576,"n_cols":6,"rows_kept":1048576,"cut":false,"hidden":false,"merged":[[35,0,35,5],[36,0,36,5],[1048575,0,1048575,5],[30,0,30,5],[31,0,31,5],[32,0,32,5],[33,0,33,5],[34,0,34,5],[25,0,25,5],[26,0,26,5],[27,0,27,5],[28,0,28,5],[29,0,29,5],[16,1,16,3],[17,1,17,3],[18,1,18,3],[23,0,23,5],[24,0,24,5],[11,1,11,2],[12,1,12,2],[13,1,13,3],[14,1,14,3],[15,1,15,3],[6,0,7,2],[6,3,6,5],[8,0,9,0],[8,1,9,2],[10,1,10,2],[0,0,1,4],[2,0,2,5],[3,0,3,5],[4,2,4,4],[5,0,5,1],[5,2,5,4]]}
["DESPESAS FISCAIS E CUSTOS DIVERSOS: Kc",{"$nulls":4},"CODIGO:"]
[{"$nulls":5},"PFP-3"]
["NOME DA CONSULTORA:"]
[]
["PROJETO:",null,"CONTRATANTE:",null,null,{"$f":"PFP!J5","v":"BASE: Maio/2023"}]
[{"$f":"PFP!A6","v":"Ponte Rio Paranã /GO"},null,{"$f":"PFP!F6","v":"Codevasf (9ª SR) "}]
["DISCRIMINAÇÃO 1",null,null,"VALORES"]
[null,null,null,"% preço","% custo","R$"]
["K4","DESPESAS FISCAIS",null,"K' (%)2","K (%)3"]
[null,null,null,{"$f":"ROUND(D11+D12+D13,4)","v":0.14249999999999999},{"$f":"E11+E12+E13","v":0.16618075801749271}]
[1,"ISS",null,0.05,{"$f":"(1/(1-$D$10))*D11","v":5.8309037900874633E-2}]
[2,"PIS",null,1.6500000000000001E-2,{"$f":"(1/(1-$D$10))*D12","v":1.9241982507288629E-2}]
[3,"COFINS",null,7.5999999999999998E-2,{"$f":"(1/(1-$D$10))*D13","v":8.8629737609329434E-2}]
["K3","REMUNERAÇÃO DA EMPRESA (LUCRO)",null,null,0.1]
["K2","CUSTOS DA ADMINISTRAÇÃO CENTRAL",null,null,{"$f":"ROUND(SUM(E16:E18),4)","v":0.15}]
[4,"Custos da administração central da empresa (diretoria, pessoal técnico de apoio e pessoal administrativo não diretamente vinculado à prestação dos serviços)",null,null,0.1]
[5,"Outras despesas que afetam o custo de produção como treinamento, biblioteca, programa de qualidade, programa de benefícios, auditoria interna e externa",null,null,0.03]
[6,"Despesas fixas e variaveis com patrimônio, aluguéis, comunicação, manutenção e transporte não diretamente relacionados com o custo direto dos serviços",null,null,0.02]
["Kc","TAXA RESSARCIMENTO DE DESPESAS SOBRE CUSTOS DIVERSOS",null,null,{"$f":"ROUND((1+E14)*(1+E10),4)","v":1.2827999999999999}]
["NOME DO INFORMANTE:",null,null,null,"QUALIFICAÇÃO:"]
[]
["ASSINATURA:",null,null,null,"DATA:"]
[]
["Observação:"]
["1 - RELACIONAR OS CUSTOS DE ADMINISTRAÇÃO COM RESPECTIVOS PERCENTUAIS INCIDENTES NA MÃO -DE-OBRA"]
["1 - DISCRIMINAR OS TRIBUTOS QUE INCIDEM SOBRE OS CUSTOS DA PRESTAÇÃO DOS SERVIÇOS"]
["2 - K4 = INDICAR % DE CADA TRIBUTO E A SOMA DOS MESMOS "]
["3 - PIS e COFINS, Regime de Incidencia Acumulativa ou em Regime de Incidencia Não Acumulativa de acordo com a forma de apuração do lucro no IRPJ. APRESENTAR COMPROVANTES de aproveitamento de créditos tributários dos últimos 12 meses em caso de aplicação de \"percentual de desconto\"."]
["4 - AS DESPESAS FISCAIS (K4) INCIDEM SOBRE O TOTAL DA FATURA E NÃO SOBRE OS CUSTOS INCORRIDOS, "]
["     DEVENDO SER CALCULADO O K4' APLICANDO-SE A SEGUINTE FÓRMULA:"]
["     K4' = { [ 1 / ( 1 - K4) ] - 1 } x 100"]
[{"$f":"CONCATENATE(\"     K4' = { [ 1 / ( 1 - \",D10,\" ) ] - 1 } x 100\")","v":"     K4' = { [ 1 / ( 1 - 0,1425 ) ] - 1 } x 100"}]
["Kc - Taxa de Ressarcimento de Despesas sobre Custos Diversos (incide sobre os Insumos Codigo DP e ME)"]
["Kc = (1 + K3) x (1 + K4)"]
["K2 - Incide sobre o Custo Total (CT) da Mão de Obra (MO)"]
["K3 - Incide sobre o Custo Total (CT) Mão de Obra com encargos (MO x Ka ou Kb), demais Custos (DP e EQ), e Custos da Administração Central (K2)"]
["K4 -  Incide sobre o Custo Total (CT) Mão de Obra com encargos (MO x Ka ou Kb), demais Custos (DP e EQ), e Custos da Administração Central (K2) e Lucro (K3)"]
{"$rows_empty":1048538}
["ISS- O ISS informado na proposta da licitante deve corresponder ao seu domicílio fiscal. "]

{"sheet":"CRO1_Ins-Pro","index":7,"n_rows":21,"n_cols":13,"rows_kept":21,"cut":false,"hidden":false,"merged":[[17,0,17,10],[18,0,18,10],[19,0,19,10],[36,8,36,10],[0,0,1,6],[0,7,0,12],[1,7,1,12],[14,2,15,2],[14,0,15,1]]}
["INSUMOS POR ETAPA/PRODUTO",{"$nulls":6},"CODIGO:"]
[{"$nulls":7},"CRO-1"]
["Cod1","Cod2","Categoria / Insumo","Uni","Qde","CUD","PU","FatorK","1. EP","2. LP. com RPA.","3. EVTEA","4. Est. Geo. e Top.","5. PB"]
["SICRO","P8061","Engenheiro Sênior (Coordenador) ","mês",{"$f":"SUM(I4:M4)","v":7},{"$f":"PFP!G8","v":16918.599999999999},{"$f":"PFP!H8","v":43531.56},{"$f":"PFP!I8","v":2.573},2,0,2,0,3]
["SICRO","P8067","Engenheiro Sênior – Projetista Ponte","mês",2,{"$f":"PFP!G9","v":14506.03},{"$f":"PFP!H9","v":37516.949999999997},{"$f":"PFP!I9","v":2.5863},0,0,0,0,2]
["SICRO","P8066","Engenheiro Pleno – Projetista Estrada","mês",1.5,{"$f":"PFP!G10","v":11294.64},{"$f":"PFP!H10","v":29503.86},{"$f":"PFP!I10","v":2.6122000000000001},0,0,0.5,0,1]
["SICRO","P8058","Engenheiro Pleno – Ambiental","mês",1.5,{"$f":"PFP!G11","v":12074.42},{"$f":"PFP!H11","v":31475.599999999999},{"$f":"PFP!I11","v":2.6067999999999998},1,0,0.5,0,0]
["SICRO","P8135","Administrativo (Secretariado) ","mês",7,{"$f":"PFP!G12","v":2364.31},{"$f":"PFP!H12","v":7892.07},{"$f":"PFP!I12","v":3.3380000000000001},2,0,2,0,3]
["CODE","V1","Diárias","dia",13,{"$f":"PFP!G13","v":268},{"$f":"PFP!H13","v":343.79},{"$f":"PFP!I13","v":1.2827999999999999},7,0,0,0,6]
["PROP","E8891","Pick-up Cab. Dupla 2.8 4x4 Diesel","dia",7,{"$f":"PFP!G14","v":322.11},{"$f":"PFP!H14","v":413.2},{"$f":"PFP!I14","v":1.2827999999999999},5,0,0,0,2]
["CODE","M4","Relatório Final","un",1,{"$f":"PFP!G15","v":1478.8},{"$f":"PFP!H15","v":1897},{"$f":"PFP!I15","v":1.2827999999999999},0,0,0,0,1]
["CODE","ED.5/2022/BSB","Levantamento Planialtimetrico com RPA (VANT)","ha ",1300,"-",{"$f":"PFP!H16","v":47.93},"-",0,1300,0,0,0]
["CODE","TP","Serviços Topográficos (exceto LP com RPA)","un",1,{"$f":"PFP!G17","v":"-"},{"$f":"PFP!H17","v":100983.83999999997},"-",0,0,0,1,0]
["CODE","GT","Total Serviços Geotécnicos","un",1,{"$f":"PFP!G18","v":"-"},{"$f":"PFP!H18","v":161740.31999999998},"-",0,0,0,1,0]
["TOTAL",null,"VALOR POR PRODUTO","R$",{"$f":"SUM(I15:M15)","v":860760.32999999984},null,null,null,{"$f":"SUM(G4:G14*$I4:I$14)","v":138795.38999999998},{"$f":"SUM(G4:G14*$J4:J$14)","v":62309},{"$f":"SUM(K4:K14*$G$4:$G$14)","v":133336.99},{"$f":"SUM(L4:L14*$G$4:$G$14)","v":262724.15999999992},{"$f":"SUM(M4:M14*$G$4:$G$14)","v":263594.78999999998}]
[null,null,null,"%",{"$f":"SUM(I16:M16)","v":1},null,null,null,{"$f":"ROUND(I15/$E$15,5)","v":0.16125},{"$f":"ROUND(J15/$E$15,5)","v":7.2389999999999996E-2},{"$f":"ROUND(K15/$E$15,5)","v":0.15490999999999999},{"$f":"ROUND(L15/$E$15,5)","v":0.30521999999999999},{"$f":"ROUND(M15/$E$15,5)","v":0.30623}]
["OBSERVAÇÃO:"]
["P - Profissionais nível superior nas áreas de Engenharia, Química, Arquitetura, Agronomia e Veterinária, conforme disposições da Lei 4.950-A/66"]
["S - Profissionais de nível superior nas demais áreas de atuação, incluindo Arqueólogo, Biólogo, Geógrafo e Socioólogo"]
["T - Profissionais de nível médio técnico nas diversas áreas de atuação"]
["A - Profissionais de nível médio de apoio técnico-administrativo"]

{"sheet":"CRO2_Ins-Mes","index":8,"n_rows":7,"n_cols":10,"rows_kept":7,"cut":false,"hidden":false,"merged":[[0,3,0,9],[30,3,30,9]]}
["CRONOGRAMA SIMPLIFICADO",null,null,"Mês"]
["Produtos","Uni","Qde",1,2,3,4,5,6,7]
["Estudos Preliminares","mês",2,1,1,0,0,0,0,0]
["Levantamento Planialtimetrico com RPA (VANT)","mês",1,0,1,0,0,0,0,0]
["Estudo de Viabilidade Técnica, Econômica e Ambiental","mês",2,0,0,1,1,0,0,0]
["Estudos Geotécnicos e Topográficos","mês",1,0,0,0,0,1,0,0]
["Projeto Básico","mês",3,0,0,0,0,1,1,1]

{"sheet":"TC_Mão de obra","index":9,"n_rows":91,"n_cols":20,"rows_kept":91,"cut":false,"hidden":false,"merged":[[0,16,1,16],[0,14,1,15],[0,0,2,0],[0,1,2,1],[0,2,2,2],[0,4,1,5],[0,6,0,10],[0,11,0,13]]}
["Código","Categoria","Unid.","Salário","Encargos Sociais",null,"Encargos Complementares",{"$nulls":4},"Encargos Adicionais",null,null,"Encargos Totais",null,"Valor Total",null,"Salário"]
[null,null,null,1302,null,null,"Alimentação","EPI","Ferramenta","Transporte","Exame Ocupacional","Cesta Básica","Assistência Médica","Seguro de Vida"]
[null,null,null,"R$","%","R$","R$","R$","R$","R$","R$","R$","R$","R$","%","R$","R$"]
[]
["P8001","Advogado júnior","mês",{"$f":"ROUND($D$2*T5,2)","v":{"$error":"#DIV/0!"}},0.79800000000000004,{"$f":"ROUND(D5*E5,2)","v":{"$error":"#DIV/0!"}},578.44000000000005,38.380000000000003,0,0,3.2,0,303.64,9.98,{"$f":"ROUND((Q5-D5)/D5,4)","v":{"$error":"#DIV/0!"}},{"$f":"SUM(F5:N5)","v":{"$error":"#DIV/0!"}},{"$f":"D5+P5","v":{"$error":"#DIV/0!"}},null,4254.47,{"$f":"ROUND(S5/$S$2,1)","v":{"$error":"#DIV/0!"}}]
["P8002","Advogado pleno","mês",{"$f":"ROUND($D$2*T6,2)","v":{"$error":"#DIV/0!"}},0.79800000000000004,{"$f":"ROUND(D6*E6,2)","v":{"$error":"#DIV/0!"}},578.44000000000005,38.380000000000003,0,0,3.2,0,303.64,9.98,{"$f":"ROUND((Q6-D6)/D6,4)","v":{"$error":"#DIV/0!"}},{"$f":"SUM(F6:N6)","v":{"$error":"#DIV/0!"}},{"$error":"#DIV/0!"},null,5672.62,{"$f":"ROUND(S6/$S$2,1)","v":{"$error":"#DIV/0!"}}]
["P8003","Advogado sênior","mês",{"$error":"#DIV/0!"},0.79800000000000004,{"$error":"#DIV/0!"},578.44000000000005,38.380000000000003,0,0,3.2,0,303.64,9.98,{"$error":"#DIV/0!"},{"$error":"#DIV/0!"},{"$error":"#DIV/0!"},null,9701.7199999999993,{"$error":"#DIV/0!"}]
["P8007","Analista de desenvolvimento de sistemas júnior","mês",{"$error":"#DIV/0!"},0.79649999999999999,{"$error":"#DIV/0!"},578.44000000000005,0,0,7.88,3.35,0,303.64,9.98,{"$error":"#DIV/0!"},{"$error":"#DIV/0!"},{"$error":"#DIV/0!"},null,3519.26,{"$error":"#DIV/0!"}]
["P8008","Analista de desenvolvimento de sistemas pleno","mês",{"$error":"#DIV/0!"},0.79649999999999999,{"$error":"#DIV/0!"},578.44000000000005,0,0,0,3.35,0,303.64,9.98,{"$error":"#DIV/0!"},{"$error":"#DIV/0!"},{"$error":"#DIV/0!"},null,4692.3500000000004,{"$error":"#DIV/0!"}]
["P8009","Analista de desenvolvimento de sistemas sênior","mês",{"$error":"#DIV/0!"},0.79649999999999999,{"$error":"#DIV/0!"},578.44000000000005,0,0,0,3.35,0,303.64,9.98,{"$error":"#DIV/0!"},{"$error":"#DIV/0!"},{"$error":"#DIV/0!"},null,8422,{"$error":"#DIV/0!"}]
["P8013","Arquiteto júnior","mês",{"$error":"#DIV/0!"},0.79490000000000005,{"$error":"#DIV/0!"},578.44000000000005,38.380000000000003,0,0,2.61,0,303.64,9.98,{"$error":"#DIV/0!"},{"$error":"#DIV/0!"},{"$error":"#DIV/0!"},null,10302,{"$error":"#DIV/0!"}]
["P8014","Arquiteto pleno","mês",{"$error":"#DIV/0!"},0.79490000000000005,{"$error":"#DIV/0!"},578.44000000000005,38.380000000000003,0,0,2.61,0,303.64,9.98,{"$error":"#DIV/0!"},{"$error":"#DIV/0!"},{"$error":"#DIV/0!"},null,11132.43,{"$error":"#DIV/0!"}]
["P8015","Arquiteto sênior","mês",{"$error":"#DIV/0!"},0.79490000000000005,{"$error":"#DIV/0!"},578.44000000000005,38.380000000000003,0,0,2.61,0,303.64,9.98,{"$error":"#DIV/0!"},{"$error":"#DIV/0!"},{"$error":"#DIV/0!"},null,13602.02,{"$error":"#DIV/0!"}]
["P8019","Assistente social júnior","mês",{"$error":"#DIV/0!"},0.80400000000000005,{"$error":"#DIV/0!"},578.44000000000005,38.380000000000003,0,72.680000000000007,4.59,0,303.64,9.98,{"$error":"#DIV/0!"},{"$error":"#DIV/0!"},{"$error":"#DIV/0!"},null,2439.23,{"$error":"#DIV/0!"}]
["P8020","Assistente social pleno","mês",{"$error":"#DIV/0!"},0.80400000000000005,{"$error":"#DIV/0!"},578.44000000000005,38.380000000000003,0,23.89,4.59,0,303.64,9.98,{"$error":"#DIV/0!"},{"$error":"#DIV/0!"},{"$error":"#DIV/0!"},null,3252.31,{"$error":"#DIV/0!"}]
["P8021","Assistente social sênior","mês",{"$error":"#DIV/0!"},0.80400000000000005,{"$error":"#DIV/0!"},578.44000000000005,38.380000000000003,0,0,4.59,0,303.64,9.98,{"$error":"#DIV/0!"},{"$error":"#DIV/0!"},{"$error":"#DIV/0!"},null,5653.49,{"$error":"#DIV/0!"}]
["P8025","Auxiliar","mês",{"$error":"#DIV/0!"},0.80700000000000005,{"$error":"#DIV/0!"},578.44000000000005,0,2.48,136.88,3.41,0,303.64,9.98,{"$error":"#DIV/0!"},{"$error":"#DIV/0!"},{"$error":"#DIV/0!"},null,1369.28,{"$error":"#DIV/0!"}]
["P8026","Auxiliar administrativo","mês",{"$error":"#DIV/0!"},0.80369999999999997,{"$error":"#DIV/0!"},578.44000000000005,0,0,120.48,4.32,0,303.64,9.98,{"$error":"#DIV/0!"},{"$error":"#DIV/0!"},{"$error":"#DIV/0!"},null,1642.53,{"$error":"#DIV/0!"}]
["P8027","Auxiliar de laboratório","mês",{"$error":"#DIV/0!"},0.80179999999999996,{"$error":"#DIV/0!"},578.44000000000005,0,5.0599999999999996,126.78,3.64,0,303.64,9.98,{"$error":"#DIV/0!"},{"$error":"#DIV/0!"},{"$error":"#DIV/0!"},null,1537.49,{"$error":"#DIV/0!"}]
["P8028","Auxiliar de topografia","mês",{"$error":"#DIV/0!"},0.8024,{"$error":"#DIV/0!"},578.44000000000005,44.73,2.13,136.88,4.3,0,303.64,9.98,{"$error":"#DIV/0!"},{"$error":"#DIV/0!"},{"$error":"#DIV/0!"},null,1369.28,{"$error":"#DIV/0!"}]
["P8032","Biólogo júnior","mês",{"$error":"#DIV/0!"},0.79759999999999998,{"$error":"#DIV/0!"},578.44000000000005,38.380000000000003,0,42.01,3.31,0,303.64,9.98,{"$error":"#DIV/0!"},{"$error":"#DIV/0!"},{"$error":"#DIV/0!"},null,2950.28,{"$error":"#DIV/0!"}]
["P8033","Biólogo pleno","mês",{"$error":"#DIV/0!"},0.79759999999999998,{"$error":"#DIV/0!"},578.44000000000005,38.380000000000003,0,0,3.31,0,303.64,9.98,{"$error":"#DIV/0!"},{"$error":"#DIV/0!"},{"$error":"#DIV/0!"},null,3933.71,{"$error":"#DIV/0!"}]
["P8034","Biólogo sênior","mês",{"$error":"#DIV/0!"},0.79759999999999998,{"$error":"#DIV/0!"},578.44000000000005,38.380000000000003,0,0,3.31,0,303.64,9.98,{"$error":"#DIV/0!"},{"$error":"#DIV/0!"},{"$error":"#DIV/0!"},null,6600.35,{"$error":"#DIV/0!"}]
["P8038","Chefe de escritório","mês",{"$error":"#DIV/0!"},0.79910000000000003,{"$error":"#DIV/0!"},578.44000000000005,0,0,5.82,3.27,0,303.64,9.98,{"$error":"#DIV/0!"},{"$error":"#DIV/0!"},{"$error":"#DIV/0!"},null,3553.55,{"$error":"#DIV/0!"}]
["P8040","Contador júnior","mês",{"$error":"#DIV/0!"},0.79849999999999999,{"$error":"#DIV/0!"},578.44000000000005,0,0,0,3.04,0,303.64,9.98,{"$error":"#DIV/0!"},{"$error":"#DIV/0!"},{"$error":"#DIV/0!"},null,3694.26,{"$error":"#DIV/0!"}]
["P8041","Contador pleno","mês",{"$error":"#DIV/0!"},0.79849999999999999,{"$error":"#DIV/0!"},578.44000000000005,0,0,0,3.04,0,303.64,9.98,{"$error":"#DIV/0!"},{"$error":"#DIV/0!"},{"$error":"#DIV/0!"},null,4925.68,{"$error":"#DIV/0!"}]
["P8042","Contador sênior","mês",{"$error":"#DIV/0!"},0.79849999999999999,{"$error":"#DIV/0!"},578.44000000000005,0,0,0,3.04,0,303.64,9.98,{"$error":"#DIV/0!"},{"$error":"#DIV/0!"},{"$error":"#DIV/0!"},null,9121.9599999999991,{"$error":"#DIV/0!"}]
["P8044","Coordenador ambiental ","mês",{"$error":"#DIV/0!"},0.79510000000000003,{"$error":"#DIV/0!"},578.44000000000005,0,0,0,2.74,0,303.64,9.98,{"$error":"#DIV/0!"},{"$error":"#DIV/0!"},{"$error":"#DIV/0!"},null,14563.83,{"$error":"#DIV/0!"}]
["P8045","Economista júnior","mês",{"$error":"#DIV/0!"},0.79530000000000001,{"$error":"#DIV/0!"},578.44000000000005,0,0,0,2.71,0,303.64,9.98,{"$error":"#DIV/0!"},{"$error":"#DIV/0!"},{"$error":"#DIV/0!"},null,4428.3599999999997,{"$error":"#DIV/0!"}]
["P8046","Economista pleno","mês",{"$error":"#DIV/0!"},0.79530000000000001,{"$error":"#DIV/0!"},578.44000000000005,0,0,0,2.71,0,303.64,9.98,{"$error":"#DIV/0!"},{"$error":"#DIV/0!"},{"$error":"#DIV/0!"},null,5904.48,{"$error":"#DIV/0!"}]
["P8047","Economista sênior","mês",{"$error":"#DIV/0!"},0.79530000000000001,{"$error":"#DIV/0!"},578.44000000000005,0,0,0,2.71,0,303.64,9.98,{"$error":"#DIV/0!"},{"$error":"#DIV/0!"},{"$error":"#DIV/0!"},null,10631,{"$error":"#DIV/0!"}]
["P8051","Engenheiro agrimensor/Geógrafo júnior","mês",{"$error":"#DIV/0!"},0.79610000000000003,{"$error":"#DIV/0!"},578.44000000000005,38.380000000000003,0,0,3.11,0,303.64,9.98,{"$error":"#DIV/0!"},{"$error":"#DIV/0!"},{"$error":"#DIV/0!"},null,10302,{"$error":"#DIV/0!"}]
["P8052","Engenheiro agrimensor/Geógrafo pleno","mês",{"$error":"#DIV/0!"},0.79610000000000003,{"$error":"#DIV/0!"},578.44000000000005,38.380000000000003,0,0,3.11,0,303.64,9.98,{"$error":"#DIV/0!"},{"$error":"#DIV/0!"},{"$error":"#DIV/0!"},null,10710.21,{"$error":"#DIV/0!"}]
["P8053","Engenheiro agrimensor/Geógrafo sênior","mês",{"$error":"#DIV/0!"},0.79610000000000003,{"$error":"#DIV/0!"},578.44000000000005,38.380000000000003,0,0,3.11,0,303.64,9.98,{"$error":"#DIV/0!"},{"$error":"#DIV/0!"},{"$error":"#DIV/0!"},null,13406.36,{"$error":"#DIV/0!"}]
["P8054","Engenheiro agrônomo júnior","mês",{"$error":"#DIV/0!"},0.79100000000000004,{"$error":"#DIV/0!"},578.44000000000005,38.380000000000003,0,0,2.19,0,303.64,9.98,{"$error":"#DIV/0!"},{"$error":"#DIV/0!"},{"$error":"#DIV/0!"},null,10302,{"$error":"#DIV/0!"}]
["P8055","Engenheiro agrônomo pleno","mês",{"$error":"#DIV/0!"},0.79100000000000004,{"$error":"#DIV/0!"},578.44000000000005,38.380000000000003,0,0,2.19,0,303.64,9.98,{"$error":"#DIV/0!"},{"$error":"#DIV/0!"},{"$error":"#DIV/0!"},null,10635.6,{"$error":"#DIV/0!"}]
["P8056","Engenheiro agrônomo sênior","mês",{"$error":"#DIV/0!"},0.79100000000000004,{"$error":"#DIV/0!"},578.44000000000005,38.380000000000003,0,0,2.19,0,303.64,9.98,{"$error":"#DIV/0!"},{"$error":"#DIV/0!"},{"$error":"#DIV/0!"},null,12472.53,{"$error":"#DIV/0!"}]
["P8057","Engenheiro ambiental júnior","mês",{"$error":"#DIV/0!"},0.79810000000000003,{"$error":"#DIV/0!"},578.44000000000005,38.380000000000003,0,0,3.06,0,303.64,9.98,{"$error":"#DIV/0!"},{"$error":"#DIV/0!"},{"$error":"#DIV/0!"},null,10302,{"$error":"#DIV/0!"}]
["P8058","Engenheiro ambiental pleno","mês",12074.42,0.79679999999999995,9620.9,677.01,38.08,0,0,3.37,0,301.75,9.98,0.8821,10651.09,22725.510000000002]
["P8059","Engenheiro ambiental sênior","mês",{"$error":"#DIV/0!"},0.79810000000000003,{"$error":"#DIV/0!"},578.44000000000005,38.380000000000003,0,0,3.06,0,303.64,9.98,{"$error":"#DIV/0!"},{"$error":"#DIV/0!"},{"$error":"#DIV/0!"},null,13227.15,{"$error":"#DIV/0!"}]
["P8060","Engenheiro consultor especial","mês",{"$error":"#DIV/0!"},0.79649999999999999,{"$error":"#DIV/0!"},578.44000000000005,35.049999999999997,0,0,3.36,0,303.64,9.98,{"$error":"#DIV/0!"},{"$error":"#DIV/0!"},{"$error":"#DIV/0!"},null,20307.2,{"$error":"#DIV/0!"}]
["P8061","Engenheiro coordenador","mês",16918.599999999999,0.79510000000000003,13451.98,677.01,34.78,0,0,3.38,0,301.75,9.98,0.85580000000000001,14478.88,31397.479999999996]
["P8062","Engenheiro de pesca júnior","mês",{"$error":"#DIV/0!"},0.7974,{"$error":"#DIV/0!"},578.44000000000005,38.380000000000003,0,0,3.1,0,303.64,9.98,{"$error":"#DIV/0!"},{"$error":"#DIV/0!"},{"$error":"#DIV/0!"},null,10302,{"$error":"#DIV/0!"}]
["P8063","Engenheiro de pesca pleno","mês",{"$error":"#DIV/0!"},0.7974,{"$error":"#DIV/0!"},578.44000000000005,38.380000000000003,0,0,3.1,0,303.64,9.98,{"$error":"#DIV/0!"},{"$error":"#DIV/0!"},{"$error":"#DIV/0!"},null,10388,{"$error":"#DIV/0!"}]
["P8064","Engenheiro de pesca sênior","mês",{"$error":"#DIV/0!"},0.7974,{"$error":"#DIV/0!"},578.44000000000005,38.380000000000003,0,0,3.1,0,303.64,9.98,{"$error":"#DIV/0!"},{"$error":"#DIV/0!"},{"$error":"#DIV/0!"},null,11234.9,{"$error":"#DIV/0!"}]
["P8065","Engenheiro de projetos júnior","mês",{"$error":"#DIV/0!"},0.79649999999999999,{"$error":"#DIV/0!"},578.44000000000005,38.380000000000003,0,0,3.36,0,303.64,9.98,{"$error":"#DIV/0!"},{"$error":"#DIV/0!"},{"$error":"#DIV/0!"},null,10302,{"$error":"#DIV/0!"}]
["P8066","Engenheiro de projetos pleno","mês",11294.64,0.79510000000000003,8980.3700000000008,677.01,38.08,0,0,3.38,0,301.75,9.98,0.88629999999999998,10010.57,21305.21]
["P8067","Engenheiro de projetos sênior","mês",14506.03,0.79510000000000003,11533.74,677.01,38.08,0,0,3.38,0,301.75,9.98,0.86609999999999998,12563.939999999999,27069.97]
["P8068","Engenheiro florestal júnior","mês",{"$error":"#DIV/0!"},0.7974,{"$error":"#DIV/0!"},578.44000000000005,38.380000000000003,0,0,3.1,0,303.64,9.98,{"$error":"#DIV/0!"},{"$error":"#DIV/0!"},{"$error":"#DIV/0!"},null,10302,{"$error":"#DIV/0!"}]
["P8069","Engenheiro florestal pleno","mês",{"$error":"#DIV/0!"},0.7974,{"$error":"#DIV/0!"},578.44000000000005,38.380000000000003,0,0,3.1,0,303.64,9.98,{"$error":"#DIV/0!"},{"$error":"#DIV/0!"},{"$error":"#DIV/0!"},null,10388,{"$error":"#DIV/0!"}]
["P8070","Engenheiro florestal sênior","mês",{"$error":"#DIV/0!"},0.7974,{"$error":"#DIV/0!"},578.44000000000005,38.380000000000003,0,0,3.1,0,303.64,9.98,{"$error":"#DIV/0!"},{"$error":"#DIV/0!"},{"$error":"#DIV/0!"},null,11234.9,{"$error":"#DIV/0!"}]
["P8080","Geólogo júnior","mês",{"$error":"#DIV/0!"},0.79979999999999996,{"$error":"#DIV/0!"},578.44000000000005,38.4,0,0,3.44,0,303.64,9.98,{"$error":"#DIV/0!"},{"$error":"#DIV/0!"},{"$error":"#DIV/0!"},null,10302,{"$error":"#DIV/0!"}]
["P8081","Geólogo pleno","mês",{"$error":"#DIV/0!"},0.79979999999999996,{"$error":"#DIV/0!"},578.44000000000005,38.4,0,0,3.44,0,303.64,9.98,{"$error":"#DIV/0!"},{"$error":"#DIV/0!"},{"$error":"#DIV/0!"},null,11412.28,{"$error":"#DIV/0!"}]
["P8082","Geólogo sênior","mês",{"$error":"#DIV/0!"},0.79979999999999996,{"$error":"#DIV/0!"},578.44000000000005,38.4,0,0,3.44,0,303.64,9.98,{"$error":"#DIV/0!"},{"$error":"#DIV/0!"},{"$error":"#DIV/0!"},null,15023.01,{"$error":"#DIV/0!"}]
["P8086","Historiador/Sociólogo júnior","mês",{"$error":"#DIV/0!"},0.79579999999999995,{"$error":"#DIV/0!"},578.44000000000005,38.39,0,36.799999999999997,2.89,0,303.64,9.98,{"$error":"#DIV/0!"},{"$error":"#DIV/0!"},{"$error":"#DIV/0!"},null,3037.21,{"$error":"#DIV/0!"}]
["P8087","Historiador/Sociólogo pleno","mês",{"$error":"#DIV/0!"},0.79579999999999995,{"$error":"#DIV/0!"},578.44000000000005,38.39,0,0,2.89,0,303.64,9.98,{"$error":"#DIV/0!"},{"$error":"#DIV/0!"},{"$error":"#DIV/0!"},null,4049.61,{"$error":"#DIV/0!"}]
["P8088","Historiador/Sociólogo sênior","mês",{"$error":"#DIV/0!"},0.79579999999999995,{"$error":"#DIV/0!"},578.44000000000005,38.39,0,0,2.89,0,303.64,9.98,{"$error":"#DIV/0!"},{"$error":"#DIV/0!"},{"$error":"#DIV/0!"},null,6930.09,{"$error":"#DIV/0!"}]
["P8092","Jornalista júnior","mês",{"$error":"#DIV/0!"},0.79730000000000001,{"$error":"#DIV/0!"},578.44000000000005,39.82,0,63.11,2.98,0,303.64,9.98,{"$error":"#DIV/0!"},{"$error":"#DIV/0!"},{"$error":"#DIV/0!"},null,2598.7800000000002,{"$error":"#DIV/0!"}]
["P8093","Jornalista pleno","mês",{"$error":"#DIV/0!"},0.79730000000000001,{"$error":"#DIV/0!"},578.44000000000005,39.82,0,11.13,2.98,0,303.64,9.98,{"$error":"#DIV/0!"},{"$error":"#DIV/0!"},{"$error":"#DIV/0!"},null,3465.04,{"$error":"#DIV/0!"}]
["P8094","Jornalista sênior","mês",{"$error":"#DIV/0!"},0.79730000000000001,{"$error":"#DIV/0!"},578.44000000000005,39.82,0,0,2.98,0,303.64,9.98,{"$error":"#DIV/0!"},{"$error":"#DIV/0!"},{"$error":"#DIV/0!"},null,6789.9,{"$error":"#DIV/0!"}]
["P8098","Laboratorista","mês",{"$error":"#DIV/0!"},0.80179999999999996,{"$error":"#DIV/0!"},578.44000000000005,43.11,0,96.03,3.64,0,303.64,9.98,{"$error":"#DIV/0!"},{"$error":"#DIV/0!"},{"$error":"#DIV/0!"},null,2049.98,{"$error":"#DIV/0!"}]
["P8102","Médico veterinário","mês",{"$error":"#DIV/0!"},0.79349999999999998,{"$error":"#DIV/0!"},578.44000000000005,38.380000000000003,0,0,3,0,303.64,9.98,{"$error":"#DIV/0!"},{"$error":"#DIV/0!"},{"$error":"#DIV/0!"},null,10302,{"$error":"#DIV/0!"}]
["P8106","Meteorologista júnior","mês",{"$error":"#DIV/0!"},0.7984,{"$error":"#DIV/0!"},578.44000000000005,39.82,0,0,3.17,0,303.64,9.98,{"$error":"#DIV/0!"},{"$error":"#DIV/0!"},{"$error":"#DIV/0!"},null,4398.3500000000004,{"$error":"#DIV/0!"}]
["P8107","Meteorologista pleno","mês",{"$error":"#DIV/0!"},0.7984,{"$error":"#DIV/0!"},578.44000000000005,39.82,0,0,3.17,0,303.64,9.98,{"$error":"#DIV/0!"},{"$error":"#DIV/0!"},{"$error":"#DIV/0!"},null,5864.46,{"$error":"#DIV/0!"}]
["P8108","Meteorologista sênior","mês",{"$error":"#DIV/0!"},0.7984,{"$error":"#DIV/0!"},578.44000000000005,39.82,0,0,3.17,0,303.64,9.98,{"$error":"#DIV/0!"},{"$error":"#DIV/0!"},{"$error":"#DIV/0!"},null,9968.56,{"$error":"#DIV/0!"}]
["P8112","Motorista de caminhão","mês",{"$error":"#DIV/0!"},0.80320000000000003,{"$error":"#DIV/0!"},578.44000000000005,46.59,0,98.32,4.37,0,303.64,9.98,{"$error":"#DIV/0!"},{"$error":"#DIV/0!"},{"$error":"#DIV/0!"},null,2011.81,{"$error":"#DIV/0!"}]
["P8113","Motorista de veículo leve","mês",{"$error":"#DIV/0!"},0.80089999999999995,{"$error":"#DIV/0!"},578.44000000000005,46.22,0,108.59,4.05,0,303.64,9.98,{"$error":"#DIV/0!"},{"$error":"#DIV/0!"},{"$error":"#DIV/0!"},null,1840.67,{"$error":"#DIV/0!"}]
["P8117","Oceanógrafo júnior","mês",{"$error":"#DIV/0!"},0.81969999999999998,{"$error":"#DIV/0!"},578.44000000000005,38.39,0,0,6.12,0,303.64,9.98,{"$error":"#DIV/0!"},{"$error":"#DIV/0!"},{"$error":"#DIV/0!"},null,4641.01,{"$error":"#DIV/0!"}]
["P8118","Oceanógrafo pleno","mês",{"$error":"#DIV/0!"},0.81969999999999998,{"$error":"#DIV/0!"},578.44000000000005,38.39,0,0,6.12,0,303.64,9.98,{"$error":"#DIV/0!"},{"$error":"#DIV/0!"},{"$f":"D69+P69","v":{"$error":"#DIV/0!"}},null,6188.02,{"$error":"#DIV/0!"}]
["P8119","Oceanógrafo sênior","mês",{"$f":"ROUND($D$2*T70,2)","v":{"$error":"#DIV/0!"}},0.81969999999999998,{"$f":"ROUND(D70*E70,2)","v":{"$error":"#DIV/0!"}},578.44000000000005,38.39,0,0,6.12,0,303.64,9.98,{"$f":"ROUND((Q70-D70)/D70,4)","v":{"$error":"#DIV/0!"}},{"$f":"SUM(F70:N70)","v":{"$error":"#DIV/0!"}},{"$error":"#DIV/0!"},null,10152.41,{"$f":"ROUND(S70/$S$2,1)","v":{"$error":"#DIV/0!"}}]
["P8123","Paleontólogo/Arqueólogo/Antropólogo júnior","mês",{"$error":"#DIV/0!"},0.82110000000000005,{"$error":"#DIV/0!"},578.44000000000005,38.380000000000003,0,33.04,5.0999999999999996,0,303.64,9.98,{"$error":"#DIV/0!"},{"$error":"#DIV/0!"},{"$error":"#DIV/0!"},null,3099.92,{"$error":"#DIV/0!"}]
["P8124","Paleontólogo/Arqueólogo/Antropólogo pleno","mês",{"$error":"#DIV/0!"},0.82110000000000005,{"$error":"#DIV/0!"},578.44000000000005,38.380000000000003,0,0,5.0999999999999996,0,303.64,9.98,{"$error":"#DIV/0!"},{"$error":"#DIV/0!"},{"$error":"#DIV/0!"},null,4133.22,{"$error":"#DIV/0!"}]
["P8125","Paleontólogo/Arqueólogo/Antropólogo sênior","mês",{"$error":"#DIV/0!"},0.82110000000000005,{"$error":"#DIV/0!"},578.44000000000005,38.380000000000003,0,0,5.0999999999999996,0,303.64,9.98,{"$error":"#DIV/0!"},{"$error":"#DIV/0!"},{"$error":"#DIV/0!"},null,5881.64,{"$error":"#DIV/0!"}]
["P8129","Pedagogo júnior","mês",{"$error":"#DIV/0!"},0.79379999999999995,{"$error":"#DIV/0!"},578.44000000000005,38.380000000000003,0,68.47,2.75,0,303.64,9.98,{"$error":"#DIV/0!"},{"$error":"#DIV/0!"},{"$error":"#DIV/0!"},null,2509.4,{"$error":"#DIV/0!"}]
["P8130","Pedagogo pleno","mês",{"$error":"#DIV/0!"},0.79379999999999995,{"$error":"#DIV/0!"},578.44000000000005,38.380000000000003,0,18.28,2.75,0,303.64,9.98,{"$error":"#DIV/0!"},{"$error":"#DIV/0!"},{"$error":"#DIV/0!"},null,3345.86,{"$error":"#DIV/0!"}]
["P8131","Pedagogo sênior","mês",{"$error":"#DIV/0!"},0.79379999999999995,{"$error":"#DIV/0!"},578.44000000000005,38.380000000000003,0,0,2.75,0,303.64,9.98,{"$error":"#DIV/0!"},{"$error":"#DIV/0!"},{"$error":"#DIV/0!"},null,5187.51,{"$error":"#DIV/0!"}]
["P8135","Secretária","mês",2364.31,0.79830000000000001,2364.31,677.01,0,0,77.17,3.06,0,301.75,9.98,1.4520999999999999,3433.2799999999997,5797.59]
["P8139","Sondador","mês",{"$error":"#DIV/0!"},0.8,{"$error":"#DIV/0!"},578.44000000000005,43.03,0,110.5,3.95,0,303.64,9.98,{"$error":"#DIV/0!"},{"$error":"#DIV/0!"},{"$error":"#DIV/0!"},null,1808.88,{"$error":"#DIV/0!"}]
["P8143","Técnico ambiental","mês",{"$error":"#DIV/0!"},0.80100000000000005,{"$error":"#DIV/0!"},578.44000000000005,43.1,0,65.53,3.8,0,303.64,9.98,{"$error":"#DIV/0!"},{"$error":"#DIV/0!"},{"$error":"#DIV/0!"},null,2558.31,{"$error":"#DIV/0!"}]
["P8147","Técnico de obras","mês",{"$error":"#DIV/0!"},0.79990000000000006,{"$error":"#DIV/0!"},578.44000000000005,43.03,0,36.72,3.9,0,303.64,9.98,{"$error":"#DIV/0!"},{"$error":"#DIV/0!"},{"$error":"#DIV/0!"},null,3038.5,{"$error":"#DIV/0!"}]
["P8151","Técnico de segurança do trabalho","mês",{"$error":"#DIV/0!"},0.8054,{"$error":"#DIV/0!"},578.44000000000005,43.16,0,0,4.63,0,303.64,9.98,{"$error":"#DIV/0!"},{"$error":"#DIV/0!"},{"$error":"#DIV/0!"},null,4012.52,{"$error":"#DIV/0!"}]
["P8155","Técnico em geoprocessamento","mês",{"$error":"#DIV/0!"},0.79659999999999997,{"$error":"#DIV/0!"},578.44000000000005,43.03,0,76.81,3.12,0,303.64,9.98,{"$error":"#DIV/0!"},{"$error":"#DIV/0!"},{"$error":"#DIV/0!"},null,2370.29,{"$error":"#DIV/0!"}]
["P8159","Técnico em informática - programador","mês",{"$error":"#DIV/0!"},0.80020000000000002,{"$error":"#DIV/0!"},578.44000000000005,0,0,26.56,3.84,0,303.64,9.98,{"$error":"#DIV/0!"},{"$error":"#DIV/0!"},{"$error":"#DIV/0!"},null,3207.84,{"$error":"#DIV/0!"}]
["P8163","Topógrafo","mês",{"$error":"#DIV/0!"},0.8024,{"$error":"#DIV/0!"},578.44000000000005,43.09,0,88.16,4.3,0,303.64,9.98,{"$error":"#DIV/0!"},{"$error":"#DIV/0!"},{"$error":"#DIV/0!"},null,2181.13,{"$error":"#DIV/0!"}]
["P8167","Arquivista júnior","mês",{"$error":"#DIV/0!"},0.80220000000000002,{"$error":"#DIV/0!"},578.44000000000005,38.46,0,106.91,3.89,0,303.64,9.98,{"$error":"#DIV/0!"},{"$error":"#DIV/0!"},{"$error":"#DIV/0!"},null,1868.66,{"$error":"#DIV/0!"}]
["P8168","Arquivista pleno","mês",{"$error":"#DIV/0!"},0.80220000000000002,{"$error":"#DIV/0!"},578.44000000000005,38.46,0,69.540000000000006,3.89,0,303.64,9.98,{"$error":"#DIV/0!"},{"$error":"#DIV/0!"},{"$error":"#DIV/0!"},null,2491.5500000000002,{"$error":"#DIV/0!"}]
["P8169","Arquivista sênior","mês",{"$error":"#DIV/0!"},0.80220000000000002,{"$error":"#DIV/0!"},578.44000000000005,38.46,0,0,3.89,0,303.64,9.98,{"$error":"#DIV/0!"},{"$error":"#DIV/0!"},{"$error":"#DIV/0!"},null,4028.11,{"$error":"#DIV/0!"}]
["P8173","Administrador júnior","mês",{"$error":"#DIV/0!"},0.79759999999999998,{"$error":"#DIV/0!"},578.44000000000005,43.59,0,8.84,3.27,0,303.64,9.98,{"$error":"#DIV/0!"},{"$error":"#DIV/0!"},{"$error":"#DIV/0!"},null,3503.23,{"$error":"#DIV/0!"}]
["P8174","Administrador pleno","mês",{"$error":"#DIV/0!"},0.79759999999999998,{"$error":"#DIV/0!"},578.44000000000005,43.59,0,0,3.27,0,303.64,9.98,{"$error":"#DIV/0!"},{"$error":"#DIV/0!"},{"$error":"#DIV/0!"},null,3979.91,{"$error":"#DIV/0!"}]
["P8175","Administrador sênior","mês",{"$error":"#DIV/0!"},0.79759999999999998,{"$error":"#DIV/0!"},578.44000000000005,43.59,0,0,3.27,0,303.64,9.98,{"$error":"#DIV/0!"},{"$error":"#DIV/0!"},{"$error":"#DIV/0!"},null,6826.85,{"$error":"#DIV/0!"}]
["Fonte: FGV IBRE"]