{"text_format":"2","workbook":"xlsx","n_sheets":13,"sheets":["PFP","PFP1.1_Topo","PFP1.2_Geo","PFP2.1_FatorKa","PFP2.2_FatorKb","PFP2.3_FatorKc","PFP3_FatorKd","CRO1_Ins-Pro","CRO2_Ins-Mes","CPU VEICULO_PickUp","COT. VANT","Planilha de Medição","Cronograma Físico-Financeiro"],"not_rendered":{"charts":0,"images":14,"macros":0,"external_links":34,"defined_names":4300,"comments":0,"pivot_tables":0},"unopened":[],"bounds":{"document_bytes":16777216,"sheet_cells":100000,"run_cost":"one","rows_first":2000,"rows_last":500,"rows_between":2000,"halvings":0,"cell_chars":16384,"cell_head_chars":4096},"cells_cut":0,"cells_raw":0,"read":"whole","date_system":"1900"}

{"sheet":"PFP","index":0,"n_rows":42,"n_cols":12,"rows_kept":42,"cut":false,"hidden":false,"merged":[[5,9,5,10],[5,5,5,8],[20,0,20,6],[20,7,20,10],[5,0,5,4],[19,0,19,6],[19,7,19,10],[6,1,6,2],[7,1,7,2],[8,1,8,2],[9,1,9,2],[10,1,10,2],[11,1,11,2],[17,1,17,2],[18,1,18,2],[12,1,12,2],[0,0,1,8],[4,5,4,8],[0,9,0,10],[1,9,1,10],[4,9,4,10],[2,0,2,10],[3,0,3,10],[4,0,4,4],[37,0,37,10],[30,0,30,10],[32,0,32,10],[24,0,24,10],[31,0,31,10],[27,0,27,10],[33,0,33,10],[34,0,34,10],[35,0,35,10],[36,0,36,10],[28,0,28,10],[29,0,29,10],[23,0,23,6],[23,7,23,10],[26,0,26,10],[25,0,25,10],[13,1,13,2],[14,1,14,2],[15,1,15,2],[16,1,16,2],[22,7,22,10],[22,0,22,6],[21,7,21,10],[21,0,21,6]]}
["PROPOSTA FINANCEIRA DO PROJETO",{"$nulls":8},"CODIGO:"]
[{"$nulls":9},"PFP"]
["NOME DA CONSULTORA:"]
[]
["PROJETO:",{"$nulls":4},"CONTRATANTE:",null,null,null,"BASE:"]
["ELABORAÇÃO DE ESTUDO DE VIABILIDADE TÉCNICA, ECONÔMICA E AMBIENTAL, ESTUDOS BÁSICOS, PROJETO BÁSICO E PROJETO EXECUTIVO PARA CONSTRUÇÃO DA PONTE SOBRE O RIO SÃO DOMINGOS E INFRAESTRUTURA COMPLETA, NO MUNICÍPIO DE PARANÃ, NO ESTADO DE TOCANTINS",{"$nulls":4},"CODEVASF (SEDE)",null,null,null,"2023-11-01"]
["Base","Código",null,"Categoria / Insumo","Uni","Qde","CUD","PU","FatorK","CT","PT","Encargos COMP E ADICIONAIS"]
["SICRO","P8061",null,"Engenheiro coordenador (P8061)","mês",{"$f":"'CRO1_Ins-Pro'!D5","v":0.8},17126.55,{"$f":"ROUND(I8*G8,2)","v":24732.45},{"$f":"PFP2.3_FatorKc!E35","v":1.4440999999999999},{"$f":"ROUND(F8*G8,2)","v":13701.24},{"$f":"ROUND(F8*H8,2)","v":19785.96},{"$f":"14633.42-13607.04","v":1026.3799999999992}]
["SICRO","P8066",null,"Engenheiro pleno (P8066)","mês",{"$f":"'CRO1_Ins-Pro'!D6","v":5},11669.34,{"$f":"ROUND(I9*G9,2)","v":27499.97},{"$f":"PFP2.1_FatorKa!E36","v":2.3565999999999998},{"$f":"ROUND(F9*G9,2)","v":58346.7},137499.85,{"$f":"10299.82-9271.29","v":1028.5299999999988}]
["SICRO","P8065",null,"Engenheiro júnior (P8065)","mês",{"$f":"'CRO1_Ins-Pro'!D7","v":0.8},11220,{"$f":"ROUND(I10*G10,2)","v":26441.05},{"$f":"PFP2.1_FatorKa!E36","v":2.3565999999999998},{"$f":"ROUND(F10*G10,2)","v":8976},21152.84,{"$f":"9942.82-8914.29","v":1028.5299999999988}]
["SINAPI",40807,null,"Desenhista (40807)","mês",{"$f":"'CRO1_Ins-Pro'!D8","v":5},2660.12,6268.84,{"$f":"PFP2.1_FatorKa!E36","v":2.3565999999999998},13300.6,31344.2,{"$f":"3022.03-1944.87","v":1077.1600000000003}]
["SICRO","P8147",null,"Técnico de projetos/obra (P8147)","mês",{"$f":"'CRO1_Ins-Pro'!D9","v":4},3118.31,{"$f":"ROUND(I12*G12,2)","v":7348.61},{"$f":"PFP2.1_FatorKa!E36","v":2.3565999999999998},12473.24,29394.44,{"$f":"3553.62-2489.97","v":1063.6500000000001}]
["SICRO",null,null,"Encargos Comp. e Adicionais","mês",{"$f":"SUM(F8:F12)","v":15.6},{"$f":"(F8*L8+F9*L9+F10*L10+F11*L11+F12*L12)/SUM(F8:F12)","v":1053.01141025641},1322.37,{"$f":"PFP3_FatorKd!$E$17","v":1.2558},{"$f":"ROUND(F13*G13,2)","v":16426.98},{"$f":"ROUND(F13*H13,2)","v":20628.97}]
["PROP","N.A",null,"Auxilio Transporte Técnicos","mês",{"$f":"'CRO1_Ins-Pro'!D11","v":0},"Já incluso*",0,0,0,{"$f":"ROUND(F14*H14,2)","v":0}]
["PROP","N.A",null,"Auxilio Transporte Secretária","mês",{"$f":"'CRO1_Ins-Pro'!D12","v":0},"Já Incluso*",0,0,0,0]
["CODE","Próprio",null,"Relatório Parcial","un",{"$f":"'CRO1_Ins-Pro'!D13","v":0},33.35,41.88,{"$f":"PFP3_FatorKd!$E$17","v":1.2558},0,{"$f":"ROUND(F16*H16,2)","v":0}]
["CODE","Próprio",null,"Relatório Final","un",{"$f":"'CRO1_Ins-Pro'!D14","v":4},1478.8,1857.08,{"$f":"PFP3_FatorKd!$E$17","v":1.2558},5915.2,{"$f":"ROUND(F17*H17,2)","v":7428.32}]
["CODE","Próprio",null,"Total Serviços Cartográficos","un",1,"-",{"$f":"PFP1.1_Topo!G20","v":23373.07},"-","-",{"$f":"ROUND(F18*H18,2)","v":23373.07}]
["CODE","Próprio",null,"Total Serviços Geotécnicos","un",1,"-",{"$f":"PFP1.2_Geo!G33","v":128528.11},"-","-",{"$f":"ROUND(F19*H19,2)","v":128528.11}]
["TOTAL DOS CUSTOS DIRETOS",{"$nulls":6},{"$f":"SUM(J8:J19)","v":129139.96}]
["TOTAL DOS ENCARGOS E DISPESAS DIVERSAS",{"$nulls":6},{"$f":"H22-H20","v":138094.62}]
["TOTAL DA PROPOSTA A PREÇO GLOBAL",{"$nulls":6},{"$f":"SUM(K8:K17)","v":267234.58}]
["TOTAL DA PROPOSTA A PREÇO UNITÁRIO",{"$nulls":6},{"$f":"SUM(K18:K19)","v":151901.18}]
["TOTAL DA PROPOSTA",{"$nulls":6},{"$f":"H22+H23","v":419135.76}]
["OBSERVAÇÃO:"]
["*Encargos Complementares e adicionais já incluem auxílio transporte"]
["Alocar os Insumos MO, com respectivo FatorK, dentro da categoria de vínculo contratual (celetista, autonomo, societario)"]
["Uni - unidade de medição do insumo;"]
["Qde - Quantidade do Insumo (não pode ocorrer alteração pela Licitante)"]
["CUD - Custo Unitário Direto do Insumo (sem encargos, taxas e impostos, valor não pode ser maior que o Orçado pela Codevasf)"]
["CT - Custo Total (sem encargos, taxas e impostos) - CT = Qde x CUD"]
["FatorK - Taxa de Ressarcimento de Despesas e Encargos (detalhar composição nas Planilhas \"PFP2.1\", \"PFP2.2\", \"PFP3\")"]
["PU - Preço Unitário do Insumo (incluído encargos, taxas e impostos) - PU = CUD x FatorK"]
["PT - Preço Total do Insumo (incluído encargos, taxas e impostos) - PT = Qde x PU"]
["P - Profissionais nível superior nas áreas de Engenharia, Química, Arquitetura, Agronomia e Veterinária, conforme disposições da Lei 4.950-A/66"]
["S - Profissionais de nível superior nas demais áreas de atuação, incluindo Arqueólogo, Biólogo, Geógrafo e Sociólogo"]
["T - Profissionais de nível médio técnico nas diversas áreas de atuação"]
["A - Profissionais de nível médio de apoio técnico-administrativo"]
[]
["Observações: "]
["1- Sistemas oficiais de referência de preços utilizados"]
["Tabela Consultiva do DNIT-Jul/2023."]

{"sheet":"PFP1.1_Topo","index":1,"n_rows":25,"n_cols":7,"rows_kept":25,"cut":false,"hidden":false,"merged":[[24,0,24,6],[0,0,1,5],[2,0,2,6],[3,0,3,6],[4,0,4,3],[4,4,4,5],[5,0,5,3],[5,4,5,5],[19,0,19,5],[20,0,20,6],[21,0,21,6],[22,0,22,6],[23,0,23,6]]}
["SERVIÇOS TOPOGRÁFICOS/CARTOGRÁFICOS",{"$nulls":5},"CODIGO:"]
[{"$nulls":6},"PFP-1.1"]
["NOME DA EMPRESA:"]
[]
["PROJETO:",null,null,null,"CONTRATANTE:",null,{"$f":"PFP!J5","v":"BASE:"}]
[{"$f":"PFP!A6","v":"ELABORAÇÃO DE ESTUDO DE VIABILIDADE TÉCNICA, ECONÔMICA E AMBIENTAL, ESTUDOS BÁSICOS, PROJETO BÁSICO E PROJETO EXECUTIVO PARA CONSTRUÇÃO DA PONTE SOBRE O RIO SÃO DOMINGOS E INFRAESTRUTURA COMPLETA, NO MUNICÍPIO DE PARANÃ, NO ESTADO DE TOCANTINS"},null,null,null,"CODEVASF (SEDE)",null,{"$f":"PFP!J6","v":"2023-11-01"}]
["Cod.","Base","Insumos","Uni","Qde","Preço Unitário (PU)","Preço Total (PT)"]
["TP01","CODE","Nivelamento Geométrico dos Eixos classe IIN","km",3,828.44,{"$f":"ROUND(F8*E8,2)","v":2485.3200000000002}]
["TP02","CODE","Seções Tranversais","km",6,394.36,{"$f":"ROUND(F9*E9,2)","v":2366.16}]
["TP03","CODE","Poligonal Classe IIP","km",3,1250.71,{"$f":"ROUND(F10*E10,2)","v":3752.13}]
["TP04","CODE","Pontos GPS de dupla frequencia (L1/L2)","un ",5,1223.4100000000001,6117.05]
["TP05","CODE","Cadastro Físico","ha ",12,13.65,163.80000000000001]
["TP06","CODE","Cadastro Agrícola","ha ",12,4.55,54.6]
["TP07","CODE","Cadastro Jurídico","ha ",12,9.1,109.2]
["TP08","CODE","Cadastro Socioeconomico","ha ",12,3.03,36.36]
["TP10","CODE","Marco de Concreto (12x18x60cm)","un ",8,66,528]
["TP11","CODE","Barrote de Madeira (10x10x50cm)","un ",40,51.81,2072.4]
["TP12","CODE","Piquetes de Madeira (2x2x20cm)","un ",350,10.09,3531.5]
["TP13","CODE","Picada Manual p/ levantamento TP","km",1,2156.5500000000002,2156.5500000000002]
["TOTAL SERVIÇOS TOPOGRÁFICOS",{"$nulls":5},{"$f":"SUM(G8:G19)","v":23373.07}]
["OBSERVAÇÃO:"]
["Uni - unidade de medição do insumo;"]
["Qde - Quantidade do Insumo (não pode ocorrer alteração pela Licitante)"]
["PU - Preço Unitário (composições padrão da Codevasf, já incluso o FatorK)"]
["PT - Preço Total (incluído encargos, taxas e impostos) - PT = Qde x PU"]

{"sheet":"PFP1.2_Geo","index":2,"n_rows":38,"n_cols":7,"rows_kept":38,"cut":false,"hidden":false,"merged":[[36,0,36,6],[37,0,37,6],[32,0,32,5],[33,0,33,6],[34,0,34,6],[35,0,35,6],[5,0,5,3],[5,4,5,5],[0,0,1,5],[2,0,2,6],[3,0,3,6],[4,0,4,3],[4,4,4,5]]}
["SERVIÇOS GEOLÓGICOS/GEOTÉCNICOS",{"$nulls":5},"CODIGO:"]
[{"$nulls":6},"PFP-1.2"]
["NOME DA EMPRESA:"]
[]
["PROJETO: ",null,null,null,"CONTRATANTE:",null,{"$f":"PFP!J5","v":"BASE:"}]
[{"$f":"PFP!A6","v":"ELABORAÇÃO DE ESTUDO DE VIABILIDADE TÉCNICA, ECONÔMICA E AMBIENTAL, ESTUDOS BÁSICOS, PROJETO BÁSICO E PROJETO EXECUTIVO PARA CONSTRUÇÃO DA PONTE SOBRE O RIO SÃO DOMINGOS E INFRAESTRUTURA COMPLETA, NO MUNICÍPIO DE PARANÃ, NO ESTADO DE TOCANTINS"},null,null,null,"CODEVASF (SEDE)",null,{"$f":"PFP!J6","v":"2023-11-01"}]
["Cod.","Base","Insumos","Uni","Qde","Preço Unitário (PU)","Preço Total (PT)"]
["GT 1","CODE","Sondagem a Percussão SPT"]
["GT1.1","CODE","Sondagem Percussão: (Des)Mobilização por equipe","un",1,1249.33,{"$f":"E9*F9","v":1249.33}]
["GT1.2","CODE","Sondagem Percursão: com SPT - Terrestre","m",50,94.11,{"$f":"E10*F10","v":4705.5}]
["GT 2","CODE","Ensaios:"]
["GT 2.1","CODE","Ensaios de solo"]
["GT 2.1.1","CODE","Ensaio: Umidade Natural ","un",30,68.87,{"$f":"E13*F13","v":2066.1000000000004}]
["GT 2.1.2","CODE","Ensaio: Densidade Natural","un",30,50.43,1512.9]
["GT 2.1.3","CODE","Ensaio: Limite de Liquidez","un",30,150,4500]
["GT 2.1.4","CODE","Ensaio: Limite de Plasticidade","un",30,150,4500]
["GT 2.1.5","CODE","Ensaio: Granulometria por Peneiramento","un",30,150,4500]
["GT 2.1.6","CODE","Ensaio: Granulometria por Sedimentação","un",30,124.77,3743.1]
["GT 2.1.7","CODE","Ensaio: Massa Especifica Real dos Grãos","un",45,65.78,2960.1]
["GT 2.1.8","CODE","Ensaio: Massa Específica Aparente \"in situ\"","un",45,150,6750]
["GT 2.1.9","CODE","Ensaio: Compactação Proctor Normal","un",30,163.57,4907.0999999999995]
["GT 2.1.10","CODE","Ensaio: Índice de Suporte California e Expansão","un",60,120,7200]
["GT 2.3","CODE","Ensaios de Análise da Areia"]
["GT 2.3.1","CODE","Ensaio: Teor de Matéria Orgânica","un",10,200,2000]
["GT 2.3.2","CODE","Ensaio: Equivalente Areia ","un",10,233.98,2339.7999999999997]
["GT 2.4","CODE","Ensaios de Material Pétreo"]
["GT 2.4.1","CODE","Ensaio: Abrasão los Angeles ","un",10,274.70999999999998,2747.1]
["GT 2.4.2","CODE","Ensaio: Índice de Forma","un",10,230.77,2307.7000000000003]
["GT 2.4.3","CODE","Ensaio: Adesividade","un",10,150,1500]
["GT 3","CODE","Sondagem Mista"]
["01.21.090","CPOS","Sondagem Mista: (Des)Mobilização","un",1,6440.38,{"$f":"E31*F31","v":6440.38}]
["C0333","SEINFRA","Sondagem Mista: em rochas","m",50,1251.98,{"$f":"E32*F32","v":62599}]
["TOTAL SERVIÇOS GEOTÉCNICOS",{"$nulls":5},{"$f":"SUM(G8:G32)","v":128528.11}]
["LEGENDA:"]
["Uni - unidade de medição do insumo;"]
["Qde - Quantidade do Insumo (não pode ocorrer alteração pela Licitante)"]
["PU - Preço Unitário (composições padrão da Codevasf, já incluso o FatorK)"]
["PT - Preço Total (incluído encargos, taxas e impostos) - PT = Qde x PU"]

{"sheet":"PFP2.1_FatorKa","index":3,"n_rows":41,"n_cols":6,"rows_kept":41,"cut":false,"hidden":false,"merged":[[20,1,20,3],[21,1,21,3],[23,1,23,3],[9,1,9,3],[10,1,10,3],[11,1,11,3],[12,1,12,3],[34,1,34,3],[0,0,1,4],[2,0,2,5],[5,0,5,1],[5,2,5,4],[4,2,4,4],[3,0,3,5],[24,1,24,3],[7,1,7,3],[17,1,17,3],[8,1,8,3],[13,1,13,3],[14,1,14,3],[15,1,15,3],[18,1,18,3],[19,1,19,3],[35,1,35,3],[6,1,6,3],[40,0,40,5],[39,0,39,5],[38,0,38,5],[37,0,37,5],[22,1,22,3],[29,1,29,3],[30,1,30,3],[28,1,28,3],[25,1,25,3],[26,1,26,3],[27,1,27,3],[33,1,33,3],[31,1,31,3],[32,1,32,3]]}
["DETALHAMENTO DOS ENCARGOS SOCIAIS: Ka",{"$nulls":4},"CODIGO:"]
[{"$nulls":5},"PFP-2.1"]
["NOME DA CONSULTORA:"]
[]
["PROJETO:",null,"CONTRATANTE:",null,null,{"$f":"PFP!J5","v":"BASE:"}]
[{"$f":"PFP!A6","v":"ELABORAÇÃO DE ESTUDO DE VIABILIDADE TÉCNICA, ECONÔMICA E AMBIENTAL, ESTUDOS BÁSICOS, PROJETO BÁSICO E PROJETO EXECUTIVO PARA CONSTRUÇÃO DA PONTE SOBRE O RIO SÃO DOMINGOS E INFRAESTRUTURA COMPLETA, NO MUNICÍPIO DE PARANÃ, NO ESTADO DE TOCANTINS"},null,"CODEVASF (SEDE)",null,null,"SINAPI/TO"]
["Cod","DESCRIÇÃO",null,null,"%","R$"]
["A","ENCARGOS SOCIAIS BÁSICOS",null,null,{"$f":"ROUND(SUM(E9:E17),4)","v":0.378},{"$f":"ROUND(E8*SUMIF(PFP!$B$8:$B$19,\"MO1\",PFP!$J$8:$J$19),2)","v":0}]
["A1","INSS",null,null,0.2,{"$f":"ROUND(E9*SUMIF(PFP!$B$8:$B$19,\"MO1\",PFP!$J$8:$J$19),2)","v":0}]
["A2","SESI",null,null,1.4999999999999999E-2,{"$f":"ROUND(E10*SUMIF(PFP!$B$8:$B$19,\"MO1\",PFP!$J$8:$J$19),2)","v":0}]
["A3","SENAI",null,null,0.01,{"$f":"ROUND(E11*SUMIF(PFP!$B$8:$B$19,\"MO1\",PFP!$J$8:$J$19),2)","v":0}]
["A4","INCRA",null,null,2E-3,{"$f":"ROUND(E12*SUMIF(PFP!$B$8:$B$19,\"MO1\",PFP!$J$8:$J$19),2)","v":0}]
["A5","SEBRAE",null,null,6.0000000000000001E-3,{"$f":"ROUND(E13*SUMIF(PFP!$B$8:$B$19,\"MO1\",PFP!$J$8:$J$19),2)","v":0}]
["A6","Salário Educação",null,null,2.5000000000000001E-2,{"$f":"ROUND(E14*SUMIF(PFP!$B$8:$B$19,\"MO1\",PFP!$J$8:$J$19),2)","v":0}]
["A7","Seguro Contra Acidentes de Trabalho",null,null,0.03,{"$f":"ROUND(E15*SUMIF(PFP!$B$8:$B$19,\"MO1\",PFP!$J$8:$J$19),2)","v":0}]
["A8","FGTS",null,null,0.08,{"$f":"ROUND(E16*SUMIF(PFP!$B$8:$B$19,\"MO1\",PFP!$J$8:$J$19),2)","v":0}]
["A9","Seconci",null,null,0.01,{"$f":"ROUND(E17*SUMIF(PFP!$B$8:$B$19,\"MO1\",PFP!$J$8:$J$19),2)","v":0}]
["B"," ENCARGOS SOCIAIS QUE RECEBEM INCIDÊNCIA DE \"A\"",null,null,{"$f":"ROUND(SUM(E19:E25),4)","v":0.17269999999999999},{"$f":"ROUND(E18*SUMIF(PFP!$B$8:$B$19,\"MO1\",PFP!$J$8:$J$19),2)","v":0}]
["B3","Auxílio Enfermidade",null,null,6.7000000000000002E-3,{"$f":"ROUND(E19*SUMIF(PFP!$B$8:$B$19,\"MO1\",PFP!$J$8:$J$19),2)","v":0}]
["B4","13º Salário",null,null,8.3299999999999999E-2,{"$f":"ROUND(E20*SUMIF(PFP!$B$8:$B$19,\"MO1\",PFP!$J$8:$J$19),2)","v":0}]
["B5","Licença Paternidade",null,null,5.9999999999999995E-4,{"$f":"ROUND(E21*SUMIF(PFP!$B$8:$B$19,\"MO1\",PFP!$J$8:$J$19),2)","v":0}]
["B6","Faltas Justificadas",null,null,5.5999999999999999E-3,{"$f":"ROUND(E22*SUMIF(PFP!$B$8:$B$19,\"MO1\",PFP!$J$8:$J$19),2)","v":0}]
["B8","Auxílio Acidente de Trabalho",null,null,8.0000000000000004E-4,{"$f":"ROUND(E23*SUMIF(PFP!$B$8:$B$19,\"MO1\",PFP!$J$8:$J$19),2)","v":0}]
["B9","Férias Gozadas",null,null,7.5399999999999995E-2,{"$f":"ROUND(E24*SUMIF(PFP!$B$8:$B$19,\"MO1\",PFP!$J$8:$J$19),2)","v":0}]
["B10","Salário Maternidade",null,null,2.9999999999999997E-4,{"$f":"ROUND(E25*SUMIF(PFP!$B$8:$B$19,\"MO1\",PFP!$J$8:$J$19),2)","v":0}]
["C"," ENCARGOS SOCIAIS QUE NÃO RECEBEM INCIDÊNCIA DE \"A\"",null,null,{"$f":"ROUND(SUM(E27:E31),4)","v":0.1067},{"$f":"ROUND(E26*SUMIF(PFP!$B$8:$B$19,\"MO1\",PFP!$J$8:$J$19),2)","v":0}]
["C1","Aviso Prévio Indenizado",null,null,4.3999999999999997E-2,{"$f":"ROUND(E27*SUMIF(PFP!$B$8:$B$19,\"MO1\",PFP!$J$8:$J$19),2)","v":0}]
["C2","Aviso Prévio Trabalhado",null,null,1E-3,{"$f":"ROUND(E28*SUMIF(PFP!$B$8:$B$19,\"MO1\",PFP!$J$8:$J$19),2)","v":0}]
["C3","Férias Indenizadas",null,null,2.9700000000000001E-2,{"$f":"ROUND(E29*SUMIF(PFP!$B$8:$B$19,\"MO1\",PFP!$J$8:$J$19),2)","v":0}]
["C4","Depósito Rescisão Sem Justa Causa",null,null,2.8299999999999999E-2,{"$f":"ROUND(E30*SUMIF(PFP!$B$8:$B$19,\"MO1\",PFP!$J$8:$J$19),2)","v":0}]
["C5","Indenização Adicional",null,null,3.7000000000000002E-3,{"$f":"ROUND(E31*SUMIF(PFP!$B$8:$B$19,\"MO1\",PFP!$J$8:$J$19),2)","v":0}]
["D"," REINCIDÊNCIAS",null,null,{"$f":"ROUND(SUM(E33:E34),4)","v":6.9199999999999998E-2},{"$f":"ROUND(E32*SUMIF(PFP!$B$8:$B$19,\"MO1\",PFP!$J$8:$J$19),2)","v":0}]
["D1","Reincidência de \"A\" sobre \"B\"",null,null,6.5299999999999997E-2,{"$f":"ROUND(E33*SUMIF(PFP!$B$8:$B$19,\"MO1\",PFP!$J$8:$J$19),2)","v":0}]
["D2","Reincidência de \"A\" sobre Aviso Prévio Trabalhado e reincidência do FGTS sobre Aviso Prévio Indenizado",null,null,3.8999999999999998E-3,{"$f":"ROUND(E34*SUMIF(PFP!$B$8:$B$19,\"MO1\",PFP!$J$8:$J$19),2)","v":0}]
["K1a","ENCARGOS SOCIAIS",null,null,{"$f":"ROUND(E8+E18+E26+E32,4)","v":0.72660000000000002},{"$f":"ROUND(E35*SUMIF(PFP!$B$8:$B$19,\"MO1\",PFP!$J$8:$J$19),2)","v":0}]
["Ka","TAXA DE RESSARCIMENTO DE DESPESAS E ENCARGOS SOBRE MO1",null,null,{"$f":"ROUND((1+E35+PFP3_FatorKd!E13)*(1+PFP3_FatorKd!E12)*(1+PFP3_FatorKd!E8),4)","v":2.3565999999999998}]
["OBSERVAÇÃO: CELETISTAS E EQUIVALENTES"]
["1 - DISCRIMINAR OS ENCARGOS SOCIAIS COM SEUS RESPECTIVOS PERCENTUAS TOTALIZANDO OS MESMOS. "]
["2 - APLICAR O  % TOTAL P/ CALCULAR OS E. SOCIAIS INCIDENTES NA MÃO-DE-OBRA CELETISTAS"]
["Ka - Taxa de Ressarcimento de Despesas e Encargos sobre a Mão de Obra CELETISTA (incide apenas no Insumo Codigo MO1)"]
["Ka = (1 + K1 + K2) x (1 + K3) x (1 + K4)"]

{"sheet":"PFP2.2_FatorKb","index":4,"n_rows":40,"n_cols":6,"rows_kept":40,"cut":false,"hidden":false,"merged":[[7,1,7,3],[16,1,16,3],[17,1,17,3],[8,1,8,3],[9,1,9,3],[10,1,10,3],[14,1,14,3],[15,1,15,3],[11,1,11,3],[0,0,1,4],[2,0,2,5],[3,0,3,5],[4,2,4,4],[5,0,5,1],[5,2,5,4],[6,1,6,3],[12,1,12,3],[13,1,13,3],[39,0,39,5],[36,0,36,5],[37,0,37,5],[38,0,38,5],[31,1,31,3],[32,1,32,3],[33,1,33,3],[34,1,34,3],[18,1,18,3],[30,1,30,3],[19,1,19,3],[20,1,20,3],[21,1,21,3],[27,1,27,3],[28,1,28,3],[29,1,29,3],[22,1,22,3],[23,1,23,3],[24,1,24,3],[25,1,25,3],[26,1,26,3]]}
["DETALHAMENTO DOS ENCARGOS SOCIAIS: Kb",{"$nulls":4},"CODIGO:"]
[{"$nulls":5},"PFP-2.2"]
["NOME DA CONSULTORA:"]
[]
["PROJETO:",null,"CONTRATANTE:",null,null,{"$f":"PFP2.1_FatorKa!F5","v":"BASE:"}]
[{"$f":"PFP!A6","v":"ELABORAÇÃO DE ESTUDO DE VIABILIDADE TÉCNICA, ECONÔMICA E AMBIENTAL, ESTUDOS BÁSICOS, PROJETO BÁSICO E PROJETO EXECUTIVO PARA CONSTRUÇÃO DA PONTE SOBRE O RIO SÃO DOMINGOS E INFRAESTRUTURA COMPLETA, NO MUNICÍPIO DE PARANÃ, NO ESTADO DE TOCANTINS"},null,"CODEVASF (SEDE)",null,null,{"$f":"PFP2.1_FatorKa!F6","v":"SINAPI/TO"}]
["Cod","DESCRIÇÃO",null,null,"%","R$"]
["A","ENCARGOS SOCIAIS BÁSICOS",null,null,{"$f":"ROUND(SUM(E9:E16),4)","v":0.2},{"$f":"ROUND(E8*SUMIF(PFP!$B$8:$B$19,\"MO2\",PFP!$J$8:$J$19),2)","v":0}]
["A1","INSS",null,null,0.2,{"$f":"ROUND(E9*SUMIF(PFP!$B$8:$B$19,\"MO2\",PFP!$J$8:$J$19),2)","v":0}]
["A2","SESI",null,null,0,{"$f":"ROUND(E10*SUMIF(PFP!$B$8:$B$19,\"MO2\",PFP!$J$8:$J$19),2)","v":0}]
["A3","SENAI",null,null,0,{"$f":"ROUND(E11*SUMIF(PFP!$B$8:$B$19,\"MO2\",PFP!$J$8:$J$19),2)","v":0}]
["A4","INCRA",null,null,0,{"$f":"ROUND(E12*SUMIF(PFP!$B$8:$B$19,\"MO2\",PFP!$J$8:$J$19),2)","v":0}]
["A5","SEBRAE",null,null,0,{"$f":"ROUND(E13*SUMIF(PFP!$B$8:$B$19,\"MO2\",PFP!$J$8:$J$19),2)","v":0}]
["A6","Salário Educação",null,null,0,{"$f":"ROUND(E14*SUMIF(PFP!$B$8:$B$19,\"MO2\",PFP!$J$8:$J$19),2)","v":0}]
["A7","Seguro Contra Acidentes de Trabalho",null,null,0,{"$f":"ROUND(E15*SUMIF(PFP!$B$8:$B$19,\"MO2\",PFP!$J$8:$J$19),2)","v":0}]
["A8","FGTS",null,null,0,{"$f":"ROUND(E16*SUMIF(PFP!$B$8:$B$19,\"MO2\",PFP!$J$8:$J$19),2)","v":0}]
["B"," ENCARGOS SOCIAIS QUE RECEBEM INCIDÊNCIA DE \"A\"",null,null,{"$f":"ROUND(SUM(E18:E24),4)","v":0},{"$f":"ROUND(E17*SUMIF(PFP!$B$8:$B$19,\"MO2\",PFP!$J$8:$J$19),2)","v":0}]
["B3","Auxílio Enfermidade",null,null,0,{"$f":"ROUND(E18*SUMIF(PFP!$B$8:$B$19,\"MO2\",PFP!$J$8:$J$19),2)","v":0}]
["B4","13º Salário",null,null,0,{"$f":"ROUND(E19*SUMIF(PFP!$B$8:$B$19,\"MO2\",PFP!$J$8:$J$19),2)","v":0}]
["B5","Licença Paternidade",null,null,0,{"$f":"ROUND(E20*SUMIF(PFP!$B$8:$B$19,\"MO2\",PFP!$J$8:$J$19),2)","v":0}]
["B6","Faltas Justificadas",null,null,0,{"$f":"ROUND(E21*SUMIF(PFP!$B$8:$B$19,\"MO2\",PFP!$J$8:$J$19),2)","v":0}]
["B8","Auxílio Acidente de Trabalho",null,null,0,{"$f":"ROUND(E22*SUMIF(PFP!$B$8:$B$19,\"MO2\",PFP!$J$8:$J$19),2)","v":0}]
["B9","Férias Gozadas",null,null,0,{"$f":"ROUND(E23*SUMIF(PFP!$B$8:$B$19,\"MO2\",PFP!$J$8:$J$19),2)","v":0}]
["B10","Salário Maternidade",null,null,0,{"$f":"ROUND(E24*SUMIF(PFP!$B$8:$B$19,\"MO2\",PFP!$J$8:$J$19),2)","v":0}]
["C"," ENCARGOS SOCIAIS QUE NÃO RECEBEM INCIDÊNCIA DE \"A\"",null,null,{"$f":"ROUND(SUM(E26:E30),4)","v":0},{"$f":"ROUND(E25*SUMIF(PFP!$B$8:$B$19,\"MO2\",PFP!$J$8:$J$19),2)","v":0}]
["C1","Aviso Prévio Indenizado",null,null,0,{"$f":"ROUND(E26*SUMIF(PFP!$B$8:$B$19,\"MO2\",PFP!$J$8:$J$19),2)","v":0}]
["C2","Aviso Prévio Trabalhado",null,null,0,{"$f":"ROUND(E27*SUMIF(PFP!$B$8:$B$19,\"MO2\",PFP!$J$8:$J$19),2)","v":0}]
["C3","Férias Indenizadas",null,null,0,{"$f":"ROUND(E28*SUMIF(PFP!$B$8:$B$19,\"MO2\",PFP!$J$8:$J$19),2)","v":0}]
["C4","Depósito Rescisão Sem Justa Causa",null,null,0,{"$f":"ROUND(E29*SUMIF(PFP!$B$8:$B$19,\"MO2\",PFP!$J$8:$J$19),2)","v":0}]
["C5","Indenização Adicional",null,null,0,{"$f":"ROUND(E30*SUMIF(PFP!$B$8:$B$19,\"MO2\",PFP!$J$8:$J$19),2)","v":0}]
["D"," REINCIDÊNCIAS",null,null,{"$f":"ROUND(SUM(E32:E33),4)","v":0},{"$f":"ROUND(E31*SUMIF(PFP!$B$8:$B$19,\"MO2\",PFP!$J$8:$J$19),2)","v":0}]
["D1","Reincidência de \"A\" sobre \"B\"",null,null,{"$f":"ROUND(E8*E17,4)","v":0},{"$f":"ROUND(E32*SUMIF(PFP!$B$8:$B$19,\"MO2\",PFP!$J$8:$J$19),2)","v":0}]
["D2","Reincidência de \"A\" sobre Aviso Prévio Trabalhado e reincidência do FGTS sobre Aviso Prévio Indenizado",null,null,{"$f":"ROUND((E27*E8)+(E26*E16),4)","v":0},{"$f":"ROUND(E33*SUMIF(PFP!$B$8:$B$19,\"MO2\",PFP!$J$8:$J$19),2)","v":0}]
["K1b","ENCARGOS SOCIAIS",null,null,{"$f":"ROUND(E8+E17+E25+E31,4)","v":0.2},{"$f":"ROUND(E34*SUMIF(PFP!$B$8:$B$19,\"MO2\",PFP!$J$8:$J$19),2)","v":0}]
["Kb","TAXA DE RESSARCIMENTO DE DESPESAS E ENCARGOS SOBRE MO2",null,null,{"$f":"ROUND((1+E34+PFP3_FatorKd!E13)*(1+PFP3_FatorKd!E12)*(1+PFP3_FatorKd!E8),4)","v":1.6953}]
["OBSERVAÇÃO: AUTÔNOMOS E EQUIVALENTES"]
["1 - DISCRIMINAR OS ENCARGOS SOCIAIS COM SEUS RESPECTIVOS PERCENTUAS TOTALIZANDO OS MESMOS. "]
["2 - APLICAR O % TOTAL P/ CALCULAR OS E. SOCIAIS INCIDENTES NA MÃO-DE-OBRA AUTONÔMOS"]
["Kb - Taxa de Ressarcimento de Despesas e Encargos sobre a Mão de Obra AUTONÔMA (incide apenas no Insumo Codigo MO2)"]
["Kb = (1 + K1 + K2) x (1 + K3) x (1 + K4)"]

{"sheet":"PFP2.3_FatorKc","index":5,"n_rows":40,"n_cols":6,"rows_kept":40,"cut":false,"hidden":false,"merged":[[36,0,36,5],[37,0,37,5],[38,0,38,5],[39,0,39,5],[29,1,29,3],[30,1,30,3],[31,1,31,3],[32,1,32,3],[33,1,33,3],[34,1,34,3],[28,1,28,3],[17,1,17,3],[18,1,18,3],[19,1,19,3],[20,1,20,3],[21,1,21,3],[22,1,22,3],[23,1,23,3],[24,1,24,3],[25,1,25,3],[26,1,26,3],[27,1,27,3],[16,1,16,3],[6,1,6,3],[7,1,7,3],[8,1,8,3],[9,1,9,3],[10,1,10,3],[11,1,11,3],[12,1,12,3],[13,1,13,3],[14,1,14,3],[15,1,15,3],[0,0,1,4],[2,0,2,5],[3,0,3,5],[4,2,4,4],[5,0,5,1],[5,2,5,4]]}
["DETALHAMENTO DOS ENCARGOS SOCIAIS: Kc",{"$nulls":4},"CODIGO:"]
[{"$nulls":5},"PFP-2.3"]
["NOME DA CONSULTORA:"]
[]
["PROJETO:",null,"CONTRATANTE:",null,null,{"$f":"PFP2.2_FatorKb!F5","v":"BASE:"}]
[{"$f":"PFP!A6","v":"ELABORAÇÃO DE ESTUDO DE VIABILIDADE TÉCNICA, ECONÔMICA E AMBIENTAL, ESTUDOS BÁSICOS, PROJETO BÁSICO E PROJETO EXECUTIVO PARA CONSTRUÇÃO DA PONTE SOBRE O RIO SÃO DOMINGOS E INFRAESTRUTURA COMPLETA, NO MUNICÍPIO DE PARANÃ, NO ESTADO DE TOCANTINS"},null,"CODEVASF (SEDE)",null,null,{"$f":"PFP2.2_FatorKb!F6","v":"SINAPI/TO"}]
["Cod","DESCRIÇÃO",null,null,"%","R$"]
["A","ENCARGOS SOCIAIS BÁSICOS",null,null,{"$f":"SUM(E9:E16)","v":0},{"$f":"ROUND(E8*SUMIF(PFP!$B$8:$B$19,\"MO3\",PFP!$J$8:$J$19),2)","v":0}]
["A1","INSS",null,null,0,{"$f":"ROUND(E9*SUMIF(PFP!$B$8:$B$19,\"MO3\",PFP!$J$8:$J$19),2)","v":0}]
["A2","SESI",null,null,0,{"$f":"ROUND(E10*SUMIF(PFP!$B$8:$B$19,\"MO3\",PFP!$J$8:$J$19),2)","v":0}]
["A3","SENAI",null,null,0,{"$f":"ROUND(E11*SUMIF(PFP!$B$8:$B$19,\"MO3\",PFP!$J$8:$J$19),2)","v":0}]
["A4","INCRA",null,null,0,{"$f":"ROUND(E12*SUMIF(PFP!$B$8:$B$19,\"MO3\",PFP!$J$8:$J$19),2)","v":0}]
["A5","SEBRAE",null,null,0,{"$f":"ROUND(E13*SUMIF(PFP!$B$8:$B$19,\"MO3\",PFP!$J$8:$J$19),2)","v":0}]
["A6","Salário Educação",null,null,0,{"$f":"ROUND(E14*SUMIF(PFP!$B$8:$B$19,\"MO3\",PFP!$J$8:$J$19),2)","v":0}]
["A7","Seguro Contra Acidentes de Trabalho",null,null,0,{"$f":"ROUND(E15*SUMIF(PFP!$B$8:$B$19,\"MO3\",PFP!$J$8:$J$19),2)","v":0}]
["A8","FGTS",null,null,0,{"$f":"ROUND(E16*SUMIF(PFP!$B$8:$B$19,\"MO3\",PFP!$J$8:$J$19),2)","v":0}]
["B"," ENCARGOS SOCIAIS QUE RECEBEM INCIDÊNCIA DE \"A\"",null,null,{"$f":"ROUND(SUM(E18:E24),4)","v":0},{"$f":"ROUND(E17*SUMIF(PFP!$B$8:$B$19,\"MO3\",PFP!$J$8:$J$19),2)","v":0}]
["B3","Auxílio Enfermidade",null,null,0,{"$f":"ROUND(E18*SUMIF(PFP!$B$8:$B$19,\"MO3\",PFP!$J$8:$J$19),2)","v":0}]
["B4","13º Salário",null,null,0,{"$f":"ROUND(E19*SUMIF(PFP!$B$8:$B$19,\"MO3\",PFP!$J$8:$J$19),2)","v":0}]
["B5","Licença Paternidade",null,null,0,{"$f":"ROUND(E20*SUMIF(PFP!$B$8:$B$19,\"MO3\",PFP!$J$8:$J$19),2)","v":0}]
["B6","Faltas Justificadas",null,null,0,{"$f":"ROUND(E21*SUMIF(PFP!$B$8:$B$19,\"MO3\",PFP!$J$8:$J$19),2)","v":0}]
["B8","Auxílio Acidente de Trabalho",null,null,0,{"$f":"ROUND(E22*SUMIF(PFP!$B$8:$B$19,\"MO3\",PFP!$J$8:$J$19),2)","v":0}]
["B9","Férias Gozadas",null,null,0,{"$f":"ROUND(E23*SUMIF(PFP!$B$8:$B$19,\"MO3\",PFP!$J$8:$J$19),2)","v":0}]
["B10","Salário Maternidade",null,null,0,{"$f":"ROUND(E24*SUMIF(PFP!$B$8:$B$19,\"MO3\",PFP!$J$8:$J$19),2)","v":0}]
["C"," ENCARGOS SOCIAIS QUE NÃO RECEBEM INCIDÊNCIA DE \"A\"",null,null,{"$f":"ROUND(SUM(E26:E30),4)","v":0},{"$f":"ROUND(E25*SUMIF(PFP!$B$8:$B$19,\"MO3\",PFP!$J$8:$J$19),2)","v":0}]
["C1","Aviso Prévio Indenizado",null,null,0,{"$f":"ROUND(E26*SUMIF(PFP!$B$8:$B$19,\"MO3\",PFP!$J$8:$J$19),2)","v":0}]
["C2","Aviso Prévio Trabalhado",null,null,0,{"$f":"ROUND(E27*SUMIF(PFP!$B$8:$B$19,\"MO3\",PFP!$J$8:$J$19),2)","v":0}]
["C3","Férias Indenizadas",null,null,0,{"$f":"ROUND(E28*SUMIF(PFP!$B$8:$B$19,\"MO3\",PFP!$J$8:$J$19),2)","v":0}]
["C4","Depósito Rescisão Sem Justa Causa",null,null,0,{"$f":"ROUND(E29*SUMIF(PFP!$B$8:$B$19,\"MO3\",PFP!$J$8:$J$19),2)","v":0}]
["C5","Indenização Adicional",null,null,0,{"$f":"ROUND(E30*SUMIF(PFP!$B$8:$B$19,\"MO3\",PFP!$J$8:$J$19),2)","v":0}]
["D"," REINCIDÊNCIAS",null,null,{"$f":"ROUND(SUM(E32:E33),4)","v":0},{"$f":"ROUND(E31*SUMIF(PFP!$B$8:$B$19,\"MO3\",PFP!$J$8:$J$19),2)","v":0}]
["D1","Reincidência de \"A\" sobre \"B\"",null,null,{"$f":"ROUND(E8*E17,4)","v":0},{"$f":"ROUND(E32*SUMIF(PFP!$B$8:$B$19,\"MO3\",PFP!$J$8:$J$19),2)","v":0}]
["D2","Reincidência de \"A\" sobre Aviso Prévio Trabalhado e reincidência do FGTS sobre Aviso Prévio Indenizado",null,null,{"$f":"ROUND(E8*E27,4)+ROUND(E26*E11,4)","v":0},{"$f":"ROUND(E33*SUMIF(PFP!$B$8:$B$19,\"MO3\",PFP!$J$8:$J$19),2)","v":0}]
["K1c","ENCARGOS SOCIAIS",null,null,{"$f":"ROUND(E8+E17+E25+E31,4)","v":0},{"$f":"ROUND(E34*SUMIF(PFP!$B$8:$B$19,\"MO3\",PFP!$J$8:$J$19),2)","v":0}]
["Kc","TAXA DE RESSARCIMENTO DE DESPESAS E ENCARGOS SOBRE MO3",null,null,{"$f":"ROUND((1+E34+PFP3_FatorKd!E13)*(1+PFP3_FatorKd!E12)*(1+PFP3_FatorKd!E8),4)","v":1.4440999999999999}]
["OBSERVAÇÃO: SOCIETÁRIOS E EQUIVALENTES"]
["1 - DISCRIMINAR OS ENCARGOS SOCIAIS COM SEUS RESPECTIVOS PERCENTUAS TOTALIZANDO OS MESMOS. "]
["2 - APLICAR O % TOTAL P/ CALCULAR OS E. SOCIAIS INCIDENTES NA MÃO-DE-OBRA DE SOCIETÁRIOS"]
["Kc - Taxa de Ressarcimento de Despesas e Encargos sobre a Mão de Obra SOCIETÁRIA (incide apenas no Insumo Codigo MO3)"]
["Kc = (1 + K1 + K2) x (1 + K3) x (1 + K4)"]

{"sheet":"PFP3_FatorKd","index":6,"n_rows":35,"n_cols":6,"rows_kept":35,"cut":false,"hidden":false,"merged":[[33,0,33,5],[34,0,34,5],[16,1,16,3],[13,1,13,3],[14,1,14,3],[15,1,15,3],[21,0,21,5],[26,0,26,5],[27,0,27,5],[22,0,22,5],[23,0,23,5],[24,0,24,5],[28,0,28,5],[29,0,29,5],[30,0,30,5],[31,0,31,5],[7,1,7,2],[25,0,25,5],[6,1,6,2],[0,0,1,4],[2,0,2,5],[5,0,5,1],[5,2,5,4],[4,2,4,4],[3,0,3,5],[32,0,32,5],[12,1,12,3],[11,1,11,3],[8,1,8,2],[9,1,9,2],[10,1,10,2]]}
["DESPESAS FISCAIS E CUSTOS DIVERSOS: Kc",{"$nulls":4},"CODIGO:"]
[{"$nulls":5},"PFP-3"]
["NOME DA CONSULTORA:"]
[]
["PROJETO:",null,"CONTRATANTE:",null,null,{"$f":"PFP2.3_FatorKc!F5","v":"BASE:"}]
[{"$f":"PFP!A6","v":"ELABORAÇÃO DE ESTUDO DE VIABILIDADE TÉCNICA, ECONÔMICA E AMBIENTAL, ESTUDOS BÁSICOS, PROJETO BÁSICO E PROJETO EXECUTIVO PARA CONSTRUÇÃO DA PONTE SOBRE O RIO SÃO DOMINGOS E INFRAESTRUTURA COMPLETA, NO MUNICÍPIO DE PARANÃ, NO ESTADO DE TOCANTINS"},null,"CODEVASF (SEDE)",null,null,{"$f":"PFP2.3_FatorKc!F6","v":"SINAPI/TO"}]
["Cod","DESCRIÇÃO1",null,"% preço2","% custo4","R$"]
["K4","TRIBUTOS",null,{"$f":"ROUND(D9+D10+D11,4)","v":0.14249999999999999},{"$f":"ROUND(E9+E10+E11,4)","v":0.1416}]
["K4.1","ISS",null,0.05,5.7099999999999998E-2]
["K4.2","PIS3 - aliquota efetiva aplicavel percentual-desconto",null,1.6500000000000001E-2,1.5100000000000001E-2]
["K4.3","COFINS3 - aliquota efetiva aplicavel percentual-desconto",null,7.5999999999999998E-2,6.9400000000000003E-2]
["K3","REMUNERAÇÃO DA EMPRESA (LUCRO)",null,null,0.1]
["K2","CUSTOS DA ADMINISTRAÇÃO CENTRAL",null,null,{"$f":"ROUND(SUM(E14:E16),4)","v":0.15},{"$f":"ROUND(E13*SUMIF(PFP!$B$8:$B$19,\"MO*\",PFP!$J$8:$J$19),2)","v":0}]
["K2.1","Custos da administração central da empresa (diretoria, pessoal técnico de apoio e pessoal administrativo não diretamente vinculado à prestação dos serviços)",null,null,0.1,{"$f":"ROUND(E14*SUMIF(PFP!$B$8:$B$19,\"MO*\",PFP!$J$8:$J$19),2)","v":0}]
["K2.2","Outras despesas que afetam o custo de produção como treinamento, biblioteca, programa de qualidade, programa de benefícios, auditoria interna e externa",null,null,0.03,{"$f":"ROUND(E15*SUMIF(PFP!$B$8:$B$19,\"MO*\",PFP!$J$8:$J$19),2)","v":0}]
["K2.3","Despesas fixas e variaveis com patrimônio, aluguéis, comunicação, manutenção e transporte não diretamente relacionados com o custo direto dos serviços",null,null,0.02,{"$f":"ROUND(E16*SUMIF(PFP!$B$8:$B$19,\"MO*\",PFP!$J$8:$J$19),2)","v":0}]
["Kd","TAXA RESSARCIMENTO DE DESPESAS SOBRE CUSTOS DIVERSOS",null,null,{"$f":"ROUND((1+E12)*(1+E8),4)","v":1.2558}]
["NOME DO INFORMANTE:",null,null,null,"QUALIFICAÇÃO:"]
[]
["ASSINATURA:",null,null,null,"DATA:"]
[]
["Observação:"]
["1 - RELACIONAR OS CUSTOS DE ADMINISTRAÇÃO COM RESPECTIVOS PERCENTUAIS INCIDENTES NA MÃO -DE-OBRA"]
["1 - DISCRIMINAR OS TRIBUTOS QUE INCIDEM SOBRE OS CUSTOS DA PRESTAÇÃO DOS SERVIÇOS"]
["2 - K4 = INDICAR % DE CADA TRIBUTO E A SOMA DOS MESMOS (ex: ISS 5% + PIS 1,65% + COFINS 7,60% = 14,25%)"]
["3 - PIS e COFINS, Regime de Incidencia Acumulativa (0,65% e 3,00% - sem percentual de desconto) ou em Regime de Incidencia Não Acumulativa (1,65% e 7,60% - aplicável percentual de desconto) de acordo com a forma de apuração do lucro no IRPJ. APRESENTAR COMPROVANTES de aproveitamento de créditos tributários dos últimos 12 meses em caso de aplicação de \"percentual de desconto\"."]
["4 - AS DESPESAS FISCAIS (K4) INCIDEM SOBRE O TOTAL DA FATURA E NÃO SOBRE OS CUSTOS INCORRIDOS, "]
["     DEVENDO SER CALCULADO O K4' APLICANDO-SE A SEGUINTE FÓRMULA:"]
["     K4' = { [ 1 / ( 1 - K4) ] - 1 } x 100"]
[{"$f":"CONCATENATE(\"     K4' = { [ 1 / ( 1 - \",D8,\" ) ] - 1 } x 100\")","v":"     K4' = { [ 1 / ( 1 - 0,1425 ) ] - 1 } x 100"}]
["Kc - Taxa de Ressarcimento de Despesas sobre Custos Diversos (incide sobre os Insumos Codigo DP e EM)"]
["Kc = (1 + K3) x (1 + K4)"]
["K2 - Incide sobre o Custo Total (CT) da Mão de Obra (MO* = MO1 + MO2)"]
["K3 - Incide sobre o Custo Total (CT) Mão de Obra com encargos (MO1 x Ka ou MO2 x Kb), demais Custos (DP e EM), e Custos da Administração Central (K2)"]
["K4 -  Incide sobre o Custo Total (CT) Mão de Obra com encargos (MO1 x Ka ou MO2 x Kb), demais Custos (DP e EM), e Custos da Administração Central (K2) e Lucro (K3)"]

{"sheet":"CRO1_Ins-Pro","index":7,"n_rows":84,"n_cols":11,"rows_kept":84,"cut":false,"hidden":false,"merged":[[82,0,82,7],[81,0,81,10],[0,0,1,7],[33,7,33,10],[16,0,17,0],[16,1,17,1],[2,0,3,0],[2,1,3,1],[2,2,3,2],[2,3,3,3],[2,4,3,4],[2,5,3,5]]}
["INSUMOS POR ETAPA/PRODUTO",{"$nulls":9},"CÓDIGO:"]
[{"$nulls":10},"CRO-1"]
["Cod.","Categoria / Insumo","Uni","Qde","CUD","PU","FatorK","E1. EB","E2. EVTEA ","E3. PB","E4. PE"]
[{"$nulls":6},"Meses"]
[{"$f":"PFP!B8","v":"P8061"},{"$f":"PFP!D8","v":"Engenheiro coordenador (P8061)"},"mês",{"$f":"SUM(H5:K5)","v":0.8},{"$f":"PFP!G8","v":17126.55},{"$f":"PFP!H8","v":24732.45},{"$f":"PFP!I8","v":1.4440999999999999},{"$f":"'CRO2_Ins-Mes'!E5","v":0.2},{"$f":"'CRO2_Ins-Mes'!E13","v":0.2},{"$f":"'CRO2_Ins-Mes'!E21","v":0.2},{"$f":"'CRO2_Ins-Mes'!E29","v":0.2}]
[{"$f":"PFP!B9","v":"P8066"},{"$f":"PFP!D9","v":"Engenheiro pleno (P8066)"},"mês",5,{"$f":"PFP!G9","v":11669.34},{"$f":"PFP!H9","v":27499.97},{"$f":"PFP!I9","v":2.3565999999999998},{"$f":"'CRO2_Ins-Mes'!E6","v":0},{"$f":"'CRO2_Ins-Mes'!E14","v":2},{"$f":"'CRO2_Ins-Mes'!E22","v":2},{"$f":"'CRO2_Ins-Mes'!E30","v":1}]
[{"$f":"PFP!B10","v":"P8065"},{"$f":"PFP!D10","v":"Engenheiro júnior (P8065)"},"mês",0.8,{"$f":"PFP!G10","v":11220},{"$f":"PFP!H10","v":26441.05},{"$f":"PFP!I10","v":2.3565999999999998},{"$f":"'CRO2_Ins-Mes'!E7","v":0},{"$f":"'CRO2_Ins-Mes'!E15","v":0},{"$f":"'CRO2_Ins-Mes'!E23","v":0.8},{"$f":"'CRO2_Ins-Mes'!E31","v":0}]
[{"$f":"PFP!B11","v":40807},{"$f":"PFP!D11","v":"Desenhista (40807)"},"mês",5,{"$f":"PFP!G11","v":2660.12},{"$f":"PFP!H11","v":6268.84},{"$f":"PFP!I11","v":2.3565999999999998},{"$f":"'CRO2_Ins-Mes'!E8","v":1},{"$f":"'CRO2_Ins-Mes'!E16","v":1},{"$f":"'CRO2_Ins-Mes'!E24","v":2},{"$f":"'CRO2_Ins-Mes'!E32","v":1}]
[{"$f":"PFP!B12","v":"P8147"},"Técnico de projetos/obra (P8147)","mês",4,{"$f":"PFP!G12","v":3118.31},{"$f":"PFP!H12","v":7348.61},{"$f":"PFP!I12","v":2.3565999999999998},{"$f":"'CRO2_Ins-Mes'!E9","v":1},{"$f":"'CRO2_Ins-Mes'!E17","v":1},{"$f":"'CRO2_Ins-Mes'!E25","v":2},{"$f":"'CRO2_Ins-Mes'!E33","v":0}]
["-",{"$f":"PFP!D13","v":"Encargos Comp. e Adicionais"},"mês",{"$f":"SUM(D5:D9)","v":15.6},{"$f":"PFP!G13","v":1053.01141025641},{"$f":"PFP!H13","v":1322.37},{"$f":"PFP!I13","v":1.2558},{"$f":"SUM(H5:H9)","v":2.2000000000000002},{"$f":"SUM(I5:I9)","v":4.2},{"$f":"SUM(J5:J9)","v":7},{"$f":"SUM(K5:K9)","v":2.2000000000000002}]
["-",{"$f":"PFP!D14","v":"Auxilio Transporte Técnicos"},"mês",{"$f":"SUM(H11:K11)","v":0},{"$f":"PFP!G14","v":"Já incluso*"},{"$f":"PFP!H14","v":0},{"$f":"PFP!I14","v":0},0,0,0,0]
["-",{"$f":"PFP!D15","v":"Auxilio Transporte Secretária"},"mês",0,{"$f":"PFP!G15","v":"Já Incluso*"},{"$f":"PFP!H15","v":0},{"$f":"PFP!I15","v":0},0,0,0,0]
["-",{"$f":"PFP!D16","v":"Relatório Parcial"},"un",0,{"$f":"PFP!G16","v":33.35},{"$f":"PFP!H16","v":41.88},{"$f":"PFP!I16","v":1.2558},{"$f":"'CRO2_Ins-Mes'!E10","v":0},{"$f":"'CRO2_Ins-Mes'!E18","v":0},{"$f":"'CRO2_Ins-Mes'!E26","v":0},{"$f":"'CRO2_Ins-Mes'!E34","v":0}]
["-",{"$f":"PFP!D17","v":"Relatório Final"},"un",4,{"$f":"PFP!G17","v":1478.8},{"$f":"PFP!H17","v":1857.08},{"$f":"PFP!I17","v":1.2558},{"$f":"'CRO2_Ins-Mes'!E11","v":1},{"$f":"'CRO2_Ins-Mes'!E19","v":1},{"$f":"'CRO2_Ins-Mes'!E27","v":1},{"$f":"'CRO2_Ins-Mes'!E35","v":1}]
["-",{"$f":"PFP!D18","v":"Total Serviços Cartográficos"},"un",1,{"$f":"PFP!G18","v":"-"},{"$f":"PFP!H18","v":23373.07},{"$f":"PFP!I18","v":"-"},1]
["-",{"$f":"PFP!D19","v":"Total Serviços Geotécnicos"},"un",1,{"$f":"PFP!G19","v":"-"},{"$f":"PFP!H19","v":128528.11},{"$f":"PFP!I19","v":"-"},1]
["TOTAL","VALOR TOTAL POR PRODUTO","R$",{"$f":"SUM(H17:K17)","v":419135.76199999999},null,null,null,{"$f":"H5*$F$5+H6*$F$6+H7*$F$7+H8*$F$8+H9*$F$9+H10*$F$10+H11*$F$11+H12*$F$12+H13*$F$13+H14*$F$14+H15*$F$15+H16*$F$16","v":175231.41399999999},{"$f":"I5*$F$5+I6*$F$6+I7*$F$7+I8*$F$8+I9*$F$9+I10*$F$10+I11*$F$11+I12*$F$12+I13*$F$13+I14*$F$14+I15*$F$15+I16*$F$16","v":80974.914000000004},{"$f":"J5*$F$5+J6*$F$6+J7*$F$7+J8*$F$8+J9*$F$9+J10*$F$10+J11*$F$11+J12*$F$12+J13*$F$13+J14*$F$14+J15*$F$15+J16*$F$16","v":119447.84000000001},{"$f":"K5*$F$5+K6*$F$6+K7*$F$7+K8*$F$8+K9*$F$9+K10*$F$10+K11*$F$11+K12*$F$12+K13*$F$13+K14*$F$14+K15*$F$15+K16*$F$16","v":43481.594000000005}]
[null,null,"%",{"$f":"SUM(H18:K18)","v":1},null,null,null,{"$f":"ROUND(H17/$D$17,5)","v":0.41808000000000001},0.19319,0.28499000000000002,0.10374]
{"$rows_empty":62}
["OBSERVAÇÃO:"]
[]
["T - Profissionais de nível médio técnico nas diversas áreas de atuação"]
["A - Profissionais de nível médio de apoio técnico-administrativo"]

{"sheet":"CRO2_Ins-Mes","index":8,"n_rows":37,"n_cols":13,"rows_kept":37,"cut":false,"hidden":false,"merged":[[60,5,60,12],[0,0,1,12]]}
["CRONOGRAMA SIMPLIFICADO"]
[]
["Cod1","Cod2","Produtos","Uni","Qde",1,2,3,4,5,6,7,8]
["Cod1","Cod2","Insumos","Uni","Qde",1,2,3,4,5,6,7,8]
[1,"1.1",{"$f":"PFP!D8","v":"Engenheiro coordenador (P8061)"},{"$f":"PFP!E8","v":"mês"},{"$f":"SUM(F5:M5)","v":0.2},0.1,0.1]
[1,"1.2",{"$f":"PFP!D9","v":"Engenheiro pleno (P8066)"},{"$f":"PFP!E9","v":"mês"},{"$f":"SUM(F6:M6)","v":0}]
[1,"1.3",{"$f":"PFP!D10","v":"Engenheiro júnior (P8065)"},{"$f":"PFP!E10","v":"mês"},0]
[1,"1.4",{"$f":"PFP!D11","v":"Desenhista (40807)"},{"$f":"PFP!E11","v":"mês"},1,0.5,0.5]
[1,"1.5",{"$f":"PFP!D12","v":"Técnico de projetos/obra (P8147)"},"mês",1,0.5,0.5]
[1,"1.6",{"$f":"PFP!D16","v":"Relatório Parcial"},{"$f":"PFP!E16","v":"un"},0]
[1,"1.7",{"$f":"PFP!D17","v":"Relatório Final"},{"$f":"PFP!E17","v":"un"},1,null,1]
[1,1,"Estudos Básicos (EB)",null,3.2,{"$f":"SUM(F5:F11)","v":1.1000000000000001},2.1,0,0,0,0,0,0]
[2,"2.1",{"$f":"PFP!D8","v":"Engenheiro coordenador (P8061)"},{"$f":"PFP!E8","v":"mês"},{"$f":"SUM(F13:M13)","v":0.2},0.1,0.1]
[2,"2.2",{"$f":"PFP!D9","v":"Engenheiro pleno (P8066)"},{"$f":"PFP!E9","v":"mês"},{"$f":"SUM(F14:M14)","v":2},1,1]
[2,"2.3",{"$f":"PFP!D10","v":"Engenheiro júnior (P8065)"},{"$f":"PFP!E10","v":"mês"},0]
[2,"2.4",{"$f":"PFP!D11","v":"Desenhista (40807)"},{"$f":"PFP!E11","v":"mês"},1,0.5,0.5]
[2,"2.5",{"$f":"PFP!D12","v":"Técnico de projetos/obra (P8147)"},"mês",1,0.5,0.5]
[2,"2.6",{"$f":"PFP!D16","v":"Relatório Parcial"},"un",0]
[2,"2.7",{"$f":"PFP!D17","v":"Relatório Final"},"un",1,null,1]
[2,2,"Estudo de Viabilidade Técnica, Econômica e Ambiental (EVTEA)",null,5.2,{"$f":"SUM(F13:F19)","v":2.1},3.1,0,0,0,0,0,0]
[3,"3.1",{"$f":"PFP!D8","v":"Engenheiro coordenador (P8061)"},{"$f":"PFP!E8","v":"mês"},{"$f":"SUM(F21:M21)","v":0.2},null,null,0.1,0.1]
[3,"3.2",{"$f":"PFP!D9","v":"Engenheiro pleno (P8066)"},{"$f":"PFP!E9","v":"mês"},2,null,null,1,1]
[3,"3.3",{"$f":"PFP!D10","v":"Engenheiro júnior (P8065)"},{"$f":"PFP!E10","v":"mês"},0.8,null,null,0.4,0.4]
[3,"3.4",{"$f":"PFP!D11","v":"Desenhista (40807)"},{"$f":"PFP!E11","v":"mês"},2,null,null,1,1]
[3,"3.5",{"$f":"PFP!D12","v":"Técnico de projetos/obra (P8147)"},"mês",2,null,null,1,1]
[3,"3.6",{"$f":"PFP!D16","v":"Relatório Parcial"},{"$f":"PFP!E16","v":"un"},0]
[3,"3.7",{"$f":"PFP!D17","v":"Relatório Final"},{"$f":"PFP!E17","v":"un"},1,null,null,null,1]
[3,3,"Projeto Básico (PB)",null,8,{"$f":"SUM(F21:F27)","v":0},0,3.5,4.5,0,0,0,0]
[4,"4.1","Engenheiro coordenador (P8061)","mês",0.2,{"$nulls":4},0.2]
[4,"4.2","Engenheiro pleno (P8066)","mês",1,{"$nulls":4},1]
[4,"4.3","Engenheiro júnior (P8065)","mês",0]
[4,"4.4","Desenhista (40807)","mês",1,{"$nulls":4},1]
[4,"4.5","Técnico de projetos/obra","mês",0]
[4,"4.6","Relatório Parcial","un",0]
[4,"4.7","Relatório Final","un",1,{"$nulls":4},1]
[4,4,"Projeto Executivo (PE)",null,3.2,{"$f":"SUM(F29:F35)","v":0},0,0,0,3.2,0,0,0]
["Total",null,"Balanço de Insumos",null,null,{"$f":"F36+F28+F20+F12","v":3.2},5.2,3.5,4.5,3.2,0,0,0]

{"sheet":"CPU VEICULO_PickUp","index":9,"n_rows":84,"n_cols":31,"rows_kept":84,"cut":false,"hidden":false,"merged":[[49,20,49,27],[1,0,1,3],[3,0,3,3],[4,0,4,2],[4,5,4,8],[5,0,5,3],[49,9,49,19]]}
[]
["Composição de Preços de Locação de Veículos"]
[null,null,"Data de atualização:","2023-04-27",null,"CV","Média","Mediana",null,null,null,"CV","Média","Mediana",{"$nulls":8},"CV","Média","Mediana"]
["CODEVASF ",{"$nulls":4},{"$f":"_xlfn.STDEV.S(F7:I7)/AVERAGE(F7:I7)","v":0.10585773654486749},{"$f":"AVERAGE(F7:I7)","v":181000.25},{"$f":"MEDIAN(F7:I7)","v":185107.5},null,null,null,{"$f":"_xlfn.STDEV.S(M6:T6)/AVERAGE(M6:T6)","v":0.14874985251639683},{"$f":"AVERAGE(M6:T6)","v":35.172499999999999},{"$f":"MEDIAN(M6:T6)","v":35.69},{"$nulls":8},{"$f":"_xlfn.STDEV.S(X6:AD6)/AVERAGE(X6:AD6)","v":8.396956354547884E-2},{"$f":"AVERAGE(X6:AE6)","v":467.84062499999999},{"$f":"MEDIAN(X6:AE6)","v":454.01499999999999}]
["OBS:               Preço sem BDI e sem motorista                                                                   BDI=",{"$nulls":4},"Preço FIPE - fevereiro/2023",{"$nulls":4},"PRODUTO ","MENOR","COT. 1","COT. 2","COT. 3","COT. 4","COT. 5","COT. 6","COT. 7","COT. 8",null,"PRODUTO","MENOR","COT. 1","COT. 2","COT. 3","COT. 4","COT. 5","COT. 6","COT. 7","COT. 8"]
["Veículo tipo pick-up, cabine dupla - 2.0 16V 4x4 diesel Aut. ",{"$nulls":4},"Toro Endurance 2.0 16V 4x4 Diesel Aut.","Toro Freedom 2.0 16V 4x4 TB Diesel Aut.","Toro Volcano 2.0 16V 4x4 TB Diesel Aut."," Toro Ranch 2.0 16V 4x4 TB Diesel Aut.\n",null,"LUBRIFICANTE 5W30",{"$f":"SMALL(M4:N4,1)","v":35.172499999999999},29.64,27.9,38,39.979999999999997,39.85,33.380000000000003,31.35,41.28,null,"Pneu 225/65 R17",{"$f":"SMALL(X4:Y4,1)","v":454.01499999999999},470,429.73,405.9,449.32,458.71,523.9,{"$f":"1718.94/4","v":429.73500000000001},575.42999999999995]
[null,null,"Custo Mensal (R$):",{"$f":"D48","v":7159.5828104148613},null,154231,186943,199555,183272]
[null,null,"Custo Diária (R$):",{"$f":"D7/22","v":325.43558229158458}]
[null,null,"Custo Horário (R$):",{"$f":"D7/176","v":40.679447786448073}]
["A",null,"Depreciação mensal do equipamento"]
["A1",null,"Preço de Aquisição ",{"$f":"SMALL(G4:H4,1)","v":181000.25}]
["A2",null,"Tempo previsto de vida útil (meses)",36]
["A3",null,"Previsão de recup. Na venda do bem usado",0.4]
["A4",null,"Custo mensal [A1-(A3xA1)]/A2",{"$f":"(D11-(D13*D11))/D12","v":3016.6708333333331}]
["B",null,"Juros pelo Capital empregado"]
["B1",null,"Taxa mensal de Juros *",{"$f":"POWER(1+D54,1/12)-1","v":1.0793911082132235E-2}]
["B2",null,"Juros s/depreciação/aluguel (B1xA4)",{"$f":"D16*D14","v":32.561676739061745}]
["C",null,"Conservação e manutenção **",0.75]
["C1",null,"Taxa de gastos s/a deprec. Inc. seguros (%)",{"$f":"D18","v":0.75}]
["C2",null,"Incidência mensal (C1xA4)",{"$f":"D19*D14","v":2262.5031249999997}]
["D",null,"Combustível"]
["D1",null,"Média mensal de quilômetro por veículo",{"$f":"130*22","v":2860}]
["D2",null,"Preço do litro de combustível",{"$f":"G60","v":5.79}]
["D3",null,"Quilômetros rodados com um litro combustivel",10]
["D4",null,"Combustivel    (D1/D3)*D2",{"$f":"(D22/D24)*D23","v":1655.94}]
["E",null,"Lubrificantes"]
["E1",null,"Quilometragem do Contrato (D1*12)",{"$f":"D22*36","v":102960}]
["E2",null,"Franquia por troca de óleo (km)",10000]
["E3",null,"Preço do litro de óleo",{"$f":"L6","v":35.172499999999999}]
["E4",null,"Quantidade de litros de óleo por troca",5]
["E5",null,"Quantidade de dias do Contrato",{"$f":"365*3","v":1095}]
["E6",null,"Lubrificantes  E = (E1*E3*E4*30)/E2*E5",{"$f":"(D27*D29*D30*30)/(D28*D31)","v":49.607679452054796}]
["F",null,"Pneus"]
["F1",null,"Quilometragem do Contrato ",{"$f":"D27","v":102960}]
["F2",null,"Vida do Pneu em quilômetros",45000]
["F3",null,"Quantidade de pneus",5]
["F4",null,"Preço do Pneu",{"$f":"W6","v":454.01499999999999}]
["F5",null,"Quantidade de dias do contrato ",{"$f":"D31","v":1095}]
["F6",null,"Pneus = (F1*F3*F4*30)/(F2*F5)",{"$f":"(D34*D36*D37*30)/(D35*D38)","v":142.29949589041095}]
["G",null,"Motorista"]
["G1",null,"Salário com encargos sociais",4185.1099999999997]
["H",null,"Custo Mensal"," "]
[null,null,"Sem Motorista (A4+B2+C2+D4+E6+F6)",{"$f":"D14+D17+D20+D25+D32+D39","v":7159.5828104148613}]
[null,null,"Com Motorista (A4+B2+C2+D4+E6+F6+G1)",{"$f":"D14+D17+D20+D25+D32+D39+D41","v":11344.692810414861}]
["I",null,"Custo Direto p/ km Rodado"]
[null,null,"Sem Motorista",{"$f":"D43/D22","v":2.5033506330121891}]
[null,null,"Com Motorista",{"$f":"D44/D22","v":3.9666758078373641}]
["J",null,"Preço cobrado sem BDI",{"$f":"D43*(1+D5)","v":7159.5828104148613}]
["J1",null,"Sem Motorista",{"$f":"D48","v":7159.5828104148613}]
["J2",null,"Com Motorista",{"$f":"D44","v":11344.692810414861},{"$nulls":5},"https://www.google.com/search?q=lubrificante+5w30&sxsrf=AJOqlzUM514L6uswJHb1jIGpGgXchTtV5A:1677092590843&source=lnms&tbm=shop&sa=X&sqi=2&ved=2ahUKEwj_vYfh6Kn9AhVMBrkGHRT6Bv4Q_AUoAXoECAEQAw&biw=1600&bih=757&dpr=1",{"$nulls":10},"https://www.google.com/search?q=pneu+225%2F65+R17&sa=X&biw=1600&bih=757&tbm=shop&sxsrf=AJOqlzWsb-d4PS1_OUOEhKmRc2RbtSg3RQ%3A1677092596279&ei=9Gb2Y9K5ENTa5OUPvLykGA&ved=0ahUKEwjSg9Pj6Kn9AhVULbkGHTweCQMQ4dUDCAg&uact=5&oq=pneu+225%2F65+R17&gs_lcp=Cgtwcm9kdWN0cy1jYxADMgsIABCABBCxAxCDATIFCAAQgAQyBwgAEIAEEAoyBwgAEIAEEAoyBwgAEIAEEAoyBwgAEIAEEAoyBwgAEIAEEAoyBQgAEIAEMgcIABCABBAKMgcIABCABBAKOgQIIxAnOgQIABBDSgQIQRgAUABYoTJgqUBoAHAAeACAAdIFiAGUKZIBDTAuMi42LjIuMi4yLjGYAQCgAQHAAQE&sclient=products-cc"]
[]
[null,null,"OBSERVAÇÕES:"]
["*",null,"Calculado com base na taxa SELIC ABRIL/2023 - 13,75 % a.a"]
[null,null," Taxa de Juros Selic — Português (Brasil) (www.gov.br) ",0.13750000000000001]
["**",null,"Conservação e manutenção - é calculado com o uso de um coeficiente multiplicador \"k\", conforme tabela abaixo, sobre a "]
[null,null,"depreciação mensal do equipamento (Item A da planilha de composição de preços). Os valores de K são fornecidos por"]
[null,null," fabricantes. "]
[null,null,"Metodologia conforme a bibliografia \"Como Preparar Orçamentos de Obras\", 3 edição, Aldo Dórea Mattos, 2019."]
[null,null,"Preço calculado sem BDI"]
[{"$nulls":5},"PREÇO DO DIESEL",5.79]
{"$rows_empty":23}
[{"$nulls":5},"https://precos.petrobras.com.br/sele%C3%A7%C3%A3o-de-estados-diesel "]

{"sheet":"COT. VANT","index":10,"n_rows":17,"n_cols":10,"rows_kept":17,"cut":false,"hidden":true,"merged":[[1,0,1,9],[7,0,9,0],[7,1,7,5],[8,1,8,5],[9,1,9,5]]}
[]
["COTAÇÃO ORÇAMENTÁRIA DE LEVANTAMENTO PLANIALTIMÉTRICO POR MEIO DE VANT PARA ÁREA NA CIDADE DE PINDARÉ-MIRIM-MA"]
["MÊS/ANO DE REFERÊNCIA ","ÁREA DO PROJETO [ha]","EMPRESA","LOCALIDADE","WEBSITE","CONTATO","AVALIAÇÃO TÉCNICA DA PROPOSTA","PREÇO","PREÇO UNITÁRIO","RELAÇÃO CUSTO-BENEFÍCIO"]
["2022-09-01",50,"DRONES SOLUTION","SALVADOR-BA","http://www.dronessolution.com.br/","contato@dronessolution.com.br","SATISFATÓRIA",9800,{"$f":"(H4/B4)","v":196},"A"]
["2022-09-01",50,"ERG","BELO HORIZONTE-MG","http://www.ergbh.com.br/","comercial@ergbh.com.br","SATISFATÓRIA",13240.5,{"$f":"(H5/B5)","v":264.81},"B"]
["2022-09-01",50,"CEPEMAR","VITÓRIA-ES","http://www.cepemar.com.br/","comercial@cepemar.com.br","SATISFATÓRIA",63000,1260,"C"]
[]
["Observações","  1. Na cotação acima já estão iclusos: Planejamento Aerotogramétrico, Voo Aerotoforamétrico, Apoio de Campo, Aerotriangulação, Restituição, MDT, MDS, Ortofotos, Edição/Revisão e Entrega Final.",{"$nulls":4},"CV com todos valores:",{"$f":"STDEVA(H4:H6)/AVERAGE(H4:H6)","v":1.0380549324194583}]
[null,"  2. INCONCLUSIVA: não apresentou o orçamento de forma detalhada.",{"$nulls":4},"CV tirando o maior valor:",{"$f":"STDEVA(H4:H5)/AVERAGE(H4:H5)","v":0.21117604918923782}]
[null,"  3. SATISFATÓRIA: apresentou, no mínimo, os requisitos básicos de um orçamento.",{"$nulls":4},"Média tirando o maior valor:",{"$f":"AVERAGE(H4:H5)","v":11520.25},"Valor para a área de 65ha"]
[null,"4-Para o valor do serviço de Vant, considerou-se a média tirando o maior valor das cotações recebidas, pois o CV (coeficiente de variação) está muito elevado com as 3 cotaçoes."]
[null,"5-As cotações recebidas foram utilizadas para o serviço de levantamento do Ramal do Manga no Amapá, referente a um trecho de 6,5km de rodovia, com área total estimadade de 65ha."]
[null,"Dessa forma, para a cotação representativa deste serviço, realizou-se a parametrização proporcional a área de estudo do serviço a ser realizado."]
[]
[null,"Portanto:"]
[null,null,{"$f":"I10","v":"Valor para a área de 65ha"},{"$f":"H10","v":11520.25}]
[null,null,"Valor unitário para a área de 1ha",{"$f":"D16/65","v":177.23461538461538}]

{"sheet":"Planilha de Medição","index":11,"n_rows":27,"n_cols":6,"rows_kept":27,"cut":false,"hidden":false,"merged":[[0,1,2,5],[4,1,4,2]]}
[null,"PLANILHA DE MEDIÇÃO"]
[]
[]
[]
[null,"#",null,"DESCRIÇÃO","%","P TOTAL"]
[null,1,1,"Estudos Básicos (EB)",{"$f":"F6/$F$27","v":0.4180779353301759},{"$f":"'CRO1_Ins-Pro'!H17","v":175231.41399999999}]
[null,1,"1.1","Serviços Topográficos/Cartográficos",{"$f":"F7/F6","v":0.13338401754836038},{"$f":"'CRO1_Ins-Pro'!F15","v":23373.07}]
[null,1,"1.2","Serviços Geológicos/Geotécnicos",{"$f":"F8/F6","v":0.73347641878869962},{"$f":"'CRO1_Ins-Pro'!F16","v":128528.11}]
[null,1,"1.3","Estudos Hidrológicos e Hidrogeológicos",3.7999999999999999E-2,{"$f":"E9*F6","v":6658.7937319999992}]
[null,1,"1.4","Relatório de Avaliação Fundiária",3.1399999999999997E-2,{"$f":"E10*F6","v":5502.2663995999992}]
[null,1,"1.5","Estudos de Tráfego",{"$f":"1-SUM(E7:E10)","v":6.373956366293998E-2},{"$f":"E11*F7","v":1489.7892832633524}]
[null,2,2,"Estudo de Viabilidade Técnica, Econômica e Ambiental (EVTEA)",{"$f":"F12/$F$27","v":0.19319495338123882},{"$f":"'CRO1_Ins-Pro'!I17","v":80974.914000000004}]
[null,2,"2.1","Diagnóstico e Prognóstico",0.2185,{"$f":"E13*F12","v":17693.018709}]
[null,2,"2.2","Análise da Viabilidade Ambiental",0.18559999999999999,{"$f":"E14*F12","v":15028.944038399999}]
[null,2,"2.3","Avaliação Socioeconômica",0.2258,{"$f":"E15*F12","v":18284.1355812}]
[null,2,"2.4","Análise Técnica-Econômica-Ambiental",{"$f":"1-SUM(E13:E15)","v":0.37009999999999998},{"$f":"E16*F12","v":29968.8156714}]
[null,3,3,"Projeto Básico (PB)",{"$f":"F17/$F$27","v":0.28498603753119978},{"$f":"'CRO1_Ins-Pro'!J17","v":119447.84000000001}]
[null,3,"3.1","Projeto Geométrico",2.4299999999999999E-2,{"$f":"E18*$F$17","v":2902.582512}]
[null,3,"3.3","Projeto de Terraplenagem",9.1399999999999995E-2,10917.532576]
[null,3,"3.4","Projeto de Drenagem",0.11119999999999999,13282.599808000001]
[null,3,"3.5","Projeto de Pavimentação",7.5399999999999995E-2,9006.3671360000008]
[null,3,"3.6","Projeto de Sinalização",5.6800000000000003E-2,6784.6373120000007]
[null,3,"3.7","Projeto de Iluminação Pública",6.7900000000000002E-2,8110.5083360000008]
[null,3,"3.8","Projeto de Obra de Arte Especial",{"$f":"1-SUM(E18:E23)","v":0.57299999999999995},{"$f":"E24*$F$17","v":68443.61232}]
[null,4,4,"Projeto Executivo (PE)",{"$f":"F25/$F$27","v":0.10374107375738557},{"$f":"'CRO1_Ins-Pro'!K17","v":43481.594000000005}]
[]
[{"$nulls":5},{"$f":"F25+F17+F12+F6","v":419135.76199999999}]

{"sheet":"Cronograma Físico-Financeiro","index":12,"n_rows":17,"n_cols":9,"rows_kept":17,"cut":false,"hidden":false,"merged":[[13,1,14,2],[15,1,16,2],[10,1,11,1],[10,2,11,2],[0,1,1,4],[4,1,5,1],[4,2,5,2],[6,1,7,1],[6,2,7,2],[8,1,9,1],[8,2,9,2]]}
[null,"CRONOGRAMA FÍSICO-FINANCEIRO"]
[]
[]
[null,null,null,"Mês 1","Mês 2","Mês 3","Mês 4","Mês 5"]
[null,"Estudos Básicos (EB)",{"$f":"'CRO1_Ins-Pro'!H17","v":175231.41399999999},{"$f":"D6*$C$5","v":140185.1312},35046.282800000001,0,0,0,{"$f":"SUM(D5:H5)","v":175231.41399999999}]
[null,null,null,0.8,0.2,null,null,null,1]
[null,"Estudo de Viabilidade Técnica, Econômica e Ambiental (EVTEA)",{"$f":"'CRO1_Ins-Pro'!I17","v":80974.914000000004},{"$f":"D8*$C$7","v":40487.457000000002},40487.457000000002,0,0,0,80974.914000000004]
[null,null,null,0.5,0.5,null,null,null,1]
[null,"Projeto Básico (PB)",{"$f":"'CRO1_Ins-Pro'!J17","v":119447.84000000001},{"$f":"D10*$C$9","v":0},0,59723.920000000006,59723.920000000006,0,119447.84000000001]
[{"$nulls":5},0.5,0.5,null,1]
[null,"Projeto Executivo (PE)",{"$f":"'CRO1_Ins-Pro'!K17","v":43481.594000000005},{"$f":"D12*$C$11","v":0},0,0,0,43481.594000000005,43481.594000000005]
[{"$nulls":7},1,1]
[]
[null,"NO MÊS",null,{"$f":"D5+D7+D9+D11","v":180672.5882},75533.73980000001,59723.920000000006,59723.920000000006,43481.594000000005,{"$f":"SUM(D14:H14)","v":419135.76199999999}]
[null,null,null,{"$f":"D14/SUM($C$5:$C$12)","v":0.43105982495476014},0.18021306375665461,0.14249301876559989,0.14249301876559989,0.10374107375738557,{"$f":"SUM(D15:H15)","v":1.0000000000000002}]
[null,"ACUMULADO",null,{"$f":"D14","v":180672.5882},{"$f":"D16+E14","v":256206.32800000001},315930.24800000002,375654.16800000001,419135.76199999999]
[null,null,null,{"$f":"D15","v":0.43105982495476014},0.61127288871141472,0.75376590747701466,0.89625892624261461,1.0000000000000002]