Workbook
Name ___\i: #REF!
Name ___\i: #REF!
Name _________aga14: #REF!
Name _________aga16: #REF!
Name _________asc321: #REF!
Name _________bur3220: #REF!
Name _________cap20: #REF!
Name _________ccr12: #REF!
Name _________cva32: #REF!
Name _________cva50: #REF!
Name _________cva60: #REF!
Name _________cve45100: #REF!
Name _________cve90100: #REF!
Name _________cve9040: #REF!
Name _________djm10: #REF!
Name _________djm15: #REF!
Name _________epl2: #REF!
Name _________epl5: #REF!
Name _________est15: #REF!
Name _________fil1: #REF!
Name _________fil2: #REF!
Name _________fio12: #REF!
Name _________fis5: #REF!
Name _________flf50: #REF!
Name _________flf60: #REF!
Name _________fpd12: #REF!
Name _________fvr10: #REF!
Name _________itu1: #REF!
Name _________jla20: #REF!
Name _________jla32: #REF!
Name _________lpi100: #REF!
Name _________lvg10060: #REF!
Name _________lvp32: #REF!
Name _________lxa1: #REF!
Name _________man50: #REF!
Name _________ope1: #REF!
Name _________ope2: #REF!
Name _________ope3: #REF!
Name _________pne1: #REF!
Name _________pne2: #REF!
Name _________prg1515: #REF!
Name _________prg1827: #REF!
Name _________ptc7: #REF!
Name _________ptm6: #REF!
Name _________qdm3: #REF!
Name _________rcm10: #REF!
Name _________rcm15: #REF!
Name _________rcm20: #REF!
Name _________rcm5: #REF!
Name _________res10: #REF!
Name _________res15: #REF!
Name _________res5: #REF!
Name _________rge32: #REF!
Name _________rgf60: #REF!
Name _________rgp1: #REF!
Name _________tap100: #REF!
Name _________tb112: #REF!
Name _________tb16: #REF!
Name _________tb19: #REF!
Name _________tba20: #REF!

Sheet CRONOGRAMA TOTAL
A4: EXECUÇÃO DE SERVIÇOS DE IMPLANTAÇÃO DE PAVIMENTAÇÃO EM BLOCO DE CONCRETO INTERTRAVADO, EM VIAS DE MUNICÍPIOS DIVERSOS INSERIDOS NA ÁREA DE ATUAÇÃO DA CODEVASF, NO ESTADO DO CEARÁ
A5: Cronograma Físico e Financeiro
A6: Item | B6: Descrição | C6: Total Por Etapa | D6: 30 DIAS | E6: 60 DIAS | F6: 90 DIAS | G6: 120 DIAS | H6: 150 DIAS | I6: 180 DIAS | J6: 210 DIAS | K6: 240 DIAS | L6: 270 DIAS | M6: 300 DIAS | N6: 330 DIAS | O6: 360 DIAS
B7: ='M.TOTAL I'!D14 -> SERVIÇOS PRELIMINARES | C7: 1 | F7: =ROUND($C$7/10,8) -> 0.1 | G7: =ROUND($C$7/10,8) -> 0.1 | H7: =ROUND($C$7/10,8) -> 0.1 | I7: =ROUND($C$7/10,8) -> 0.1 | J7: =ROUND($C$7/10,8) -> 0.1 | K7: =ROUND($C$7/10,8) -> 0.1 | L7: =ROUND($C$7/10,8) -> 0.1 | M7: =ROUND($C$7/10,8) -> 0.1 | ... O7: =ROUND($C$7/10,8) -> 0.1 | Q7: =SUM(D7:O7) -> 1
C8: ='M.TOTAL I'!J14 -> 1818249.9 | F8: =ROUND($C$8*F7,2) -> 181824.99 | G8: =ROUND($C$8*G7,2) -> 181824.99 | H8: =ROUND($C$8*H7,2) -> 181824.99 | I8: =ROUND($C$8*I7,2) -> 181824.99 | J8: =ROUND($C$8*J7,2) -> 181824.99 | K8: =ROUND($C$8*K7,2) -> 181824.99 | L8: =ROUND($C$8*L7,2) -> 181824.99 | M8: =ROUND($C$8*M7,2) -> 181824.99 | ... O8: =ROUND($C$8*O7,2) -> 181824.99 | Q8: =SUM(D8:O8) -> 1818249.9 | R8: =C8 -> 1818249.9 | S8: =Q8-R8 -> -0.03
B9: ='M.TOTAL I'!D19 -> TERRAPLENAGEM | C9: 1 | F9: =ROUND(1/6,10) -> 0.16666667 | G9: =ROUND(1/6,10) -> 0.16666667 | H9: =ROUND(1/6,10) -> 0.16666667 | I9: =ROUND(1/6,10) -> 0.16666667 | J9: =ROUND(1/6,10) -> 0.16666667 | K9: =ROUND(1/6,10) -> 0.16666667 | Q9: =SUM(F9:O9) -> 1
C10: ='M.TOTAL I'!J19 -> 689985 | F10: =ROUND($C$10*F9,2) -> 114997.5 | G10: =ROUND($C$10*G9,2) -> 114997.5 | H10: =ROUND($C$10*H9,2) -> 114997.5 | I10: =ROUND($C$10*I9,2) -> 114997.5 | J10: =ROUND($C$10*J9,2) -> 114997.5 | K10: =ROUND($C$10*K9,2) -> 114997.5 | Q10: =SUM(F10:O10) -> 689985 | R10: =C10 -> 689985 | S10: =Q10-R10 -> 0
B11: ='M.TOTAL I'!D23 -> PAVIMENTAÇÃO | C11: 1 | I11: =ROUND(1/7,10) -> 0.14285714 | J11: =ROUND(1/7,10) -> 0.14285714 | K11: =ROUND(1/7,10) -> 0.14285714 | L11: =ROUND(1/7,10) -> 0.14285714 | M11: =ROUND(1/7,10) -> 0.14285714 | N11: =ROUND(1/7,10) -> 0.14285714 | O11: =ROUND(1/7,10) -> 0.14285714 | Q11: =SUM(F11:O11) -> 1
C12: ='M.TOTAL I'!J23 -> 19986366 | I12: =ROUND($C$12*I11,2) -> 2855195.1 | J12: =ROUND($C$12*J11,2) -> 2855195.1 | K12: =ROUND($C$12*K11,2) -> 2855195.1 | L12: =ROUND($C$12*L11,2) -> 2855195.1 | M12: =ROUND($C$12*M11,2) -> 2855195.1 | N12: =ROUND($C$12*N11,2) -> 2855195.1 | O12: =ROUND($C$12*O11,2) -> 2855195.1 | Q12: =SUM(F12:O12) -> 19986366 | R12: =C12 -> 19986366 | S12: =Q12-R12 -> -0.02
B13: ='M.TOTAL I'!D32 -> SINALIZAÇÃO | C13: 1 | N13: 0.5 | O13: 0.5 | Q13: =SUM(F13:O13) -> 1
C14: ='M.TOTAL I'!J32 -> 1075794.1 | N14: =ROUND($C$14*N13,2) -> 537897.03 | O14: =ROUND($C$14*O13,2) -> 537897.03 | Q14: =SUM(F14:O14) -> 1075794.1 | R14: =C14 -> 1075794.1 | S14: =Q14-R14 -> 0
B15: ='M.TOTAL I'!D30 -> DRENAGEM | C15: 1 | N15: 0.5 | O15: 0.5 | Q15: =SUM(D15:O15) -> 1
C16: ='M.TOTAL I'!J30 -> 4618710 | N16: =ROUND($C$16*N15,2) -> 2309355 | O16: =ROUND($C$16*O15,2) -> 2309355 | Q16: =SUM(D16:O16) -> 4618710 | R16: =C16 -> 4618710 | S16: =Q16-R16 -> 0
B17: ='M.TOTAL I'!D38 -> SERVIÇOS COMPLEMENTARES | C17: 1 | F17: 0.1 | G17: 0.1 | H17: 0.1 | I17: 0.1 | J17: 0.1 | K17: 0.1 | L17: 0.1 | M17: 0.1 | N17: 0.1 | O17: 0.1 | Q17: =SUM(D17:O17) -> 1
C18: ='M.TOTAL I'!J38 -> 285817 | F18: =ROUND($C$18*F17,2) -> 28581.7 | G18: =ROUND($C$18*G17,2) -> 28581.7 | H18: =ROUND($C$18*H17,2) -> 28581.7 | I18: =ROUND($C$18*I17,2) -> 28581.7 | J18: =ROUND($C$18*J17,2) -> 28581.7 | K18: =ROUND($C$18*K17,2) -> 28581.7 | L18: =ROUND($C$18*L17,2) -> 28581.7 | M18: =ROUND($C$18*M17,2) -> 28581.7 | ... O18: =ROUND($C$18*O17,2) -> 28581.7 | Q18: =SUM(D18:O18) -> 285817 | R18: =C18 -> 285817 | S18: =Q18-R18 -> 0
B19: ='M.TOTAL I'!D11 -> PROJETO EXECUTIVO | C19: 1 | D19: 0.5 | E19: 0.5 | Q19: =SUM(D19:O19) -> 1
C20: ='M.TOTAL I'!J11 -> 571995 | D20: =ROUND($C$20*D19,2) -> 285997.5 | E20: =ROUND($C$20*E19,2) -> 285997.5 | Q20: =SUM(D20:O20) -> 571995 | R20: =C20 -> 571995 | S20: =Q20-R20 -> 0
B21: ='M.TOTAL I'!D36 -> CONTROLE TECNOLÓGICO – OBRA | C21: 1 | D21: =ROUND(1/12,11) -> 0.083333333 | E21: =ROUND(1/12,11) -> 0.083333333 | F21: =ROUND(1/12,11) -> 0.083333333 | G21: =ROUND(1/12,11) -> 0.083333333 | H21: =ROUND(1/12,11) -> 0.083333333 | I21: =ROUND(1/12,11) -> 0.083333333 | J21: =ROUND(1/12,11) -> 0.083333333 | K21: =ROUND(1/12,11) -> 0.083333333 | ... O21: =ROUND(1/12,11) -> 0.083333333 | Q21: =SUM(D21:O21) -> 1
C22: ='M.TOTAL I'!J36 -> 120298.5 | D22: =ROUND($C$22*D21,2) -> 10024.87 | E22: =ROUND($C$22*E21,2) -> 10024.87 | F22: =ROUND($C$22*F21,2) -> 10024.87 | G22: =ROUND($C$22*G21,2) -> 10024.87 | H22: =ROUND($C$22*H21,2) -> 10024.87 | I22: =ROUND($C$22*I21,2) -> 10024.87 | J22: =ROUND($C$22*J21,2) -> 10024.87 | K22: =ROUND($C$22*K21,2) -> 10024.87 | ... O22: =ROUND($C$22*O21,2) -> 10024.87 | Q22: =SUM(D22:O22) -> 120298.44 | R22: =C22 -> 120298.5 | S22: =Q22-R22 -> -0.06
A24: Porcentagem | D24: =ROUND(D8+D12+D14+D16+D10+D18+D20+D22,0)/$O$29 -> 0.010149135 | E24: =SUM(E8+E12+E14+E16+E10+E18+E20+E22)/$O$29 -> 0.010149147 | F24: =SUM(F8+F12+F14+F16+F10+F18+F20+F22)/$O$29 -> 0.011500209 | G24: =SUM(G8+G12+G14+G16+G10+G18+G20+G22)/$O$29 -> 0.011500209 | H24: =SUM(H8+H12+H14+H16+H10+H18+H20+H22)/$O$29 -> 0.011500209 | I24: =SUM(I8+I12+I14+I16+I10+I18+I20+I22)/$O$29 -> 0.10939077 | J24: =SUM(J8+J12+J14+J16+J10+J18+J20+J22)/$O$29 -> 0.10939077 | K24: =SUM(K8+K12+K14+K16+K10+K18+K20+K22)/$O$29 -> 0.10939077 | L24: =SUM(L8+L12+L14+L16+L38+L10+L18+L20+L22)/$O$29 -> 0.10544807 | M24: =SUM(M8+M12+M14+M16+M10+M18+M20+M22)/$O$29 -> 0.10544807 | N24: =SUM(N8+N12+N14+N16+N10+N18+N20+N22)/$O$29 -> 0.20306631 | O24: =SUM(O8+O12+O14+O16+O10+O18+O20+O22)/$O$29 -> 0.20306631
A25: Custo | D25: =ROUND($O$29*D24,2) -> 296022 | E25: =ROUND($O$29*E24,2) -> 296022.37 | F25: =ROUND($O$29*F24,2) -> 335429.06 | G25: =ROUND($O$29*G24,2) -> 335429.06 | H25: =ROUND($O$29*H24,2) -> 335429.06 | I25: =ROUND($O$29*I24,2) -> 3190624.2 | J25: =ROUND($O$29*J24,2) -> 3190624.2 | K25: =ROUND($O$29*K24,2) -> 3190624.2 | ... O25: =ROUND($O$29*O24,2) -> 5922878.7
A26: Porcentagem Acumulado | D26: =D24 -> 0.010149135 | E26: =D26+E24 -> 0.020298282 | F26: =E26+F24 -> 0.031798491 | G26: =F26+G24 -> 0.043298699 | H26: =G26+H24 -> 0.054798908 | I26: =H26+I24 -> 0.16418968 | J26: =I26+J24 -> 0.27358045 | K26: =J26+K24 -> 0.38297122 | L26: =K26+L24 -> 0.4884193 | ... O26: =N26+O24 -> 0.99999998
A27: Custo Acumulado | D27: =D25 -> 296022 | E27: =D27+E25 -> 592044.37 | F27: =E27+F25 -> 927473.43 | G27: =F27+G25 -> 1262902.5 | H27: =G27+H25 -> 1598331.6 | I27: =H27+I25 -> 4788955.8 | J27: =I27+J25 -> 7979580 | K27: =J27+K25 -> 11170204 | L27: =K27+L25 -> 14245831 | ... N27: =M27+N25 -> 23244336 | O27: =N27+O25+0.01 -> 29167215
D29: Total Geral | N29: R$ | O29: ='M.TOTAL I'!J41 -> 29167215
F33: EXECUÇÃO DE SERVIÇOS DE IMPLANTAÇÃO DE PAVIMENTAÇÃO EM BLOCO DE CONCRETO INTERTRAVADO, EM VIAS DE MUNICÍPIOS DIVERSOS INSERIDOS NA ÁREA DE ATUAÇÃO DA CODEVASF, NO ESTADO DO CEARÁ

Sheet FONTE
A1: FONTES | C1: MATERIAIS BETUMINOSOS SEINFRA/ANP 10/2023
C2: SINAPI/CE 09/2023 SEM DESONERAÇÃO
C3: SICRO/CE 04/2023 SEM DESONERAÇÃO
A4: Item | B4: Código | C4: Descrição | D4: Unidade | E4: Valor com Desoneração | F4: Valor Sem Desoneração
A5: CPUES
B6: CPUE02 | C6: Levantamento Topográfico De Via Pública E Semi-Cadastro De Imóveis | D6: m | E6: =INDEX(CPUE!A7:H971,MATCH(FONTE!B6,CPUE!A7:A971,0),8) -> 2.57 | F6: =INDEX(CPUE!A7:H971,MATCH(FONTE!B6,CPUE!A7:A971,0),8) -> 2.57 | G6: CODEVASF
B7: CPUE01 | C7: Administração Local da Obra (Pav. Intertravada) | D7: und | E7: =INDEX(CPUE!A8:H972,MATCH(FONTE!B7,CPUE!A8:A972,0),8) -> 41543 | F7: =INDEX(CPUE!A8:H972,MATCH(FONTE!B7,CPUE!A8:A972,0),8) -> 41543 | G7: CODEVASF
B8: PROJ.EX.01 | C8: Projeto Executivo - Pavimento em Bloco de Concreto | D8: m2 | E8: =PROJETO!G32 -> 1.9886792 | F8: =E8 -> 1.9886792 | G8: CODEVASF
B9: CPUE03 | C9: Mobilização e Desmobilização de Equipamentos | D9: tKm | E9: =INDEX(CPUE!A10:H974,MATCH(FONTE!B9,CPUE!A10:A974,0),8) -> 0.61 | F9: =INDEX(CPUE!A10:H974,MATCH(FONTE!B9,CPUE!A10:A974,0),8) -> 0.61 | G9: CODEVASF
B10: CPUE04 | C10: Canteiro de Obras e Almoxarifado | D10: un | E10: =INDEX(CPUE!A11:H975,MATCH(FONTE!B10,CPUE!A11:A975,0),8) -> 2493.75 | F10: =INDEX(CPUE!A11:H975,MATCH(FONTE!B10,CPUE!A11:A975,0),8) -> 2493.75 | G10: CODEVASF
B11: CPUE05 | C11: Serviços Topográficos para Pavimentação, inclusive Notas de Serviços, Acompanhamento e Greide | D11: m2 | E11: =INDEX(CPUE!A12:H976,MATCH(FONTE!B11,CPUE!A12:A976,0),8) -> 0.44 | F11: =INDEX(CPUE!A12:H976,MATCH(FONTE!B11,CPUE!A12:A976,0),8) -> 0.44 | G11: CODEVASF
B12: CPUE06 | C12: Conserto de Quebra de Ramal na Rua sem Pavimento com Fornecimento de Material Hidráulico | D12: m | E12: =INDEX(CPUE!A17:H977,MATCH(FONTE!B12,CPUE!A17:A977,0),8) -> 16.61 | F12: =INDEX(CPUE!A17:H977,MATCH(FONTE!B12,CPUE!A17:A977,0),8) -> 16.61 | G12: CODEVASF
B13: CPUE07 | C13: Limpeza de ruas (varrição e remoção de entulhos) | D13: m2 | E13: =INDEX(CPUE!A17:H978,MATCH(FONTE!B13,CPUE!A17:A978,0),8) -> 1.02 | F13: =INDEX(CPUE!A17:H978,MATCH(FONTE!B13,CPUE!A17:A978,0),8) -> 1.02 | G13: CODEVASF
B20: INSUMOS | C20: Materiais Betuminosos (SEINFRA / ANP) - Versão 2023/10 | H20: OBS!!!
B21: I0809 | C21: ASFALTO DILUÍDO - CM 30 | D21: T | E21: 5292.02 | F21: 5407.2 | G21: SEINFRA-I
B22: I8568 | C22: ASFÁLTO BORRACHA AB-8 | D22: T | E22: 4946.12 | F22: 4631.49 | G22: SEINFRA-I
B23: I0798 | C23: CIMENTO ASFALTICO CAP 50/70 | D23: T | E23: 4286.85 | F23: 4376.97 | G23: SEINFRA-I
B24: I2508 | C24: EMULSÃO ASFALTICA RL 1C | D24: T | E24: 4018.08 | F24: 3669.68 | G24: SEINFRA-I
B25: I2509 | C25: EMULSÃO ASFALTICA RM 1C | D25: T | E25: 3368.98 | F25: 3385.53 | G25: SEINFRA-I
B26: I8326 | C26: EMULSÃO ASFÁLTICA CATIÔNICA MODIFICADA POR POLÍMERO ELASTOMÉRICO - RR 2C - E | D26: T | E26: 4800.84 | F26: 3875.32 | G26: SEINFRA-I
B27: I8408 | C27: EMULSÃO ASFÁLTICA CATIÔNICA MODIFICADA POR POLÍMERO ELASTOMÉRICO RL 1C - E | D27: T | E27: 4506.36 | F27: 4233.97 | G27: SEINFRA-I
B28: I9138 | C28: EMULSÃO ASFÁLTICA RC-1C-E | D28: T | E28: 4260.73 | F28: 4302.09 | G28: SEINFRA-I
B29: I2319 | C29: EMULSÃO ASFÁLTICA RR 1C | D29: T | E29: 3088.11 | F29: 3161.19 | G29: SEINFRA-I
B30: I2569 | C30: EMULSÃO ASFÁLTICA RR 2C | D30: T | E30: 3339.29 | F30: 3406.15 | G30: SEINFRA-I
B32: SERVIÇOS | C32: SINAPI/CE 09/2023 | H32: OBS!!!
B33: CODIGO DA COMPOSICAO | C33: DESCRICAO DA COMPOSICAO | D33: UNI | E33: DESONERA | F33: N DESONE | J33: https://sites.seinfra.ce.gov.br/siproce/anp/tabela-seinfra.html
B34: 97141 | C34: ASSENTAMENTO DE TUBO DE FERRO FUNDIDO PARA REDE DE ÁGUA, DN 80 MM, JUNTA ELÁSTICA, INSTALADO EM LOCAL COM NÍVEL ALTO DE INTERFERÊNCIAS (NÃO INCLUI FORNECIMENTO). AF_11/2017 | D34: M | E34: 7,22 | F34: 7.69 | G34: SINAPI-S
B35: 97142 | C35: ASSENTAMENTO DE TUBO DE FERRO FUNDIDO PARA REDE DE ÁGUA, DN 100 MM, JUNTA ELÁSTICA, INSTALADO EM LOCAL COM NÍVEL ALTO DE INTERFERÊNCIAS (NÃO INCLUI FORNECIMENTO). AF_11/2017 | D35: M | E35: 8,00 | F35: 8.53 | G35: SINAPI-S
B36: 97143 | C36: ASSENTAMENTO DE TUBO DE FERRO FUNDIDO PARA REDE DE ÁGUA, DN 150 MM, JUNTA ELÁSTICA, INSTALADO EM LOCAL COM NÍVEL ALTO DE INTERFERÊNCIAS (NÃO INCLUI FORNECIMENTO). AF_11/2017 | D36: M | E36: 9,95 | F36: 10.65 | G36: SINAPI-S
B37: 97144 | C37: ASSENTAMENTO DE TUBO DE FERRO FUNDIDO PARA REDE DE ÁGUA, DN 200 MM, JUNTA ELÁSTICA, INSTALADO EM LOCAL COM NÍVEL ALTO DE INTERFERÊNCIAS (NÃO INCLUI FORNECIMENTO). AF_11/2017 | D37: M | E37: 11,92 | F37: 12.74 | G37: SINAPI-S
B38: 97145 | C38: ASSENTAMENTO DE TUBO DE FERRO FUNDIDO PARA REDE DE ÁGUA, DN 250 MM, JUNTA ELÁSTICA, INSTALADO EM LOCAL COM NÍVEL ALTO DE INTERFERÊNCIAS (NÃO INCLUI FORNECIMENTO). AF_11/2017 | D38: M | E38: 13,91 | F38: 14.88 | G38: SINAPI-S
B39: 97146 | C39: ASSENTAMENTO DE TUBO DE FERRO FUNDIDO PARA REDE DE ÁGUA, DN 300 MM, JUNTA ELÁSTICA, INSTALADO EM LOCAL COM NÍVEL ALTO DE INTERFERÊNCIAS (NÃO INCLUI FORNECIMENTO). AF_11/2017 | D39: M | E39: 15,86 | F39: 16.99 | G39: SINAPI-S
B40: 97147 | C40: ASSENTAMENTO DE TUBO DE FERRO FUNDIDO PARA REDE DE ÁGUA, DN 350 MM, JUNTA ELÁSTICA, INSTALADO EM LOCAL COM NÍVEL ALTO DE INTERFERÊNCIAS (NÃO INCLUI FORNECIMENTO). AF_11/2017 | D40: M | E40: 17,85 | F40: 19.13 | G40: SINAPI-S
B41: 97148 | C41: ASSENTAMENTO DE TUBO DE FERRO FUNDIDO PARA REDE DE ÁGUA, DN 400 MM, JUNTA ELÁSTICA, INSTALADO EM LOCAL COM NÍVEL ALTO DE INTERFERÊNCIAS (NÃO INCLUI FORNECIMENTO). AF_11/2017 | D41: M | E41: 19,82 | F41: 21.25 | G41: SINAPI-S
B42: 97149 | C42: ASSENTAMENTO DE TUBO DE FERRO FUNDIDO PARA REDE DE ÁGUA, DN 450 MM, JUNTA ELÁSTICA, INSTALADO EM LOCAL COM NÍVEL ALTO DE INTERFERÊNCIAS (NÃO INCLUI FORNECIMENTO). AF_11/2017 | D42: M | E42: 21,82 | F42: 23.41 | G42: SINAPI-S
B43: 97150 | C43: ASSENTAMENTO DE TUBO DE FERRO FUNDIDO PARA REDE DE ÁGUA, DN 500 MM, JUNTA ELÁSTICA, INSTALADO EM LOCAL COM NÍVEL ALTO DE INTERFERÊNCIAS (NÃO INCLUI FORNECIMENTO). AF_11/2017 | D43: M | E43: 28,70 | F43: 30.41 | G43: SINAPI-S
B44: 97151 | C44: ASSENTAMENTO DE TUBO DE FERRO FUNDIDO PARA REDE DE ÁGUA, DN 600 MM, JUNTA ELÁSTICA, INSTALADO EM LOCAL COM NÍVEL ALTO DE INTERFERÊNCIAS (NÃO INCLUI FORNECIMENTO). AF_11/2017 | D44: M | E44: 33,37 | F44: 35.4 | G44: SINAPI-S
B45: 97152 | C45: ASSENTAMENTO DE TUBO DE FERRO FUNDIDO PARA REDE DE ÁGUA, DN 700 MM, JUNTA ELÁSTICA, INSTALADO EM LOCAL COM NÍVEL ALTO DE INTERFERÊNCIAS (NÃO INCLUI FORNECIMENTO). AF_11/2017 | D45: M | E45: 37,85 | F45: 40.18 | G45: SINAPI-S
... B7551: 101425 | C7551: NIVELADOR COM ENCARGOS COMPLEMENTARES | D7551: MES | E7551: 3.597,63 | F7551: 4119.1 | G7551: SINAPI-S
B7552: 101426 | C7552: OPERADOR DE BATE-ESTACA COM ENCARGOS COMPLEMENTARES | D7552: MES | E7552: 4.017,29 | F7552: 4478.63
...

Sheet FONTE CPUE
A1: =IFERROR(__xludf.dummyfunction("IMPORTRANGE(""https://docs.google.com/spreadsheets/d/16PCHMMi95FXs_T37kA165hjMDpE25E_2kCre-7_ZsWs/edit#gid=1489797808"",""CPUE COMPLETO!A:I"")"),"") | J1: FILTRO | L1: PLANILHA PUXADA DA LISTA DE CPUE
J2: V | L2: NÃO EDITAR NESTA PLANILHA A NÃO SER QUESTÃO DE FORMATAÇÃO
A3: =IFERROR(__xludf.dummyfunction("""COMPUTED_VALUE"""),"COMPOSIÇÕES DE PREÇOS UNITÁRIOS ELABORADAS") -> COMPOSIÇÕES DE PREÇOS UNITÁRIOS ELABORADAS | J3: V | L3: CASO PRECISE INSERIR NOVA CPUE, INSERIR PRIMEIRO NA FONTE E ATUALIZAR PLANILHA
A4: =IFERROR(__xludf.dummyfunction("""COMPUTED_VALUE"""),"OBRA: ") -> OBRA: | B4: =IFERROR(__xludf.dummyfunction("""COMPUTED_VALUE"""),"DIGITE O TÍTULO DA OBRA") -> DIGITE O TÍTULO DA OBRA | J4: V
A5: =IFERROR(__xludf.dummyfunction("""COMPUTED_VALUE"""),"LOCAL:") -> LOCAL: | B5: =IFERROR(__xludf.dummyfunction("""COMPUTED_VALUE"""),"#REF!") -> #REF! | J5: V
H6: =IFERROR(__xludf.dummyfunction("""COMPUTED_VALUE"""),"DATA BASE") -> DATA BASE | J6: V
J7: V
A8: =IFERROR(__xludf.dummyfunction("""COMPUTED_VALUE"""),"ITEM ") -> ITEM | B8: =IFERROR(__xludf.dummyfunction("""COMPUTED_VALUE"""),"REF.") -> REF. | C8: =IFERROR(__xludf.dummyfunction("""COMPUTED_VALUE"""),"CÓDIGO") -> CÓDIGO | D8: =IFERROR(__xludf.dummyfunction("""COMPUTED_VALUE"""),"DESCRIÇÃO DO SERVIÇO") -> DESCRIÇÃO DO SERVIÇO | E8: =IFERROR(__xludf.dummyfunction("""COMPUTED_VALUE"""),"UN") -> UN | F8: =IFERROR(__xludf.dummyfunction("""COMPUTED_VALUE"""),"COEF.") -> COEF. | G8: =IFERROR(__xludf.dummyfunction("""COMPUTED_VALUE"""),"P. UNIT. (S/ BDI)") -> P. UNIT. (S/ BDI) | H8: =IFERROR(__xludf.dummyfunction("""COMPUTED_VALUE"""),"VALOR") -> VALOR | I8: =IFERROR(__xludf.dummyfunction("""COMPUTED_VALUE"""),"PREÇO") -> PREÇO | J8: V
A9: =IFERROR(__xludf.dummyfunction("""COMPUTED_VALUE"""),"CPUE-IE001") -> CPUE-IE001 | B9: =IFERROR(__xludf.dummyfunction("""COMPUTED_VALUE"""),"SEINFRA") -> SEINFRA | C9: =IFERROR(__xludf.dummyfunction("""COMPUTED_VALUE"""),"REFLETOR DE FACHADA LED DE 50W IP66") -> REFLETOR DE FACHADA LED DE 50W IP66 | E9: =IFERROR(__xludf.dummyfunction("""COMPUTED_VALUE"""),"UN >") -> UN > | F9: =IFERROR(__xludf.dummyfunction("""COMPUTED_VALUE"""),"UN") -> UN | G9: =IFERROR(__xludf.dummyfunction("""COMPUTED_VALUE"""),"VALOR S/ BDI") -> VALOR S/ BDI | H9: =IFERROR(__xludf.dummyfunction("""COMPUTED_VALUE"""),111.53) -> 111.53 | J9: V
A10: =IFERROR(__xludf.dummyfunction("""COMPUTED_VALUE"""),10101) -> 10101 | B10: =IFERROR(__xludf.dummyfunction("""COMPUTED_VALUE"""),"SEINFRA-I") -> SEINFRA-I | C10: =IFERROR(__xludf.dummyfunction("""COMPUTED_VALUE"""),"I2312") -> I2312 | D10: =IFERROR(__xludf.dummyfunction("""COMPUTED_VALUE"""),"ELETRICISTA") -> ELETRICISTA | E10: =IFERROR(__xludf.dummyfunction("""COMPUTED_VALUE"""),"H") -> H | F10: =IFERROR(__xludf.dummyfunction("""COMPUTED_VALUE"""),1) -> 1 | G10: =IFERROR(__xludf.dummyfunction("""COMPUTED_VALUE"""),20.77) -> 20.77 | H10: =IFERROR(__xludf.dummyfunction("""COMPUTED_VALUE"""),20.77) -> 20.77 | I10: =IFERROR(__xludf.dummyfunction("""COMPUTED_VALUE"""),20.77) -> 20.77 | J10: V
A11: =IFERROR(__xludf.dummyfunction("""COMPUTED_VALUE"""),10102) -> 10102 | B11: =IFERROR(__xludf.dummyfunction("""COMPUTED_VALUE"""),"SEINFRA-I") -> SEINFRA-I | C11: =IFERROR(__xludf.dummyfunction("""COMPUTED_VALUE"""),"I0042") -> I0042 | D11: =IFERROR(__xludf.dummyfunction("""COMPUTED_VALUE"""),"AJUDANTE DE ELETRICISTA") -> AJUDANTE DE ELETRICISTA | E11: =IFERROR(__xludf.dummyfunction("""COMPUTED_VALUE"""),"H") -> H | F11: =IFERROR(__xludf.dummyfunction("""COMPUTED_VALUE"""),1) -> 1 | G11: =IFERROR(__xludf.dummyfunction("""COMPUTED_VALUE"""),16.77) -> 16.77 | H11: =IFERROR(__xludf.dummyfunction("""COMPUTED_VALUE"""),16.77) -> 16.77 | I11: =IFERROR(__xludf.dummyfunction("""COMPUTED_VALUE"""),16.77) -> 16.77 | J11: V
A12: =IFERROR(__xludf.dummyfunction("""COMPUTED_VALUE"""),10103) -> 10103 | B12: =IFERROR(__xludf.dummyfunction("""COMPUTED_VALUE"""),"SEINFRA-I") -> SEINFRA-I | C12: =IFERROR(__xludf.dummyfunction("""COMPUTED_VALUE"""),"I0278") -> I0278 | D12: =IFERROR(__xludf.dummyfunction("""COMPUTED_VALUE"""),"BRAÇO METALICO P/ LUMINARIA") -> BRAÇO METALICO P/ LUMINARIA | E12: =IFERROR(__xludf.dummyfunction("""COMPUTED_VALUE"""),"UN") -> UN | F12: =IFERROR(__xludf.dummyfunction("""COMPUTED_VALUE"""),1) -> 1 | G12: =IFERROR(__xludf.dummyfunction("""COMPUTED_VALUE"""),24.63) -> 24.63 | H12: =IFERROR(__xludf.dummyfunction("""COMPUTED_VALUE"""),24.63) -> 24.63 | I12: =IFERROR(__xludf.dummyfunction("""COMPUTED_VALUE"""),24.63) -> 24.63 | J12: V
A13: =IFERROR(__xludf.dummyfunction("""COMPUTED_VALUE"""),10104) -> 10104 | B13: =IFERROR(__xludf.dummyfunction("""COMPUTED_VALUE"""),"SEINFRA-I") -> SEINFRA-I | C13: =IFERROR(__xludf.dummyfunction("""COMPUTED_VALUE"""),"I1181") -> I1181 | D13: =IFERROR(__xludf.dummyfunction("""COMPUTED_VALUE"""),"FITA ISOLANTE") -> FITA ISOLANTE | E13: =IFERROR(__xludf.dummyfunction("""COMPUTED_VALUE"""),"M") -> M | F13: =IFERROR(__xludf.dummyfunction("""COMPUTED_VALUE"""),0.1) -> 0.1 | G13: =IFERROR(__xludf.dummyfunction("""COMPUTED_VALUE"""),0.82) -> 0.82 | H13: =IFERROR(__xludf.dummyfunction("""COMPUTED_VALUE"""),0.08) -> 0.08 | I13: =IFERROR(__xludf.dummyfunction("""COMPUTED_VALUE"""),0.82) -> 0.82 | J13: V
A14: =IFERROR(__xludf.dummyfunction("""COMPUTED_VALUE"""),10105) -> 10105 | B14: =IFERROR(__xludf.dummyfunction("""COMPUTED_VALUE"""),"SINAPI-I") -> SINAPI-I | C14: =IFERROR(__xludf.dummyfunction("""COMPUTED_VALUE"""),39391) -> 39391 | D14: =IFERROR(__xludf.dummyfunction("""COMPUTED_VALUE"""),"LUMINARIA LED REFLETOR RETANGULAR BIVOLT, LUZ BRANCA, 50 W") -> LUMINARIA LED REFLETOR RETANGULAR BIVOLT, LUZ BRANCA, 50 W | E14: =IFERROR(__xludf.dummyfunction("""COMPUTED_VALUE"""),"UN") -> UN | F14: =IFERROR(__xludf.dummyfunction("""COMPUTED_VALUE"""),1) -> 1 | G14: =IFERROR(__xludf.dummyfunction("""COMPUTED_VALUE"""),49.28) -> 49.28 | H14: =IFERROR(__xludf.dummyfunction("""COMPUTED_VALUE"""),49.28) -> 49.28 | I14: =IFERROR(__xludf.dummyfunction("""COMPUTED_VALUE"""),49.28) -> 49.28 | J14: V
A15: =IFERROR(__xludf.dummyfunction("""COMPUTED_VALUE"""),10106) -> 10106 | B15: =IFERROR(__xludf.dummyfunction("""COMPUTED_VALUE""")," ") | D15: =IFERROR(__xludf.dummyfunction("""COMPUTED_VALUE""")," ") | E15: =IFERROR(__xludf.dummyfunction("""COMPUTED_VALUE""")," ") | F15: =IFERROR(__xludf.dummyfunction("""COMPUTED_VALUE"""),0) -> 0 | G15: =IFERROR(__xludf.dummyfunction("""COMPUTED_VALUE"""),0) -> 0 | H15: =IFERROR(__xludf.dummyfunction("""COMPUTED_VALUE"""),0) -> 0 | I15: =IFERROR(__xludf.dummyfunction("""COMPUTED_VALUE"""),0) -> 0 | J15: V
A16: =IFERROR(__xludf.dummyfunction("""COMPUTED_VALUE"""),"OBS: OS COEFIFIENTES DESTA COMPOSIÇÃO FORAM BASEADO NA TABELA DA SBC - CÓDIGO: 060316, SENDO SUBSTITUÍDO O INSUMO: I049526 PELO INSUMO DA SINAPI - CÓDIGO: 39391, E OS OUTROS INSUMOS SÃO DA TABELA 27.1 - SEINFRA COM DESONERAÇÃO.") -> OBS: OS COEFIFIENTES DESTA COMPOSIÇÃO FORAM BASEADO NA TABELA DA SBC - CÓDIGO: 060316, SENDO SUBSTITUÍDO O INSUMO: I049526 PELO INSUMO DA SINAPI - CÓDIGO: 39391, E OS OUTROS INSUMOS SÃO DA TABELA 27.1 - SEINFRA COM DESONERAÇÃO. | I16: =IFERROR(__xludf.dummyfunction("""COMPUTED_VALUE"""),0) -> 0 | J16: V
I17: =IFERROR(__xludf.dummyfunction("""COMPUTED_VALUE"""),0) -> 0 | J17: V
I18: =IFERROR(__xludf.dummyfunction("""COMPUTED_VALUE"""),0) -> 0 | J18: V
A19: =IFERROR(__xludf.dummyfunction("""COMPUTED_VALUE"""),"CPUE-IE002") -> CPUE-IE002 | B19: =IFERROR(__xludf.dummyfunction("""COMPUTED_VALUE"""),"SEINFRA") -> SEINFRA | C19: =IFERROR(__xludf.dummyfunction("""COMPUTED_VALUE"""),"QUADRO P/ MEDIÇÃO EM POSTE DE CONCRETO H=9,00M INCLUSIVE POSTE E INSTALAÇÃO") -> QUADRO P/ MEDIÇÃO EM POSTE DE CONCRETO H=9,00M INCLUSIVE POSTE E INSTALAÇÃO | E19: =IFERROR(__xludf.dummyfunction("""COMPUTED_VALUE"""),"UN >") -> UN > | F19: =IFERROR(__xludf.dummyfunction("""COMPUTED_VALUE"""),"UN") -> UN | G19: =IFERROR(__xludf.dummyfunction("""COMPUTED_VALUE"""),"VALOR S/ BDI") -> VALOR S/ BDI | H19: =IFERROR(__xludf.dummyfunction("""COMPUTED_VALUE"""),1258.06) -> 1258.06 | I19: =IFERROR(__xludf.dummyfunction("""COMPUTED_VALUE"""),"#N/A") -> #N/A | J19: X
A20: =IFERROR(__xludf.dummyfunction("""COMPUTED_VALUE"""),10101) -> 10101 | B20: =IFERROR(__xludf.dummyfunction("""COMPUTED_VALUE"""),"SEINFRA-I") -> SEINFRA-I | C20: =IFERROR(__xludf.dummyfunction("""COMPUTED_VALUE"""),"I2312") -> I2312 | D20: =IFERROR(__xludf.dummyfunction("""COMPUTED_VALUE"""),"ELETRICISTA") -> ELETRICISTA | E20: =IFERROR(__xludf.dummyfunction("""COMPUTED_VALUE"""),"H") -> H | F20: =IFERROR(__xludf.dummyfunction("""COMPUTED_VALUE"""),4.8) -> 4.8 | G20: =IFERROR(__xludf.dummyfunction("""COMPUTED_VALUE"""),20.77) -> 20.77 | H20: =IFERROR(__xludf.dummyfunction("""COMPUTED_VALUE"""),99.7) -> 99.7 | I20: =IFERROR(__xludf.dummyfunction("""COMPUTED_VALUE"""),20.77) -> 20.77 | J20: X
A21: =IFERROR(__xludf.dummyfunction("""COMPUTED_VALUE"""),10102) -> 10102 | B21: =IFERROR(__xludf.dummyfunction("""COMPUTED_VALUE"""),"SEINFRA-I") -> SEINFRA-I | C21: =IFERROR(__xludf.dummyfunction("""COMPUTED_VALUE"""),"I0042") -> I0042 | D21: =IFERROR(__xludf.dummyfunction("""COMPUTED_VALUE"""),"AJUDANTE DE ELETRICISTA") -> AJUDANTE DE ELETRICISTA | E21: =IFERROR(__xludf.dummyfunction("""COMPUTED_VALUE"""),"H") -> H | F21: =IFERROR(__xludf.dummyfunction("""COMPUTED_VALUE"""),4.8) -> 4.8 | G21: =IFERROR(__xludf.dummyfunction("""COMPUTED_VALUE"""),16.77) -> 16.77 | H21: =IFERROR(__xludf.dummyfunction("""COMPUTED_VALUE"""),80.5) -> 80.5 | I21: =IFERROR(__xludf.dummyfunction("""COMPUTED_VALUE"""),16.77) -> 16.77 | J21: X
A22: =IFERROR(__xludf.dummyfunction("""COMPUTED_VALUE"""),10103) -> 10103 | B22: =IFERROR(__xludf.dummyfunction("""COMPUTED_VALUE"""),"SEINFRA-I") -> SEINFRA-I | C22: =IFERROR(__xludf.dummyfunction("""COMPUTED_VALUE"""),"I0126") -> I0126 | D22: =IFERROR(__xludf.dummyfunction("""COMPUTED_VALUE"""),"ARRUELA DE FERRO GALVANIZADO 1 1/2''") -> ARRUELA DE FERRO GALVANIZADO 1 1/2'' | E22: =IFERROR(__xludf.dummyfunction("""COMPUTED_VALUE"""),"UN") -> UN | F22: =IFERROR(__xludf.dummyfunction("""COMPUTED_VALUE"""),3) -> 3 | G22: =IFERROR(__xludf.dummyfunction("""COMPUTED_VALUE"""),0.9) -> 0.9 | H22: =IFERROR(__xludf.dummyfunction("""COMPUTED_VALUE"""),2.7) -> 2.7 | I22: =IFERROR(__xludf.dummyfunction("""COMPUTED_VALUE"""),0.9) -> 0.9 | J22: X
A23: =IFERROR(__xludf.dummyfunction("""COMPUTED_VALUE"""),10104) -> 10104 | B23: =IFERROR(__xludf.dummyfunction("""COMPUTED_VALUE"""),"SEINFRA-I") -> SEINFRA-I | C23: =IFERROR(__xludf.dummyfunction("""COMPUTED_VALUE"""),"I0285") -> I0285 | D23: =IFERROR(__xludf.dummyfunction("""COMPUTED_VALUE"""),"BUCHA DE FERRO GALVANIZADO 1 1/2''") -> BUCHA DE FERRO GALVANIZADO 1 1/2'' | E23: =IFERROR(__xludf.dummyfunction("""COMPUTED_VALUE"""),"UN") -> UN | F23: =IFERROR(__xludf.dummyfunction("""COMPUTED_VALUE"""),3) -> 3 | G23: =IFERROR(__xludf.dummyfunction("""COMPUTED_VALUE"""),1.06) -> 1.06 | H23: =IFERROR(__xludf.dummyfunction("""COMPUTED_VALUE"""),3.18) -> 3.18 | I23: =IFERROR(__xludf.dummyfunction("""COMPUTED_VALUE"""),1.06) -> 1.06 | J23: X
A24: =IFERROR(__xludf.dummyfunction("""COMPUTED_VALUE"""),10105) -> 10105 | B24: =IFERROR(__xludf.dummyfunction("""COMPUTED_VALUE"""),"SEINFRA-I") -> SEINFRA-I | C24: =IFERROR(__xludf.dummyfunction("""COMPUTED_VALUE"""),"I0338") -> I0338 | D24: =IFERROR(__xludf.dummyfunction("""COMPUTED_VALUE"""),"CABO COBRE NU 25MM2") -> CABO COBRE NU 25MM2 | E24: =IFERROR(__xludf.dummyfunction("""COMPUTED_VALUE"""),"M") -> M | F24: =IFERROR(__xludf.dummyfunction("""COMPUTED_VALUE"""),2) -> 2 | G24: =IFERROR(__xludf.dummyfunction("""COMPUTED_VALUE"""),18.22) -> 18.22 | H24: =IFERROR(__xludf.dummyfunction("""COMPUTED_VALUE"""),36.44) -> 36.44 | I24: =IFERROR(__xludf.dummyfunction("""COMPUTED_VALUE"""),18.22) -> 18.22 | J24: X
A25: =IFERROR(__xludf.dummyfunction("""COMPUTED_VALUE"""),10106) -> 10106 | B25: =IFERROR(__xludf.dummyfunction("""COMPUTED_VALUE"""),"SEINFRA-I") -> SEINFRA-I | C25: =IFERROR(__xludf.dummyfunction("""COMPUTED_VALUE"""),"I6620") -> I6620 | D25: =IFERROR(__xludf.dummyfunction("""COMPUTED_VALUE"""),"CAIXA DE MEDIÇÃO E PROTEÇÃO, PADRÃO COELCE, FABRICADA EM CHAPA METÁLICA, COM DIM. 340 X 640 X 210mm") -> CAIXA DE MEDIÇÃO E PROTEÇÃO, PADRÃO COELCE, FABRICADA EM CHAPA METÁLICA, COM DIM. 340 X 640 X 210mm | E25: =IFERROR(__xludf.dummyfunction("""COMPUTED_VALUE"""),"UN") -> UN | F25: =IFERROR(__xludf.dummyfunction("""COMPUTED_VALUE"""),1) -> 1 | G25: =IFERROR(__xludf.dummyfunction("""COMPUTED_VALUE"""),76.27) -> 76.27 | H25: =IFERROR(__xludf.dummyfunction("""COMPUTED_VALUE"""),76.27) -> 76.27 | I25: =IFERROR(__xludf.dummyfunction("""COMPUTED_VALUE"""),76.27) -> 76.27 | J25: X
A26: =IFERROR(__xludf.dummyfunction("""COMPUTED_VALUE"""),10107) -> 10107 | B26: =IFERROR(__xludf.dummyfunction("""COMPUTED_VALUE"""),"SEINFRA-I") -> SEINFRA-I | C26: =IFERROR(__xludf.dummyfunction("""COMPUTED_VALUE"""),"I0841") -> I0841 | D26: =IFERROR(__xludf.dummyfunction("""COMPUTED_VALUE"""),"CONECTOR PARA HASTE TERRA") -> CONECTOR PARA HASTE TERRA | E26: =IFERROR(__xludf.dummyfunction("""COMPUTED_VALUE"""),"UN") -> UN | F26: =IFERROR(__xludf.dummyfunction("""COMPUTED_VALUE"""),1) -> 1 | G26: =IFERROR(__xludf.dummyfunction("""COMPUTED_VALUE"""),2.59) -> 2.59 | H26: =IFERROR(__xludf.dummyfunction("""COMPUTED_VALUE"""),2.59) -> 2.59 | I26: =IFERROR(__xludf.dummyfunction("""COMPUTED_VALUE"""),2.59) -> 2.59 | J26: X
A27: =IFERROR(__xludf.dummyfunction("""COMPUTED_VALUE"""),10108) -> 10108 | B27: =IFERROR(__xludf.dummyfunction("""COMPUTED_VALUE"""),"SEINFRA-I") -> SEINFRA-I | C27: =IFERROR(__xludf.dummyfunction("""COMPUTED_VALUE"""),"I1071") -> I1071 | D27: =IFERROR(__xludf.dummyfunction("""COMPUTED_VALUE"""),"ELETRODUTO DE PVC RIGIDO 1/2''") -> ELETRODUTO DE PVC RIGIDO 1/2'' | E27: =IFERROR(__xludf.dummyfunction("""COMPUTED_VALUE"""),"M") -> M | F27: =IFERROR(__xludf.dummyfunction("""COMPUTED_VALUE"""),1.5) -> 1.5 | G27: =IFERROR(__xludf.dummyfunction("""COMPUTED_VALUE"""),2.81) -> 2.81 | H27: =IFERROR(__xludf.dummyfunction("""COMPUTED_VALUE"""),4.22) -> 4.22 | I27: =IFERROR(__xludf.dummyfunction("""COMPUTED_VALUE"""),2.81) -> 2.81 | J27: X
A28: =IFERROR(__xludf.dummyfunction("""COMPUTED_VALUE"""),10109) -> 10109 | B28: =IFERROR(__xludf.dummyfunction("""COMPUTED_VALUE"""),"SEINFRA-I") -> SEINFRA-I | C28: =IFERROR(__xludf.dummyfunction("""COMPUTED_VALUE"""),"I1243") -> I1243 | D28: =IFERROR(__xludf.dummyfunction("""COMPUTED_VALUE"""),"HASTE DE ATERRAMENTO COPPERWELD 3/4'' x 3M") -> HASTE DE ATERRAMENTO COPPERWELD 3/4'' x 3M | E28: =IFERROR(__xludf.dummyfunction("""COMPUTED_VALUE"""),"UN") -> UN | F28: =IFERROR(__xludf.dummyfunction("""COMPUTED_VALUE"""),1) -> 1 | G28: =IFERROR(__xludf.dummyfunction("""COMPUTED_VALUE"""),69.28) -> 69.28 | H28: =IFERROR(__xludf.dummyfunction("""COMPUTED_VALUE"""),69.28) -> 69.28 | I28: =IFERROR(__xludf.dummyfunction("""COMPUTED_VALUE"""),69.28) -> 69.28 | J28: X
A29: =IFERROR(__xludf.dummyfunction("""COMPUTED_VALUE"""),10110) -> 10110 | B29: =IFERROR(__xludf.dummyfunction("""COMPUTED_VALUE"""),"SEINFRA-S") -> SEINFRA-S | C29: =IFERROR(__xludf.dummyfunction("""COMPUTED_VALUE"""),"C4976") -> C4976 | D29: =IFERROR(__xludf.dummyfunction("""COMPUTED_VALUE"""),"POSTE DE CONCRETO DUPLO T, RESISTÊNCIA NOMINAL 150KG, H= 9,00M, PESO APROXIMADO 470KG") -> POSTE DE CONCRETO DUPLO T, RESISTÊNCIA NOMINAL 150KG, H= 9,00M, PESO APROXIMADO 470KG | E29: =IFERROR(__xludf.dummyfunction("""COMPUTED_VALUE"""),"UN") -> UN | F29: =IFERROR(__xludf.dummyfunction("""COMPUTED_VALUE"""),1) -> 1 | G29: =IFERROR(__xludf.dummyfunction("""COMPUTED_VALUE"""),877.33) -> 877.33 | H29: =IFERROR(__xludf.dummyfunction("""COMPUTED_VALUE"""),877.33) -> 877.33 | I29: =IFERROR(__xludf.dummyfunction("""COMPUTED_VALUE"""),877.33) -> 877.33 | J29: X
A30: =IFERROR(__xludf.dummyfunction("""COMPUTED_VALUE"""),10111) -> 10111 | B30: =IFERROR(__xludf.dummyfunction("""COMPUTED_VALUE"""),"SEINFRA-I") -> SEINFRA-I | C30: =IFERROR(__xludf.dummyfunction("""COMPUTED_VALUE"""),"I0366") -> I0366 | D30: =IFERROR(__xludf.dummyfunction("""COMPUTED_VALUE"""),"CABO EM PVC 1000V 10MM2") -> CABO EM PVC 1000V 10MM2 | E30: =IFERROR(__xludf.dummyfunction("""COMPUTED_VALUE"""),"M") -> M | F30: =IFERROR(__xludf.dummyfunction("""COMPUTED_VALUE"""),1) -> 1 | G30: =IFERROR(__xludf.dummyfunction("""COMPUTED_VALUE"""),5.85) -> 5.85 | H30: =IFERROR(__xludf.dummyfunction("""COMPUTED_VALUE"""),5.85) -> 5.85 | I30: =IFERROR(__xludf.dummyfunction("""COMPUTED_VALUE"""),5.85) -> 5.85 | J30: X
A31: =IFERROR(__xludf.dummyfunction("""COMPUTED_VALUE"""),10112) -> 10112 | B31: =IFERROR(__xludf.dummyfunction("""COMPUTED_VALUE""")," ") | D31: =IFERROR(__xludf.dummyfunction("""COMPUTED_VALUE""")," ") | E31: =IFERROR(__xludf.dummyfunction("""COMPUTED_VALUE""")," ") | F31: =IFERROR(__xludf.dummyfunction("""COMPUTED_VALUE"""),0) -> 0 | G31: =IFERROR(__xludf.dummyfunction("""COMPUTED_VALUE"""),0) -> 0 | H31: =IFERROR(__xludf.dummyfunction("""COMPUTED_VALUE"""),0) -> 0 | I31: =IFERROR(__xludf.dummyfunction("""COMPUTED_VALUE"""),0) -> 0 | J31: X
A32: =IFERROR(__xludf.dummyfunction("""COMPUTED_VALUE"""),"OBS: OS COEFIFIENTES DESTA COMPOSIÇÃO FORAM BASEADO NO CÓDIGO: C2090 DA TABELA 27.1 DA SEINFRA COM DESONERAÇÃO.") -> OBS: OS COEFIFIENTES DESTA COMPOSIÇÃO FORAM BASEADO NO CÓDIGO: C2090 DA TABELA 27.1 DA SEINFRA COM DESONERAÇÃO. | I32: =IFERROR(__xludf.dummyfunction("""COMPUTED_VALUE"""),0) -> 0 | J32: X
I33: =IFERROR(__xludf.dummyfunction("""COMPUTED_VALUE"""),0) -> 0 | J33: X
I34: =IFERROR(__xludf.dummyfunction("""COMPUTED_VALUE"""),0) -> 0 | J34: X
A35: =IFERROR(__xludf.dummyfunction("""COMPUTED_VALUE"""),"CPUE-IE003") -> CPUE-IE003 | B35: =IFERROR(__xludf.dummyfunction("""COMPUTED_VALUE"""),"SEINFRA / SINAPI") -> SEINFRA / SINAPI | C35: =IFERROR(__xludf.dummyfunction("""COMPUTED_VALUE"""),"DISPOSITIVO DE PROTEÇÃO CONTRA SURTO(DPS) - 40 kA - 275V") -> DISPOSITIVO DE PROTEÇÃO CONTRA SURTO(DPS) - 40 kA - 275V | E35: =IFERROR(__xludf.dummyfunction("""COMPUTED_VALUE"""),"UN >") -> UN > | F35: =IFERROR(__xludf.dummyfunction("""COMPUTED_VALUE"""),"UN") -> UN | G35: =IFERROR(__xludf.dummyfunction("""COMPUTED_VALUE"""),"VALOR S/ BDI") -> VALOR S/ BDI | H35: =IFERROR(__xludf.dummyfunction("""COMPUTED_VALUE"""),117.83) -> 117.83 | I35: =IFERROR(__xludf.dummyfunction("""COMPUTED_VALUE"""),"#N/A") -> #N/A | J35: X
A36: =IFERROR(__xludf.dummyfunction("""COMPUTED_VALUE"""),10101) -> 10101 | B36: =IFERROR(__xludf.dummyfunction("""COMPUTED_VALUE"""),"SEINFRA-I") -> SEINFRA-I | C36: =IFERROR(__xludf.dummyfunction("""COMPUTED_VALUE"""),"I2312") -> I2312 | D36: =IFERROR(__xludf.dummyfunction("""COMPUTED_VALUE"""),"ELETRICISTA") -> ELETRICISTA | E36: =IFERROR(__xludf.dummyfunction("""COMPUTED_VALUE"""),"H") -> H | F36: =IFERROR(__xludf.dummyfunction("""COMPUTED_VALUE"""),0.3) -> 0.3 | G36: =IFERROR(__xludf.dummyfunction("""COMPUTED_VALUE"""),20.77) -> 20.77 | H36: =IFERROR(__xludf.dummyfunction("""COMPUTED_VALUE"""),6.23) -> 6.23 | I36: =IFERROR(__xludf.dummyfunction("""COMPUTED_VALUE"""),20.77) -> 20.77 | J36: X
A37: =IFERROR(__xludf.dummyfunction("""COMPUTED_VALUE"""),10102) -> 10102 | B37: =IFERROR(__xludf.dummyfunction("""COMPUTED_VALUE"""),"SEINFRA-I") -> SEINFRA-I | C37: =IFERROR(__xludf.dummyfunction("""COMPUTED_VALUE"""),"I0042") -> I0042 | D37: =IFERROR(__xludf.dummyfunction("""COMPUTED_VALUE"""),"AJUDANTE DE ELETRICISTA") -> AJUDANTE DE ELETRICISTA | E37: =IFERROR(__xludf.dummyfunction("""COMPUTED_VALUE"""),"H") -> H | F37: =IFERROR(__xludf.dummyfunction("""COMPUTED_VALUE"""),0.3) -> 0.3 | G37: =IFERROR(__xludf.dummyfunction("""COMPUTED_VALUE"""),16.77) -> 16.77 | H37: =IFERROR(__xludf.dummyfunction("""COMPUTED_VALUE"""),5.03) -> 5.03 | I37: =IFERROR(__xludf.dummyfunction("""COMPUTED_VALUE"""),16.77) -> 16.77 | J37: X
A38: =IFERROR(__xludf.dummyfunction("""COMPUTED_VALUE"""),10103) -> 10103 | B38: =IFERROR(__xludf.dummyfunction("""COMPUTED_VALUE"""),"SINAPI-I") -> SINAPI-I | C38: =IFERROR(__xludf.dummyfunction("""COMPUTED_VALUE"""),39471) -> 39471 | D38: =IFERROR(__xludf.dummyfunction("""COMPUTED_VALUE"""),"DISPOSITIVO DPS CLASSE II, 1 POLO, TENSAO MAXIMA DE 275 V, CORRENTE MAXIMA DE *45* KA (TIPO AC)") -> DISPOSITIVO DPS CLASSE II, 1 POLO, TENSAO MAXIMA DE 275 V, CORRENTE MAXIMA DE *45* KA (TIPO AC) | E38: =IFERROR(__xludf.dummyfunction("""COMPUTED_VALUE"""),"UN") -> UN | F38: =IFERROR(__xludf.dummyfunction("""COMPUTED_VALUE"""),1) -> 1 | G38: =IFERROR(__xludf.dummyfunction("""COMPUTED_VALUE"""),106.57) -> 106.57 | H38: =IFERROR(__xludf.dummyfunction("""COMPUTED_VALUE"""),106.57) -> 106.57 | I38: =IFERROR(__xludf.dummyfunction("""COMPUTED_VALUE"""),106.57) -> 106.57 | J38: X
A39: =IFERROR(__xludf.dummyfunction("""COMPUTED_VALUE"""),10104) -> 10104 | B39: =IFERROR(__xludf.dummyfunction("""COMPUTED_VALUE""")," ") | D39: =IFERROR(__xludf.dummyfunction("""COMPUTED_VALUE""")," ") | E39: =IFERROR(__xludf.dummyfunction("""COMPUTED_VALUE""")," ") | F39: =IFERROR(__xludf.dummyfunction("""COMPUTED_VALUE"""),0) -> 0 | G39: =IFERROR(__xludf.dummyfunction("""COMPUTED_VALUE"""),0) -> 0 | H39: =IFERROR(__xludf.dummyfunction("""COMPUTED_VALUE"""),0) -> 0 | I39: =IFERROR(__xludf.dummyfunction("""COMPUTED_VALUE"""),0) -> 0 | J39: X
A40: =IFERROR(__xludf.dummyfunction("""COMPUTED_VALUE"""),"OBS: ESTA COMPOSIÇÃO FOI BASEADA NOS COEFICENTES DA COMPOSIÇÃO DA SEINFRA - TABELA 27.1 - CÓDIGO: C1099, SENDO SUBSTITUÍDO O CÓDIGO: I0987 PELO INSUMO DA SINAPI - CÓDIGO: 39471, E OS PREÇOS DOS INSUMOS DE MÃO-DE-OBRA FORAM UTILIZADOS DA SEINFRA - TABELA 2"&"7.1 C/DESONERAÇÃO") -> OBS: ESTA COMPOSIÇÃO FOI BASEADA NOS COEFICENTES DA COMPOSIÇÃO DA SEINFRA - TABELA 27.1 - CÓDIGO: C1099, SENDO SUBSTITUÍDO O CÓDIGO: I0987 PELO INSUMO DA SINAPI - CÓDIGO: 39471, E OS PREÇOS DOS INSUMOS DE MÃO-DE-OBRA FORAM UTILIZADOS DA SEINFRA - TABELA 27.1 C/DESONERAÇÃO | I40: =IFERROR(__xludf.dummyfunction("""COMPUTED_VALUE"""),0) -> 0 | J40: X
...

Sheet A
A3: ORÇAMENTO BÁSICO RESUMIDO
A4: OBRA: | D4: =M.UNIT!B3 -> 0
A5: LOCAL: | D5: =M.UNIT!H4 -> 0
A6: =M.UNIT!A5 -> FONTES DE PREÇOS UTILIZADAS: 1. SICRO/CE 04/2023 SEM DESONERAÇÃO 2. SINAPI/CE 09/2023 SEM DESONERAÇÃO | E6: BDI: | F6: BDI DIFER.: | G6: DATA BASE
E7: =M.UNIT!J5 -> 0.21796407 | F7: =M.UNIT!J6 -> 0.15 | G7: =M.UNIT!K6 -> 10/2023
B8: ORÇA. | D8: DESCRIÇÃO | F8: TOTAL | G8: % | H8: FILTRO
B9: 1. | D9: =M.UNIT!B4 -> 0 | F9: =M.UNIT!J41 -> 1535400.1 | G9: =IFERROR(F9/$F$49,) -> 1 | H9: =IF(D9<>0,"X"," ")
B10: 2. | G10: =IFERROR(F10/$F$49,) -> 0 | H10: =IF(D10<>0,"X"," ")
B11: 3. | G11: =IFERROR(F11/$F$49,) -> 0 | H11: =IF(D11<>0,"X"," ")
B12: 4. | G12: =IFERROR(F12/$F$49,) -> 0 | H12: =IF(D12<>0,"X"," ")
B13: 5. | G13: =IFERROR(F13/$F$49,) -> 0 | H13: =IF(D13<>0,"X"," ")
B14: 6. | G14: =IFERROR(F14/$F$49,) -> 0 | H14: =IF(D14<>0,"X"," ")
B15: 7. | G15: =IFERROR(F15/$F$49,) -> 0 | H15: =IF(D15<>0,"X"," ")
B16: 8. | G16: =IFERROR(F16/$F$49,) -> 0 | H16: =IF(D16<>0,"X"," ")
B17: 9. | G17: =IFERROR(F17/$F$49,) -> 0 | H17: =IF(D17<>0,"X"," ")
B18: 10. | G18: =IFERROR(F18/$F$49,) -> 0 | H18: =IF(D18<>0,"X"," ")
B19: 11. | G19: =IFERROR(F19/$F$49,) -> 0 | H19: =IF(D19<>0,"X"," ")
B20: 12. | G20: =IFERROR(F20/$F$49,) -> 0 | H20: =IF(D20<>0,"X"," ")
B21: 13. | G21: =IFERROR(F21/$F$49,) -> 0 | H21: =IF(D21<>0,"X"," ")
... B48: 40. | G48: =IFERROR(F48/$F$49,) -> 0 | H48: =IF(D48<>0,"X"," ")
E49: TOTAL GERAL | F49: =SUM(F9:F48) -> 1535400.1 | G49: 1
A50: =IFERROR(__xludf.dummyfunction("CONCATENATE(""VALOR DO ORÇAMENTO: "",UPPER(RegExReplace(IF(OR(ISBLANK($F49),NOT(ISNUMBER($F49)),$F49>=POWER(10,15)),IFERROR(1/0),TRIM(arrayFormula(CONCATENATE(IF(TRUNC(mod($J49,POWER(10,{15,12,9,6,3}))/POWER(10,{12,9,6,3,0}))<100,"""",CHOOSE(int(TRUNC(mod"&"($F49,POWER(10,{15,12,9,6,3}))/POWER(10,{12,9,6,3,0}))/100),""Cento "",""Duzentos "",""Trezentos "",""Quatrocentos "",""Quinhentos "",""Seiscentos "",""Setecentos "",""Oitocentos "",""Novecentos "") & "" "") & IF(mod(TRUNC(mod($F49,POWER(10,{15,12,9,6,3})"&")/POWER(10,{12,9,6,3,0})),100)<>0,IF(TRUNC(mod($F49,POWER(10,{15,12,9,6,3}))/POWER(10,{12,9,6,3,0}))>100,""e "",IF($F49>POWER(10,{15,12,9,6,3}),CHOOSE({1,2,3,4,5},"""","""","""","""",""e ""),"""")),"""") & IF(mod(TRUNC(mod($F49,POWER(10,{15,12,9,6,3}))/PO"&"WER(10,{12,9,6,3,0})),100)=0,"""",IF(mod(TRUNC(mod($F49,POWER(10,{15,12,9,6,3}))/POWER(10,{12,9,6,3,0})),100)<20,CHOOSE(mod(TRUNC(mod($F49,POWER(10,{15,12,9,6,3}))/POWER(10,{12,9,6,3,0})),100),"" Um "",""Dois "",""Três "",""Quatro "",""Cinco "",""Seis "","&"""Sete "",""Oito "",""Nove "",""Dez "",""Onze "",""Doze "",""Treze "",""Quatorze "",""Quinze "",""Dezesseis "",""Dezessete "",""Dezoito "",""Dezenove ""),CHOOSE(int(mod(TRUNC(mod($F49,POWER(10,{15,12,9,6,3}))/POWER(10,{12,9,6,3,0})),100)/10),"""",""Vinte "&""",""Trinta "",""Quarenta "",""Cinquenta "",""Sessenta "",""Setenta "",""Oitenta "",""Noventa "","" CEM "") & IF(mod(mod(TRUNC(mod($F49,POWER(10,{15,12,9,6,3}))/POWER(10,{12,9,6,3,0})),100),10)=0,"""","" "" & CHOOSE(mod(mod(TRUNC(mod($F49,POWER(10,{15,12,"&"9,6,3}))/POWER(10,{12,9,6,3,0})),100),10),""e Um "",""e Dois "",""e Três "",""e Quatro "",""e Cinco "",""e Seis "",""e Sete "",""e Oito "",""e Nove "")))) & IF(TRUNC(mod($F49,POWER(10,{15,12,9,6,3}))/POWER(10,{12,9,6,3,0}))=0,"""",CHOOSE({1,2,3,4,5},""Tri"&"lhão, "",""Bilhão, "",""Milhão, "",""Mil, "","""")))) & IF($F49>=2,"" Reais "",IF($F49>=1,""Real "","""")) & IF((ROUND($F49-TRUNC($F49),2)*100=0)+($F49<1),"""",""e "") & IF(ROUND($F49-TRUNC($F49),2)*100=0,"""",IF(ROUND($F49-TRUNC($F49),2)*100=1,""Um Centa"&"vo "",IF(ROUND($F49-TRUNC($F49),2)*100<20,CHOOSE(ROUND($F49-TRUNC($F49),2)*100,""Um "",""Dois "",""Três "",""Quatro "",""Cinco "",""Seis "",""Sete "",""Oito "",""Nove "",""Dez "",""Onze "",""Doze "",""Treze "",""Quatorze "",""Quinze "",""Dezesseis "",""De"&"zessete "",""Dezoito "",""Dezenove ""),CHOOSE(int(ROUND($F49-TRUNC($F49),2)*100/10),"""",""Vinte "",""Trinta "",""Quarenta "",""Cinquenta "",""Sessenta "",""Setenta "",""Oitenta "",""Noventa "") & IF(mod(ROUND($F49-TRUNC($F49),2)*100,10)=0,"""","" e "" & "&"CHOOSE(mod(ROUND($J49-TRUNC($F49),2)*100,10),""Um "",""Dois "",""Três "",""Quatro "",""Cinco "",""Seis "",""Sete "",""Oito "",""Nove "")))& ""Centavos "")))), ""Cento Reais"", ""Cem Reais"")))"),"#REF!") -> #REF!

Sheet CRE
G3: CRONOGRAMA FÍSICO FINANCEIRO RESUMIDO
A4: OBRA: | B4: =M.UNIT!B3 -> 0
A5: LOCAL: | B5: =M.UNIT!B4 -> 0
A6: ITEM | B6: DESCRIÇÃO | C6: VALOR COM BDI | D6: % | E6: 30 | F6: =E6+30 -> 60 | G6: =F6+30 -> 90 | H6: =G6+30 -> 120 | I6: =H6+30 -> 150 | J6: =I6+30 -> 180 | K6: =J6+30 -> 210 | L6: =K6+30 -> 240 | M6: =L6+30 -> 270 | ... P6: =O6+30 -> 360 | Q6: CONF | R6: FILTRO
A8: 1. | B8: =IFERROR(IF(A8=0,0,INDEX(A!A:H,MATCH(CRE!A8,A!B:B,0),4)),0) -> 0 | C8: {=IFERROR(IF(A8=0,0,INDEX(A!A:H,MATCH(CRE!A8,A!B:B,0),6)),0)} -> 1535400.1 | D8: =IFERROR(C8/$C$88,) -> 1 | E8: =IF(E9=0,0,SUBTOTAL(6,$C8,E9)) -> 0 | F8: =IF(F9=0,0,$C8*F9) -> 0 | G8: =IF(G9=0,0,$C8*G9) -> 0 | H8: =IF(H9=0,0,$C8*H9) -> 0 | I8: =IF(I9=0,0,$C8*I9) -> 0 | J8: =IF(J9=0,0,$C8*J9) -> 0 | K8: =IF(K9=0,0,$C8*K9) -> 0 | L8: =IF(L9=0,0,$C8*L9) -> 0 | M8: =IF(M9=0,0,$C8*M9) -> 0 | ... P8: =IF(P9=0,0,$C8*P9) -> 0 | Q8: =SUM(E8:P8) -> 0 | R8: =IF(B8>0,"X",0) -> 0 | S8: =IF(Q8=C8,"OK","VERIFICAR") -> VERIFICAR
E9: 0 | F9: 0 | G9: 0 | H9: 0 | I9: 0 | J9: 0 | K9: 0 | L9: 0 | M9: 0 | N9: 0 | O9: 0 | P9: 0 | Q9: =SUM(E9:P9) -> 0 | R9: =+R8 -> 0
A10: 2. | B10: =IFERROR(IF(A10=0,0,INDEX(A!A:H,MATCH(CRE!A10,A!B:B,0),4)),0) -> 0 | C10: {=IFERROR(IF(A10=0,0,INDEX(A!A:H,MATCH(CRE!A10,A!B:B,0),8)),0)} | D10: =IFERROR(C10/$C$88,) -> 0 | E10: =IF(E11=0,0,$C10*E11) -> 0 | F10: =IF(F11=0,0,$C10*F11) -> 0 | G10: =IF(G11=0,0,$C10*G11) -> 0 | H10: =IF(H11=0,0,$C10*H11) -> 0 | I10: =IF(I11=0,0,$C10*I11) -> 0 | J10: =IF(J11=0,0,$C10*J11) -> 0 | K10: =IF(K11=0,0,$C10*K11) -> 0 | L10: =IF(L11=0,0,$C10*L11) -> 0 | ... P10: =IF(P11=0,0,$C10*P11) -> 0 | Q10: =SUM(E10:P10) -> 0 | R10: =IF(B10>0,"X",0) -> 0 | S10: =IF(Q10=C10,"OK","VERIFICAR") -> VERIFICAR
E11: 0 | F11: 0 | G11: 0 | H11: 0 | I11: 0 | J11: 0 | K11: 0 | L11: 0 | M11: 0 | N11: 0 | O11: 0 | P11: 0 | Q11: =SUM(E11:P11) -> 0 | R11: =+R10 -> 0
A12: 3. | B12: =IFERROR(IF(A12=0,0,INDEX(A!A:H,MATCH(CRE!A12,A!B:B,0),4)),0) -> 0 | C12: {=IFERROR(IF(A12=0,0,INDEX(A!A:H,MATCH(CRE!A12,A!B:B,0),8)),0)} | D12: =IFERROR(C12/$C$88,) -> 0 | E12: =IF(E13=0,0,$C12*E13) -> 0 | F12: =IF(F13=0,0,$C12*F13) -> 0 | G12: =IF(G13=0,0,$C12*G13) -> 0 | H12: =IF(H13=0,0,$C12*H13) -> 0 | I12: =IF(I13=0,0,$C12*I13) -> 0 | J12: =IF(J13=0,0,$C12*J13) -> 0 | K12: =IF(K13=0,0,$C12*K13) -> 0 | L12: =IF(L13=0,0,$C12*L13) -> 0 | ... P12: =IF(P13=0,0,$C12*P13) -> 0 | Q12: =SUM(E12:P12) -> 0 | R12: =IF(B12>0,"X",0) -> 0 | S12: =IF(Q12=C12,"OK","VERIFICAR") -> VERIFICAR
E13: 0 | F13: 0 | G13: 0 | H13: 0 | I13: 0 | J13: 0 | K13: 0 | L13: 0 | M13: 0 | N13: 0 | O13: 0 | P13: 0 | Q13: =SUM(E13:P13) -> 0 | R13: =+R12 -> 0
A14: 4. | B14: =IFERROR(IF(A14=0,0,INDEX(A!A:H,MATCH(CRE!A14,A!B:B,0),4)),0) -> 0 | C14: {=IFERROR(IF(A14=0,0,INDEX(A!A:H,MATCH(CRE!A14,A!B:B,0),8)),0)} | D14: =IFERROR(C14/$C$88,) -> 0 | E14: =IF(E15=0,0,$C14*E15) -> 0 | F14: =IF(F15=0,0,$C14*F15) -> 0 | G14: =IF(G15=0,0,$C14*G15) -> 0 | H14: =IF(H15=0,0,$C14*H15) -> 0 | I14: =IF(I15=0,0,$C14*I15) -> 0 | J14: =IF(J15=0,0,$C14*J15) -> 0 | K14: =IF(K15=0,0,$C14*K15) -> 0 | L14: =IF(L15=0,0,$C14*L15) -> 0 | ... P14: =IF(P15=0,0,$C14*P15) -> 0 | Q14: =SUM(E14:P14) -> 0 | R14: =IF(B14>0,"X",0) -> 0 | S14: =IF(Q14=C14,"OK","VERIFICAR") -> VERIFICAR
E15: 0 | F15: 0 | G15: 0 | H15: 0 | I15: 0 | J15: 0 | K15: 0 | L15: 0 | M15: 0 | N15: 0 | O15: 0 | P15: 0 | Q15: =SUM(E15:P15) -> 0 | R15: =+R14 -> 0
A16: 5. | B16: =IFERROR(IF(A16=0,0,INDEX(A!A:H,MATCH(CRE!A16,A!B:B,0),4)),0) -> 0 | C16: {=IFERROR(IF(A16=0,0,INDEX(A!A:H,MATCH(CRE!A16,A!B:B,0),8)),0)} | D16: =IFERROR(C16/$C$88,) -> 0 | E16: =IF(E17=0,0,$C16*E17) -> 0 | F16: =IF(F17=0,0,$C16*F17) -> 0 | G16: =IF(G17=0,0,$C16*G17) -> 0 | H16: =IF(H17=0,0,$C16*H17) -> 0 | I16: =IF(I17=0,0,$C16*I17) -> 0 | J16: =IF(J17=0,0,$C16*J17) -> 0 | K16: =IF(K17=0,0,$C16*K17) -> 0 | L16: =IF(L17=0,0,$C16*L17) -> 0 | ... P16: =IF(P17=0,0,$C16*P17) -> 0 | Q16: =SUM(E16:P16) -> 0 | R16: =IF(B16>0,"X",0) -> 0 | S16: =IF(Q16=C16,"OK","VERIFICAR") -> VERIFICAR
E17: 0 | F17: 0 | G17: 0 | H17: 0 | I17: 0 | J17: 0 | K17: 0 | L17: 0 | M17: 0 | N17: 0 | O17: 0 | P17: 0 | Q17: =SUM(E17:P17) -> 0 | R17: =+R16 -> 0
A18: 6. | B18: =IFERROR(IF(A18=0,0,INDEX(A!A:H,MATCH(CRE!A18,A!B:B,0),4)),0) -> 0 | C18: {=IFERROR(IF(A18=0,0,INDEX(A!A:H,MATCH(CRE!A18,A!B:B,0),8)),0)} | D18: =IFERROR(C18/$C$88,) -> 0 | E18: =IF(E19=0,0,$C18*E19) -> 0 | F18: =IF(F19=0,0,$C18*F19) -> 0 | G18: =IF(G19=0,0,$C18*G19) -> 0 | H18: =IF(H19=0,0,$C18*H19) -> 0 | I18: =IF(I19=0,0,$C18*I19) -> 0 | J18: =IF(J19=0,0,$C18*J19) -> 0 | K18: =IF(K19=0,0,$C18*K19) -> 0 | L18: =IF(L19=0,0,$C18*L19) -> 0 | ... P18: =IF(P19=0,0,$C18*P19) -> 0 | Q18: =SUM(E18:P18) -> 0 | R18: =IF(B18>0,"X",0) -> 0 | S18: =IF(Q18=C18,"OK","VERIFICAR") -> VERIFICAR
E19: 0 | F19: 0 | G19: 0 | H19: 0 | I19: 0 | J19: 0 | K19: 0 | L19: 0 | M19: 0 | N19: 0 | O19: 0 | P19: 0 | Q19: =SUM(E19:P19) -> 0 | R19: =+R18 -> 0
A20: 7. | B20: =IFERROR(IF(A20=0,0,INDEX(A!A:H,MATCH(CRE!A20,A!B:B,0),4)),0) -> 0 | C20: {=IFERROR(IF(A20=0,0,INDEX(A!A:H,MATCH(CRE!A20,A!B:B,0),8)),0)} | D20: =IFERROR(C20/$C$88,) -> 0 | E20: =IF(E21=0,0,$C20*E21) -> 0 | F20: =IF(F21=0,0,$C20*F21) -> 0 | G20: =IF(G21=0,0,$C20*G21) -> 0 | H20: =IF(H21=0,0,$C20*H21) -> 0 | I20: =IF(I21=0,0,$C20*I21) -> 0 | J20: =IF(J21=0,0,$C20*J21) -> 0 | K20: =IF(K21=0,0,$C20*K21) -> 0 | L20: =IF(L21=0,0,$C20*L21) -> 0 | ... P20: =IF(P21=0,0,$C20*P21) -> 0 | Q20: =SUM(E20:P20) -> 0 | R20: =IF(B20>0,"X",0) -> 0 | S20: =IF(Q20=C20,"OK","VERIFICAR") -> VERIFICAR
E21: 0 | F21: 0 | G21: 0 | H21: 0 | I21: 0 | J21: 0 | K21: 0 | L21: 0 | M21: 0 | N21: 0 | O21: 0 | P21: 0 | Q21: =SUM(E21:P21) -> 0 | R21: =+R20 -> 0
A22: 8. | B22: =IFERROR(IF(A22=0,0,INDEX(A!A:H,MATCH(CRE!A22,A!B:B,0),4)),0) -> 0 | C22: {=IFERROR(IF(A22=0,0,INDEX(A!A:H,MATCH(CRE!A22,A!B:B,0),8)),0)} | D22: =IFERROR(C22/$C$88,) -> 0 | E22: =IF(E23=0,0,$C22*E23) -> 0 | F22: =IF(F23=0,0,$C22*F23) -> 0 | G22: =IF(G23=0,0,$C22*G23) -> 0 | H22: =IF(H23=0,0,$C22*H23) -> 0 | I22: =IF(I23=0,0,$C22*I23) -> 0 | J22: =IF(J23=0,0,$C22*J23) -> 0 | K22: =IF(K23=0,0,$C22*K23) -> 0 | L22: =IF(L23=0,0,$C22*L23) -> 0 | ... P22: =IF(P23=0,0,$C22*P23) -> 0 | Q22: =SUM(E22:P22) -> 0 | R22: =IF(B22>0,"X",0) -> 0 | S22: =IF(Q22=C22,"OK","VERIFICAR") -> VERIFICAR
E23: 0 | F23: 0 | G23: 0 | H23: 0 | I23: 0 | J23: 0 | K23: 0 | L23: 0 | M23: 0 | N23: 0 | O23: 0 | P23: 0 | Q23: =SUM(E23:P23) -> 0 | R23: =+R22 -> 0
A24: 9. | B24: =IFERROR(IF(A24=0,0,INDEX(A!A:H,MATCH(CRE!A24,A!B:B,0),4)),0) -> 0 | C24: {=IFERROR(IF(A24=0,0,INDEX(A!A:H,MATCH(CRE!A24,A!B:B,0),8)),0)} | D24: =IFERROR(C24/$C$88,) -> 0 | E24: =IF(E25=0,0,$C24*E25) -> 0 | F24: =IF(F25=0,0,$C24*F25) -> 0 | G24: =IF(G25=0,0,$C24*G25) -> 0 | H24: =IF(H25=0,0,$C24*H25) -> 0 | I24: =IF(I25=0,0,$C24*I25) -> 0 | J24: =IF(J25=0,0,$C24*J25) -> 0 | K24: =IF(K25=0,0,$C24*K25) -> 0 | L24: =IF(L25=0,0,$C24*L25) -> 0 | ... P24: =IF(P25=0,0,$C24*P25) -> 0 | Q24: =SUM(E24:P24) -> 0 | R24: =IF(B24>0,"X",0) -> 0 | S24: =IF(Q24=C24,"OK","VERIFICAR") -> VERIFICAR
E25: 0 | F25: 0 | G25: 0 | H25: 0 | I25: 0 | J25: 0 | K25: 0 | L25: 0 | M25: 0 | N25: 0 | O25: 0 | P25: 0 | Q25: =SUM(E25:P25) -> 0 | R25: =+R24 -> 0
A26: 10. | B26: =IFERROR(IF(A26=0,0,INDEX(A!A:H,MATCH(CRE!A26,A!B:B,0),4)),0) -> 0 | C26: {=IFERROR(IF(A26=0,0,INDEX(A!A:H,MATCH(CRE!A26,A!B:B,0),8)),0)} | D26: =IFERROR(C26/$C$88,) -> 0 | E26: =IF(E27=0,0,$C26*E27) -> 0 | F26: =IF(F27=0,0,$C26*F27) -> 0 | G26: =IF(G27=0,0,$C26*G27) -> 0 | H26: =IF(H27=0,0,$C26*H27) -> 0 | I26: =IF(I27=0,0,$C26*I27) -> 0 | J26: =IF(J27=0,0,$C26*J27) -> 0 | K26: =IF(K27=0,0,$C26*K27) -> 0 | L26: =IF(L27=0,0,$C26*L27) -> 0 | ... P26: =IF(P27=0,0,$C26*P27) -> 0 | Q26: =SUM(E26:P26) -> 0 | R26: =IF(B26>0,"X",0) -> 0 | S26: =IF(Q26=C26,"OK","VERIFICAR") -> VERIFICAR
E27: 0 | F27: 0 | G27: 0 | H27: 0 | I27: 0 | J27: 0 | K27: 0 | L27: 0 | M27: 0 | N27: 0 | O27: 0 | P27: 0 | Q27: =SUM(E27:P27) -> 0 | R27: =+R26 -> 0
A28: 11. | B28: =IFERROR(IF(A28=0,0,INDEX(A!A:H,MATCH(CRE!A28,A!B:B,0),4)),0) -> 0 | C28: {=IFERROR(IF(A28=0,0,INDEX(A!A:H,MATCH(CRE!A28,A!B:B,0),8)),0)} | D28: =IFERROR(C28/$C$88,) -> 0 | E28: =IF(E29=0,0,$C28*E29) -> 0 | F28: =IF(F29=0,0,$C28*F29) -> 0 | G28: =IF(G29=0,0,$C28*G29) -> 0 | H28: =IF(H29=0,0,$C28*H29) -> 0 | I28: =IF(I29=0,0,$C28*I29) -> 0 | J28: =IF(J29=0,0,$C28*J29) -> 0 | K28: =IF(K29=0,0,$C28*K29) -> 0 | L28: =IF(L29=0,0,$C28*L29) -> 0 | ... P28: =IF(P29=0,0,$C28*P29) -> 0 | Q28: =SUM(E28:P28) -> 0 | R28: =IF(B28>0,"X",0) -> 0 | S28: =IF(Q28=C28,"OK","VERIFICAR") -> VERIFICAR
E29: 0 | F29: 0 | G29: 0 | H29: 0 | I29: 0 | J29: 0 | K29: 0 | L29: 0 | M29: 0 | N29: 0 | O29: 0 | P29: 0 | Q29: =SUM(E29:P29) -> 0 | R29: =+R28 -> 0
A30: 12. | B30: =IFERROR(IF(A30=0,0,INDEX(A!A:H,MATCH(CRE!A30,A!B:B,0),4)),0) -> 0 | C30: {=IFERROR(IF(A30=0,0,INDEX(A!A:H,MATCH(CRE!A30,A!B:B,0),8)),0)} | D30: =IFERROR(C30/$C$88,) -> 0 | E30: =IF(E31=0,0,$C30*E31) -> 0 | F30: =IF(F31=0,0,$C30*F31) -> 0 | G30: =IF(G31=0,0,$C30*G31) -> 0 | H30: =IF(H31=0,0,$C30*H31) -> 0 | I30: =IF(I31=0,0,$C30*I31) -> 0 | J30: =IF(J31=0,0,$C30*J31) -> 0 | K30: =IF(K31=0,0,$C30*K31) -> 0 | L30: =IF(L31=0,0,$C30*L31) -> 0 | ... P30: =IF(P31=0,0,$C30*P31) -> 0 | Q30: =SUM(E30:P30) -> 0 | R30: =IF(B30>0,"X",0) -> 0 | S30: =IF(Q30=C30,"OK","VERIFICAR") -> VERIFICAR
E31: 0 | F31: 0 | G31: 0 | H31: 0 | I31: 0 | J31: 0 | K31: 0 | L31: 0 | M31: 0 | N31: 0 | O31: 0 | P31: 0 | Q31: =SUM(E31:P31) -> 0 | R31: =+R30 -> 0
A32: 13. | B32: =IFERROR(IF(A32=0,0,INDEX(A!A:H,MATCH(CRE!A32,A!B:B,0),4)),0) -> 0 | C32: {=IFERROR(IF(A32=0,0,INDEX(A!A:H,MATCH(CRE!A32,A!B:B,0),8)),0)} | D32: =IFERROR(C32/$C$88,) -> 0 | E32: =IF(E33=0,0,$C32*E33) -> 0 | F32: =IF(F33=0,0,$C32*F33) -> 0 | G32: =IF(G33=0,0,$C32*G33) -> 0 | H32: =IF(H33=0,0,$C32*H33) -> 0 | I32: =IF(I33=0,0,$C32*I33) -> 0 | J32: =IF(J33=0,0,$C32*J33) -> 0 | K32: =IF(K33=0,0,$C32*K33) -> 0 | L32: =IF(L33=0,0,$C32*L33) -> 0 | ... P32: =IF(P33=0,0,$C32*P33) -> 0 | Q32: =SUM(E32:P32) -> 0 | R32: =IF(B32>0,"X",0) -> 0 | S32: =IF(Q32=C32,"OK","VERIFICAR") -> VERIFICAR
E33: 0 | F33: 0 | G33: 0 | H33: 0 | I33: 0 | J33: 0 | K33: 0 | L33: 0 | M33: 0 | N33: 0 | O33: 0 | P33: 0 | Q33: =SUM(E33:P33) -> 0 | R33: =+R32 -> 0
A34: 14. | B34: =IFERROR(IF(A34=0,0,INDEX(A!A:H,MATCH(CRE!A34,A!B:B,0),4)),0) -> 0 | C34: {=IFERROR(IF(A34=0,0,INDEX(A!A:H,MATCH(CRE!A34,A!B:B,0),8)),0)} | D34: =IFERROR(C34/$C$88,) -> 0 | E34: =IF(E35=0,0,$C34*E35) -> 0 | F34: =IF(F35=0,0,$C34*F35) -> 0 | G34: =IF(G35=0,0,$C34*G35) -> 0 | H34: =IF(H35=0,0,$C34*H35) -> 0 | I34: =IF(I35=0,0,$C34*I35) -> 0 | J34: =IF(J35=0,0,$C34*J35) -> 0 | K34: =IF(K35=0,0,$C34*K35) -> 0 | L34: =IF(L35=0,0,$C34*L35) -> 0 | ... P34: =IF(P35=0,0,$C34*P35) -> 0 | Q34: =SUM(E34:P34) -> 0 | R34: =IF(B34>0,"X",0) -> 0 | S34: =IF(Q34=C34,"OK","VERIFICAR") -> VERIFICAR
E35: 0 | F35: 0 | G35: 0 | H35: 0 | I35: 0 | J35: 0 | K35: 0 | L35: 0 | M35: 0 | N35: 0 | O35: 0 | P35: 0 | Q35: =SUM(E35:P35) -> 0 | R35: =+R34 -> 0
A36: 15. | B36: =IFERROR(IF(A36=0,0,INDEX(A!A:H,MATCH(CRE!A36,A!B:B,0),4)),0) -> 0 | C36: {=IFERROR(IF(A36=0,0,INDEX(A!A:H,MATCH(CRE!A36,A!B:B,0),8)),0)} | D36: =IFERROR(C36/$C$88,) -> 0 | E36: =IF(E37=0,0,$C36*E37) -> 0 | F36: =IF(F37=0,0,$C36*F37) -> 0 | G36: =IF(G37=0,0,$C36*G37) -> 0 | H36: =IF(H37=0,0,$C36*H37) -> 0 | I36: =IF(I37=0,0,$C36*I37) -> 0 | J36: =IF(J37=0,0,$C36*J37) -> 0 | K36: =IF(K37=0,0,$C36*K37) -> 0 | L36: =IF(L37=0,0,$C36*L37) -> 0 | ... P36: =IF(P37=0,0,$C36*P37) -> 0 | Q36: =SUM(E36:P36) -> 0 | R36: =IF(B36>0,"X",0) -> 0 | S36: =IF(Q36=C36,"OK","VERIFICAR") -> VERIFICAR
E37: 0 | F37: 0 | G37: 0 | H37: 0 | I37: 0 | J37: 0 | K37: 0 | L37: 0 | M37: 0 | N37: 0 | O37: 0 | P37: 0 | Q37: =SUM(E37:P37) -> 0 | R37: =+R36 -> 0
A38: 16. | B38: =IFERROR(IF(A38=0,0,INDEX(A!A:H,MATCH(CRE!A38,A!B:B,0),4)),0) -> 0 | C38: {=IFERROR(IF(A38=0,0,INDEX(A!A:H,MATCH(CRE!A38,A!B:B,0),8)),0)} | D38: =IFERROR(C38/$C$88,) -> 0 | E38: =IF(E39=0,0,$C38*E39) -> 0 | F38: =IF(F39=0,0,$C38*F39) -> 0 | G38: =IF(G39=0,0,$C38*G39) -> 0 | H38: =IF(H39=0,0,$C38*H39) -> 0 | I38: =IF(I39=0,0,$C38*I39) -> 0 | J38: =IF(J39=0,0,$C38*J39) -> 0 | K38: =IF(K39=0,0,$C38*K39) -> 0 | L38: =IF(L39=0,0,$C38*L39) -> 0 | ... P38: =IF(P39=0,0,$C38*P39) -> 0 | Q38: =SUM(E38:P38) -> 0 | R38: =IF(B38>0,"X",0) -> 0 | S38: =IF(Q38=C38,"OK","VERIFICAR") -> VERIFICAR
E39: 0 | F39: 0 | G39: 0 | H39: 0 | I39: 0 | J39: 0 | K39: 0 | L39: 0 | M39: 0 | N39: 0 | O39: 0 | P39: 0 | Q39: =SUM(E39:P39) -> 0 | R39: =+R38 -> 0
A40: 17. | B40: =IFERROR(IF(A40=0,0,INDEX(A!A:H,MATCH(CRE!A40,A!B:B,0),4)),0) -> 0 | C40: {=IFERROR(IF(A40=0,0,INDEX(A!A:H,MATCH(CRE!A40,A!B:B,0),8)),0)} | D40: =IFERROR(C40/$C$88,) -> 0 | E40: =IF(E41=0,0,$C40*E41) -> 0 | F40: =IF(F41=0,0,$C40*F41) -> 0 | G40: =IF(G41=0,0,$C40*G41) -> 0 | H40: =IF(H41=0,0,$C40*H41) -> 0 | I40: =IF(I41=0,0,$C40*I41) -> 0 | J40: =IF(J41=0,0,$C40*J41) -> 0 | K40: =IF(K41=0,0,$C40*K41) -> 0 | L40: =IF(L41=0,0,$C40*L41) -> 0 | ... P40: =IF(P41=0,0,$C40*P41) -> 0 | Q40: =SUM(E40:P40) -> 0 | R40: =IF(B40>0,"X",0) -> 0 | S40: =IF(Q40=C40,"OK","VERIFICAR") -> VERIFICAR
E41: 0 | F41: 0 | G41: 0 | H41: 0 | I41: 0 | J41: 0 | K41: 0 | L41: 0 | M41: 0 | N41: 0 | O41: 0 | P41: 0 | Q41: =SUM(E41:P41) -> 0 | R41: =+R40 -> 0
A42: 18. | B42: =IFERROR(IF(A42=0,0,INDEX(A!A:H,MATCH(CRE!A42,A!B:B,0),4)),0) -> 0 | C42: {=IFERROR(IF(A42=0,0,INDEX(A!A:H,MATCH(CRE!A42,A!B:B,0),8)),0)} | D42: =IFERROR(C42/$C$88,) -> 0 | E42: =IF(E43=0,0,$C42*E43) -> 0 | F42: =IF(F43=0,0,$C42*F43) -> 0 | G42: =IF(G43=0,0,$C42*G43) -> 0 | H42: =IF(H43=0,0,$C42*H43) -> 0 | I42: =IF(I43=0,0,$C42*I43) -> 0 | J42: =IF(J43=0,0,$C42*J43) -> 0 | K42: =IF(K43=0,0,$C42*K43) -> 0 | L42: =IF(L43=0,0,$C42*L43) -> 0 | ... P42: =IF(P43=0,0,$C42*P43) -> 0 | Q42: =SUM(E42:P42) -> 0 | R42: =IF(B42>0,"X",0) -> 0 | S42: =IF(Q42=C42,"OK","VERIFICAR") -> VERIFICAR
E43: 0 | F43: 0 | G43: 0 | H43: 0 | I43: 0 | J43: 0 | K43: 0 | L43: 0 | M43: 0 | N43: 0 | O43: 0 | P43: 0 | Q43: =SUM(E43:P43) -> 0 | R43: =+R42 -> 0
...

Sheet CR
G3: CRONOGRAMA FÍSICO FINANCEIRO
A4: OBRA: | B4: =M.UNIT!B3 -> 0
A5: ='MC UNIT'!#REF! -> #REF! | B5: ='MC UNIT'!#REF! -> #REF! | M5: LOCAL: | N5: =M.UNIT!H4 -> 0
A6: ITEM | B6: DESCRIÇÃO | C6: VALOR | D6: % | E6: 30 | F6: =E6+30 -> 60 | G6: =F6+30 -> 90 | H6: =G6+30 -> 120 | I6: =H6+30 -> 150 | J6: =I6+30 -> 180 | K6: =J6+30 -> 210 | L6: =K6+30 -> 240 | M6: =L6+30 -> 270 | ... P6: =O6+30 -> 360 | Q6: CONF | R6: FILTRO
A7: 1. | B7: {=IFERROR(IF(A7=0,0,INDEX(M.UNIT!A:J,MATCH(CR!A7,M.UNIT!A:A,0),4)),0)} -> 0 | C7: {=IFERROR(IF(A7=0,0,INDEX(M.UNIT!A:J,MATCH(CR!A7,M.UNIT!A:A,0),10)),0)} -> 0 | D7: =C7/$C$57 -> #DIV/0! | E7: =IF(E8=0,0,SUBTOTAL(6,$C7,E8)) -> 0 | F7: =IF(F8=0,0,SUBTOTAL(6,$C7,F8)) -> 0 | G7: =IF(G8=0,0,SUBTOTAL(6,$C7,G8)) -> 0 | H7: =IF(H8=0,0,SUBTOTAL(6,$C7,H8)) -> 0 | I7: =IF(I8=0,0,SUBTOTAL(6,$C7,I8)) -> 0 | J7: =IF(J8=0,0,SUBTOTAL(6,$C7,J8)) -> 0 | K7: =IF(K8=0,0,SUBTOTAL(6,$C7,K8)) -> 0 | L7: =IF(L8=0,0,SUBTOTAL(6,$C7,L8)) -> 0 | ... P7: =IF(P8=0,0,SUBTOTAL(6,$C7,P8)) -> 0 | Q7: =SUM(E7:P7) -> 0 | R7: =IF(B7>0,"X",0) -> 0 | S7: =IF(Q7=C7,"OK","VERIFICAR") -> OK
E8: 0 | F8: 0 | G8: 0 | H8: 0 | I8: 0 | J8: 0 | K8: 0 | L8: 0 | M8: 0 | N8: 0 | O8: 0 | P8: 0 | Q8: =SUM(E8:P8) -> 0 | R8: =+R7 -> 0
A9: 2. | B9: {=IFERROR(IF(A9=0,0,INDEX(M.UNIT!A:J,MATCH(CR!A9,M.UNIT!A:A,0),4)),0)} -> 0 | C9: {=IFERROR(IF(A9=0,0,INDEX(M.UNIT!A:J,MATCH(CR!A9,M.UNIT!A:A,0),10)),0)} -> 0 | D9: =C9/$C$57 -> #DIV/0! | E9: =IF(E10=0,0,SUBTOTAL(6,$C9,E10)) -> 0 | F9: =IF(F10=0,0,SUBTOTAL(6,$C9,F10)) -> 0 | G9: =IF(G10=0,0,SUBTOTAL(6,$C9,G10)) -> 0 | H9: =IF(H10=0,0,SUBTOTAL(6,$C9,H10)) -> 0 | I9: =IF(I10=0,0,SUBTOTAL(6,$C9,I10)) -> 0 | J9: =IF(J10=0,0,SUBTOTAL(6,$C9,J10)) -> 0 | K9: =IF(K10=0,0,SUBTOTAL(6,$C9,K10)) -> 0 | L9: =IF(L10=0,0,SUBTOTAL(6,$C9,L10)) -> 0 | ... P9: =IF(P10=0,0,SUBTOTAL(6,$C9,P10)) -> 0 | Q9: =SUM(E9:P9) -> 0 | R9: =IF(B9>0,"X",0) -> 0 | S9: =IF(Q9=C9,"OK","VERIFICAR") -> OK
E10: 0 | F10: 0 | G10: 0 | H10: 0 | I10: 0 | J10: 0 | K10: 0 | L10: 0 | M10: 0 | N10: 0 | O10: 0 | P10: 0 | Q10: =SUM(E10:P10) -> 0 | R10: =+R9 -> 0
A11: 3. | B11: {=IFERROR(IF(A11=0,0,INDEX(M.UNIT!A:J,MATCH(CR!A11,M.UNIT!A:A,0),4)),0)} -> 0 | C11: {=IFERROR(IF(A11=0,0,INDEX(M.UNIT!A:J,MATCH(CR!A11,M.UNIT!A:A,0),10)),0)} -> 0 | D11: =C11/$C$57 -> #DIV/0! | E11: =IF(E12=0,0,SUBTOTAL(6,$C11,E12)) -> 0 | F11: =IF(F12=0,0,SUBTOTAL(6,$C11,F12)) -> 0 | G11: =IF(G12=0,0,SUBTOTAL(6,$C11,G12)) -> 0 | H11: =IF(H12=0,0,SUBTOTAL(6,$C11,H12)) -> 0 | I11: =IF(I12=0,0,SUBTOTAL(6,$C11,I12)) -> 0 | J11: =IF(J12=0,0,SUBTOTAL(6,$C11,J12)) -> 0 | K11: =IF(K12=0,0,SUBTOTAL(6,$C11,K12)) -> 0 | L11: =IF(L12=0,0,SUBTOTAL(6,$C11,L12)) -> 0 | ... P11: =IF(P12=0,0,SUBTOTAL(6,$C11,P12)) -> 0 | Q11: =SUM(E11:P11) -> 0 | R11: =IF(B11>0,"X",0) -> 0 | S11: =IF(Q11=C11,"OK","VERIFICAR") -> OK
E12: 0 | F12: 0 | G12: 0 | H12: 0 | I12: 0 | J12: 0 | K12: 0 | L12: 0 | M12: 0 | N12: 0 | O12: 0 | P12: 0 | Q12: =SUM(E12:P12) -> 0 | R12: =+R11 -> 0
A13: 4. | B13: {=IFERROR(IF(A13=0,0,INDEX(M.UNIT!A:J,MATCH(CR!A13,M.UNIT!A:A,0),4)),0)} -> 0 | C13: {=IFERROR(IF(A13=0,0,INDEX(M.UNIT!A:J,MATCH(CR!A13,M.UNIT!A:A,0),10)),0)} -> 0 | D13: =C13/$C$57 -> #DIV/0! | E13: =IF(E14=0,0,SUBTOTAL(6,$C13,E14)) -> 0 | F13: =IF(F14=0,0,SUBTOTAL(6,$C13,F14)) -> 0 | G13: =IF(G14=0,0,SUBTOTAL(6,$C13,G14)) -> 0 | H13: =IF(H14=0,0,SUBTOTAL(6,$C13,H14)) -> 0 | I13: =IF(I14=0,0,SUBTOTAL(6,$C13,I14)) -> 0 | J13: =IF(J14=0,0,SUBTOTAL(6,$C13,J14)) -> 0 | K13: =IF(K14=0,0,SUBTOTAL(6,$C13,K14)) -> 0 | L13: =IF(L14=0,0,SUBTOTAL(6,$C13,L14)) -> 0 | ... P13: =IF(P14=0,0,SUBTOTAL(6,$C13,P14)) -> 0 | Q13: =SUM(E13:P13) -> 0 | R13: =IF(B13>0,"X",0) -> 0 | S13: =IF(Q13=C13,"OK","VERIFICAR") -> OK
E14: 0 | F14: 0 | G14: 0 | H14: 0 | I14: 0 | J14: 0 | K14: 0 | L14: 0 | M14: 0 | N14: 0 | O14: 0 | P14: 0 | Q14: =SUM(E14:P14) -> 0 | R14: =+R13 -> 0
