{"text_format":"2","workbook":"xlsx","n_sheets":19,"sheets":["Informática","Lista Equipamentos Previstos","PFS - Resumo Orçamento","Resumo Orç (BRANCO)","PFS- I- Orçam Base","orçam (BRANCO)","PFS_II Equipe","PFS_III_Diárias","PFS_IV_Serviços Gráficos","PFS_V_Serviços Geotécnicos","PFS_VI_Desp. Gerais","PFS_VII_Det. Custos Adm","PFS_VIII_Desp Fiscais","PFS_IX_Cron. Físico-Financeiro","Cron. Físico-Finan (BRANCO)","Cálculo Desembolso","Critérios de Pagamento","Memória de cálculo","Tabela de veículos"],"not_rendered":{"charts":0,"images":6,"macros":0,"external_links":37,"defined_names":6391,"comments":1,"pivot_tables":0},"unopened":[],"bounds":{"document_bytes":16777216,"sheet_cells":100000,"run_cost":"one","rows_first":2000,"rows_last":500,"rows_between":2000,"halvings":0,"cell_chars":16384,"cell_head_chars":4096},"cells_cut":0,"cells_raw":0,"read":"whole","date_system":"1900"}

{"sheet":"Informática","index":0,"n_rows":31,"n_cols":12,"rows_kept":31,"cut":false,"hidden":true,"merged":[[0,0,0,4],[2,0,2,4],[13,0,13,2],[14,0,14,2],[19,0,19,2],[26,0,26,2],[15,0,16,0],[20,0,21,0],[27,0,28,0],[15,1,16,1],[20,1,21,1],[27,1,28,1],[15,2,16,2],[20,2,21,2]]}
["MEMÓRIA DE CÁLCULO PARA ALUGUEL DE EQUIPAMENTOS DE INFORMÁTICA"]
[null,"MÊS-BASE:","2014-11-01",{"$nulls":4},"Custo Equipamento R$","Vida Útil (Ano)","Meses p/Ano de Uso","Valor Percentual Residual","Depreciação Mensal - R$"]
[]
["Item","Preço 1 Aluguel ","Preço 2 Aluguel ","Preço 3 Aluguel ","MÉDIA",null,null,2000,4,{"$f":"12","v":12},0.1,{"$f":"(H4*(100%-K4))/(I4*J4)","v":37.5}]
["COMPUTADOR DESKTOP + SISTEMA OPERACIONAL + OFFICE",700,null,null,{"$f":"AVERAGE(B5:D5)","v":700},null,null,27300,4,12,0.5,{"$f":"(H5*(100%-K5))/(I5*J5)","v":284.38}]
["NOTEBOOK + SISTEMA OPERACIONAL + OFFICE",0,null,null,{"$f":"AVERAGE(B6:D6)","v":0}]
["Impressora A4 (Multifuncional a laser)",null,280,1200,{"$f":"AVERAGE(B7:D7)","v":740}]
["Impressora A3",null,820,800,{"$f":"AVERAGE(B8:D8)","v":810}]
[]
["Item","PREÇO DE AQUISIÇÃO 1","PREÇO DE AQUISIÇÃO 2","PREÇO DE AQUISIÇÃO 3","MÉDIA","ALUGUEL MENSAL"]
["Aplicativo Gráfico / Web - Uma única Licença",0,null,null,{"$f":"AVERAGE(B11:D11)","v":0},{"$f":"ROUND(E11/48,2)+L4","v":37.5}]
["Aplicativos de planejamento e gerenciamento (Auto CAD Ultimate e MS- PROJECT) - Uma única licença",0,null,null,{"$f":"AVERAGE(B12:D12)","v":0},{"$f":"ROUND(E12/48,2)+L5","v":284.38}]
[]
["ITENS NO ORÇAMENTO"]
["COMPUTADOR"]
["TIPO","Quantidade","Valor Médio"]
[]
["COMPUTADOR (NOTEBOOK OU DESKTOP) + SISTEMA OPERACIONAL + OFFICE",1,{"$f":"ROUND(AVERAGE(E5:E6),2)","v":350}]
[]
["IMPRESSORAS"]
["TIPO","Quantidade \n(a)","Valor \n(b)"]
[]
["Impressora A4 (Multifuncional a jato de tinta)",1,{"$f":"E7","v":740}]
["Impressora A3",1,{"$f":"E8","v":810}]
[]
[]
["APLICATIVOS"]
["TIPO","Quantidade","Valor Médio"]
[]
["Aplicativo Gráfico / Web - Uma única Licença",1,{"$f":"+F11","v":37.5}]
["Aplicativos de planejamento e gerenciamento (Auto CAD Ultimate e MS- PROJECT) - Uma única licença",1,{"$f":"+F12","v":284.38}]

{"sheet":"Lista Equipamentos Previstos","index":1,"n_rows":81,"n_cols":6,"rows_kept":81,"cut":false,"hidden":true,"merged":[[60,1,60,3]]}
{"$rows_empty":60}
[null,"Descrição",null,null,"Unid","Qtd."]
[null,"F.1 - Veículos"]
[null,null,"Sedan - 71 a 115 CV",null,"veic.",7]
[null,null,"Caminhonete Pick-Up - 140A 165 CV",null,"veic.",2]
[null,"F.2- Equipamentos"]
[null,null,"Instrumental de Topografia",null,"equip.",5]
[null,null,"GPS",null,"equip.",5]
[null,"*","Computador (Notebook ou Desktop e Software Operacional + Office)",null,"equip.",19]
[null,"*","Impressora A4",null,"equip.",5]
[null,"*","Impressora A3",null,"equip.",2]
[null,"*","Aplicativo Orçamento (licenças)",null,"equip.",6]
[null,"*","Aplicativo Gráfico / Web ",null,"equip.",1]
[null,"*","Aplicativo Gráfico para Desenho Técnico (Auto CAD Ultimate / Civil 3d)",null,"equip.",12]
[null,"*","Aplicativos de planejamento e gerenciamento (MS-Project)",null,"equip.",10]
[null,"F.3- Instalações e Mobiliário"]
[null,null,"Escritório",null,"unid.",5]
[null,null,"Alojamento p/ pessoal",null,"unid.",0]
[null,null,"Mobiliário p/ Escritório",null,"unid.",5]
[null,null,"Mobiliário de Alojamento p/ pessoal",null,"unid.",0]
[null,"F.4 - Serviços Gráficos"]
[{"$nulls":4},"unid.",1]

{"sheet":"PFS - Resumo Orçamento","index":2,"n_rows":38,"n_cols":8,"rows_kept":38,"cut":false,"hidden":false,"merged":[[32,0,32,8],[34,0,34,8],[35,0,35,8],[36,0,36,8],[37,0,37,8],[20,5,20,6],[3,0,3,6],[10,0,10,4],[10,5,10,6],[12,0,12,4],[12,5,12,6],[10,7,10,8],[11,0,11,4],[11,5,11,6],[4,7,4,8],[5,7,5,8],[8,5,8,8],[9,5,9,6],[9,7,9,8],[13,7,13,8],[14,0,14,2],[14,5,14,6],[14,7,14,8],[15,0,15,6],[15,7,15,8],[13,0,13,4],[13,5,13,6],[25,7,25,8],[26,0,26,2],[26,5,26,6],[26,7,26,8],[16,7,16,8],[17,0,17,6],[17,7,17,8],[18,0,18,4],[18,5,18,6],[16,0,16,2],[16,5,16,6],[19,0,19,4],[19,5,19,6],[21,0,21,4],[21,5,21,6],[20,0,20,4],[22,5,22,6],[22,0,22,4],[23,0,23,4],[23,5,23,6],[25,0,25,6],[29,0,29,6],[29,7,29,8],[30,0,30,8],[4,0,5,6],[11,7,12,8],[6,7,7,8],[6,0,7,6],[8,0,9,4],[18,7,21,8],[27,0,27,6],[27,7,27,8],[28,0,28,2],[28,5,28,6],[28,7,28,8],[24,0,24,6],[24,7,24,8]]}
[]
[]
[]
[]
["PROPOSTA FINANCEIRA DE SERVIÇOS\nNÃO DESONERADO",{"$nulls":6},"CODIGO:"]
[{"$nulls":7},"PFS"]
["SERVIÇOS DE APOIO À FISCALIZAÇÃO DAS OBRAS E SERVIÇOS DE ENGENHARIA PARA IMPLANTAÇÃO DE SISTEMA INTEGRADO DE ABASTECIMENTO DE ÁGUA DAS LOCALIDADES ENTRE JUNCO E CURRAL VELHO, NA ZONA RURAL DOS MUNICÍPIOS DE JUAZEIRO E CAMPO FORMOSO, NO ESTADO DA BAHIA",{"$nulls":6}," DATA BASE: Outubro/2023"]
[]
["DISCRIMINAÇÃO",{"$nulls":4},"VALOR (R$)"]
[{"$nulls":5},"PARCIAL (R$)",null,"TOTAL (R$)"]
["A - EQUIPE TÉCNICA",{"$nulls":6},{"$f":"SUM(F12:G13)","v":378862.2}]
["A.1 - Pessoal de Nível Superior",{"$nulls":4},{"$f":"'PFS- I- Orçam Base'!K13","v":240167.28}]
["A.2 - Pessoal de Nível Técnico ",{"$nulls":4},{"$f":"'PFS- I- Orçam Base'!K16","v":138694.92000000001}]
["B - ENCARGOS SOCIAIS",{"$nulls":6},{"$f":"F15","v":376349.3}]
["Valor",{"$nulls":4},{"$f":"'PFS- I- Orçam Base'!K23","v":376349.3}]
["C - CUSTOS ADMINISTRATIVOS",{"$nulls":6},{"$f":"F17","v":37886.22}]
["Taxas",null,null,{"$f":"'PFS_VII_Det. Custos Adm'!F36*100","v":10},"% do item \"A\"",{"$f":"'PFS- I- Orçam Base'!K26","v":37886.22}]
["D - DESPESAS GERAIS",{"$nulls":6},{"$f":"SUM(F19:G24)","v":413889.71}]
["D.1 - VEÍCULOS",{"$nulls":4},{"$f":"'PFS- I- Orçam Base'!K28","v":297007.2}]
["D.2 - EQUIPAMENTOS",{"$nulls":4},{"$f":"'PFS- I- Orçam Base'!K29","v":12536.64}]
["D.3 - ESCRITÓRIO",{"$nulls":4},{"$f":"'PFS- I- Orçam Base'!K30","v":68364.72}]
["D.4 - DIÁRIAS",{"$nulls":4},{"$f":"'PFS- I- Orçam Base'!K31","v":7851.6}]
["D.5 - SERVIÇOS GRÁFICOS",{"$nulls":4},{"$f":"'PFS- I- Orçam Base'!K32","v":2415.6}]
["D.6 - SERVIÇOS GEOTÉCNICOS",{"$nulls":4},{"$f":"'PFS- I- Orçam Base'!K33","v":25713.95}]
["I - CUSTOS DIRETOS (A+B+C+D)",{"$nulls":6},{"$f":"SUM(H11,H14,H16,H18)","v":1206987.43}]
["II - REMUNERAÇÃO DA EMPRESA",{"$nulls":6},{"$f":"SUM(F27)","v":96558.99}]
["Taxas",null,null,8,"% do item \"I\"",{"$f":"'PFS- I- Orçam Base'!K38","v":96558.99}]
["III - DESPESAS FISCAIS",{"$nulls":6},{"$f":"SUM(F29)","v":216649.41}]
["Taxas",null,null,{"$f":"'PFS_VIII_Desp Fiscais'!G40","v":16.62},"% do item \"I+II\"",{"$f":"'PFS- I- Orçam Base'!K39","v":216649.41}]
["TOTAL DO ORÇAMENTO                       I+II+III",{"$nulls":6},{"$f":"SUM(H25,H26,H28)","v":1520195.83}]
["PRAZO = 18 meses"]
[]
["Responsável pelas informações:"]
[]
["Joamar Mendonça de Carvalho"]
["Analista em Desenvolvimento Regional"]
["Cadastro nº 90280-2"]
["AR/GSA/UAS – CODEVASF"]

{"sheet":"Resumo Orç (BRANCO)","index":3,"n_rows":30,"n_cols":8,"rows_kept":30,"cut":false,"hidden":true,"merged":[[0,0,0,8],[4,5,4,8],[5,5,5,6],[5,7,5,8],[6,0,6,4],[6,5,6,6],[6,7,6,8],[7,0,7,1],[7,2,7,4],[7,5,7,6],[7,7,7,8],[8,0,8,1],[8,2,8,4],[8,5,8,6],[8,7,8,8],[9,0,9,1],[9,2,9,4],[9,5,9,6],[9,7,9,8],[10,0,10,4],[10,5,10,6],[10,7,10,8],[11,0,11,4],[11,5,11,6],[11,7,11,8],[12,0,12,1],[12,5,12,6],[12,7,12,8],[13,0,13,4],[13,5,13,6],[13,7,13,8],[14,0,14,1],[14,5,14,6],[14,7,14,8],[15,0,15,4],[15,5,15,6],[15,7,15,8],[16,0,16,1],[16,5,16,6],[16,7,16,8],[17,0,17,4],[17,5,17,6],[17,7,17,8],[18,0,18,4],[18,5,18,6],[18,7,18,8],[19,0,19,4],[19,5,19,6],[19,7,19,8],[20,0,20,4],[20,5,20,6],[20,7,20,8],[21,0,21,4],[21,5,21,6],[21,7,21,8],[22,0,22,4],[22,5,22,6],[22,7,22,8],[23,5,23,6],[23,7,23,8],[24,0,24,4],[24,5,24,6],[24,7,24,8],[29,0,29,8],[1,7,3,8],[1,0,3,6],[4,0,5,4],[27,0,27,1],[27,5,27,6],[27,7,27,8],[28,0,28,6],[28,7,28,8],[25,0,25,1],[25,5,25,6],[25,7,25,8],[26,0,26,4],[26,5,26,6],[26,7,26,8],[23,0,23,4]]}
["RESUMO DE ORÇAMENTO REFERENCIAL SERVIÇOS DE CONSULTORIA"]
["CONTRATAÇÃO DE EMPRESA ESPECIALIZADA PARA PRESTAÇÃO DOS SERVIÇOS DE SUPERVISÃO DA ELABORAÇÃO DOS PROJETOS BÁSICO E EXECUTIVO E DA EXECUÇÃO DAS OBRAS DE DUAS PONTES NA BR-425/RO (RIO ARARAS E RIO RIBEIRÃO)\nRodovia: BR - 425/RO\nTrecho: Entr. BR-364(B) – Fronteira Brasil/Bolívia (Guajará Mirim/RO)\nSubtrecho:  Entr. BR-364(B) – Fronteira Brasil/Bolívia (Guajará Mirim/RO\nSegmento:  km 51,70 - Ponte sobre o Rio Araras \nkm 79,70 - Ponte sobre o Rio Ribeirão\nExtensão:  105,00 m - Ponte sobre o Rio Araras \n110,00 m - Ponte sobre o Rio Ribeirão\n\n\n",{"$nulls":6}," DATA BASE:                          JULHO/2020"]
[]
[]
["DISCRIMINAÇÃO",{"$nulls":4},"VALOR (R$)"]
[{"$nulls":5},"PARCIAL (R$)",null,"TOTAL (R$)"]
["A - EQUIPE TÉCNICA",{"$nulls":6},{"$f":"SUM(F8:G10)","v":0}]
[null,null,"A.1 - Pessoal de Nível Superior",null,null,0]
[null,null,"A.2 - Pessoal de Nível Técnico ",null,null,0]
[null,null,"A.3 - Pessoal Nível Auxiliar",null,null,0]
["B - CONSULTORIA ESPECIAL",{"$nulls":4},0,null,{"$f":"SUM(F11)","v":0}]
["C - ENCARGOS SOCIAIS",{"$nulls":6},{"$f":"F13","v":0}]
[null,null,"Taxas",84.04,"% do item \"A\"",{"$f":"H7*D13%","v":0}]
["D- ENCARGOS SOCIAIS - CONSULTOR ESPECIAL - PJ ",{"$nulls":6},{"$f":"SUM(F15)","v":0}]
[null,null,"Taxas",20,"% do item \"B\"",{"$f":"H11*D15%","v":0}]
["E - CUSTOS ADMINISTRATIVOS",{"$nulls":6},{"$f":"SUM(F17)","v":0}]
[null,null,"Taxas",30,"% do item \"A\"",{"$f":"TRUNC(H7*D17%,2)","v":0}]
["F - DESPESAS GERAIS",{"$nulls":6},{"$f":"SUM(F19:G23)","v":0}]
["F.1 - VEÍCULOS",{"$nulls":4},0]
["F.2 - EQUIPAMENTOS",{"$nulls":4},0]
["F.3 - IMOVÉIS",{"$nulls":4},0]
["F.4 - MOBILIÁRIO",{"$nulls":4},0]
["F.5 - ENSAIOS ESPECIAIS",{"$nulls":4},0]
["I - CUSTOS DIRETOS (A+B+C+D+E+F)",{"$nulls":6},{"$f":"TRUNC(SUM(H7,H11,H12,H14,H16,H18),2)","v":0}]
["II - REMUNERAÇÃO DA EMPRESA",{"$nulls":6},{"$f":"SUM(F26)","v":0}]
[null,null,"Taxas",12,"% do item \"I\"",{"$f":"(H24*D26%)","v":0}]
["III - DESPESAS FISCAIS",{"$nulls":6},{"$f":"SUM(F28)","v":0}]
[null,null,"Taxas",16.62,"% do item \"I+II\"",{"$f":"SUM(H24:I25)*D28%","v":0}]
["TOTAL DO ORÇAMENTO                       I+II+III",{"$nulls":6},{"$f":"SUM(H24,H25,H27)","v":0}]
["PRAZO = 720 .d.c "]

{"sheet":"PFS- I- Orçam Base","index":4,"n_rows":42,"n_cols":11,"rows_kept":42,"cut":false,"hidden":false,"merged":[[34,1,34,4],[34,5,34,9],[30,1,30,9],[32,1,32,9],[16,1,16,2],[17,1,17,2],[18,1,18,2],[21,1,21,2],[22,1,22,2],[20,1,20,2],[19,1,19,2],[31,1,31,9],[22,3,22,4],[22,5,22,9],[25,1,25,2],[25,3,25,4],[25,5,25,9],[24,1,24,4],[23,1,23,4],[23,5,23,9],[24,5,24,9],[39,12,40,12],[45,16,46,17],[40,1,40,10],[41,1,41,9],[39,1,39,2],[39,3,39,4],[39,5,39,9],[7,10,8,10],[38,1,38,2],[38,3,38,4],[38,5,38,9],[36,3,36,4],[36,5,36,10],[37,1,37,2],[37,3,37,4],[37,5,37,9],[35,1,35,10],[28,1,28,9],[29,1,29,9],[33,1,33,4],[33,5,33,9],[26,1,26,10],[27,1,27,9],[5,1,6,9],[10,1,11,2],[7,1,8,9],[9,1,9,2],[11,5,11,9],[12,1,12,9],[14,1,14,2],[15,1,15,9],[10,3,11,3],[10,4,11,4],[13,1,13,2]]}
[]
[]
[]
[]
[]
[null,"\nOrçamento Base - NÃO DESONERADO",{"$nulls":8},"CODIGO:"]
[{"$nulls":10},"PFS-I"]
[null,"SERVIÇOS DE APOIO À FISCALIZAÇÃO DAS OBRAS E SERVIÇOS DE ENGENHARIA PARA IMPLANTAÇÃO DE SISTEMA INTEGRADO DE ABASTECIMENTO DE ÁGUA DAS LOCALIDADES ENTRE JUNCO E CURRAL VELHO, NA ZONA RURAL DOS MUNICÍPIOS DE JUAZEIRO E CAMPO FORMOSO, NO ESTADO DA BAHIA",{"$nulls":8}," DATA BASE: Outubro/2023"]
[]
[null,"Descrição",null,"Código","Unid","Qtd.","Participação \nMensal Média","Prazo \n(meses)","Qtde \nTotal Mês","Preço \nUnitário \n(R$/Mês)","Preço Total\n(R$)"]
[null,"A - Pessoal",null,"Nível Funcional",null,"a","b","c","d=a*b*c","e","f=d*e"]
[{"$nulls":5},"SUBTOTAL A = (A1+A2)",{"$nulls":4},{"$f":"SUM(K13,K16,)","v":378862.2}]
[null,"A.1 - Nível Superior",{"$nulls":8},{"$f":"K14+K15","v":240167.28}]
[null,"Engenheiro",null,{"$f":"'PFS_II Equipe'!B12","v":"P9812"},"mês",1,1,18,{"$f":"F14*G14*H14","v":18},{"$f":"'PFS_II Equipe'!E12","v":12570.64},{"$f":"TRUNC(I14*J14,2)","v":226271.52}]
[null,"Pedagogo Pleno",null,{"$f":"'PFS_II Equipe'!B13","v":"P8130"},"mês",1,1,4,{"$f":"F15*G15*H15","v":4},{"$f":"'PFS_II Equipe'!E13","v":3473.94},{"$f":"TRUNC(I15*J15,2)","v":13895.76}]
[null,"A.2 - Nível Técnico / Auxiliar",{"$nulls":8},{"$f":"SUM(K17:K22)","v":138694.92000000001}]
[null,"Técnico de obras",null,{"$f":"'PFS_II Equipe'!B14","v":"P9867"},"mês",1,1,18,{"$f":"F17*G17*H17","v":18},{"$f":"'PFS_II Equipe'!E14","v":3151.6},{"$f":"TRUNC(I17*J17,2)","v":56728.800000000003}]
[null,"Topógrafo",null,{"$f":"'PFS_II Equipe'!B15","v":"P9949"},"mês",1,1,4,4,{"$f":"'PFS_II Equipe'!E15","v":3825.8},15303.2]
[null,"Auxiliar de topografia",null,{"$f":"'PFS_II Equipe'!B16","v":"P9950"},"mês",1,1,4,4,{"$f":"'PFS_II Equipe'!E16","v":2255},9020]
[null,"Auxiliar administrativo",null,{"$f":"'PFS_II Equipe'!B17","v":"P9806"},"mês",1,1,18,18,{"$f":"'PFS_II Equipe'!E17","v":2255},40590]
[null,"Auxiliar / Operacional  (foceiro)",null,{"$f":"'PFS_II Equipe'!B18","v":"P9814"},"mês",1,1,4,4,{"$f":"'PFS_II Equipe'!E18","v":1432.32},5729.28]
[null,"Desenhista / Cadista",null,{"$f":"'PFS_II Equipe'!B19","v":"P9848"},"mês",1,1,4,4,{"$f":"'PFS_II Equipe'!E19","v":2830.91},11323.64]
[null,"B - Encargos Sociais (_% de A)",null,null,null,"Subtotal B",{"$nulls":4},{"$f":"F24+F25","v":376349.3}]
[null,"Nível superior",null,null,null,{"$f":"('PFS_II Equipe'!J12-'PFS_II Equipe'!I12)+('PFS_II Equipe'!J13-'PFS_II Equipe'!I13)","v":201837.02}]
[null,"Nível médio",null,null,null,{"$f":"SUM('PFS_II Equipe'!J14:J19)-SUM('PFS_II Equipe'!I14:I19)","v":174512.28}]
[null,"C - Custos Administrativos (_% de A)",null,{"$f":"'PFS_VII_Det. Custos Adm'!F36","v":0.1},null,"Subtotal C",{"$nulls":4},{"$f":"ROUND(D26*K12,2)","v":37886.22}]
[null,"D - Despesas Gerais"]
[null,"D.1 - Veículos",{"$nulls":8},{"$f":"'PFS_VI_Desp. Gerais'!I13+'PFS_VI_Desp. Gerais'!I14","v":297007.2}]
[null,"D.2 - Equipamentos",{"$nulls":8},{"$f":"'PFS_VI_Desp. Gerais'!I16","v":12536.64}]
[null,"D.3 - Escritorio",{"$nulls":8},{"$f":"'PFS_VI_Desp. Gerais'!I18+'PFS_VI_Desp. Gerais'!I19+'PFS_VI_Desp. Gerais'!I20","v":68364.72}]
[null,"D.4 - Diárias",{"$nulls":8},{"$f":"'PFS_VI_Desp. Gerais'!I22","v":7851.6}]
[null,"D.5 -Serviços Gráficos",{"$nulls":8},{"$f":"'PFS_VI_Desp. Gerais'!I24","v":2415.6}]
[null,"D.6 -Serviços Geotécnicos",{"$nulls":8},{"$f":"'PFS_VI_Desp. Gerais'!I26","v":25713.95}]
[{"$nulls":5},"Subtotal D",{"$nulls":4},{"$f":"SUM(K28,K29,K30,K31,K32,K33)","v":413889.71}]
[null,"TOTAL DO ITEM I - CUSTOS DIRETOS",null,null,null,"( A + B + C+ D )",{"$nulls":4},{"$f":"SUM(K12,K23,K26,K34)","v":1206987.43}]
[]
[null,"II - CUSTOS INDIRETOS"]
[null,"II.1 - Remuneração da Empresa (_% de I)",null,{"$f":"'PFS - Resumo Orçamento'!D27/100","v":0.08},null,"Subtotal II.1",{"$nulls":4},{"$f":"TRUNC(K35*D38,2)","v":96558.99}]
[null,"II.2 - Despesas Fiscais [(% de I + II.1)]",null,{"$f":"'PFS_VIII_Desp Fiscais'!G40/100","v":0.16619999999999999},null,"Subtotal II.2",{"$nulls":4},{"$f":"TRUNC(D39*(K35+K38),2)","v":216649.41}]
[null,"TOTAL DO ITEM II - CUSTOS INDIRETOS",null,"( II.1 + II.2 )",{"$nulls":6},{"$f":"SUM(K38:K39)","v":313208.40000000002}]
[]
[null,"TOTAL GERAL ( I + II )",{"$nulls":8},{"$f":"SUM(K35,K40)","v":1520195.83}]

{"sheet":"orçam (BRANCO)","index":5,"n_rows":95,"n_cols":12,"rows_kept":95,"cut":false,"hidden":true,"merged":[[8,2,8,11],[9,2,9,11],[12,2,12,3],[14,6,14,10],[15,2,15,10],[16,2,16,3],[17,2,17,3],[18,2,18,3],[19,2,19,10],[20,2,20,3],[21,2,21,3],[22,2,22,3],[23,2,23,3],[24,2,24,3],[25,2,25,10],[26,2,26,3],[27,2,27,3],[28,2,28,3],[29,2,29,10],[30,2,30,3],[31,2,31,3],[31,6,31,10],[32,2,32,3],[32,6,32,10],[33,2,33,3],[33,6,33,10],[34,2,34,11],[35,2,35,10],[36,2,36,4],[37,2,37,4],[38,2,38,4],[39,2,39,10],[40,2,40,4],[41,2,41,4],[42,2,42,4],[43,2,43,4],[44,2,44,4],[45,2,45,10],[46,2,46,4],[47,2,47,4],[48,2,48,4],[49,2,49,10],[50,2,50,4],[51,2,51,4],[52,2,52,10],[59,6,59,10],[60,2,60,3],[60,4,60,5],[60,6,60,10],[61,2,61,11],[62,2,62,10],[71,3,71,11],[53,2,53,4],[54,2,54,5],[54,6,54,10],[55,2,55,5],[55,6,55,10],[56,2,56,11],[57,4,57,5],[57,6,57,11],[58,2,58,3],[58,4,58,5],[58,6,58,10],[94,6,94,9],[94,10,94,11],[97,3,97,9],[97,10,97,11],[13,4,14,4],[13,5,14,5],[31,5,33,5],[10,11,11,11],[63,11,64,11],[89,6,89,9],[89,10,89,11],[90,6,90,9],[90,10,90,11],[91,6,91,9],[91,10,91,11],[92,6,92,9],[92,10,92,11],[93,6,93,9],[93,10,93,11],[80,6,80,9],[81,6,81,9],[82,6,82,9],[83,6,83,9],[84,6,84,9],[6,2,7,11],[4,2,5,11],[84,10,88,11],[80,10,83,11],[68,13,69,14],[63,2,64,8],[63,9,64,10],[13,2,14,3],[10,2,11,10],[85,6,85,9],[86,6,86,9],[87,6,87,9],[88,6,88,9],[72,3,72,11],[73,3,73,11],[77,2,77,3],[77,6,77,9],[77,10,77,11],[78,6,78,9],[78,10,78,11],[79,6,79,9],[79,10,79,11],[59,2,59,3],[59,4,59,5]]}
[]
[]
[]
[]
[null,null,"DEPARTAMENTO NACIONAL DE INFRAESTRUTURA DE TRANSPORTES"]
[]
[null,null,"CONTRATAÇÃO DE EMPRESA ESPECIALIZADA PARA PRESTAÇÃO DOS SERVIÇOS DE SUPERVISÃO DA ELABORAÇÃO DOS PROJETOS BÁSICO E EXECUTIVO E DA EXECUÇÃO DAS OBRAS DE DUAS PONTES NA BR-425/RO (RIO ARARAS E RIO RIBEIRÃO).\nESTADO: RONDÔNIA\nLOTE: ÚNICO                                                                                                                                                                                                                      Prazo: 720 d.c"]
[]
["ANEXO II",null,"ANEXO I"]
[null,"\n","ORÇAMENTO REFERENCIAL"]
[{"$nulls":11},"DATA BASE:\njul/2020"]
[]
[null,null,"Descrição",null,"Código","Unid","Qtd.","Participação \nMensal Média","Prazo \n(meses)","Qtde \nTotal Mês","Preço \nUnitário \n(R$/Mês)","Preço Total\n(R$)"]
[null,null,"Pessoal",null,"Nível Funcional",null,"a","b","c","d=a*b*c","e","f=d*e"]
[{"$nulls":6},"SUBTOTAL A = (A1+A2+A3)",{"$nulls":4},0]
[null,null,"A.1 - NÍVEL SUPERIOR",{"$nulls":8},{"$f":"SUM(L17:L19)","v":0}]
[null,null,"Engenheiro Sênior/Obras de Arte Especiais",null,"P0","mês",1,1,24,{"$f":"G17*H17*I17","v":24}]
[null,null,"Engenheiro Ambiental",null,"P4","mês",1,1,24,24]
[null,null,"Arqueólogo",null,"P4","mês",1,1,24,24]
[null,null,"A.2 - NÍVEL TÉCNICO",{"$nulls":8},{"$f":"SUM(L21:L25)","v":0}]
[null,null,"Técnico Pleno (Auxiliar de Engenheiro / Inspetor de Campo) - Assessoria na Análise de Projetos e acompanhamento de obras",null,"T2","mês",1,1,24,{"$f":"G21*H21*I21","v":24}]
[null,null,"Técnico Pleno (Topógrafo)",null,"T2","mês",1,1,24,{"$f":"G22*H22*I22","v":24}]
[null,null,"Técnico Auxiliar (Auxiliar de Topografia)",null,"T4","mês",1,1,24,{"$f":"G23*H23*I23","v":24}]
[null,null,"Técnico Pleno (Laboratorista)",null,"T2","mês",1,1,24,{"$f":"G24*H24*I24","v":24}]
[null,null,"Técnico Auxiliar (Auxiliar de Laboratório)",null,"T4","mês",2,1,24,{"$f":"G25*H25*I25","v":48}]
[null,null,"A.3 - NÍVEL AUXILIAR",{"$nulls":8},{"$f":"SUM(L27:L29)","v":0}]
[null,null,"Secretária",null,"A1","mês",1,1,24,{"$f":"G27*H27*I27","v":24}]
[null,null,"Auxiliar de Escritório (Operador de Microcomputador)",null,"A2","mês",0,1,24,{"$f":"G28*H28*I28","v":0}]
[null,null,"Motorista",null,"A2","mês",null,1,24,{"$f":"G29*H29*I29","v":0}]
[null,null,"B - CONSULTORIA ESPECIAL",{"$nulls":8},{"$f":"SUM(L31:L31)","v":0}]
[null,null,"Consultor Especial",null,"CM","mês",0,0.15,24,{"$f":"G31*H31*I31","v":0}]
[null,null,"C - Encargos Sociais (_% de A)",null,0.84040000000000004,null,"Subtotal C",{"$nulls":4},{"$f":"TRUNC(L15*$E$32,2)","v":0}]
[null,null,"D - E. Sociais - Consultor Especial - PJ (_% de B)",null,0.2,null,"Subtotal D",{"$nulls":4},{"$f":"TRUNC(L30*E33,2)","v":0}]
[null,null,"E - Custos Administrativos (_% de A)",null,0.3,null,"Subtotal E",{"$nulls":4},{"$f":"TRUNC(L15*E34,2)","v":0}]
[null,null,"F- Despesas Gerais"]
[null,null,"F.1 - Veículos",{"$nulls":8},{"$f":"SUM(L37:L39)","v":0}]
[null,null,"Sedan - 71 a 115 CV",null,null,"veic.",2,1,24,{"$f":"G37*H37*I37","v":48}]
[null,null,"Caminhonete - 71 a 115cv",null,null,"veic.",1,1,24,{"$f":"G38*H38*I38","v":24}]
[null,null,"Caminhão para Viga Benkelman",null,null,"veic.",1,1,1,{"$f":"G39*H39*I39","v":1}]
[null,null,"F.2- Equipamentos",{"$nulls":8},{"$f":"SUM(L41:L45)","v":0}]
[null,null,"Instrumental de Topografia",null,null,"equip.",1,1,24,{"$f":"G41*H41*I41","v":24}]
[null,null,"Laboratório de Concreto",null,null,"equip.",1,1,20,{"$f":"G42*H42*I42","v":20}]
[null,null,"Laboratório de Solos",null,null,"equip.",1,1,2,{"$f":"G43*H43*I43","v":2}]
[null,null,"Laboratório de Betume",null,null,"equip.",1,1,1,{"$f":"G44*H44*I44","v":1}]
[null,null,"Viga Benkelman",null,null,"equip.",1,1,1,{"$f":"G45*H45*I45","v":1}]
[null,null,"F.3- Imóveis",{"$nulls":8},{"$f":"SUM(L47:L49)","v":0}]
[null,null,"Escritório",null,null,"unid.",1,1,24,{"$f":"G47*H47*I47","v":24}]
[null,null,"Casa para Engenheiro",null,null,"unid.",1,1,24,{"$f":"G48*H48*I48","v":24}]
[null,null,"Alojamento para Pessoal",null,null,"unid.",1,1,24,{"$f":"G49*H49*I49","v":24}]
[null,null,"F.4- Mobiliário",{"$nulls":8},{"$f":"SUM(L51:L52)","v":0}]
[null,null,"Mobiliário de Escritório",null,null,"unid.",1,1,24,{"$f":"G51*H51*I51","v":24}]
[null,null,"Mobiliário de Alojamento p/ Pessoal",null,null,"unid.",1,1,24,{"$f":"G52*H52*I52","v":24}]
[null,null,"F.5 - Ensaios Especiais",{"$nulls":8},{"$f":"SUM(L54)","v":0}]
[null,null,"Ensaios Especiais",null,null,"UD",0,1,1,{"$f":"G54*H54*I54","v":0},{"$f":"TRUNC(L15*1%,2)","v":0},{"$f":"TRUNC(J54*K54,2)","v":0}]
[{"$nulls":6},"Subtotal F",{"$nulls":4},{"$f":"SUM(L36,L40,L46,L50,L53)","v":0}]
[null,null,"TOTAL DO ITEM I - CUSTOS DIRETOS",null,null,null,"( A + B + C+ D + E + F )",{"$nulls":4},{"$f":"SUM(L15,L30,L32,L33,L34,L55)","v":0}]
[]
[null,null,"II - CUSTOS INDIRETOS"]
[null,null,"II.1 - Remuneração da Empresa (_% de I)",null,0.12,null,"Subtotal II.1",{"$nulls":4},{"$f":"TRUNC(L56*E59,2)","v":0}]
[null,null,"II.2 - Despesas Fiscais [(_% de I + II.1)]",null,0.16619999999999999,null,"Subtotal II.2",{"$nulls":4},{"$f":"SUM(L56,L59)*E60","v":0}]
[null,null,"TOTAL DO ITEM II - CUSTOS INDIRETOS",null,"( II.1 + II.2 )",{"$nulls":6},{"$f":"SUM(L59:L60)","v":0}]
[]
[null,null,"TOTAL GERAL ( I + II )",{"$nulls":8},{"$f":"SUM(L56,L61)","v":0}]
[null,null,"Limites Máximos Admissíveis:                                                                                                      C = 84,04%    D= 20,00%    E= 30,00%     II.1 = 12,00%     II.2 = 16,62%\nTempo Estimado de Realização dos Serviços                                                                             720.d.c ",{"$nulls":6},"CUSTO ESTIMADO MENSAL",null,{"$f":"L63/J17","v":0}]
[]
[]
[]
[]
[]
[]
[null,null,null,"VALORES REFERENCIAIS:"]
[null,null,null,"Tabela de Consultoria do DNIT, instituída por meio da Instrução de Serviço DG nº 03/2012."]
[null,null,null,"Percentuais de encargos sociais e custos administrativos, em conformidade com recomendação constante do Ofício nº 535/2011-TCU/SECOB-1"]
[null,null,null,"Os valores referenciais para veículos envolvem aluguel e combustível."]
[]
[]
[]
[null,null,"CARGO",null,"NIVEL FUNCIONAL",null,"QUALIFICAÇÃO EXIGIDA",null,null,null,"FUNÇÃO CONTEMPLADA"]
[null,null,null,"CONSULTOR ESPECIAL","CM",null,"Engenheiro ou Profissional com, no mínimo, Doutorado na área de interesse, e/ou Experiência Profissional >= 15 anos",null,null,null,"Especialista em Engenharia (Todas)\nEspecialista em Arquitetura\nEspecialista na Área Social\nEspecialista na Área Ambiental\nEspecialista na Área Financeira\nEspecialista na Área Administrativa\nEspecialista na Área Contábil\nEspecialista na Área Economia"]
[null,null,null,"COORDENADOR","P0",null,"Engenheiro ou Profissional - Experiência Profissional >= 10 anos",null,null,null,"Coordenador Geral\nCoordenador de Gerenciamento.\nCoordenador de Fiscalização\nCoordenador de Planejamento\nAdministrador de Contratos\nCoordenador de Apoio Assistencial"]
[null,null,null,"ENGENHEIRO/PROFISSIONAL SÊNIOR ","P1",null,"Experiência Profissional >= 8 anos",null,null,null,"Profissional em :\nEngenharia (todas)\nArquitetura e Urbanismo\nProfissional ärea Social (serviço social, ciências sociais, Sociólogo, etc)\nProfissional Área Ambiental\nContador\nAdministrador\nEconomista\nÁrea de Comunicação Social (Jornalista, Assessor de Comunicação, etc.)\nProfissionais ärea de T.I (Programador, Analista de Sistema)\nGeologia\nBiologia\nÁrea Jurídica (Advogado, Assessor jurídico, etc)\nTopografia"]
[null,null,null,"ENGENHEIRO/PROFISSIONAL PLENO","P2",null,"Experiência Profissional >= 5 anos"]
[null,null,null,"ENGENHEIRO/PROFISSIONAL JÚNIOR","P3",null,"Experiência Profissional >= 2 anos"]
[null,null,null,"ENGENHEIRO/PROFISSIONAL AUXILIAR ","P4",null,"Formação 3º Grau"]
[null,null,null,"TÉCNICO SÊNIOR","T2",null,"2º Grau Completo - Experiência Profissional >= 10 anos",null,null,null,"Auxiliar de Engenharia\nInspetor de Campo\nFiscal de Campo\nTécnico em Edificações\nTécnico em estradas\nTécnico em Segurança do Trabalho\nTécnico em Contabilidade\nTécnico em Medicina do Trabalho\nLaboratorista (Chefe, Auxiliar)\nTopógrafo (Chefe, Auxiliar)\nTelefonista\nEscriturário\nAuxiliares (Escritório, Administrativo, etc)"]
[null,null,null,"TÉCNICO SÊNIOR","T1",null,"2º Grau Completo - Experiência Profissional >= 8 anos"]
[null,null,null,"TÉCNICO PLENO","T2",null,"2º Grau Completo - Experiência Profissional >= 5 anos"]
[null,null,null," TÉCNICO JÚNIOR ","T3",null,"2º Grau Completo - Experiência Profissional >= 2 anos"]
[null,null,null,"TÉCNICO AUXILIAR ","T4",null,"Formação - 2º Grau Completo"]
[null,null,null,"TÉCNICO","T5",null,"Formação Técnica e/ou Experiência Profissional",null,null,null,"Calculista\nDesenhista / Cadista\nOperador de Computador"]
[null,null,null,"CHEFE DE ESCRITÓRIO ","A0",null,"2º Grau Completo - Experiência Profissional >= 5 anos",null,null,null,"Chefe de Escritório\nSecretária Executiva"]
[null,null,null,"SECRETÁRIA (O)","A1",null,"Experiência Profissional",null,null,null,"Secretária"]
[null,null,null,"DATILÓGRAFO/MOTORISTA","A2",null,"Experiência Profissional",null,null,null,"motorista"]
[null,null,null,"SERVENTES / CONTÍNUOS","A3",null,"Experiência Profissional",null,null,null,"Aux. De Serviços Gerais\nCopeiro\nZelador"]
[null,null,null,"VIGIAS","A4",null,"Experiência Profissional",null,null,null,"Vigias"]

{"sheet":"PFS_II Equipe","index":6,"n_rows":27,"n_cols":10,"rows_kept":27,"cut":false,"hidden":false,"merged":[[5,9,6,9],[7,4,7,8],[8,4,8,8],[3,0,6,8]]}
[]
[]
[]
["EQUIPE",{"$nulls":8},"CODIGO:"]
[{"$nulls":9},"PFS-II"]
[{"$nulls":9}," DATA BASE: Outubro/2023"]
[]
[{"$f":"[35]PFS!A8","v":"NOME DA CONSULTORA:"},null,null,null,"OBJETO:",{"$nulls":4},"EDITAL:"]
[]
["CATEGORIA FUNCIONAL","CATEGORIA","TOTAL DE HOMENS","TOTAL DE MESES","SALÁRIO MENSAL SEM ENCARGOS SOCIAIS","ENCARGOS SOCIAIS TOTAIS (%)","ENCARGOS SOCIAIS TOTAIS (R$)","SALÁRIO MENSAL COM ENCARGOS SOCIAIS","CUSTO TOTAL CATEGORIAS SEM ENCARGOS","CUSTO TOTAL CATEGORIAS COM ENCARGOS"]
[{"$nulls":5},""]
["Engenheiro","P9812",1,{"$f":"'PFS- I- Orçam Base'!H14","v":18},12570.64,0.82489999999999997,{"$f":"H12-E12","v":10369.25},22939.89,{"$f":"ROUND(C12*D12*E12,2)","v":226271.52},{"$f":"ROUND(C12*D12*H12,2)","v":412918.02}]
["Pedagogo pleno","P8130",1,4,3473.94,1.0931999999999999,{"$f":"H13-E13","v":3797.63},7271.57,{"$f":"ROUND(C13*D13*E13,2)","v":13895.76},{"$f":"ROUND(C13*D13*H13,2)","v":29086.28}]
["Técnico de obras","P9867",1,{"$f":"'PFS- I- Orçam Base'!H17","v":18},3151.6,1.1917,3755.68,6907.28,56728.800000000003,124331.04]
["Topógrafo","P9949",1,{"$f":"'PFS- I- Orçam Base'!H18","v":4},3825.8,1.1155999999999999,4268.1000000000004,8093.9,15303.2,32375.599999999999]
["Auxiliar de topografia","P9950",1,{"$f":"'PFS- I- Orçam Base'!H19","v":4},2255,1.3633999999999999,3074.45,5329.45,9020,21317.8]
["Auxiliar administrativo","P9806",1,{"$f":"'PFS- I- Orçam Base'!H20","v":18},2255,1.3622000000000001,3071.66,5326.66,40590,95879.88]
["Auxiliar / Operacional (fioceiro)","P9814",1,4,1432.32,1.5065,2157.7399999999998,3590.06,5729.28,14360.24]
["Desenhista / Cadista","P9848",1,4,2830.91,1.2027000000000001,3404.75,6235.66,11323.64,24942.639999999999]
["TOTAIS",null,{"$f":"SUM(C12:C19)","v":8},{"$f":"SUM(D12:D19)","v":74},{"$nulls":4},{"$f":"SUM(I12:I19)","v":378862.2},{"$f":"SUM(J12:J19)","v":755211.5}]
["NOME DO INFORMANTE:",{"$nulls":6},"QUALIFICAÇÃO:"]
[]
["ASSINATURA:",{"$nulls":7},"DATA:"]
[]
["OBSERVAÇÃO:"]
["Encargos Sociais Totais: Composto por Encargos Sociais, Encargos Complementares (EPI, Ferramenta, Transporte e Exame Ocupacional) e Encargos Adicionais (Cesta Básica, Assistência Médica e Seguro de Vida)."]
["Fonte dos Encargos Sociais Totais: CGCIT - Sistema de Custos Referenciais de Obras - Sicro/DNIT - Bahia - Abril/2023 - Sem Desoneração."]

{"sheet":"PFS_III_Diárias","index":7,"n_rows":28,"n_cols":8,"rows_kept":28,"cut":false,"hidden":false,"merged":[[3,0,4,6],[7,4,7,7],[8,4,8,7],[5,7,6,7],[9,4,9,7],[9,0,11,0],[9,1,11,1],[9,2,11,2],[9,3,11,3]]}
[]
[]
[]
["\nDIÁRIAS",{"$nulls":6},"CODIGO:"]
[{"$nulls":7},"PFS-III"]
[{"$nulls":7}," DATA BASE: Outubro/2023"]
[]
[{"$f":"[35]PFS!A8","v":"NOME DA CONSULTORA:"},null,null,null,"OBJETO:"]
[]
["CATEGORIA FUNCIONAL","CATEGORIA","TOTAL DE HOMENS","TOTAL DE MESES","DIÁRIAS"]
[{"$nulls":4},"DIAS / MÊS","CUSTO","CUSTO TOTAL","CUSTO TOTAL"]
[{"$nulls":4},"PERNOITE","UNITÁRIO","P/ MÊS","P/ CONTRATO"]
[]
["Engenheiro","P9812",1,{"$f":"'PFS- I- Orçam Base'!H14","v":18},1,218.1,{"$f":"C14*E14*F14","v":218.1},{"$f":"D14*G14","v":3925.8}]
["Pedagogo pleno","P8130",1,{"$f":"'PFS- I- Orçam Base'!H15","v":4},null,null,{"$f":"C15*E15*F15","v":0},{"$f":"D15*G15","v":0}]
["Técnico de obras","P9867",1,{"$f":"'PFS- I- Orçam Base'!H17","v":18},1,218.1,{"$f":"C16*E16*F16","v":218.1},3925.8]
["Topógrafo","P9949",1,{"$f":"'PFS- I- Orçam Base'!H18","v":4},null,null,{"$f":"C17*E17*F17","v":0},0]
["Auxiliar de topografia","P9950",1,{"$f":"'PFS- I- Orçam Base'!H19","v":4},null,null,0,0]
["Auxiliar administrativo","P9806",1,{"$f":"'PFS- I- Orçam Base'!I20","v":18},null,null,0,0]
["Auxiliar / Operacional  (foceiro)","P9814",1,{"$f":"'PFS- I- Orçam Base'!I21","v":4},null,null,0,0]
["Desenhista / Cadista","P9848",1,{"$f":"'PFS- I- Orçam Base'!I22","v":4},null,null,0,0]
["TOTAL",null,{"$f":"SUM(C14:C21)","v":8},{"$f":"SUM(D14:D21)","v":74},{"$f":"SUM(E14:E21)","v":2},null,{"$f":"SUM(G14:G21)","v":436.2},{"$f":"SUM(H14:H21)","v":7851.6}]
["NOME DO INFORMANTE:"]
[]
["ASSINATURA:"]
[]
[]
["Observação: Utilizado tabela de diárias da Codevasf"]

{"sheet":"PFS_IV_Serviços Gráficos","index":8,"n_rows":16,"n_cols":6,"rows_kept":16,"cut":false,"hidden":false,"merged":[[3,0,4,4],[7,4,7,5],[8,4,8,5],[5,5,6,5],[9,1,9,2],[9,3,9,4],[10,3,10,4],[11,3,11,4],[12,0,12,4],[20,0,20,1],[19,0,19,1],[18,0,18,2],[10,1,10,2],[11,1,11,2]]}
[]
[]
[]
["SERVIÇOS GRÁFICOS",{"$nulls":4},"CODIGO:"]
[{"$nulls":5},"PFS-IV"]
[{"$nulls":5}," DATA BASE: Outubro/2023"]
[]
[{"$f":"[35]PFS!A8","v":"NOME DA CONSULTORA:"}]
[]
["MATERIAL","UNIDADES POR MÊS",null,"CUSTO ITEM",null,"CUSTO MENSAL"]
["1. Relatorios (30 folhas, capa plastica, espiral)",2,null,17.100000000000001,null,{"$f":"ROUND(B11*D11,2)","v":34.200000000000003}]
["2. Plantas gráficas (Tamanho A0)",10,null,10,null,{"$f":"ROUND(B12*D12,2)","v":100}]
["TOTAL",{"$nulls":4},{"$f":"SUM(F11:F12)","v":134.19999999999999}]
["NOME DO INFORMANTE:"]
[]
["ASSINATURA:"]

{"sheet":"PFS_V_Serviços Geotécnicos","index":9,"n_rows":72,"n_cols":7,"rows_kept":72,"cut":false,"hidden":false,"merged":[[67,0,67,1],[68,0,68,5],[70,0,70,4],[10,0,11,2],[10,3,11,3],[10,4,11,4],[10,5,10,6],[4,0,5,5],[9,0,9,1],[9,2,9,5],[6,6,7,6],[6,0,7,5]]}
[]
[]
[]
[]
["SERVIÇOS GEOTÉCNICOS",{"$nulls":5},"CODIGO:"]
[{"$nulls":6},"PFS-V"]
["NOME DA CONSULTORA:"]
[]
["PROJETO:",null,"OBJETO:",null,null,null,"EDITAL:"]
[]
["DISCRIMINAÇÃO",null,null,"UNID.","QUANT.","PREÇOS (R$)"]
[{"$nulls":5},"UNITÁRIO","TOTAL"]
["1. -    SONDAGEM "]
["1.1 -  Sondagem Rotativa"]
["       - Mobilização e desmobilização de equipamentos ",null,null,"equip"]
["       - Em granitos, gnaisses, quartzitos e rochas afins"]
["       - Ø N      ",null,null,"m"]
["       - Ø B",null,null,"m"]
["       - Ø N (sondagem em solo)",null,null,"m"]
["       - Deslocamento e instalação do equipamento"]
["       - 0  a  200 metros",null,null,"unid."]
["       - 201 a 500 metros",null,null,"unid."]
["       - Acima de 500 metros",null,null,"unid."]
["1.2 - Sondagem a Percussão "]
["        - Mobilização e desmobilização de equipamentos",null,null,"equip"]
["        - Sondagem à percussão com SPT",null,null,"m",8,140.97,{"$f":"E26*F26","v":1127.76}]
["        - Deslocamento e instalação de equipamento    "]
["        - 0 a 200 metros",null,null,"unid."]
["        - 201 a  500 metros",null,null,"unid."]
["        - Acima de 500 metros",null,null,"unid."]
["2. -  SONDAGEM SÍSMICA DE REFRAÇÃO",null,null,"km"]
["3. -  SONDAGEM A  TRADO (4\") ",null,null,"m",250,95.86,23965]
["4. -  POÇOS DE INSPEÇÃO",null,null,"m"]
["5. -      ENSAIOS"]
["5.1 -    Ensaios em solos"]
["5.1.1 - Umidade Natural ",null,null,"ensaio"]
["5.1.2 - Densidade Natural",null,null,"ensaio"]
["5.1.3 - Limite de Liquidez",null,null,"ensaio"]
["5.1.4 - Limite de Plasticidade",null,null,"ensaio"]
["5.1.5 - Granulometria por Peneiramento",null,null,"ensaio"]
["5.1.6 - Granulometria por Sedimentação",null,null,"ensaio"]
["5.1.7 - Ensaio compactação Proctor Normal",null,null,"ensaio"]
["5.1.8 - Ensaio compactação Proctor Intermediario",null,null,"ensaio"]
["5.1.9 - Ensaio compactação Proctor Modificado",null,null,"ensaio"]
["5.1.9.1","Indice de Suporte California ISC c/3 corpos de prova",null,"ensaio"]
["5.1.9.2","Indice de Suporte California ISC c/5 corpos de prova",null,"ensaio"]
["5.1.8 - Massa Especifica  Real dos Grãos",null,null,"ensaio"]
["5.1.9 - Adensamento Oedométrico",null,null,"ensaio"]
["5.1.10 - Triaxial (UU) não consolidado não drenado",null,null,"ensaio"]
["5.1.11 - Triaxial (CU) consolidado - não drenado",null,null,"ensaio"]
["5.1.12 - Expansão"]
["5.1.12..1Ensaio de colapsividade em anéis de adensamento ",null,null,{"$f":"D50","v":"ensaio"}]
["5.1.12..2Determinação da pressão de expansão",null,null,{"$f":"D52","v":"ensaio"}]
["5.1.13 - Dispersão:"]
["5.1.13.1 - Granulometria Comparativa",null,null,"ensaio"]
["5.1.13.2 - Crumb Test",null,null,"ensaio"]
["5.1.14.   Infiltração",null,null,"ensaio"]
["5.1.15    Ensaio de Perda d''agua (05 estágios)",null,null,"ensaio"]
["5.1.16 -  Análise da Areia:"]
["5.1.16.1 Análise Química da Areia teor de mat organica",null,null,"ensaio"]
["5.1.16.2 Equivalente de Areia",null,null,"ensaio"]
["5.1.17-   Mineralogia",null,null,"ensaio"]
["5.1.18 - Abrasão \"Los Angeles \"",null,null,"ensaio"]
[null,"Indice de lamelaridade",null,"ensaio"]
["5.1.19 - Reatividade Potencial",null,null,"ensaio"]
["5.1.20 - Permeabilidade vertical de carga variavel",null,null,"ensaio"]
["5.1.21 - Análise físico-química da água",null,null,"ensaio",1,565.21,565.21]
["5.1.22 - Análise bacteriológica da água",null,null,"ensaio",1,55.98,55.98]
["TOTAL DE SERVIÇOS GEOTÉCNICOS",{"$nulls":5},{"$f":"SUM(G14:G68)","v":25713.95}]
["NOME DO INFORMANTE:",null,null,"QUALIFICAÇÃO:"]
["ASSINATURA:",{"$nulls":4},"DATA:"]
["OBSERVAÇÃO: ORSE mês de referência agosto/2023"]

{"sheet":"PFS_VI_Desp. Gerais","index":10,"n_rows":32,"n_cols":9,"rows_kept":32,"cut":false,"hidden":false,"merged":[[12,1,12,4],[2,3,2,7],[7,11,7,13],[8,3,8,7],[9,7,9,8],[11,1,11,8],[3,0,4,7],[9,0,10,0],[9,5,10,5],[9,6,10,6],[9,1,10,4],[26,1,26,7],[29,1,29,6],[13,1,13,4],[13,11,13,13],[14,1,14,8],[15,1,15,4],[16,1,16,8],[20,1,20,4],[17,1,17,4],[22,1,22,4],[25,1,25,4],[23,1,23,4],[24,1,24,4],[21,1,21,4],[18,1,18,4],[19,1,19,4]]}
[]
[]
[]
["DESPESAS GERAIS ",{"$nulls":7},"CODIGO:"]
[{"$nulls":8},"PFS-VI"]
["NOME DA CONSULTORA:"]
[]
[{"$f":"[35]PFS!A10","v":"LOCALIZAÇÃO:"},null,null,"OBJETO:",{"$nulls":4},"EDITAL:"]
[]
["ITEM","DISCRIMINAÇÃO",null,null,null,"UNID.","QUANT.","CUSTOS (R$)"]
[{"$nulls":7},"UNITÁRIO","TOTAL"]
[1,"VEÍCULOS"]
["1.1","Picape leve (CÓD. CATMAT 486410)",null,null,null,"mês",18,9928.1299999999992,{"$f":"ROUND(H13*G13,2)","v":178706.34}]
["1.1","Carro popular (CÓD. CATMAT 602304)",null,null,null,"mês",18,6572.27,{"$f":"ROUND(H14*G14,2)","v":118300.86}]
[2,"EQUIPAMENTOS"]
["2.1","Instrumental de Topografia",null,null,null,"mês",{"$f":"'PFS- I- Orçam Base'!H18","v":4},3134.16,{"$f":"ROUND(G16*H16,2)","v":12536.64}]
[3,"ESCRITÓRIO"]
["3.1","Aluguel",null,null,null,"mês",18,1871.2,{"$f":"ROUND(G18*H18,2)","v":33681.599999999999}]
["3.2","Mobiliário",null,null,null,"mês",18,1532.88,{"$f":"ROUND(G19*H19,2)","v":27591.84}]
["3.3","Custos diversos",null,null,null,"mês",18,393.96,7091.28]
[4,"DIÁRIAS"]
["4.1","Diárias",null,null,null,"mês",18,{"$f":"PFS_III_Diárias!G22","v":436.2},{"$f":"ROUND(G22*H22,2)","v":7851.6}]
[5,"SERVIÇOS GRÁFICOS"]
["5.1","Serviços gráficos ( relatórios, cópias, plantas etc)",null,null,null,"mês",18,{"$f":"'PFS_IV_Serviços Gráficos'!F13","v":134.19999999999999},{"$f":"ROUND(G24*H24,2)","v":2415.6}]
[6,"SERVIÇOS GEOTÉCNICOS"]
["6.1","Serviços geotécnicos",null,null,null,"unid.",1,{"$f":"ROUND(I26/G26,2)","v":25713.95},{"$f":"'PFS_V_Serviços Geotécnicos'!G69","v":25713.95}]
[null,"TOTAL  DE DESPESAS GERAIS",{"$nulls":6},{"$f":"SUM(I13:I26)","v":413889.71}]
[null,"NOME DO INFORMANTE:",{"$nulls":4},"QUALIFICAÇÃO:"]
[]
[null,"ASSINATURA:",{"$nulls":5},"DATA:"]
[]
["OBSERVAÇÃO:"]

{"sheet":"PFS_VII_Det. Custos Adm","index":11,"n_rows":39,"n_cols":6,"rows_kept":39,"cut":false,"hidden":false,"merged":[[1,2,1,5],[2,2,2,5],[3,2,3,5],[6,0,6,5],[12,1,12,4],[41,0,41,5],[4,0,5,4],[10,0,11,4],[35,1,35,4],[38,0,38,5],[39,0,39,5],[40,0,40,5]]}
[]
[]
[]
[]
["DETALHAMENTO DO CUSTO DE ADMINISTRAÇÃO",{"$nulls":4},"CODIGO:"]
[{"$nulls":5},"PFS-VII"]
["NOME DA CONSULTORA:"]
[]
[{"$f":"[36]PFS!A10","v":"LOCALIZAÇÃO:"},null,"OBJETO:"]
[]
["DISCRIMINAÇÃO",{"$nulls":4},"VALORES"]
[{"$nulls":5},"%"]
[1,"Custos da equipe da administração central da empresa consultora (pessoal técnico de apoio e pessoal administrativo não diretamente vinculado à prestação dos serviços)",null,null,null,0.1]
{"$rows_empty":22}
[null,"TOTAIS DO CUSTO DE ADMINISTRAÇÃO",null,null,null,{"$f":"SUM(F13:F35)","v":0.1}]
["NOME DO INFORMANTE:",null,null,"QUALIFICAÇÃO:"]
["ASSINATURA:",{"$nulls":4},"DATA:"]
["OBSERVAÇAO:"]

{"sheet":"PFS_VIII_Desp Fiscais","index":12,"n_rows":50,"n_cols":7,"rows_kept":50,"cut":false,"hidden":false,"merged":[[0,2,0,6],[1,2,1,6],[2,2,2,6],[5,0,5,6],[9,5,9,6],[25,0,25,4],[26,0,26,4],[27,0,27,4],[28,0,28,4],[11,0,11,4],[12,0,12,4],[13,0,13,4],[14,0,14,4],[15,0,15,4],[39,0,39,4],[44,0,44,6],[45,0,45,6],[3,0,4,5],[9,0,10,4],[34,0,34,4],[35,0,35,4],[36,0,36,4],[37,0,37,4],[38,0,38,4],[29,0,29,4],[30,0,30,4],[31,0,31,4],[32,0,32,4],[33,0,33,4],[24,0,24,4]]}
[]
[]
[]
["DETALHAMENTO DE DESPESAS FISCAIS",{"$nulls":5},"CODIGO:"]
[{"$nulls":6},"PFS-VIII"]
["NOME DA CONSULTORA:"]
[]
[{"$f":"[36]PFS!A10","v":"LOCALIZAÇÃO:"},null,"OBJETO:"]
[]
["DISCRIMINAÇÃO",{"$nulls":4},"VALORES"]
[{"$nulls":5},"DF %","DF' %"]
[]
["1 - ISS",{"$nulls":4},5]
["2 - PIS",{"$nulls":4},1.65]
["3 - COFINS",{"$nulls":4},7.6]
["4 - CPRB",{"$nulls":4},0]
{"$rows_empty":23}
["TOTAIS DE DESPESAS FISCAIS ",{"$nulls":4},{"$f":"F13+F14+F15+F16","v":14.25},{"$f":"((1/(1-F40%))-1)*100","v":16.62}]
["NOME DO INFORMANTE:",null,null,"QUALIFICAÇÃO:"]
[]
["ASSINATURA:",{"$nulls":4},"DATA:"]
[]
["Observação:"]
["As despesas fiscais (DF) incidem sobre o total da fatura e não sobre os custos incorridos. Portanto aplicar a seguinte fórmula:"]
[" DF' = { [ 1 / ( 1 - DF ) ] - 1 } x 100"]
[" ou seja, para o valor máximo de 14,25%, o valor a ser aplicado na composição dos preços será:"]
[" DF' = { [ 1 / ( 1 - 0,1425 ) ] - 1 } x 100"]
[" DF' =0,1662 ou 16,62%"]

{"sheet":"PFS_IX_Cron. Físico-Financeiro","index":13,"n_rows":14,"n_cols":21,"rows_kept":14,"cut":false,"hidden":false,"merged":[[13,0,13,20],[7,0,10,0],[7,1,8,1],[9,1,10,1],[3,3,4,20],[5,19,6,19],[5,0,5,2],[5,20,6,20],[5,9,6,9],[5,12,6,12],[5,13,6,13],[5,14,6,14],[5,15,6,15],[5,18,6,18],[5,3,6,3],[5,4,6,4],[1,19,1,20],[2,19,2,20],[1,0,2,18],[11,0,11,20],[12,0,12,20],[5,5,6,5],[5,10,6,10],[5,11,6,11],[5,16,6,16],[3,0,4,2],[5,6,6,6],[5,7,6,7],[5,8,6,8],[5,17,6,17]]}
[]
["CRONOGRAMA FÍSICO-FINANCEIRO ",{"$nulls":18},"CODIGO:"]
[{"$nulls":19},"PFS-IX"]
["PERÍODO",null,null,"PERÍODO - MESES"]
[]
["MESES ACUMULADOS",null,null,1,{"$f":"D6+1","v":2},3,4,5,6,7,8,9,10,11,12,13,14,15,16,17,18]
["FÍSICO","Relatórios Mensais","Unid."]
["FINANC.","PARCIAL","%",{"$f":"1/18","v":5.5599999999999997E-2},5.5599999999999997E-2,5.5599999999999997E-2,5.5599999999999997E-2,5.5599999999999997E-2,5.5599999999999997E-2,5.5599999999999997E-2,5.5599999999999997E-2,5.5599999999999997E-2,5.5599999999999997E-2,5.5599999999999997E-2,5.5599999999999997E-2,5.5599999999999997E-2,5.5599999999999997E-2,5.5599999999999997E-2,5.5599999999999997E-2,5.5599999999999997E-2,{"$f":"1/18-0.0008","v":5.4800000000000001E-2}]
[null,null,"R$",{"$f":"'PFS- I- Orçam Base'!K42/'PFS- I- Orçam Base'!H14","v":84455.32},{"$f":"D9","v":84455.32},{"$f":"E9","v":84455.32},84455.32,84455.32,84455.32,84455.32,84455.32,84455.32,84455.32,84455.32,84455.32,84455.32,84455.32,84455.32,84455.32,84455.32,{"$f":"T9+0.02","v":84455.34}]
[null,"ACUMULADO","%",{"$f":"SUM(D8)","v":5.5599999999999997E-2},{"$f":"SUM(D10,E8)","v":0.11119999999999999},0.1668,0.22239999999999999,0.27800000000000002,0.33360000000000001,0.38919999999999999,0.44479999999999997,0.50039999999999996,0.55600000000000005,0.61160000000000003,0.66720000000000002,0.7228,0.77839999999999998,0.83399999999999996,0.88959999999999995,0.94520000000000004,1]
[null,null,"R$",{"$f":"SUM(D9)","v":84455.32},{"$f":"SUM(D11,E9)","v":168910.64},{"$f":"SUM(E11,F9)","v":253365.96},337821.28,422276.6,506731.92,591187.24,675642.56,760097.88,844553.2,929008.52,1013463.84,1097919.1599999999,1182374.48,1266829.8,1351285.12,1435740.44,{"$f":"SUM(T11,U9)+0.05","v":1520195.83}]
[]
[]
["Nome da Empresa \nIDENTIFICAÇÃO, QUALIFICAÇÃO E ASSINATURA DA RESPONSÁVEL"]

{"sheet":"Cron. Físico-Finan (BRANCO)","index":14,"n_rows":21,"n_cols":15,"rows_kept":21,"cut":false,"hidden":true,"merged":[[4,10,5,10],[4,11,5,11],[4,12,5,12],[13,12,14,12],[4,5,5,5],[4,6,5,6],[4,7,5,7],[4,8,5,8],[4,9,5,9],[20,0,20,14],[6,0,9,0],[15,0,18,0],[6,1,7,1],[8,1,9,1],[15,1,16,1],[17,1,18,1],[13,3,14,3],[13,4,14,4],[13,5,14,5],[13,6,14,6],[13,7,14,7],[13,8,14,8],[13,9,14,9],[13,10,14,10],[13,11,14,11],[4,13,5,13],[13,13,14,13],[4,14,5,14],[13,14,14,14],[0,0,1,7],[2,0,3,2],[2,3,3,14],[11,0,12,2],[11,3,12,14],[0,8,0,14],[1,8,1,14],[4,0,4,2],[10,0,10,14],[13,0,13,2],[4,3,5,3],[4,4,5,4]]}
["CRONOGRAMA FÍSICO-FINANCEIRO ",{"$nulls":7},"Data Licitação/Proposta.:"]
[{"$nulls":8},"Prazo Inicial:                                                                               Lote: Único                                              Ref.:MÊS-BASE                      julho/2020"]
["PÉRIODO",null,null,"PERÍODO - DIAS"]
[]
["DIAS ACUMULADOS",null,null,30,{"$f":"D5+30","v":60},{"$f":"E5+30","v":90},120,150,180,210,240,270,300,330,360]
["FÍSICO","Relatórios Mensais","Unid."]
["FINANCEIRO","PARCIAL","%",{"$f":"'PFS_IX_Cron. Físico-Financeiro'!D8","v":5.5599999999999997E-2},{"$f":"'PFS_IX_Cron. Físico-Financeiro'!E8","v":5.5599999999999997E-2},{"$f":"'PFS_IX_Cron. Físico-Financeiro'!F8","v":5.5599999999999997E-2},{"$f":"'PFS_IX_Cron. Físico-Financeiro'!K8","v":5.5599999999999997E-2},{"$f":"'PFS_IX_Cron. Físico-Financeiro'!L8","v":5.5599999999999997E-2},{"$f":"'PFS_IX_Cron. Físico-Financeiro'!Q8","v":5.5599999999999997E-2},{"$f":"'PFS_IX_Cron. Físico-Financeiro'!U8","v":5.4800000000000001E-2},{"$f":"'PFS_IX_Cron. Físico-Financeiro'!#REF!","v":{"$error":"#REF!"}},{"$f":"'PFS_IX_Cron. Físico-Financeiro'!#REF!","v":{"$error":"#REF!"}},{"$f":"'PFS_IX_Cron. Físico-Financeiro'!#REF!","v":{"$error":"#REF!"}},{"$f":"'PFS_IX_Cron. Físico-Financeiro'!#REF!","v":{"$error":"#REF!"}},{"$f":"'PFS_IX_Cron. Físico-Financeiro'!#REF!","v":{"$error":"#REF!"}}]
[null,null,"R$","-","-","-","-","-","-","-","-","-","-","-","-"]
[null,"ACUMULADO","%",{"$f":"E7","v":5.5599999999999997E-2},{"$f":"E7+D9","v":0.11119999999999999},{"$f":"F7+E9","v":0.1668},0.22239999999999999,0.27800000000000002,0.33360000000000001,0.38840000000000002,{"$error":"#REF!"},{"$error":"#REF!"},{"$error":"#REF!"},{"$error":"#REF!"},{"$error":"#REF!"}]
[null,null,"R$","-","-","-","-","-","-","-","-","-","-","-","-"]
[]
["PÉRIODO",null,null,"PERÍODO - DIAS"]
[]
["DIAS ACUMULADOS",null,null,{"$f":"O5+30","v":390},{"$f":"D14+30","v":420},{"$f":"E14+30","v":450},480,510,540,570,600,630,660,690,720]
["FÍSICO","Relatórios Mensais","Unid."]
["FINANCEIRO","PARCIAL","%",{"$f":"'PFS_IX_Cron. Físico-Financeiro'!#REF!","v":{"$error":"#REF!"}},{"$f":"'PFS_IX_Cron. Físico-Financeiro'!#REF!","v":{"$error":"#REF!"}},{"$f":"'PFS_IX_Cron. Físico-Financeiro'!#REF!","v":{"$error":"#REF!"}},{"$f":"'PFS_IX_Cron. Físico-Financeiro'!#REF!","v":{"$error":"#REF!"}},{"$f":"'PFS_IX_Cron. Físico-Financeiro'!#REF!","v":{"$error":"#REF!"}},{"$f":"'PFS_IX_Cron. Físico-Financeiro'!#REF!","v":{"$error":"#REF!"}},{"$f":"'PFS_IX_Cron. Físico-Financeiro'!#REF!","v":{"$error":"#REF!"}},{"$f":"'PFS_IX_Cron. Físico-Financeiro'!#REF!","v":{"$error":"#REF!"}},{"$f":"'PFS_IX_Cron. Físico-Financeiro'!#REF!","v":{"$error":"#REF!"}},{"$f":"'PFS_IX_Cron. Físico-Financeiro'!#REF!","v":{"$error":"#REF!"}},{"$f":"'PFS_IX_Cron. Físico-Financeiro'!#REF!","v":{"$error":"#REF!"}},{"$f":"'PFS_IX_Cron. Físico-Financeiro'!#REF!","v":{"$error":"#REF!"}}]
[null,null,"R$","-","-","-","-","-","-","-","-","-","-","-","-"]
[null,"ACUMULADO","%",{"$f":"O9+D16","v":{"$error":"#REF!"}},{"$f":"D18+E16","v":{"$error":"#REF!"}},{"$f":"E18+F16","v":{"$error":"#REF!"}},{"$error":"#REF!"},{"$error":"#REF!"},{"$error":"#REF!"},{"$error":"#REF!"},{"$error":"#REF!"},{"$error":"#REF!"},{"$error":"#REF!"},{"$error":"#REF!"},{"$error":"#REF!"}]
[null,null,"R$","-","-","-","-","-","-","-","-","-","-","-","-"]
[]
["Orçamento Referencial  - CONTRATAÇÃO DE EMPRESA ESPECIALIZADA PARA PRESTAÇÃO DOS SERVIÇOS DE SUPERVISÃO DA ELABORAÇÃO DOS PROJETOS BÁSICO E EXECUTIVO E DA EXECUÇÃO DAS OBRAS DE DUAS PONTES NA BR-425/RO (RIO ARARAS E RIO RIBEIRÃO)\n\n\n                                                                                                                                                                                                                                                                 Nome da Empresa \n                                                                                                                                                                                                               IDENTIFICAÇÃO,QUALIFICAÇÃOE ASSINATURA DA RESPONSÁVEL"]

{"sheet":"Cálculo Desembolso","index":15,"n_rows":15,"n_cols":7,"rows_kept":15,"cut":false,"hidden":true,"merged":[[0,1,0,4],[1,1,1,4]]}
[]
[null,"CÁLCULO DE DESEMBOLSO MENSAL  "]
[null,"Janeiro","--",{"$f":"'PFS_IX_Cron. Físico-Financeiro'!E9","v":84455.32},{"$f":"D3","v":84455.32}]
[null,"Fevereiro","--",{"$f":"'PFS_IX_Cron. Físico-Financeiro'!F9","v":84455.32},{"$f":"D4","v":84455.32}]
[null,"Março","--",{"$f":"D4","v":84455.32},{"$f":"D5","v":84455.32}]
[null,"Abril","--",84455.32,{"$f":"D6","v":84455.32}]
[null,"Maio","--",84455.32,{"$f":"E6","v":84455.32}]
[null,"Junho","--",84455.32,84455.32]
[null,"Julho","--",84455.32,84455.32]
[null,"Agosto","--",84455.32,84455.32]
[null,"Setembro","--",84455.32,84455.32]
[null,"Outubro","--",84455.32,84455.32,null,{"$f":"'PFS- I- Orçam Base'!K42","v":1520195.83}]
[null,"Novembro","--",84455.32,84455.32]
[null,"Dezembro",{"$f":"'PFS_IX_Cron. Físico-Financeiro'!D11","v":84455.32},84455.32]
[null,"Total",{"$f":"SUM(C14)","v":84455.32},{"$f":"SUM(D3:D14)","v":1013463.84},{"$f":"SUM(E3:E14)","v":929008.52}]

{"sheet":"Critérios de Pagamento","index":16,"n_rows":31,"n_cols":7,"rows_kept":31,"cut":false,"hidden":true,"merged":[[17,0,17,6],[18,0,18,1],[19,0,19,6],[30,0,30,4],[0,0,0,6],[1,0,1,6],[2,0,2,1],[3,0,3,6],[14,0,14,4]]}
["NÃO É NECESSÁRIO INSERIR COMO ANEXO DO EDITAL - TODAS AS INFORMAÇÕES NECESSÁRIAS ESTÃO EXPOSTAS NO CRONOGRAMA FÍSICO-FINANCEIRO "]
["Critérios de Pagamento"]
["DESCRIÇÃO DO SERVIÇO",null,"UNID",null,"QUANT","PERCENTUAL S/ PREÇO GLOBAL","VALOR TOTAL"]
["PROJETO"]
["P1","Assessoramento de Engenharia"]
["P1.1","Gestão de Planejamento e Projetos","Relatório","CONSULTORIA",36,0.219972,{"$f":"F6*$G$15","v":9518554.4000000004}]
["P1.2","Gestão de Desapropriação, Reassentamento e Meio Ambiente","Relatório","CONSULTORIA",36,0.22867000000000001,{"$f":"F7*$G$15","v":9894931.3300000001}]
["P1.3","Gestão de Construção","Relatório","CONSULTORIA",36,0.28267900000000001,{"$f":"F8*$G$15","v":12231990.609999999}]
["P2","Assessoramento Gerencial"]
["P2.1","Assessoria Orçamentária, Financeira e Contábil","Relatório","CONSULTORIA",36,3.7726999999999997E-2,{"$f":"F10*$G$15","v":1632510.05}]
["P2.2","Assessoria para demandas de Órgãos de Controle","Relatório","CONSULTORIA",36,5.9070999999999999E-2,{"$f":"F11*$G$15","v":2556100.44}]
["P2.3","Assessoria de Comunicação Social","Relatório","CONSULTORIA",36,4.8771000000000002E-2,{"$f":"F12*$G$15","v":2110402.31}]
["P2.4","Assessoria de Tecnologia da Informação","Relatório","CONSULTORIA",36,4.0162999999999997E-2,{"$f":"F13*$G$15","v":1737919.83}]
["P2.5","Gestão de Apoio Administrativo","Relatório","CONSULTORIA",36,8.2947000000000007E-2,{"$f":"F14*$G$15","v":3589254.69}]
["TOTAL GERAL ",{"$nulls":4},1,43271663.659999996]
[]
[]
["Critérios de Pagamento"]
["DESCRIÇÃO DO SERVIÇO",null,"UNID",null,"QUANT","PERCENTUAL S/ PREÇO GLOBAL","VALOR TOTAL"]
["PROJETO"]
["P1","Assessoramento de Engenharia"]
["P1.1","Gestão de Planejamento e Projetos","Relatório","CONSULTORIA",36,0.219972]
["P1.2","Gestão de Desapropriação, Reassentamento e Meio Ambiente","Relatório","CONSULTORIA",36,0.22867000000000001]
["P1.3","Gestão de Construção","Relatório","CONSULTORIA",36,0.28267900000000001]
["P2","Assessoramento Gerencial"]
["P2.1","Assessoria Orçamentária, Financeira e Contábil","Relatório","CONSULTORIA",36,3.7726999999999997E-2]
["P2.2","Assessoria para demandas de Órgãos de Controle","Relatório","CONSULTORIA",36,5.9070999999999999E-2]
["P2.3","Assessoria de Comunicação Social","Relatório","CONSULTORIA",36,4.8771000000000002E-2]
["P2.4","Assessoria de Tecnologia da Informação","Relatório","CONSULTORIA",36,4.0162999999999997E-2]
["P2.5","Gestão de Apoio Administrativo","Relatório","CONSULTORIA",36,8.2947000000000007E-2]
["TOTAL GERAL ",{"$nulls":4},1]

{"sheet":"Memória de cálculo","index":17,"n_rows":47,"n_cols":4,"rows_kept":47,"cut":false,"hidden":true,"merged":[[3,1,3,3],[5,1,5,3],[6,1,6,3],[7,1,7,3],[12,1,12,3],[19,1,19,3],[20,1,20,3],[24,1,24,3],[31,1,31,3],[37,1,37,3]]}
[null,null,{"$f":"'[37]PFS_VII Det_ Enc_ Soc_'!C1","v":"Ministério do Desenvolvimento Regional - MDR"}]
[null,null,"Companhia de Desenvolvimento dos Vales do São Francisco e do Parnaíba"]
[]
[null,"MEMÓRIA DE CÁLCULO"]
[]
[null,"ITEM 02: RELATÓRIO TÉCNICO DE FISCALIZAÇÃO"]
[]
[null,"PROFISSIONAIS DO APOIO POR EQUIPE"]
[null,"Profissional","Quantidade","Unidade"]
[null,"Engenheiro",6,"coordenador"]
[null,"Técnico de campo",30,"técnico(s)"]
[]
[null,"EQUIPAMENTOS UTILIZADOS POR EQUIPE"]
[null,"Item","Quantidade","Unidade"]
[null,"Veículo",1,"unidade(s)"]
[null,"Notebook",1,"unidade(s)"]
[null,"GPS",1,"unidade(s)"]
[null,"Plano celular",1,"unidade(s)"]
[]
[null,"APROPRIAÇÃO DO SERVIÇO DE VISTORIA TÉCNICA POR DIA"]
[null,"Do Coordenador"]
[null,"Serviço","Quantidade","Unidade"]
[null,"Relatório",1.5,"horas"]
[null,"Total",{"$f":"SUM(C23:C23)","v":1.5},"horas técnicas por vistória"]
[null,"Da equipe de campo"]
[null,"Serviço","Quantidade","Unidade"]
[null,"Vistoria de campo",5.5,"horas"]
[null,"Deslocamento/Alimentação",2.5,"horas"]
[null,"Relatório",2.5,"horas"]
[null,"Total",{"$f":"SUM(C27:C29)","v":10.5},"horas técnicas por vistória"]
[]
[null,"PRODUTIVIDADE DA EQUIPE POR DIA DE TRABALHO"]
[null,"Item","Quantidade","Unidade"]
[null,"Quantidade de vias vistoriadas por dia pela equipe A2",10,"vias"]
[null,"Quantidade de vias vistoriadas por dia pela equipe A1",5,"vias"]
[]
[]
[null,"APROPRIAÇÃO DE CADA ITEM POR RELATÓRIO TÉCNICO PRODUZIDO"]
[null,"Item","Quantidade","Unidade"]
[null,"Coordenador",{"$f":"(C10*C23/C34/176)","v":5.11E-3},"meses por relatório técnico"]
[null,"Técnico de campo",{"$f":"(C11*C30/C34/176)","v":0.17898},"meses por relatório técnico"]
[null,"Veículo",{"$f":"(C15/C34/30)","v":3.3300000000000001E-3},"meses por relatório técnico"]
[null,"Notebook",{"$f":"(C16/C34/30)","v":3.3300000000000001E-3},"meses por relatório técnico"]
[null,"GPS",{"$f":"(C17/C34/30)","v":3.3300000000000001E-3},"meses por relatório técnico"]
[null,"Plano celular",{"$f":"(C18/C34/30)","v":3.3300000000000001E-3},"meses por relatório técnico"]
[null,"Diária de campo A1",{"$f":"C10/C35","v":1.2},"diárias por relatório técnico"]
[null,"Diária de campo A2",{"$f":"C11/C34","v":3},"diárias por relatório técnico"]

{"sheet":"Tabela de veículos","index":18,"n_rows":20,"n_cols":7,"rows_kept":20,"cut":false,"hidden":true,"merged":[[20,0,20,6],[3,0,4,0],[0,0,0,7],[1,0,1,6],[2,0,2,6],[3,1,3,2],[3,3,3,4],[3,5,3,6]]}
["MINISTÉRIO DA INTEGRAÇÃO NACIONAL\nCOMPANHIA DE DESENVOLVIMENTO DOS VALES DO SÃO FRANCISCO E DO PARNAÍBA"]
["TABELA DE VEÍCULOS - 3ª/SR/Petrolina - PE"]
["DATA:         fevereiro-20"]
["DESCRIÇÃO DO VEÍCULO","CUSTO MENSAL (R$)",null,"CUSTO DIRETO P/KM\nRODADO (R$)",null,"PREÇO COBRADO PELA EMPRESA (BDI=20,32%) (R$)"]
[null,"S/ MOTORISTA","C/ MOTORISTA","S/ MOTORISTA","C/ MOTORISTA","S/ MOTORISTA","C/ MOTORISTA"]
["MOTOS"]
["(B1) CG 160 CARGO",1271.24,5489.42,0.42,1.83,1529.56,6604.88]
["VEÍCULOS LEVES"]
["(B2) Gol 1.0 T. Flex 12V 5p",3012.04,7230.22,1,2.41,3624.09,8699.41]
["(B3) UNO WAY 1.3 Flex 8V 5p",3251.84,7470.02,1.08,2.4900000000000002,3912.62,8987.93]
["(B4) Nissan Versa S 1.6 16V FlexStart 4p Mec.",3437.28,7655.46,1.1499999999999999,2.5499999999999998,4135.74,9211.0499999999993]
["UTILITÁRIOS"]
["(B5) Doblo ESSENCE 1.8 Flex 16V 5p",4636.0200000000004,8854.2000000000007,1.55,2.95,5578.06,10653.37]
["(B6) Sprinter 415 VAN Standard T.B. 2.2 Dies.",7150.44,11368.62,2.38,3.79,8603.41,13678.72]
["(B7) Microônibus VOLARE FRETAMENTO V8L LONGO (diesel)(E5)",9931.9,14150.08,3.31,4.72,11950.06,17025.38]
["(B8) Ônibus Urbano Marcopolo Viale (45 lug) (218 cv)",11906.03,16124.21,3.97,5.37,14325.33,19400.650000000001]
["PICK-UP"]
["(B9) Saveiro Robust 1.6 Total Flex 8V",3301.7,7519.88,1.1000000000000001,2.5099999999999998,3972.61,9047.92]
["(B10) Hilux CS 4x4 2.8 TDI Diesel Mec.",5893.43,10111.61,1.96,3.37,7090.98,12166.29]
["(B11) Hilux CD 4x4 2.8 Diesel Mec.",{"$f":"#REF!","v":{"$error":"#REF!"}},10692.44,2.16,3.56,7789.84,12865.15]